{"text_format":"1","workbook":"xlsx","n_sheets":32,"sheets":["Pairing List calcul","Pairing Officielle","Général","Classement final","Analyse","Eq.1","Eq.2","Eq.3","Eq.4","Eq.5","Eq.6","Eq.7","Eq.8","Eq.9","Eq.10","Eq.11","Eq.12","Eq.13","Eq.14","Eq.15","Eq.16","Eq.17","Eq.18","Eq.19","Eq.20","Eq.21","Eq.22","Eq.23","Eq.24","Eq.25","Eq.26","Eq.27"],"not_rendered":{"charts":0,"images":0,"macros":1,"external_links":0,"defined_names":3,"comments":0,"pivot_tables":0},"unopened":[],"bounds":{"document_bytes":16777216,"sheet_cells":100000,"rows_first":2000,"rows_last":500,"rows_between":2000,"halvings":0,"cell_chars":16384,"cell_head_chars":4096},"cells_cut":0,"cells_raw":0,"read":"whole","date_system":"1900"}

{"sheet":"Pairing List calcul","index":0,"n_rows":55,"n_cols":11,"rows_kept":55,"cut":false,"hidden":false,"merged":[[52,0,54,0],[19,0,21,0],[22,0,24,0],[25,0,27,0],[28,0,30,0],[31,0,33,0],[34,0,36,0],[37,0,39,0],[40,0,42,0],[43,0,45,0],[46,0,48,0],[49,0,51,0],[16,0,18,0],[1,0,3,0],[4,0,6,0],[7,0,9,0],[10,0,12,0],[13,0,15,0]]}
["Flight","Race","Boat 1","Boat 2","Boat 3","Boat 4","Boat 5","Boat 6","Boat 7","Boat 8","Boat 9"]
[1,1,14,18,4,2,7,10,26,12,21]
[null,2,1,3,15,23,8,24,22,25,11]
[null,3,20,6,19,17,5,9,16,13,27]
[2,4,14,10,25,17,5,24,16,21,26]
[null,5,13,19,4,23,27,11,8,12,22]
[null,6,18,6,9,2,15,20,3,1,7]
[3,7,19,10,9,26,12,13,3,1,23]
[null,8,6,24,17,16,4,18,11,8,7]
[null,9,21,5,20,22,2,14,25,27,15]
[4,10,6,4,18,19,10,23,25,27,15]
[null,11,21,2,24,13,26,17,20,8,1]
[null,12,22,5,11,16,12,3,7,9,14]
[5,13,15,17,11,19,21,3,6,26,14]
[null,14,23,2,24,8,20,16,27,9,12]
[null,15,5,4,22,13,25,7,18,10,1]
[6,16,12,20,22,9,25,23,6,10,17]
[null,17,15,13,26,3,16,7,27,24,4]
[null,18,5,14,21,8,18,19,1,11,2]
[7,19,17,7,21,3,16,19,23,22,2]
[null,20,4,26,20,15,8,10,9,11,5]
[null,21,25,27,13,12,14,6,1,24,18]
[8,22,17,21,13,12,23,5,15,7,18]
[null,23,10,16,8,1,3,27,26,20,25]
[null,24,2,11,14,24,22,6,4,19,9]
[9,25,2,13,14,11,17,25,4,23,9]
[null,26,22,16,1,18,26,12,15,19,20]
[null,27,7,8,27,21,6,24,5,3,10]
[10,28,26,23,27,1,6,22,5,4,17]
[null,29,16,12,18,25,9,2,21,8,3]
[null,30,7,11,10,14,19,13,24,15,20]
[11,31,7,25,23,14,19,26,8,6,20]
[null,32,16,1,18,27,9,21,11,22,13]
[null,33,24,12,10,5,4,2,17,15,3]
[12,34,24,9,23,5,25,1,7,26,19]
[null,35,4,17,3,22,18,27,14,20,21]
[null,36,11,15,2,6,13,8,10,16,12]
[13,37,3,25,2,6,13,4,19,16,5]
[null,38,27,9,8,7,1,15,14,17,12]
[null,39,11,22,20,23,24,26,21,18,10]
[14,40,19,22,5,8,24,9,17,18,10]
[null,41,27,26,12,7,11,25,21,2,6]
[null,42,1,23,15,20,3,4,13,14,16]
[15,43,1,23,6,10,21,4,9,14,16]
[null,44,8,15,7,26,22,17,13,2,25]
[null,45,3,19,5,11,20,27,12,18,24]
[16,46,9,25,21,4,20,15,12,23,24]
[null,47,17,1,16,10,11,19,2,27,7]
[null,48,13,6,26,18,14,22,3,5,8]
[17,49,23,2,24,18,14,17,15,5,27]
[null,50,4,21,9,26,13,8,19,3,22]
[null,51,20,7,11,25,1,16,10,12,6]
[18,52,9,7,2,15,1,3,18,11,27]
[null,53,16,17,25,21,12,8,19,24,4]
[null,54,6,5,23,13,26,14,10,20,22]

{"sheet":"Pairing Officielle","index":1,"n_rows":91,"n_cols":10,"rows_kept":91,"cut":false,"hidden":false,"merged":[[51,0,51,9],[46,0,46,9],[41,0,41,9],[36,0,36,9],[31,0,31,9],[1,0,1,9],[6,0,6,9],[11,0,11,9],[26,0,26,9],[21,0,21,9],[16,0,16,9],[61,0,61,9],[56,0,56,9],[86,0,86,9],[81,0,81,9],[76,0,76,9],[71,0,71,9],[66,0,66,9]]}
[]
["Flight 1"]
[{"$f":"Général!A32","v":"Race"},"Boat 1","Boat 2","Boat 3","Boat 4","Boat 5","Boat 6","Boat 7","Boat 8","Boat 9"]
[{"$f":"Général!A33","v":1},{"$f":"Général!B33","v":"ENSTA Paris"},{"$f":"Général!C33","v":"Univ. Nantes 2"},{"$f":"Général!D33","v":"IMT Atlantique Nantes 1"},{"$f":"Général!E33","v":"AS Paris 1 Panthéon Sorbonne"},{"$f":"Général!F33","v":"Hambourg"},{"$f":"Général!G33","v":"UNICAEN - ASSUCherbourg"},{"$f":"Général!H33","v":"Centrales Nantes"},{"$f":"Général!I33","v":"ENSTA Bretagne 1"},{"$f":"Général!J33","v":"Univ.Orléans"}]
[{"$f":"Général!A35","v":2},{"$f":"Général!B35","v":"Univ. Nantes 1"},{"$f":"Général!C35","v":"Hannovre"},{"$f":"Général!D35","v":"IMT Atlantique Brest"},{"$f":"Général!E35","v":"AS UB St Brieuc"},{"$f":"Général!F35","v":"EGSI La Rochelle"},{"$f":"Général!G35","v":"Karlsruhe"},{"$f":"Général!H35","v":"Univ. La Rochelle"},{"$f":"Général!I35","v":"Univ. Nantes 3"},{"$f":"Général!J35","v":"UBO 1"}]
[{"$f":"Général!A37","v":3},{"$f":"Général!B37","v":"UBS Lorient 2"},{"$f":"Général!C37","v":"IMT Atlantique Nantes 2"},{"$f":"Général!D37","v":"UBS Lorient 1"},{"$f":"Général!E37","v":"Dublin"},{"$f":"Général!F37","v":"ENSTA Bretagne 2"},{"$f":"Général!G37","v":"HYDRO Sailing Team Le Havre"},{"$f":"Général!H37","v":"UBO 2"},{"$f":"Général!I37","v":"ASUL Lannion"},{"$f":"Général!J37","v":"Southampton"}]
["Flight 2"]
[{"$f":"Général!A40","v":"Race"},"Boat 1","Boat 2","Boat 3","Boat 4","Boat 5","Boat 6","Boat 7","Boat 8","Boat 9"]
[{"$f":"Général!A41","v":4},{"$f":"Général!B41","v":"ENSTA Paris"},{"$f":"Général!C41","v":"UNICAEN - ASSUCherbourg"},{"$f":"Général!D41","v":"Univ. Nantes 3"},{"$f":"Général!E41","v":"Dublin"},{"$f":"Général!F41","v":"ENSTA Bretagne 2"},{"$f":"Général!G41","v":"Karlsruhe"},{"$f":"Général!H41","v":"UBO 2"},{"$f":"Général!I41","v":"Univ.Orléans"},{"$f":"Général!J41","v":"Centrales Nantes"}]
[{"$f":"Général!A43","v":5},{"$f":"Général!B43","v":"ASUL Lannion"},{"$f":"Général!C43","v":"UBS Lorient 1"},{"$f":"Général!D43","v":"IMT Atlantique Nantes 1"},{"$f":"Général!E43","v":"AS UB St Brieuc"},{"$f":"Général!F43","v":"Southampton"},{"$f":"Général!G43","v":"UBO 1"},{"$f":"Général!H43","v":"EGSI La Rochelle"},{"$f":"Général!I43","v":"ENSTA Bretagne 1"},{"$f":"Général!J43","v":"Univ. La Rochelle"}]
[{"$f":"Général!A45","v":6},{"$f":"Général!B45","v":"Univ. Nantes 2"},{"$f":"Général!C45","v":"IMT Atlantique Nantes 2"},{"$f":"Général!D45","v":"HYDRO Sailing Team Le Havre"},{"$f":"Général!E45","v":"AS Paris 1 Panthéon Sorbonne"},{"$f":"Général!F45","v":"IMT Atlantique Brest"},{"$f":"Général!G45","v":"UBS Lorient 2"},{"$f":"Général!H45","v":"Hannovre"},{"$f":"Général!I45","v":"Univ. Nantes 1"},{"$f":"Général!J45","v":"Hambourg"}]
["Flight 3"]
[{"$f":"Général!A48","v":"Race"},"Boat 1","Boat 2","Boat 3","Boat 4","Boat 5","Boat 6","Boat 7","Boat 8","Boat 9"]
[{"$f":"Général!A49","v":7},{"$f":"Général!B49","v":"UBS Lorient 1"},{"$f":"Général!C49","v":"UNICAEN - ASSUCherbourg"},{"$f":"Général!D49","v":"HYDRO Sailing Team Le Havre"},{"$f":"Général!E49","v":"Centrales Nantes"},{"$f":"Général!F49","v":"ENSTA Bretagne 1"},{"$f":"Général!G49","v":"ASUL Lannion"},{"$f":"Général!H49","v":"Hannovre"},{"$f":"Général!I49","v":"Univ. Nantes 1"},{"$f":"Général!J49","v":"AS UB St Brieuc"}]
[{"$f":"Général!A51","v":8},{"$f":"Général!B51","v":"IMT Atlantique Nantes 2"},{"$f":"Général!C51","v":"Karlsruhe"},{"$f":"Général!D51","v":"Dublin"},{"$f":"Général!E51","v":"UBO 2"},{"$f":"Général!F51","v":"IMT Atlantique Nantes 1"},{"$f":"Général!G51","v":"Univ. Nantes 2"},{"$f":"Général!H51","v":"UBO 1"},{"$f":"Général!I51","v":"EGSI La Rochelle"},{"$f":"Général!J51","v":"Hambourg"}]
[{"$f":"Général!A53","v":9},{"$f":"Général!B53","v":"Univ.Orléans"},{"$f":"Général!C53","v":"ENSTA Bretagne 2"},{"$f":"Général!D53","v":"UBS Lorient 2"},{"$f":"Général!E53","v":"Univ. La Rochelle"},{"$f":"Général!F53","v":"AS Paris 1 Panthéon Sorbonne"},{"$f":"Général!G53","v":"ENSTA Paris"},{"$f":"Général!H53","v":"Univ. Nantes 3"},{"$f":"Général!I53","v":"Southampton"},{"$f":"Général!J53","v":"IMT Atlantique Brest"}]
["Flight 4"]
[{"$f":"Général!A56","v":"Race"},"Boat 1","Boat 2","Boat 3","Boat 4","Boat 5","Boat 6","Boat 7","Boat 8","Boat 9"]
[{"$f":"Général!A57","v":10},{"$f":"Général!B57","v":"IMT Atlantique Nantes 2"},{"$f":"Général!C57","v":"IMT Atlantique Nantes 1"},{"$f":"Général!D57","v":"Univ. Nantes 2"},{"$f":"Général!E57","v":"UBS Lorient 1"},{"$f":"Général!F57","v":"UNICAEN - ASSUCherbourg"},{"$f":"Général!G57","v":"AS UB St Brieuc"},{"$f":"Général!H57","v":"Univ. Nantes 3"},{"$f":"Général!I57","v":"Southampton"},{"$f":"Général!J57","v":"IMT Atlantique Brest"}]
[{"$f":"Général!A59","v":11},{"$f":"Général!B59","v":"Univ.Orléans"},{"$f":"Général!C59","v":"AS Paris 1 Panthéon Sorbonne"},{"$f":"Général!D59","v":"Karlsruhe"},{"$f":"Général!E59","v":"ASUL Lannion"},{"$f":"Général!F59","v":"Centrales Nantes"},{"$f":"Général!G59","v":"Dublin"},{"$f":"Général!H59","v":"UBS Lorient 2"},{"$f":"Général!I59","v":"EGSI La Rochelle"},{"$f":"Général!J59","v":"Univ. Nantes 1"}]
[{"$f":"Général!A61","v":12},{"$f":"Général!B61","v":"Univ. La Rochelle"},{"$f":"Général!C61","v":"ENSTA Bretagne 2"},{"$f":"Général!D61","v":"UBO 1"},{"$f":"Général!E61","v":"UBO 2"},{"$f":"Général!F61","v":"ENSTA Bretagne 1"},{"$f":"Général!G61","v":"Hannovre"},{"$f":"Général!H61","v":"Hambourg"},{"$f":"Général!I61","v":"HYDRO Sailing Team Le Havre"},{"$f":"Général!J61","v":"ENSTA Paris"}]
["Flight 5"]
[{"$f":"Général!A64","v":"Race"},"Boat 1","Boat 2","Boat 3","Boat 4","Boat 5","Boat 6","Boat 7","Boat 8","Boat 9"]
[{"$f":"Général!A65","v":13},{"$f":"Général!B65","v":"IMT Atlantique Brest"},{"$f":"Général!C65","v":"Dublin"},{"$f":"Général!D65","v":"UBO 1"},{"$f":"Général!E65","v":"UBS Lorient 1"},{"$f":"Général!F65","v":"Univ.Orléans"},{"$f":"Général!G65","v":"Hannovre"},{"$f":"Général!H65","v":"IMT Atlantique Nantes 2"},{"$f":"Général!I65","v":"Centrales Nantes"},{"$f":"Général!J65","v":"ENSTA Paris"}]
[{"$f":"Général!A67","v":14},{"$f":"Général!B67","v":"AS UB St Brieuc"},{"$f":"Général!C67","v":"AS Paris 1 Panthéon Sorbonne"},{"$f":"Général!D67","v":"Karlsruhe"},{"$f":"Général!E67","v":"EGSI La Rochelle"},{"$f":"Général!F67","v":"UBS Lorient 2"},{"$f":"Général!G67","v":"UBO 2"},{"$f":"Général!H67","v":"Southampton"},{"$f":"Général!I67","v":"HYDRO Sailing Team Le Havre"},{"$f":"Général!J67","v":"ENSTA Bretagne 1"}]
[{"$f":"Général!A69","v":15},{"$f":"Général!B69","v":"ENSTA Bretagne 2"},{"$f":"Général!C69","v":"IMT Atlantique Nantes 1"},{"$f":"Général!D69","v":"Univ. La Rochelle"},{"$f":"Général!E69","v":"ASUL Lannion"},{"$f":"Général!F69","v":"Univ. Nantes 3"},{"$f":"Général!G69","v":"Hambourg"},{"$f":"Général!H69","v":"Univ. Nantes 2"},{"$f":"Général!I69","v":"UNICAEN - ASSUCherbourg"},{"$f":"Général!J69","v":"Univ. Nantes 1"}]
["Flight 6"]
[{"$f":"Général!A72","v":"Race"},"Boat 1","Boat 2","Boat 3","Boat 4","Boat 5","Boat 6","Boat 7","Boat 8","Boat 9"]
[{"$f":"Général!A73","v":16},{"$f":"Général!B73","v":"ENSTA Bretagne 1"},{"$f":"Général!C73","v":"UBS Lorient 2"},{"$f":"Général!D73","v":"Univ. La Rochelle"},{"$f":"Général!E73","v":"HYDRO Sailing Team Le Havre"},{"$f":"Général!F73","v":"Univ. Nantes 3"},{"$f":"Général!G73","v":"AS UB St Brieuc"},{"$f":"Général!H73","v":"IMT Atlantique Nantes 2"},{"$f":"Général!I73","v":"UNICAEN - ASSUCherbourg"},{"$f":"Général!J73","v":"Dublin"}]
[{"$f":"Général!A75","v":17},{"$f":"Général!B75","v":"IMT Atlantique Brest"},{"$f":"Général!C75","v":"ASUL Lannion"},{"$f":"Général!D75","v":"Centrales Nantes"},{"$f":"Général!E75","v":"Hannovre"},{"$f":"Général!F75","v":"UBO 2"},{"$f":"Général!G75","v":"Hambourg"},{"$f":"Général!H75","v":"Southampton"},{"$f":"Général!I75","v":"Karlsruhe"},{"$f":"Général!J75","v":"IMT Atlantique Nantes 1"}]
[{"$f":"Général!A77","v":18},{"$f":"Général!B77","v":"ENSTA Bretagne 2"},{"$f":"Général!C77","v":"ENSTA Paris"},{"$f":"Général!D77","v":"Univ.Orléans"},{"$f":"Général!E77","v":"EGSI La Rochelle"},{"$f":"Général!F77","v":"Univ. Nantes 2"},{"$f":"Général!G77","v":"UBS Lorient 1"},{"$f":"Général!H77","v":"Univ. Nantes 1"},{"$f":"Général!I77","v":"UBO 1"},{"$f":"Général!J77","v":"AS Paris 1 Panthéon Sorbonne"}]
["Flight 7"]
[{"$f":"Général!A80","v":"Race"},"Boat 1","Boat 2","Boat 3","Boat 4","Boat 5","Boat 6","Boat 7","Boat 8","Boat 9"]
[{"$f":"Général!A81","v":19},{"$f":"Général!B81","v":"Dublin"},{"$f":"Général!C81","v":"Hambourg"},{"$f":"Général!D81","v":"Univ.Orléans"},{"$f":"Général!E81","v":"Hannovre"},{"$f":"Général!F81","v":"UBO 2"},{"$f":"Général!G81","v":"UBS Lorient 1"},{"$f":"Général!H81","v":"AS UB St Brieuc"},{"$f":"Général!I81","v":"Univ. La Rochelle"},{"$f":"Général!J81","v":"AS Paris 1 Panthéon Sorbonne"}]
[{"$f":"Général!A83","v":20},{"$f":"Général!B83","v":"IMT Atlantique Nantes 1"},{"$f":"Général!C83","v":"Centrales Nantes"},{"$f":"Général!D83","v":"UBS Lorient 2"},{"$f":"Général!E83","v":"IMT Atlantique Brest"},{"$f":"Général!F83","v":"EGSI La Rochelle"},{"$f":"Général!G83","v":"UNICAEN - ASSUCherbourg"},{"$f":"Général!H83","v":"HYDRO Sailing Team Le Havre"},{"$f":"Général!I83","v":"UBO 1"},{"$f":"Général!J83","v":"ENSTA Bretagne 2"}]
[{"$f":"Général!A85","v":21},{"$f":"Général!B85","v":"Univ. Nantes 3"},{"$f":"Général!C85","v":"Southampton"},{"$f":"Général!D85","v":"ASUL Lannion"},{"$f":"Général!E85","v":"ENSTA Bretagne 1"},{"$f":"Général!F85","v":"ENSTA Paris"},{"$f":"Général!G85","v":"IMT Atlantique Nantes 2"},{"$f":"Général!H85","v":"Univ. Nantes 1"},{"$f":"Général!I85","v":"Karlsruhe"},{"$f":"Général!J85","v":"Univ. Nantes 2"}]
["Flight 8"]
[{"$f":"Général!A88","v":"Race"},"Boat 1","Boat 2","Boat 3","Boat 4","Boat 5","Boat 6","Boat 7","Boat 8","Boat 9"]
[{"$f":"Général!A89","v":22},{"$f":"Général!B89","v":"Dublin"},{"$f":"Général!C89","v":"Univ.Orléans"},{"$f":"Général!D89","v":"ASUL Lannion"},{"$f":"Général!E89","v":"ENSTA Bretagne 1"},{"$f":"Général!F89","v":"AS UB St Brieuc"},{"$f":"Général!G89","v":"ENSTA Bretagne 2"},{"$f":"Général!H89","v":"IMT Atlantique Brest"},{"$f":"Général!I89","v":"Hambourg"},{"$f":"Général!J89","v":"Univ. Nantes 2"}]
[{"$f":"Général!A91","v":23},{"$f":"Général!B91","v":"UNICAEN - ASSUCherbourg"},{"$f":"Général!C91","v":"UBO 2"},{"$f":"Général!D91","v":"EGSI La Rochelle"},{"$f":"Général!E91","v":"Univ. Nantes 1"},{"$f":"Général!F91","v":"Hannovre"},{"$f":"Général!G91","v":"Southampton"},{"$f":"Général!H91","v":"Centrales Nantes"},{"$f":"Général!I91","v":"UBS Lorient 2"},{"$f":"Général!J91","v":"Univ. Nantes 3"}]
[{"$f":"Général!A93","v":24},{"$f":"Général!B93","v":"AS Paris 1 Panthéon Sorbonne"},{"$f":"Général!C93","v":"UBO 1"},{"$f":"Général!D93","v":"ENSTA Paris"},{"$f":"Général!E93","v":"Karlsruhe"},{"$f":"Général!F93","v":"Univ. La Rochelle"},{"$f":"Général!G93","v":"IMT Atlantique Nantes 2"},{"$f":"Général!H93","v":"IMT Atlantique Nantes 1"},{"$f":"Général!I93","v":"UBS Lorient 1"},{"$f":"Général!J93","v":"HYDRO Sailing Team Le Havre"}]
["Flight 9"]
[{"$f":"Général!A96","v":"Race"},"Boat 1","Boat 2","Boat 3","Boat 4","Boat 5","Boat 6","Boat 7","Boat 8","Boat 9"]
[{"$f":"Général!A97","v":25},{"$f":"Général!B97","v":"AS Paris 1 Panthéon Sorbonne"},{"$f":"Général!C97","v":"ASUL Lannion"},{"$f":"Général!D97","v":"ENSTA Paris"},{"$f":"Général!E97","v":"UBO 1"},{"$f":"Général!F97","v":"Dublin"},{"$f":"Général!G97","v":"Univ. Nantes 3"},{"$f":"Général!H97","v":"IMT Atlantique Nantes 1"},{"$f":"Général!I97","v":"AS UB St Brieuc"},{"$f":"Général!J97","v":"HYDRO Sailing Team Le Havre"}]
[{"$f":"Général!A99","v":26},{"$f":"Général!B99","v":"Univ. La Rochelle"},{"$f":"Général!C99","v":"UBO 2"},{"$f":"Général!D99","v":"Univ. Nantes 1"},{"$f":"Général!E99","v":"Univ. Nantes 2"},{"$f":"Général!F99","v":"Centrales Nantes"},{"$f":"Général!G99","v":"ENSTA Bretagne 1"},{"$f":"Général!H99","v":"IMT Atlantique Brest"},{"$f":"Général!I99","v":"UBS Lorient 1"},{"$f":"Général!J99","v":"UBS Lorient 2"}]
[{"$f":"Général!A101","v":27},{"$f":"Général!B101","v":"Hambourg"},{"$f":"Général!C101","v":"EGSI La Rochelle"},{"$f":"Général!D101","v":"Southampton"},{"$f":"Général!E101","v":"Univ.Orléans"},{"$f":"Général!F101","v":"IMT Atlantique Nantes 2"},{"$f":"Général!G101","v":"Karlsruhe"},{"$f":"Général!H101","v":"ENSTA Bretagne 2"},{"$f":"Général!I101","v":"Hannovre"},{"$f":"Général!J101","v":"UNICAEN - ASSUCherbourg"}]
["Flight 10"]
[{"$f":"Général!A104","v":"Race"},"Boat 1","Boat 2","Boat 3","Boat 4","Boat 5","Boat 6","Boat 7","Boat 8","Boat 9"]
[{"$f":"Général!A105","v":28},{"$f":"Général!B105","v":"Centrales Nantes"},{"$f":"Général!C105","v":"AS UB St Brieuc"},{"$f":"Général!D105","v":"Southampton"},{"$f":"Général!E105","v":"Univ. Nantes 1"},{"$f":"Général!F105","v":"IMT Atlantique Nantes 2"},{"$f":"Général!G105","v":"Univ. La Rochelle"},{"$f":"Général!H105","v":"ENSTA Bretagne 2"},{"$f":"Général!I105","v":"IMT Atlantique Nantes 1"},{"$f":"Général!J105","v":"Dublin"}]
[{"$f":"Général!A107","v":29},{"$f":"Général!B107","v":"UBO 2"},{"$f":"Général!C107","v":"ENSTA Bretagne 1"},{"$f":"Général!D107","v":"Univ. Nantes 2"},{"$f":"Général!E107","v":"Univ. Nantes 3"},{"$f":"Général!F107","v":"HYDRO Sailing Team Le Havre"},{"$f":"Général!G107","v":"AS Paris 1 Panthéon Sorbonne"},{"$f":"Général!H107","v":"Univ.Orléans"},{"$f":"Général!I107","v":"EGSI La Rochelle"},{"$f":"Général!J107","v":"Hannovre"}]
[{"$f":"Général!A109","v":30},{"$f":"Général!B109","v":"Hambourg"},{"$f":"Général!C109","v":"UBO 1"},{"$f":"Général!D109","v":"UNICAEN - ASSUCherbourg"},{"$f":"Général!E109","v":"ENSTA Paris"},{"$f":"Général!F109","v":"UBS Lorient 1"},{"$f":"Général!G109","v":"ASUL Lannion"},{"$f":"Général!H109","v":"Karlsruhe"},{"$f":"Général!I109","v":"IMT Atlantique Brest"},{"$f":"Général!J109","v":"UBS Lorient 2"}]
["Flight 11"]
[{"$f":"Général!A112","v":"Race"},"Boat 1","Boat 2","Boat 3","Boat 4","Boat 5","Boat 6","Boat 7","Boat 8","Boat 9"]
[{"$f":"Général!A113","v":31},{"$f":"Général!B113","v":"Hambourg"},{"$f":"Général!C113","v":"Univ. Nantes 3"},{"$f":"Général!D113","v":"AS UB St Brieuc"},{"$f":"Général!E113","v":"ENSTA Paris"},{"$f":"Général!F113","v":"UBS Lorient 1"},{"$f":"Général!G113","v":"Centrales Nantes"},{"$f":"Général!H113","v":"EGSI La Rochelle"},{"$f":"Général!I113","v":"IMT Atlantique Nantes 2"},{"$f":"Général!J113","v":"UBS Lorient 2"}]
[{"$f":"Général!A115","v":32},{"$f":"Général!B115","v":"UBO 2"},{"$f":"Général!C115","v":"Univ. Nantes 1"},{"$f":"Général!D115","v":"Univ. Nantes 2"},{"$f":"Général!E115","v":"Southampton"},{"$f":"Général!F115","v":"HYDRO Sailing Team Le Havre"},{"$f":"Général!G115","v":"Univ.Orléans"},{"$f":"Général!H115","v":"UBO 1"},{"$f":"Général!I115","v":"Univ. La Rochelle"},{"$f":"Général!J115","v":"ASUL Lannion"}]
[{"$f":"Général!A117","v":33},{"$f":"Général!B117","v":"Karlsruhe"},{"$f":"Général!C117","v":"ENSTA Bretagne 1"},{"$f":"Général!D117","v":"UNICAEN - ASSUCherbourg"},{"$f":"Général!E117","v":"ENSTA Bretagne 2"},{"$f":"Général!F117","v":"IMT Atlantique Nantes 1"},{"$f":"Général!G117","v":"AS Paris 1 Panthéon Sorbonne"},{"$f":"Général!H117","v":"Dublin"},{"$f":"Général!I117","v":"IMT Atlantique Brest"},{"$f":"Général!J117","v":"Hannovre"}]
["Flight 12"]
[{"$f":"Général!A120","v":"Race"},"Boat 1","Boat 2","Boat 3","Boat 4","Boat 5","Boat 6","Boat 7","Boat 8","Boat 9"]
[{"$f":"Général!A121","v":34},{"$f":"Général!B121","v":"Karlsruhe"},{"$f":"Général!C121","v":"HYDRO Sailing Team Le Havre"},{"$f":"Général!D121","v":"AS UB St Brieuc"},{"$f":"Général!E121","v":"ENSTA Bretagne 2"},{"$f":"Général!F121","v":"Univ. Nantes 3"},{"$f":"Général!G121","v":"Univ. Nantes 1"},{"$f":"Général!H121","v":"Hambourg"},{"$f":"Général!I121","v":"Centrales Nantes"},{"$f":"Général!J121","v":"UBS Lorient 1"}]
[{"$f":"Général!A123","v":35},{"$f":"Général!B123","v":"IMT Atlantique Nantes 1"},{"$f":"Général!C123","v":"Dublin"},{"$f":"Général!D123","v":"Hannovre"},{"$f":"Général!E123","v":"Univ. La Rochelle"},{"$f":"Général!F123","v":"Univ. Nantes 2"},{"$f":"Général!G123","v":"Southampton"},{"$f":"Général!H123","v":"ENSTA Paris"},{"$f":"Général!I123","v":"UBS Lorient 2"},{"$f":"Général!J123","v":"Univ.Orléans"}]
[{"$f":"Général!A125","v":36},{"$f":"Général!B125","v":"UBO 1"},{"$f":"Général!C125","v":"IMT Atlantique Brest"},{"$f":"Général!D125","v":"AS Paris 1 Panthéon Sorbonne"},{"$f":"Général!E125","v":"IMT Atlantique Nantes 2"},{"$f":"Général!F125","v":"ASUL Lannion"},{"$f":"Général!G125","v":"EGSI La Rochelle"},{"$f":"Général!H125","v":"UNICAEN - ASSUCherbourg"},{"$f":"Général!I125","v":"UBO 2"},{"$f":"Général!J125","v":"ENSTA Bretagne 1"}]
["Flight 13"]
[{"$f":"Général!A128","v":"Race"},"Boat 1","Boat 2","Boat 3","Boat 4","Boat 5","Boat 6","Boat 7","Boat 8","Boat 9"]
[{"$f":"Général!A129","v":37},{"$f":"Général!B129","v":"Hannovre"},{"$f":"Général!C129","v":"Univ. Nantes 3"},{"$f":"Général!D129","v":"AS Paris 1 Panthéon Sorbonne"},{"$f":"Général!E129","v":"IMT Atlantique Nantes 2"},{"$f":"Général!F129","v":"ASUL Lannion"},{"$f":"Général!G129","v":"IMT Atlantique Nantes 1"},{"$f":"Général!H129","v":"UBS Lorient 1"},{"$f":"Général!I129","v":"UBO 2"},{"$f":"Général!J129","v":"ENSTA Bretagne 2"}]
[{"$f":"Général!A131","v":38},{"$f":"Général!B131","v":"Southampton"},{"$f":"Général!C131","v":"HYDRO Sailing Team Le Havre"},{"$f":"Général!D131","v":"EGSI La Rochelle"},{"$f":"Général!E131","v":"Hambourg"},{"$f":"Général!F131","v":"Univ. Nantes 1"},{"$f":"Général!G131","v":"IMT Atlantique Brest"},{"$f":"Général!H131","v":"ENSTA Paris"},{"$f":"Général!I131","v":"Dublin"},{"$f":"Général!J131","v":"ENSTA Bretagne 1"}]
[{"$f":"Général!A133","v":39},{"$f":"Général!B133","v":"UBO 1"},{"$f":"Général!C133","v":"Univ. La Rochelle"},{"$f":"Général!D133","v":"UBS Lorient 2"},{"$f":"Général!E133","v":"AS UB St Brieuc"},{"$f":"Général!F133","v":"Karlsruhe"},{"$f":"Général!G133","v":"Centrales Nantes"},{"$f":"Général!H133","v":"Univ.Orléans"},{"$f":"Général!I133","v":"Univ. Nantes 2"},{"$f":"Général!J133","v":"UNICAEN - ASSUCherbourg"}]
["Flight 14"]
[{"$f":"Général!A136","v":"Race"},"Boat 1","Boat 2","Boat 3","Boat 4","Boat 5","Boat 6","Boat 7","Boat 8","Boat 9"]
[{"$f":"Général!A137","v":40},{"$f":"Général!B137","v":"UBS Lorient 1"},{"$f":"Général!C137","v":"Univ. La Rochelle"},{"$f":"Général!D137","v":"ENSTA Bretagne 2"},{"$f":"Général!E137","v":"EGSI La Rochelle"},{"$f":"Général!F137","v":"Karlsruhe"},{"$f":"Général!G137","v":"HYDRO Sailing Team Le Havre"},{"$f":"Général!H137","v":"Dublin"},{"$f":"Général!I137","v":"Univ. Nantes 2"},{"$f":"Général!J137","v":"UNICAEN - ASSUCherbourg"}]
[{"$f":"Général!A139","v":41},{"$f":"Général!B139","v":"Southampton"},{"$f":"Général!C139","v":"Centrales Nantes"},{"$f":"Général!D139","v":"ENSTA Bretagne 1"},{"$f":"Général!E139","v":"Hambourg"},{"$f":"Général!F139","v":"UBO 1"},{"$f":"Général!G139","v":"Univ. Nantes 3"},{"$f":"Général!H139","v":"Univ.Orléans"},{"$f":"Général!I139","v":"AS Paris 1 Panthéon Sorbonne"},{"$f":"Général!J139","v":"IMT Atlantique Nantes 2"}]
[{"$f":"Général!A141","v":42},{"$f":"Général!B141","v":"Univ. Nantes 1"},{"$f":"Général!C141","v":"AS UB St Brieuc"},{"$f":"Général!D141","v":"IMT Atlantique Brest"},{"$f":"Général!E141","v":"UBS Lorient 2"},{"$f":"Général!F141","v":"Hannovre"},{"$f":"Général!G141","v":"IMT Atlantique Nantes 1"},{"$f":"Général!H141","v":"ASUL Lannion"},{"$f":"Général!I141","v":"ENSTA Paris"},{"$f":"Général!J141","v":"UBO 2"}]
["Flight 15"]
[{"$f":"Général!A144","v":"Race"},"Boat 1","Boat 2","Boat 3","Boat 4","Boat 5","Boat 6","Boat 7","Boat 8","Boat 9"]
[{"$f":"Général!A145","v":43},{"$f":"Général!B145","v":"Univ. Nantes 1"},{"$f":"Général!C145","v":"AS UB St Brieuc"},{"$f":"Général!D145","v":"IMT Atlantique Nantes 2"},{"$f":"Général!E145","v":"UNICAEN - ASSUCherbourg"},{"$f":"Général!F145","v":"Univ.Orléans"},{"$f":"Général!G145","v":"IMT Atlantique Nantes 1"},{"$f":"Général!H145","v":"HYDRO Sailing Team Le Havre"},{"$f":"Général!I145","v":"ENSTA Paris"},{"$f":"Général!J145","v":"UBO 2"}]
[{"$f":"Général!A147","v":44},{"$f":"Général!B147","v":"EGSI La Rochelle"},{"$f":"Général!C147","v":"IMT Atlantique Brest"},{"$f":"Général!D147","v":"Hambourg"},{"$f":"Général!E147","v":"Centrales Nantes"},{"$f":"Général!F147","v":"Univ. La Rochelle"},{"$f":"Général!G147","v":"Dublin"},{"$f":"Général!H147","v":"ASUL Lannion"},{"$f":"Général!I147","v":"AS Paris 1 Panthéon Sorbonne"},{"$f":"Général!J147","v":"Univ. Nantes 3"}]
[{"$f":"Général!A149","v":45},{"$f":"Général!B149","v":"Hannovre"},{"$f":"Général!C149","v":"UBS Lorient 1"},{"$f":"Général!D149","v":"ENSTA Bretagne 2"},{"$f":"Général!E149","v":"UBO 1"},{"$f":"Général!F149","v":"UBS Lorient 2"},{"$f":"Général!G149","v":"Southampton"},{"$f":"Général!H149","v":"ENSTA Bretagne 1"},{"$f":"Général!I149","v":"Univ. Nantes 2"},{"$f":"Général!J149","v":"Karlsruhe"}]
["Flight 16"]
[{"$f":"Général!A152","v":"Race"},"Boat 1","Boat 2","Boat 3","Boat 4","Boat 5","Boat 6","Boat 7","Boat 8","Boat 9"]
[{"$f":"Général!A153","v":46},{"$f":"Général!B153","v":"HYDRO Sailing Team Le Havre"},{"$f":"Général!C153","v":"Univ. Nantes 3"},{"$f":"Général!D153","v":"Univ.Orléans"},{"$f":"Général!E153","v":"IMT Atlantique Nantes 1"},{"$f":"Général!F153","v":"UBS Lorient 2"},{"$f":"Général!G153","v":"IMT Atlantique Brest"},{"$f":"Général!H153","v":"ENSTA Bretagne 1"},{"$f":"Général!I153","v":"AS UB St Brieuc"},{"$f":"Général!J153","v":"Karlsruhe"}]
[{"$f":"Général!A155","v":47},{"$f":"Général!B155","v":"Dublin"},{"$f":"Général!C155","v":"Univ. Nantes 1"},{"$f":"Général!D155","v":"UBO 2"},{"$f":"Général!E155","v":"UNICAEN - ASSUCherbourg"},{"$f":"Général!F155","v":"UBO 1"},{"$f":"Général!G155","v":"UBS Lorient 1"},{"$f":"Général!H155","v":"AS Paris 1 Panthéon Sorbonne"},{"$f":"Général!I155","v":"Southampton"},{"$f":"Général!J155","v":"Hambourg"}]
[{"$f":"Général!A157","v":48},{"$f":"Général!B157","v":"ASUL Lannion"},{"$f":"Général!C157","v":"IMT Atlantique Nantes 2"},{"$f":"Général!D157","v":"Centrales Nantes"},{"$f":"Général!E157","v":"Univ. Nantes 2"},{"$f":"Général!F157","v":"ENSTA Paris"},{"$f":"Général!G157","v":"Univ. La Rochelle"},{"$f":"Général!H157","v":"Hannovre"},{"$f":"Général!I157","v":"ENSTA Bretagne 2"},{"$f":"Général!J157","v":"EGSI La Rochelle"}]
["Flight 17"]
[{"$f":"Général!A160","v":"Race"},"Boat 1","Boat 2","Boat 3","Boat 4","Boat 5","Boat 6","Boat 7","Boat 8","Boat 9"]
[{"$f":"Général!A161","v":49},{"$f":"Général!B161","v":"AS UB St Brieuc"},{"$f":"Général!C161","v":"AS Paris 1 Panthéon Sorbonne"},{"$f":"Général!D161","v":"Karlsruhe"},{"$f":"Général!E161","v":"Univ. Nantes 2"},{"$f":"Général!F161","v":"ENSTA Paris"},{"$f":"Général!G161","v":"Dublin"},{"$f":"Général!H161","v":"IMT Atlantique Brest"},{"$f":"Général!I161","v":"ENSTA Bretagne 2"},{"$f":"Général!J161","v":"Southampton"}]
[{"$f":"Général!A163","v":50},{"$f":"Général!B163","v":"IMT Atlantique Nantes 1"},{"$f":"Général!C163","v":"Univ.Orléans"},{"$f":"Général!D163","v":"HYDRO Sailing Team Le Havre"},{"$f":"Général!E163","v":"Centrales Nantes"},{"$f":"Général!F163","v":"ASUL Lannion"},{"$f":"Général!G163","v":"EGSI La Rochelle"},{"$f":"Général!H163","v":"UBS Lorient 1"},{"$f":"Général!I163","v":"Hannovre"},{"$f":"Général!J163","v":"Univ. La Rochelle"}]
[{"$f":"Général!A165","v":51},{"$f":"Général!B165","v":"UBS Lorient 2"},{"$f":"Général!C165","v":"Hambourg"},{"$f":"Général!D165","v":"UBO 1"},{"$f":"Général!E165","v":"Univ. Nantes 3"},{"$f":"Général!F165","v":"Univ. Nantes 1"},{"$f":"Général!G165","v":"UBO 2"},{"$f":"Général!H165","v":"UNICAEN - ASSUCherbourg"},{"$f":"Général!I165","v":"ENSTA Bretagne 1"},{"$f":"Général!J165","v":"IMT Atlantique Nantes 2"}]
["Flight 18"]
[{"$f":"Général!A168","v":"Race"},"Boat 1","Boat 2","Boat 3","Boat 4","Boat 5","Boat 6","Boat 7","Boat 8","Boat 9"]
[{"$f":"Général!A169","v":52},{"$f":"Général!B169","v":"HYDRO Sailing Team Le Havre"},{"$f":"Général!C169","v":"Hambourg"},{"$f":"Général!D169","v":"AS Paris 1 Panthéon Sorbonne"},{"$f":"Général!E169","v":"IMT Atlantique Brest"},{"$f":"Général!F169","v":"Univ. Nantes 1"},{"$f":"Général!G169","v":"Hannovre"},{"$f":"Général!H169","v":"Univ. Nantes 2"},{"$f":"Général!I169","v":"UBO 1"},{"$f":"Général!J169","v":"Southampton"}]
[{"$f":"Général!A171","v":53},{"$f":"Général!B171","v":"UBO 2"},{"$f":"Général!C171","v":"Dublin"},{"$f":"Général!D171","v":"Univ. Nantes 3"},{"$f":"Général!E171","v":"Univ.Orléans"},{"$f":"Général!F171","v":"ENSTA Bretagne 1"},{"$f":"Général!G171","v":"EGSI La Rochelle"},{"$f":"Général!H171","v":"UBS Lorient 1"},{"$f":"Général!I171","v":"Karlsruhe"},{"$f":"Général!J171","v":"IMT Atlantique Nantes 1"}]
[{"$f":"Général!A173","v":54},{"$f":"Général!B173","v":"IMT Atlantique Nantes 2"},{"$f":"Général!C173","v":"ENSTA Bretagne 2"},{"$f":"Général!D173","v":"AS UB St Brieuc"},{"$f":"Général!E173","v":"ASUL Lannion"},{"$f":"Général!F173","v":"Centrales Nantes"},{"$f":"Général!G173","v":"ENSTA Paris"},{"$f":"Général!H173","v":"UNICAEN - ASSUCherbourg"},{"$f":"Général!I173","v":"UBS Lorient 2"},{"$f":"Général!J173","v":"Univ. La Rochelle"}]

{"sheet":"Général","index":2,"n_rows":174,"n_cols":26,"rows_kept":174,"cut":false,"hidden":false,"merged":[[1,0,1,1],[1,21,1,22],[1,25,1,26],[2,21,2,22],[2,25,2,26],[3,21,3,22],[3,25,3,26],[10,21,10,22],[10,25,10,26],[11,21,11,22],[11,25,11,26],[4,21,4,22],[4,25,4,26],[5,21,5,22],[5,25,5,26],[6,21,6,22],[6,25,6,26],[12,21,12,22],[13,21,13,22],[7,21,7,22],[7,25,7,26],[8,21,8,22],[8,25,8,26],[9,21,9,22],[9,25,9,26],[151,12,151,14],[151,20,151,22],[30,0,30,9],[38,0,38,9],[46,0,46,9],[54,0,54,9],[62,0,62,9],[70,0,70,9],[78,0,78,9],[86,0,86,9],[102,0,102,9],[110,0,110,9],[118,0,118,9],[126,0,126,9],[150,0,150,9],[14,21,14,22],[15,21,15,22],[16,21,16,22],[29,21,29,22],[152,12,158,12],[152,20,158,20],[17,21,17,22],[22,21,22,22],[21,21,21,22],[20,21,20,22],[19,21,19,22],[18,21,18,22],[27,21,27,22],[26,21,26,22],[25,21,25,22],[24,21,24,22],[164,12,168,12],[164,20,168,20],[180,4,180,6],[174,12,177,12],[174,20,177,20],[206,0,206,2],[206,4,206,6],[182,12,182,14],[182,20,182,22],[181,4,185,4],[181,8,185,8],[193,12,197,12],[193,20,197,20],[183,12,187,12],[183,20,187,20],[188,12,192,12],[188,20,192,20],[197,8,201,8],[189,4,193,4],[189,8,193,8],[180,0,180,2],[158,0,158,9],[166,0,166,9],[217,0,221,0],[217,4,221,4],[217,8,221,8],[212,0,216,0],[212,4,216,4],[212,8,216,8],[181,0,188,0],[189,0,196,0],[207,0,211,0],[207,4,211,4],[207,8,211,8],[197,0,201,0],[197,4,201,4],[23,21,23,22],[28,21,28,22],[134,0,134,9],[142,0,142,9],[94,0,94,9]]}
[null,null,null,"Eq.9","Eq.7","Eq.2","Eq.15","Eq.1","Eq.3","Eq.18","Eq.11","Eq.27"]
["EQUIPAGE",null,"FLIGHT 1","FLIGHT 2","FLIGHT 3","FLIGHT 4","FLIGHT 5","FLIGHT 6","FLIGHT 7","FLIGHT 8","FLIGHT 9","FLIGHT 10","FLIGHT 11","FLIGHT 12","FLIGHT 13","FLIGHT 14","FLIGHT 15","FLIGHT 16","FLIGHT 17","FLIGHT 18","TOTAL","Classement",null,null,"Intitulé","Désignation"]
[1,"Univ. Nantes 1",{"$f":"IF(COUNTIF($B$33:$J$34,B3)=1,HLOOKUP(B3,$B$33:$J$34,2,FALSE),IF(COUNTIF($B$35:$J$36,B3)=1,HLOOKUP(B3,$B$35:$J$36,2,FALSE),HLOOKUP(B3,$B$37:$J$38,2,FALSE)))","v":0},{"$f":"IF(COUNTIF($B$41:$J$42,B3)=1,HLOOKUP(B3,$B$41:$J$42,2,FALSE),IF(COUNTIF($B$43:$J$44,B3)=1,HLOOKUP(B3,$B$43:$J$44,2,FALSE),HLOOKUP(B3,$B$45:$J$46,2,FALSE)))","v":0},{"$f":"IF(COUNTIF($B$49:$J$50,B3)=1,HLOOKUP(B3,$B$49:$J$50,2,FALSE),IF(COUNTIF($B$51:$J$52,B3)=1,HLOOKUP(B3,$B$51:$J$52,2,FALSE),HLOOKUP(B3,$B$53:$J$54,2,FALSE)))","v":0},{"$f":"IF(COUNTIF($B$57:$J$58,B3)=1,HLOOKUP(B3,$B$57:$J$58,2,FALSE),IF(COUNTIF($B$59:$J$60,B3)=1,HLOOKUP(B3,$B$59:$J$60,2,FALSE),HLOOKUP(B3,$B$61:$J$62,2,FALSE)))","v":0},{"$f":"IF(COUNTIF($B$65:$J$66,B3)=1,HLOOKUP(B3,$B$65:$J$66,2,FALSE),IF(COUNTIF($B$67:$J$68,B3)=1,HLOOKUP(B3,$B$67:$J$68,2,FALSE),HLOOKUP(B3,$B$69:$J$70,2,FALSE)))","v":0},{"$f":"IF(COUNTIF($B$73:$J$74,B3)=1,HLOOKUP(B3,$B$73:$J$74,2,FALSE),IF(COUNTIF($B$75:$J$76,B3)=1,HLOOKUP(B3,$B$75:$J$76,2,FALSE),HLOOKUP(B3,$B$77:$J$78,2,FALSE)))","v":0},{"$f":"IF(COUNTIF($B$81:$J$82,B3)=1,HLOOKUP(B3,$B$81:$J$82,2,FALSE),IF(COUNTIF($B$83:$J$84,B3)=1,HLOOKUP(B3,$B$83:$J$84,2,FALSE),HLOOKUP(B3,$B$85:$J$86,2,FALSE)))","v":0},{"$f":"IF(COUNTIF($B$89:$J$90,B3)=1,HLOOKUP(B3,$B$89:$J$90,2,FALSE),IF(COUNTIF($B$91:$J$92,B3)=1,HLOOKUP(B3,$B$91:$J$92,2,FALSE),HLOOKUP(B3,$B$93:$J$94,2,FALSE)))","v":0},{"$f":"IF(COUNTIF($B$97:$J$98,B3)=1,HLOOKUP(B3,$B$97:$J$98,2,FALSE),IF(COUNTIF($B$99:$J$100,B3)=1,HLOOKUP(B3,$B$99:$J$100,2,FALSE),HLOOKUP(B3,$B$101:$J$102,2,FALSE)))","v":0},{"$f":"IF(COUNTIF($B$105:$J$106,B3)=1,HLOOKUP(B3,$B$105:$J$106,2,FALSE),IF(COUNTIF($B$107:$J$108,B3)=1,HLOOKUP(B3,$B$107:$J$108,2,FALSE),HLOOKUP(B3,$B$109:$J$110,2,FALSE)))","v":0},{"$f":"IF(COUNTIF($B$113:$J$114,B3)=1,HLOOKUP(B3,$B$113:$J$114,2,FALSE),IF(COUNTIF($B$115:$J$116,B3)=1,HLOOKUP(B3,$B$115:$J$116,2,FALSE),HLOOKUP(B3,$B$117:$J$118,2,FALSE)))","v":0},{"$f":"IF(COUNTIF($B$121:$J$122,B3)=1,HLOOKUP(B3,$B$121:$J$122,2,FALSE),IF(COUNTIF($B$123:$J$124,B3)=1,HLOOKUP(B3,$B$123:$J$124,2,FALSE),HLOOKUP(B3,$B$125:$J$126,2,FALSE)))","v":0},{"$f":"IF(COUNTIF($B$129:$J$130,B3)=1,HLOOKUP(B3,$B$129:$J$130,2,FALSE),IF(COUNTIF($B$131:$J$132,B3)=1,HLOOKUP(B3,$B$131:$J$132,2,FALSE),HLOOKUP(B3,$B$133:$J$134,2,FALSE)))","v":0},{"$f":"IF(COUNTIF($B$137:$J$138,B3)=1,HLOOKUP(B3,$B$137:$J$138,2,FALSE),IF(COUNTIF($B$139:$J$140,B3)=1,HLOOKUP(B3,$B$139:$J$140,2,FALSE),HLOOKUP(B3,$B$141:$J$142,2,FALSE)))","v":0},{"$f":"IF(COUNTIF($B$145:$J$146,B3)=1,HLOOKUP(B3,$B$145:$J$146,2,FALSE),IF(COUNTIF($B$147:$J$148,B3)=1,HLOOKUP(B3,$B$147:$J$148,2,FALSE),HLOOKUP(B3,$B$149:$J$150,2,FALSE)))","v":0},{"$f":"IF(COUNTIF($B$153:$J$154,B3)=1,HLOOKUP(B3,$B$153:$J$154,2,FALSE),IF(COUNTIF($B$155:$J$156,B3)=1,HLOOKUP(B3,$B$155:$J$156,2,FALSE),HLOOKUP(B3,$B$157:$J$158,2,FALSE)))","v":0},{"$f":"IF(COUNTIF($B$161:$J$162,B3)=1,HLOOKUP(B3,$B$161:$J$162,2,FALSE),IF(COUNTIF($B$163:$J$164,B3)=1,HLOOKUP(B3,$B$163:$J$164,2,FALSE),HLOOKUP(B3,$B$165:$J$166,2,FALSE)))","v":0},{"$f":"IF(COUNTIF($B$169:$J$170,B3)=1,HLOOKUP(B3,$B$169:$J$170,2,FALSE),IF(COUNTIF($B$171:$J$172,B3)=1,HLOOKUP(B3,$B$171:$J$172,2,FALSE),HLOOKUP(B3,$B$173:$J$174,2,FALSE)))","v":0},{"$f":"SUM(C3:T3)","v":0},{"$f":"IF(U3=SMALL(U$3:U$29,1),\"1\",IF(U3=SMALL(U$3:U$29,2),\"2\",IF(U3=SMALL(U$3:U$29,3),\"3\",IF(U3=SMALL(U$3:U$29,4),\"4\",IF(U3=SMALL(U$3:U$29,5),\"5\",IF(U3=SMALL(U$3:U$29,6),\"6\",IF(U3=SMALL(U$3:U$29,7),\"7\",IF(U3=SMALL(U$3:U$29,8),\"8\",IF(U3=SMALL(U$3:U$29,9),\"9\",IF(U3=SMALL(U$3:U$29,10),\"10\",IF(U3=SMALL(U$3:U$29,11),\"11\",IF(U3=SMALL(U$3:U$29,12),\"12\",IF(U3=SMALL(U$3:U$29,13),\"13\",IF(U3=SMALL(U$3:U$29,14),\"14\",IF(U3=SMALL(U$3:U$29,15),\"15\",IF(U3=SMALL(U$3:U$29,16),\"16\",IF(U3=SMALL(U$3:U$29,17),\"17\",IF(U3=SMALL(U$3:U$29,18),\"18\",IF(U3=SMALL(U$3:U$29,19),\"19\",IF(U3=SMALL(U$3:U$29,20),\"20\",IF(U3=SMALL(U$3:U$29,21),\"21\",IF(U3=SMALL(U$3:U$29,22),\"22\",IF(U3=SMALL(U$3:U$29,23),\"23\",IF(U3=SMALL(U$3:U$29,24),\"24\",IF(U3=SMALL(U$3:U$29,25),\"25\",IF(U3=SMALL(U$3:U$29,26),\"26\",IF(U3=SMALL(U$3:U$29,27),\"27\",IF(U3=SMALL(U$3:U$29,28),\"28\",IF(U3=SMALL(U$3:U$29,29),\"29\",IF(U3=SMALL(U$3:U$29,30),\"30\",IF(U3=SMALL(U$3:U$29,31),\"31\",IF(U3=SMALL(U$3:U$29,32),\"32\",IF(U3=SMALL(U$3:U$29,33),\"33\",IF(U3=SMALL(U$3:U$29,34),\"34\"))))))))))))))))))))))))))))))))))","v":"1"},null,null,"Boat 1"]
[2,"AS Paris 1 Panthéon Sorbonne",0,0,0,0,0,0,0,0,0,0,0,0,0,0,0,0,0,0,{"$f":"SUM(C4:T4)","v":0},"1",null,null,"Boat 2"]
[3,"Hannovre",0,0,0,0,0,0,0,0,0,0,0,0,0,0,0,0,0,0,0,"1",null,null,"Boat 3"]
[4,"IMT Atlantique Nantes 1",0,0,0,0,0,0,0,0,0,0,0,0,0,0,0,0,0,0,0,"1",null,null,"Boat 4"]
[5,"ENSTA Bretagne 2",0,0,0,0,0,0,0,0,0,0,0,0,0,0,0,0,0,0,0,"1",null,null,"Boat 5"]
[6,"IMT Atlantique Nantes 2",0,0,0,0,0,0,0,0,0,0,0,0,0,0,0,0,0,0,0,"1",null,null,"Boat 6"]
[7,"Hambourg",0,0,0,0,0,0,0,0,0,0,0,0,0,0,0,0,0,0,0,"1",null,null,"Boat 7"]
[8,"EGSI La Rochelle",0,0,0,0,0,0,0,0,0,0,0,0,0,0,0,0,0,0,0,"1",null,null,"Boat 8"]
[9,"HYDRO Sailing Team Le Havre",0,0,0,0,0,0,0,0,0,0,0,0,0,0,0,0,0,0,0,"1",null,null,"Boat 9"]
[10,"UNICAEN - ASSUCherbourg",0,0,0,0,0,0,0,0,0,0,0,0,0,0,0,0,0,0,0,"1",null,null,"Boat 10"]
[11,"UBO 1",0,0,0,0,0,0,0,0,0,0,0,0,0,0,0,0,0,0,0,"1"]
[12,"ENSTA Bretagne 1",0,0,0,0,0,0,0,0,0,0,0,0,0,0,0,0,0,0,0,"1"]
[13,"ASUL Lannion",0,0,0,0,0,0,0,0,0,0,0,0,0,0,0,0,0,0,0,"1"]
[14,"ENSTA Paris",0,0,0,0,0,0,0,0,0,0,0,0,0,0,0,0,0,0,0,"1"]
[15,"IMT Atlantique Brest",0,0,0,0,0,0,0,0,0,0,0,0,0,0,0,0,0,0,0,"1"]
[16,"UBO 2",0,0,0,0,0,0,0,0,0,0,0,0,0,0,0,0,0,0,0,"1"]
[17,"Dublin",0,0,0,0,0,0,0,0,0,0,0,0,0,0,0,0,0,0,0,"1"]
[18,"Univ. Nantes 2",0,0,0,0,0,0,0,0,0,0,0,0,0,0,0,0,0,0,0,"1"]
[19,"UBS Lorient 1",0,0,0,0,0,0,0,0,0,0,0,0,0,0,0,0,0,0,0,"1"]
[20,"UBS Lorient 2",0,0,0,0,0,0,0,0,0,0,0,0,0,0,0,0,0,0,0,"1"]
[21,"Univ.Orléans",0,0,0,0,0,0,0,0,0,0,0,0,0,0,0,0,0,0,0,"1"]
[22,"Univ. La Rochelle",0,0,0,0,0,0,0,0,0,0,0,0,0,0,0,0,0,0,0,"1"]
[23,"AS UB St Brieuc",0,0,0,0,0,0,0,0,0,0,0,0,0,0,0,0,0,0,0,"1"]
[24,"Karlsruhe",0,0,0,0,0,0,0,0,0,0,0,0,0,0,0,0,0,0,0,"1"]
[25,"Univ. Nantes 3",0,0,0,0,0,0,0,0,0,0,0,0,0,0,0,0,0,0,0,"1"]
[26,"Centrales Nantes",0,0,0,0,0,0,0,0,0,0,0,0,0,0,0,0,0,0,0,"1"]
[27,"Southampton",0,0,0,0,0,0,0,0,0,0,0,0,0,0,0,0,0,0,0,"1"]
[]
["Flight 1"]
["Race","Boat 1","Boat 2","Boat 3","Boat 4","Boat 5","Boat 6","Boat 7","Boat 8","Boat 9"]
[1,{"$f":"VLOOKUP(VLOOKUP($A$33,'Pairing List calcul'!$B:$K,COLUMN(),0),$A:$I,2,0)","v":"ENSTA Paris"},{"$f":"VLOOKUP(VLOOKUP($A$33,'Pairing List calcul'!$B:$K,COLUMN(),0),$A:$I,2,0)","v":"Univ. Nantes 2"},{"$f":"VLOOKUP(VLOOKUP($A$33,'Pairing List calcul'!$B:$K,COLUMN(),0),$A:$I,2,0)","v":"IMT Atlantique Nantes 1"},{"$f":"VLOOKUP(VLOOKUP($A$33,'Pairing List calcul'!$B:$K,COLUMN(),0),$A:$I,2,0)","v":"AS Paris 1 Panthéon Sorbonne"},{"$f":"VLOOKUP(VLOOKUP($A$33,'Pairing List calcul'!$B:$K,COLUMN(),0),$A:$I,2,0)","v":"Hambourg"},{"$f":"VLOOKUP(VLOOKUP($A$33,'Pairing List calcul'!$B:$K,COLUMN(),0),$A:$I,2,0)","v":"UNICAEN - ASSUCherbourg"},{"$f":"VLOOKUP(VLOOKUP($A$33,'Pairing List calcul'!$B:$K,COLUMN(),0),$A:$I,2,0)","v":"Centrales Nantes"},{"$f":"VLOOKUP(VLOOKUP($A$33,'Pairing List calcul'!$B:$K,COLUMN(),0),$A:$I,2,0)","v":"ENSTA Bretagne 1"},{"$f":"VLOOKUP(VLOOKUP($A$33,'Pairing List calcul'!$B:$K,COLUMN(),0),$A:$I,2,0)","v":"Univ.Orléans"}]
["Place"]
[2,{"$f":"VLOOKUP(VLOOKUP($A$35,'Pairing List calcul'!$B:$K,COLUMN(),0),$A:$O,2,0)","v":"Univ. Nantes 1"},{"$f":"VLOOKUP(VLOOKUP($A$35,'Pairing List calcul'!$B:$K,COLUMN(),0),$A:$O,2,0)","v":"Hannovre"},{"$f":"VLOOKUP(VLOOKUP($A$35,'Pairing List calcul'!$B:$K,COLUMN(),0),$A:$O,2,0)","v":"IMT Atlantique Brest"},{"$f":"VLOOKUP(VLOOKUP($A$35,'Pairing List calcul'!$B:$K,COLUMN(),0),$A:$O,2,0)","v":"AS UB St Brieuc"},{"$f":"VLOOKUP(VLOOKUP($A$35,'Pairing List calcul'!$B:$K,COLUMN(),0),$A:$O,2,0)","v":"EGSI La Rochelle"},{"$f":"VLOOKUP(VLOOKUP($A$35,'Pairing List calcul'!$B:$K,COLUMN(),0),$A:$O,2,0)","v":"Karlsruhe"},{"$f":"VLOOKUP(VLOOKUP($A$35,'Pairing List calcul'!$B:$K,COLUMN(),0),$A:$O,2,0)","v":"Univ. La Rochelle"},{"$f":"VLOOKUP(VLOOKUP($A$35,'Pairing List calcul'!$B:$K,COLUMN(),0),$A:$O,2,0)","v":"Univ. Nantes 3"},{"$f":"VLOOKUP(VLOOKUP($A$35,'Pairing List calcul'!$B:$K,COLUMN(),0),$A:$O,2,0)","v":"UBO 1"}]
["Place"]
[3,{"$f":"VLOOKUP(VLOOKUP($A$37,'Pairing List calcul'!$B:$K,COLUMN(),0),$A:$O,2,0)","v":"UBS Lorient 2"},{"$f":"VLOOKUP(VLOOKUP($A$37,'Pairing List calcul'!$B:$K,COLUMN(),0),$A:$O,2,0)","v":"IMT Atlantique Nantes 2"},{"$f":"VLOOKUP(VLOOKUP($A$37,'Pairing List calcul'!$B:$K,COLUMN(),0),$A:$O,2,0)","v":"UBS Lorient 1"},{"$f":"VLOOKUP(VLOOKUP($A$37,'Pairing List calcul'!$B:$K,COLUMN(),0),$A:$O,2,0)","v":"Dublin"},{"$f":"VLOOKUP(VLOOKUP($A$37,'Pairing List calcul'!$B:$K,COLUMN(),0),$A:$O,2,0)","v":"ENSTA Bretagne 2"},{"$f":"VLOOKUP(VLOOKUP($A$37,'Pairing List calcul'!$B:$K,COLUMN(),0),$A:$O,2,0)","v":"HYDRO Sailing Team Le Havre"},{"$f":"VLOOKUP(VLOOKUP($A$37,'Pairing List calcul'!$B:$K,COLUMN(),0),$A:$O,2,0)","v":"UBO 2"},{"$f":"VLOOKUP(VLOOKUP($A$37,'Pairing List calcul'!$B:$K,COLUMN(),0),$A:$O,2,0)","v":"ASUL Lannion"},{"$f":"VLOOKUP(VLOOKUP($A$37,'Pairing List calcul'!$B:$K,COLUMN(),0),$A:$O,2,0)","v":"Southampton"}]
["Place"]
["Flight 2"]
["Race","Boat 1","Boat 2","Boat 3","Boat 4","Boat 5","Boat 6","Boat 7","Boat 8","Boat 9"]
[4,{"$f":"VLOOKUP(VLOOKUP($A$41,'Pairing List calcul'!$B:$K,COLUMN(),0),$A:$O,2,0)","v":"ENSTA Paris"},{"$f":"VLOOKUP(VLOOKUP($A$41,'Pairing List calcul'!$B:$K,COLUMN(),0),$A:$O,2,0)","v":"UNICAEN - ASSUCherbourg"},{"$f":"VLOOKUP(VLOOKUP($A$41,'Pairing List calcul'!$B:$K,COLUMN(),0),$A:$O,2,0)","v":"Univ. Nantes 3"},{"$f":"VLOOKUP(VLOOKUP($A$41,'Pairing List calcul'!$B:$K,COLUMN(),0),$A:$O,2,0)","v":"Dublin"},{"$f":"VLOOKUP(VLOOKUP($A$41,'Pairing List calcul'!$B:$K,COLUMN(),0),$A:$O,2,0)","v":"ENSTA Bretagne 2"},{"$f":"VLOOKUP(VLOOKUP($A$41,'Pairing List calcul'!$B:$K,COLUMN(),0),$A:$O,2,0)","v":"Karlsruhe"},{"$f":"VLOOKUP(VLOOKUP($A$41,'Pairing List calcul'!$B:$K,COLUMN(),0),$A:$O,2,0)","v":"UBO 2"},{"$f":"VLOOKUP(VLOOKUP($A$41,'Pairing List calcul'!$B:$K,COLUMN(),0),$A:$O,2,0)","v":"Univ.Orléans"},{"$f":"VLOOKUP(VLOOKUP($A$41,'Pairing List calcul'!$B:$K,COLUMN(),0),$A:$O,2,0)","v":"Centrales Nantes"}]
["Place"]
[5,{"$f":"VLOOKUP(VLOOKUP($A$43,'Pairing List calcul'!$B:$K,COLUMN(),0),$A:$O,2,0)","v":"ASUL Lannion"},{"$f":"VLOOKUP(VLOOKUP($A$43,'Pairing List calcul'!$B:$K,COLUMN(),0),$A:$O,2,0)","v":"UBS Lorient 1"},{"$f":"VLOOKUP(VLOOKUP($A$43,'Pairing List calcul'!$B:$K,COLUMN(),0),$A:$O,2,0)","v":"IMT Atlantique Nantes 1"},{"$f":"VLOOKUP(VLOOKUP($A$43,'Pairing List calcul'!$B:$K,COLUMN(),0),$A:$O,2,0)","v":"AS UB St Brieuc"},{"$f":"VLOOKUP(VLOOKUP($A$43,'Pairing List calcul'!$B:$K,COLUMN(),0),$A:$O,2,0)","v":"Southampton"},{"$f":"VLOOKUP(VLOOKUP($A$43,'Pairing List calcul'!$B:$K,COLUMN(),0),$A:$O,2,0)","v":"UBO 1"},{"$f":"VLOOKUP(VLOOKUP($A$43,'Pairing List calcul'!$B:$K,COLUMN(),0),$A:$O,2,0)","v":"EGSI La Rochelle"},{"$f":"VLOOKUP(VLOOKUP($A$43,'Pairing List calcul'!$B:$K,COLUMN(),0),$A:$O,2,0)","v":"ENSTA Bretagne 1"},{"$f":"VLOOKUP(VLOOKUP($A$43,'Pairing List calcul'!$B:$K,COLUMN(),0),$A:$O,2,0)","v":"Univ. La Rochelle"}]
["Place"]
[6,{"$f":"VLOOKUP(VLOOKUP($A$45,'Pairing List calcul'!$B:$K,COLUMN(),0),$A:$O,2,0)","v":"Univ. Nantes 2"},{"$f":"VLOOKUP(VLOOKUP($A$45,'Pairing List calcul'!$B:$K,COLUMN(),0),$A:$O,2,0)","v":"IMT Atlantique Nantes 2"},{"$f":"VLOOKUP(VLOOKUP($A$45,'Pairing List calcul'!$B:$K,COLUMN(),0),$A:$O,2,0)","v":"HYDRO Sailing Team Le Havre"},{"$f":"VLOOKUP(VLOOKUP($A$45,'Pairing List calcul'!$B:$K,COLUMN(),0),$A:$O,2,0)","v":"AS Paris 1 Panthéon Sorbonne"},{"$f":"VLOOKUP(VLOOKUP($A$45,'Pairing List calcul'!$B:$K,COLUMN(),0),$A:$O,2,0)","v":"IMT Atlantique Brest"},{"$f":"VLOOKUP(VLOOKUP($A$45,'Pairing List calcul'!$B:$K,COLUMN(),0),$A:$O,2,0)","v":"UBS Lorient 2"},{"$f":"VLOOKUP(VLOOKUP($A$45,'Pairing List calcul'!$B:$K,COLUMN(),0),$A:$O,2,0)","v":"Hannovre"},{"$f":"VLOOKUP(VLOOKUP($A$45,'Pairing List calcul'!$B:$K,COLUMN(),0),$A:$O,2,0)","v":"Univ. Nantes 1"},{"$f":"VLOOKUP(VLOOKUP($A$45,'Pairing List calcul'!$B:$K,COLUMN(),0),$A:$O,2,0)","v":"Hambourg"}]
["Place"]
["Flight 3"]
["Race","Boat 1","Boat 2","Boat 3","Boat 4","Boat 5","Boat 6","Boat 7","Boat 8","Boat 9"]
[7,{"$f":"VLOOKUP(VLOOKUP($A$49,'Pairing List calcul'!$B:$K,COLUMN(),0),$A:$O,2,0)","v":"UBS Lorient 1"},{"$f":"VLOOKUP(VLOOKUP($A$49,'Pairing List calcul'!$B:$K,COLUMN(),0),$A:$O,2,0)","v":"UNICAEN - ASSUCherbourg"},{"$f":"VLOOKUP(VLOOKUP($A$49,'Pairing List calcul'!$B:$K,COLUMN(),0),$A:$O,2,0)","v":"HYDRO Sailing Team Le Havre"},{"$f":"VLOOKUP(VLOOKUP($A$49,'Pairing List calcul'!$B:$K,COLUMN(),0),$A:$O,2,0)","v":"Centrales Nantes"},{"$f":"VLOOKUP(VLOOKUP($A$49,'Pairing List calcul'!$B:$K,COLUMN(),0),$A:$O,2,0)","v":"ENSTA Bretagne 1"},{"$f":"VLOOKUP(VLOOKUP($A$49,'Pairing List calcul'!$B:$K,COLUMN(),0),$A:$O,2,0)","v":"ASUL Lannion"},{"$f":"VLOOKUP(VLOOKUP($A$49,'Pairing List calcul'!$B:$K,COLUMN(),0),$A:$O,2,0)","v":"Hannovre"},{"$f":"VLOOKUP(VLOOKUP($A$49,'Pairing List calcul'!$B:$K,COLUMN(),0),$A:$O,2,0)","v":"Univ. Nantes 1"},{"$f":"VLOOKUP(VLOOKUP($A$49,'Pairing List calcul'!$B:$K,COLUMN(),0),$A:$O,2,0)","v":"AS UB St Brieuc"}]
["Place"]
[8,{"$f":"VLOOKUP(VLOOKUP($A$51,'Pairing List calcul'!$B:$K,COLUMN(),0),$A:$O,2,0)","v":"IMT Atlantique Nantes 2"},{"$f":"VLOOKUP(VLOOKUP($A$51,'Pairing List calcul'!$B:$K,COLUMN(),0),$A:$O,2,0)","v":"Karlsruhe"},{"$f":"VLOOKUP(VLOOKUP($A$51,'Pairing List calcul'!$B:$K,COLUMN(),0),$A:$O,2,0)","v":"Dublin"},{"$f":"VLOOKUP(VLOOKUP($A$51,'Pairing List calcul'!$B:$K,COLUMN(),0),$A:$O,2,0)","v":"UBO 2"},{"$f":"VLOOKUP(VLOOKUP($A$51,'Pairing List calcul'!$B:$K,COLUMN(),0),$A:$O,2,0)","v":"IMT Atlantique Nantes 1"},{"$f":"VLOOKUP(VLOOKUP($A$51,'Pairing List calcul'!$B:$K,COLUMN(),0),$A:$O,2,0)","v":"Univ. Nantes 2"},{"$f":"VLOOKUP(VLOOKUP($A$51,'Pairing List calcul'!$B:$K,COLUMN(),0),$A:$O,2,0)","v":"UBO 1"},{"$f":"VLOOKUP(VLOOKUP($A$51,'Pairing List calcul'!$B:$K,COLUMN(),0),$A:$O,2,0)","v":"EGSI La Rochelle"},{"$f":"VLOOKUP(VLOOKUP($A$51,'Pairing List calcul'!$B:$K,COLUMN(),0),$A:$O,2,0)","v":"Hambourg"}]
["Place"]
[9,{"$f":"VLOOKUP(VLOOKUP($A$53,'Pairing List calcul'!$B:$K,COLUMN(),0),$A:$O,2,0)","v":"Univ.Orléans"},{"$f":"VLOOKUP(VLOOKUP($A$53,'Pairing List calcul'!$B:$K,COLUMN(),0),$A:$O,2,0)","v":"ENSTA Bretagne 2"},{"$f":"VLOOKUP(VLOOKUP($A$53,'Pairing List calcul'!$B:$K,COLUMN(),0),$A:$O,2,0)","v":"UBS Lorient 2"},{"$f":"VLOOKUP(VLOOKUP($A$53,'Pairing List calcul'!$B:$K,COLUMN(),0),$A:$O,2,0)","v":"Univ. La Rochelle"},{"$f":"VLOOKUP(VLOOKUP($A$53,'Pairing List calcul'!$B:$K,COLUMN(),0),$A:$O,2,0)","v":"AS Paris 1 Panthéon Sorbonne"},{"$f":"VLOOKUP(VLOOKUP($A$53,'Pairing List calcul'!$B:$K,COLUMN(),0),$A:$O,2,0)","v":"ENSTA Paris"},{"$f":"VLOOKUP(VLOOKUP($A$53,'Pairing List calcul'!$B:$K,COLUMN(),0),$A:$O,2,0)","v":"Univ. Nantes 3"},{"$f":"VLOOKUP(VLOOKUP($A$53,'Pairing List calcul'!$B:$K,COLUMN(),0),$A:$O,2,0)","v":"Southampton"},{"$f":"VLOOKUP(VLOOKUP($A$53,'Pairing List calcul'!$B:$K,COLUMN(),0),$A:$O,2,0)","v":"IMT Atlantique Brest"}]
["Place"]
["Flight 4"]
["Race","Boat 1","Boat 2","Boat 3","Boat 4","Boat 5","Boat 6","Boat 7","Boat 8","Boat 9"]
[10,{"$f":"VLOOKUP(VLOOKUP($A$57,'Pairing List calcul'!$B:$K,COLUMN(),0),$A:$O,2,0)","v":"IMT Atlantique Nantes 2"},{"$f":"VLOOKUP(VLOOKUP($A$57,'Pairing List calcul'!$B:$K,COLUMN(),0),$A:$O,2,0)","v":"IMT Atlantique Nantes 1"},{"$f":"VLOOKUP(VLOOKUP($A$57,'Pairing List calcul'!$B:$K,COLUMN(),0),$A:$O,2,0)","v":"Univ. Nantes 2"},{"$f":"VLOOKUP(VLOOKUP($A$57,'Pairing List calcul'!$B:$K,COLUMN(),0),$A:$O,2,0)","v":"UBS Lorient 1"},{"$f":"VLOOKUP(VLOOKUP($A$57,'Pairing List calcul'!$B:$K,COLUMN(),0),$A:$O,2,0)","v":"UNICAEN - ASSUCherbourg"},{"$f":"VLOOKUP(VLOOKUP($A$57,'Pairing List calcul'!$B:$K,COLUMN(),0),$A:$O,2,0)","v":"AS UB St Brieuc"},{"$f":"VLOOKUP(VLOOKUP($A$57,'Pairing List calcul'!$B:$K,COLUMN(),0),$A:$O,2,0)","v":"Univ. Nantes 3"},{"$f":"VLOOKUP(VLOOKUP($A$57,'Pairing List calcul'!$B:$K,COLUMN(),0),$A:$O,2,0)","v":"Southampton"},{"$f":"VLOOKUP(VLOOKUP($A$57,'Pairing List calcul'!$B:$K,COLUMN(),0),$A:$O,2,0)","v":"IMT Atlantique Brest"}]
["Place"]
[11,{"$f":"VLOOKUP(VLOOKUP($A$59,'Pairing List calcul'!$B:$K,COLUMN(),0),$A:$O,2,0)","v":"Univ.Orléans"},{"$f":"VLOOKUP(VLOOKUP($A$59,'Pairing List calcul'!$B:$K,COLUMN(),0),$A:$O,2,0)","v":"AS Paris 1 Panthéon Sorbonne"},{"$f":"VLOOKUP(VLOOKUP($A$59,'Pairing List calcul'!$B:$K,COLUMN(),0),$A:$O,2,0)","v":"Karlsruhe"},{"$f":"VLOOKUP(VLOOKUP($A$59,'Pairing List calcul'!$B:$K,COLUMN(),0),$A:$O,2,0)","v":"ASUL Lannion"},{"$f":"VLOOKUP(VLOOKUP($A$59,'Pairing List calcul'!$B:$K,COLUMN(),0),$A:$O,2,0)","v":"Centrales Nantes"},{"$f":"VLOOKUP(VLOOKUP($A$59,'Pairing List calcul'!$B:$K,COLUMN(),0),$A:$O,2,0)","v":"Dublin"},{"$f":"VLOOKUP(VLOOKUP($A$59,'Pairing List calcul'!$B:$K,COLUMN(),0),$A:$O,2,0)","v":"UBS Lorient 2"},{"$f":"VLOOKUP(VLOOKUP($A$59,'Pairing List calcul'!$B:$K,COLUMN(),0),$A:$O,2,0)","v":"EGSI La Rochelle"},{"$f":"VLOOKUP(VLOOKUP($A$59,'Pairing List calcul'!$B:$K,COLUMN(),0),$A:$O,2,0)","v":"Univ. Nantes 1"}]
["Place"]
[12,{"$f":"VLOOKUP(VLOOKUP($A$61,'Pairing List calcul'!$B:$K,COLUMN(),0),$A:$O,2,0)","v":"Univ. La Rochelle"},{"$f":"VLOOKUP(VLOOKUP($A$61,'Pairing List calcul'!$B:$K,COLUMN(),0),$A:$O,2,0)","v":"ENSTA Bretagne 2"},{"$f":"VLOOKUP(VLOOKUP($A$61,'Pairing List calcul'!$B:$K,COLUMN(),0),$A:$O,2,0)","v":"UBO 1"},{"$f":"VLOOKUP(VLOOKUP($A$61,'Pairing List calcul'!$B:$K,COLUMN(),0),$A:$O,2,0)","v":"UBO 2"},{"$f":"VLOOKUP(VLOOKUP($A$61,'Pairing List calcul'!$B:$K,COLUMN(),0),$A:$O,2,0)","v":"ENSTA Bretagne 1"},{"$f":"VLOOKUP(VLOOKUP($A$61,'Pairing List calcul'!$B:$K,COLUMN(),0),$A:$O,2,0)","v":"Hannovre"},{"$f":"VLOOKUP(VLOOKUP($A$61,'Pairing List calcul'!$B:$K,COLUMN(),0),$A:$O,2,0)","v":"Hambourg"},{"$f":"VLOOKUP(VLOOKUP($A$61,'Pairing List calcul'!$B:$K,COLUMN(),0),$A:$O,2,0)","v":"HYDRO Sailing Team Le Havre"},{"$f":"VLOOKUP(VLOOKUP($A$61,'Pairing List calcul'!$B:$K,COLUMN(),0),$A:$O,2,0)","v":"ENSTA Paris"}]
["Place"]
["Flight 5"]
["Race","Boat 1","Boat 2","Boat 3","Boat 4","Boat 5","Boat 6","Boat 7","Boat 8","Boat 9"]
[13,{"$f":"VLOOKUP(VLOOKUP($A$65,'Pairing List calcul'!$B:$K,COLUMN(),0),$A:$O,2,0)","v":"IMT Atlantique Brest"},{"$f":"VLOOKUP(VLOOKUP($A$65,'Pairing List calcul'!$B:$K,COLUMN(),0),$A:$O,2,0)","v":"Dublin"},{"$f":"VLOOKUP(VLOOKUP($A$65,'Pairing List calcul'!$B:$K,COLUMN(),0),$A:$O,2,0)","v":"UBO 1"},{"$f":"VLOOKUP(VLOOKUP($A$65,'Pairing List calcul'!$B:$K,COLUMN(),0),$A:$O,2,0)","v":"UBS Lorient 1"},{"$f":"VLOOKUP(VLOOKUP($A$65,'Pairing List calcul'!$B:$K,COLUMN(),0),$A:$O,2,0)","v":"Univ.Orléans"},{"$f":"VLOOKUP(VLOOKUP($A$65,'Pairing List calcul'!$B:$K,COLUMN(),0),$A:$O,2,0)","v":"Hannovre"},{"$f":"VLOOKUP(VLOOKUP($A$65,'Pairing List calcul'!$B:$K,COLUMN(),0),$A:$O,2,0)","v":"IMT Atlantique Nantes 2"},{"$f":"VLOOKUP(VLOOKUP($A$65,'Pairing List calcul'!$B:$K,COLUMN(),0),$A:$O,2,0)","v":"Centrales Nantes"},{"$f":"VLOOKUP(VLOOKUP($A$65,'Pairing List calcul'!$B:$K,COLUMN(),0),$A:$O,2,0)","v":"ENSTA Paris"}]
["Place"]
[14,{"$f":"VLOOKUP(VLOOKUP($A$67,'Pairing List calcul'!$B:$K,COLUMN(),0),$A:$O,2,0)","v":"AS UB St Brieuc"},{"$f":"VLOOKUP(VLOOKUP($A$67,'Pairing List calcul'!$B:$K,COLUMN(),0),$A:$O,2,0)","v":"AS Paris 1 Panthéon Sorbonne"},{"$f":"VLOOKUP(VLOOKUP($A$67,'Pairing List calcul'!$B:$K,COLUMN(),0),$A:$O,2,0)","v":"Karlsruhe"},{"$f":"VLOOKUP(VLOOKUP($A$67,'Pairing List calcul'!$B:$K,COLUMN(),0),$A:$O,2,0)","v":"EGSI La Rochelle"},{"$f":"VLOOKUP(VLOOKUP($A$67,'Pairing List calcul'!$B:$K,COLUMN(),0),$A:$O,2,0)","v":"UBS Lorient 2"},{"$f":"VLOOKUP(VLOOKUP($A$67,'Pairing List calcul'!$B:$K,COLUMN(),0),$A:$O,2,0)","v":"UBO 2"},{"$f":"VLOOKUP(VLOOKUP($A$67,'Pairing List calcul'!$B:$K,COLUMN(),0),$A:$O,2,0)","v":"Southampton"},{"$f":"VLOOKUP(VLOOKUP($A$67,'Pairing List calcul'!$B:$K,COLUMN(),0),$A:$O,2,0)","v":"HYDRO Sailing Team Le Havre"},{"$f":"VLOOKUP(VLOOKUP($A$67,'Pairing List calcul'!$B:$K,COLUMN(),0),$A:$O,2,0)","v":"ENSTA Bretagne 1"}]
["Place"]
[15,{"$f":"VLOOKUP(VLOOKUP($A$69,'Pairing List calcul'!$B:$K,COLUMN(),0),$A:$O,2,0)","v":"ENSTA Bretagne 2"},{"$f":"VLOOKUP(VLOOKUP($A$69,'Pairing List calcul'!$B:$K,COLUMN(),0),$A:$O,2,0)","v":"IMT Atlantique Nantes 1"},{"$f":"VLOOKUP(VLOOKUP($A$69,'Pairing List calcul'!$B:$K,COLUMN(),0),$A:$O,2,0)","v":"Univ. La Rochelle"},{"$f":"VLOOKUP(VLOOKUP($A$69,'Pairing List calcul'!$B:$K,COLUMN(),0),$A:$O,2,0)","v":"ASUL Lannion"},{"$f":"VLOOKUP(VLOOKUP($A$69,'Pairing List calcul'!$B:$K,COLUMN(),0),$A:$O,2,0)","v":"Univ. Nantes 3"},{"$f":"VLOOKUP(VLOOKUP($A$69,'Pairing List calcul'!$B:$K,COLUMN(),0),$A:$O,2,0)","v":"Hambourg"},{"$f":"VLOOKUP(VLOOKUP($A$69,'Pairing List calcul'!$B:$K,COLUMN(),0),$A:$O,2,0)","v":"Univ. Nantes 2"},{"$f":"VLOOKUP(VLOOKUP($A$69,'Pairing List calcul'!$B:$K,COLUMN(),0),$A:$O,2,0)","v":"UNICAEN - ASSUCherbourg"},{"$f":"VLOOKUP(VLOOKUP($A$69,'Pairing List calcul'!$B:$K,COLUMN(),0),$A:$O,2,0)","v":"Univ. Nantes 1"}]
["Place"]
["Flight 6"]
["Race","Boat 1","Boat 2","Boat 3","Boat 4","Boat 5","Boat 6","Boat 7","Boat 8","Boat 9"]
[16,{"$f":"VLOOKUP(VLOOKUP($A$73,'Pairing List calcul'!$B:$K,COLUMN(),0),$A:$O,2,0)","v":"ENSTA Bretagne 1"},{"$f":"VLOOKUP(VLOOKUP($A$73,'Pairing List calcul'!$B:$K,COLUMN(),0),$A:$O,2,0)","v":"UBS Lorient 2"},{"$f":"VLOOKUP(VLOOKUP($A$73,'Pairing List calcul'!$B:$K,COLUMN(),0),$A:$O,2,0)","v":"Univ. La Rochelle"},{"$f":"VLOOKUP(VLOOKUP($A$73,'Pairing List calcul'!$B:$K,COLUMN(),0),$A:$O,2,0)","v":"HYDRO Sailing Team Le Havre"},{"$f":"VLOOKUP(VLOOKUP($A$73,'Pairing List calcul'!$B:$K,COLUMN(),0),$A:$O,2,0)","v":"Univ. Nantes 3"},{"$f":"VLOOKUP(VLOOKUP($A$73,'Pairing List calcul'!$B:$K,COLUMN(),0),$A:$O,2,0)","v":"AS UB St Brieuc"},{"$f":"VLOOKUP(VLOOKUP($A$73,'Pairing List calcul'!$B:$K,COLUMN(),0),$A:$O,2,0)","v":"IMT Atlantique Nantes 2"},{"$f":"VLOOKUP(VLOOKUP($A$73,'Pairing List calcul'!$B:$K,COLUMN(),0),$A:$O,2,0)","v":"UNICAEN - ASSUCherbourg"},{"$f":"VLOOKUP(VLOOKUP($A$73,'Pairing List calcul'!$B:$K,COLUMN(),0),$A:$O,2,0)","v":"Dublin"}]
["Place"]
[17,{"$f":"VLOOKUP(VLOOKUP($A$75,'Pairing List calcul'!$B:$K,COLUMN(),0),$A:$O,2,0)","v":"IMT Atlantique Brest"},{"$f":"VLOOKUP(VLOOKUP($A$75,'Pairing List calcul'!$B:$K,COLUMN(),0),$A:$O,2,0)","v":"ASUL Lannion"},{"$f":"VLOOKUP(VLOOKUP($A$75,'Pairing List calcul'!$B:$K,COLUMN(),0),$A:$O,2,0)","v":"Centrales Nantes"},{"$f":"VLOOKUP(VLOOKUP($A$75,'Pairing List calcul'!$B:$K,COLUMN(),0),$A:$O,2,0)","v":"Hannovre"},{"$f":"VLOOKUP(VLOOKUP($A$75,'Pairing List calcul'!$B:$K,COLUMN(),0),$A:$O,2,0)","v":"UBO 2"},{"$f":"VLOOKUP(VLOOKUP($A$75,'Pairing List calcul'!$B:$K,COLUMN(),0),$A:$O,2,0)","v":"Hambourg"},{"$f":"VLOOKUP(VLOOKUP($A$75,'Pairing List calcul'!$B:$K,COLUMN(),0),$A:$O,2,0)","v":"Southampton"},{"$f":"VLOOKUP(VLOOKUP($A$75,'Pairing List calcul'!$B:$K,COLUMN(),0),$A:$O,2,0)","v":"Karlsruhe"},{"$f":"VLOOKUP(VLOOKUP($A$75,'Pairing List calcul'!$B:$K,COLUMN(),0),$A:$O,2,0)","v":"IMT Atlantique Nantes 1"}]
["Place"]
[18,{"$f":"VLOOKUP(VLOOKUP($A$77,'Pairing List calcul'!$B:$K,COLUMN(),0),$A:$O,2,0)","v":"ENSTA Bretagne 2"},{"$f":"VLOOKUP(VLOOKUP($A$77,'Pairing List calcul'!$B:$K,COLUMN(),0),$A:$O,2,0)","v":"ENSTA Paris"},{"$f":"VLOOKUP(VLOOKUP($A$77,'Pairing List calcul'!$B:$K,COLUMN(),0),$A:$O,2,0)","v":"Univ.Orléans"},{"$f":"VLOOKUP(VLOOKUP($A$77,'Pairing List calcul'!$B:$K,COLUMN(),0),$A:$O,2,0)","v":"EGSI La Rochelle"},{"$f":"VLOOKUP(VLOOKUP($A$77,'Pairing List calcul'!$B:$K,COLUMN(),0),$A:$O,2,0)","v":"Univ. Nantes 2"},{"$f":"VLOOKUP(VLOOKUP($A$77,'Pairing List calcul'!$B:$K,COLUMN(),0),$A:$O,2,0)","v":"UBS Lorient 1"},{"$f":"VLOOKUP(VLOOKUP($A$77,'Pairing List calcul'!$B:$K,COLUMN(),0),$A:$O,2,0)","v":"Univ. Nantes 1"},{"$f":"VLOOKUP(VLOOKUP($A$77,'Pairing List calcul'!$B:$K,COLUMN(),0),$A:$O,2,0)","v":"UBO 1"},{"$f":"VLOOKUP(VLOOKUP($A$77,'Pairing List calcul'!$B:$K,COLUMN(),0),$A:$O,2,0)","v":"AS Paris 1 Panthéon Sorbonne"}]
["Place"]
["Flight 7"]
["Race","Boat 1","Boat 2","Boat 3","Boat 4","Boat 5","Boat 6","Boat 7","Boat 8","Boat 9"]
[19,{"$f":"VLOOKUP(VLOOKUP($A$81,'Pairing List calcul'!$B:$K,COLUMN(),0),$A:$O,2,0)","v":"Dublin"},{"$f":"VLOOKUP(VLOOKUP($A$81,'Pairing List calcul'!$B:$K,COLUMN(),0),$A:$O,2,0)","v":"Hambourg"},{"$f":"VLOOKUP(VLOOKUP($A$81,'Pairing List calcul'!$B:$K,COLUMN(),0),$A:$O,2,0)","v":"Univ.Orléans"},{"$f":"VLOOKUP(VLOOKUP($A$81,'Pairing List calcul'!$B:$K,COLUMN(),0),$A:$O,2,0)","v":"Hannovre"},{"$f":"VLOOKUP(VLOOKUP($A$81,'Pairing List calcul'!$B:$K,COLUMN(),0),$A:$O,2,0)","v":"UBO 2"},{"$f":"VLOOKUP(VLOOKUP($A$81,'Pairing List calcul'!$B:$K,COLUMN(),0),$A:$O,2,0)","v":"UBS Lorient 1"},{"$f":"VLOOKUP(VLOOKUP($A$81,'Pairing List calcul'!$B:$K,COLUMN(),0),$A:$O,2,0)","v":"AS UB St Brieuc"},{"$f":"VLOOKUP(VLOOKUP($A$81,'Pairing List calcul'!$B:$K,COLUMN(),0),$A:$O,2,0)","v":"Univ. La Rochelle"},{"$f":"VLOOKUP(VLOOKUP($A$81,'Pairing List calcul'!$B:$K,COLUMN(),0),$A:$O,2,0)","v":"AS Paris 1 Panthéon Sorbonne"}]
["Place"]
[20,{"$f":"VLOOKUP(VLOOKUP($A$83,'Pairing List calcul'!$B:$K,COLUMN(),0),$A:$O,2,0)","v":"IMT Atlantique Nantes 1"},{"$f":"VLOOKUP(VLOOKUP($A$83,'Pairing List calcul'!$B:$K,COLUMN(),0),$A:$O,2,0)","v":"Centrales Nantes"},{"$f":"VLOOKUP(VLOOKUP($A$83,'Pairing List calcul'!$B:$K,COLUMN(),0),$A:$O,2,0)","v":"UBS Lorient 2"},{"$f":"VLOOKUP(VLOOKUP($A$83,'Pairing List calcul'!$B:$K,COLUMN(),0),$A:$O,2,0)","v":"IMT Atlantique Brest"},{"$f":"VLOOKUP(VLOOKUP($A$83,'Pairing List calcul'!$B:$K,COLUMN(),0),$A:$O,2,0)","v":"EGSI La Rochelle"},{"$f":"VLOOKUP(VLOOKUP($A$83,'Pairing List calcul'!$B:$K,COLUMN(),0),$A:$O,2,0)","v":"UNICAEN - ASSUCherbourg"},{"$f":"VLOOKUP(VLOOKUP($A$83,'Pairing List calcul'!$B:$K,COLUMN(),0),$A:$O,2,0)","v":"HYDRO Sailing Team Le Havre"},{"$f":"VLOOKUP(VLOOKUP($A$83,'Pairing List calcul'!$B:$K,COLUMN(),0),$A:$O,2,0)","v":"UBO 1"},{"$f":"VLOOKUP(VLOOKUP($A$83,'Pairing List calcul'!$B:$K,COLUMN(),0),$A:$O,2,0)","v":"ENSTA Bretagne 2"}]
["Place"]
[21,{"$f":"VLOOKUP(VLOOKUP($A$85,'Pairing List calcul'!$B:$K,COLUMN(),0),$A:$O,2,0)","v":"Univ. Nantes 3"},{"$f":"VLOOKUP(VLOOKUP($A$85,'Pairing List calcul'!$B:$K,COLUMN(),0),$A:$O,2,0)","v":"Southampton"},{"$f":"VLOOKUP(VLOOKUP($A$85,'Pairing List calcul'!$B:$K,COLUMN(),0),$A:$O,2,0)","v":"ASUL Lannion"},{"$f":"VLOOKUP(VLOOKUP($A$85,'Pairing List calcul'!$B:$K,COLUMN(),0),$A:$O,2,0)","v":"ENSTA Bretagne 1"},{"$f":"VLOOKUP(VLOOKUP($A$85,'Pairing List calcul'!$B:$K,COLUMN(),0),$A:$O,2,0)","v":"ENSTA Paris"},{"$f":"VLOOKUP(VLOOKUP($A$85,'Pairing List calcul'!$B:$K,COLUMN(),0),$A:$O,2,0)","v":"IMT Atlantique Nantes 2"},{"$f":"VLOOKUP(VLOOKUP($A$85,'Pairing List calcul'!$B:$K,COLUMN(),0),$A:$O,2,0)","v":"Univ. Nantes 1"},{"$f":"VLOOKUP(VLOOKUP($A$85,'Pairing List calcul'!$B:$K,COLUMN(),0),$A:$O,2,0)","v":"Karlsruhe"},{"$f":"VLOOKUP(VLOOKUP($A$85,'Pairing List calcul'!$B:$K,COLUMN(),0),$A:$O,2,0)","v":"Univ. Nantes 2"}]
["Place"]
["Flight 8"]
["Race","Boat 1","Boat 2","Boat 3","Boat 4","Boat 5","Boat 6","Boat 7","Boat 8","Boat 9"]
[22,{"$f":"VLOOKUP(VLOOKUP($A$89,'Pairing List calcul'!$B:$K,COLUMN(),0),$A:$O,2,0)","v":"Dublin"},{"$f":"VLOOKUP(VLOOKUP($A$89,'Pairing List calcul'!$B:$K,COLUMN(),0),$A:$O,2,0)","v":"Univ.Orléans"},{"$f":"VLOOKUP(VLOOKUP($A$89,'Pairing List calcul'!$B:$K,COLUMN(),0),$A:$O,2,0)","v":"ASUL Lannion"},{"$f":"VLOOKUP(VLOOKUP($A$89,'Pairing List calcul'!$B:$K,COLUMN(),0),$A:$O,2,0)","v":"ENSTA Bretagne 1"},{"$f":"VLOOKUP(VLOOKUP($A$89,'Pairing List calcul'!$B:$K,COLUMN(),0),$A:$O,2,0)","v":"AS UB St Brieuc"},{"$f":"VLOOKUP(VLOOKUP($A$89,'Pairing List calcul'!$B:$K,COLUMN(),0),$A:$O,2,0)","v":"ENSTA Bretagne 2"},{"$f":"VLOOKUP(VLOOKUP($A$89,'Pairing List calcul'!$B:$K,COLUMN(),0),$A:$O,2,0)","v":"IMT Atlantique Brest"},{"$f":"VLOOKUP(VLOOKUP($A$89,'Pairing List calcul'!$B:$K,COLUMN(),0),$A:$O,2,0)","v":"Hambourg"},{"$f":"VLOOKUP(VLOOKUP($A$89,'Pairing List calcul'!$B:$K,COLUMN(),0),$A:$O,2,0)","v":"Univ. Nantes 2"}]
["Place"]
[23,{"$f":"VLOOKUP(VLOOKUP($A$91,'Pairing List calcul'!$B:$K,COLUMN(),0),$A:$O,2,0)","v":"UNICAEN - ASSUCherbourg"},{"$f":"VLOOKUP(VLOOKUP($A$91,'Pairing List calcul'!$B:$K,COLUMN(),0),$A:$O,2,0)","v":"UBO 2"},{"$f":"VLOOKUP(VLOOKUP($A$91,'Pairing List calcul'!$B:$K,COLUMN(),0),$A:$O,2,0)","v":"EGSI La Rochelle"},{"$f":"VLOOKUP(VLOOKUP($A$91,'Pairing List calcul'!$B:$K,COLUMN(),0),$A:$O,2,0)","v":"Univ. Nantes 1"},{"$f":"VLOOKUP(VLOOKUP($A$91,'Pairing List calcul'!$B:$K,COLUMN(),0),$A:$O,2,0)","v":"Hannovre"},{"$f":"VLOOKUP(VLOOKUP($A$91,'Pairing List calcul'!$B:$K,COLUMN(),0),$A:$O,2,0)","v":"Southampton"},{"$f":"VLOOKUP(VLOOKUP($A$91,'Pairing List calcul'!$B:$K,COLUMN(),0),$A:$O,2,0)","v":"Centrales Nantes"},{"$f":"VLOOKUP(VLOOKUP($A$91,'Pairing List calcul'!$B:$K,COLUMN(),0),$A:$O,2,0)","v":"UBS Lorient 2"},{"$f":"VLOOKUP(VLOOKUP($A$91,'Pairing List calcul'!$B:$K,COLUMN(),0),$A:$O,2,0)","v":"Univ. Nantes 3"}]
["Place"]
[24,{"$f":"VLOOKUP(VLOOKUP($A$93,'Pairing List calcul'!$B:$K,COLUMN(),0),$A:$O,2,0)","v":"AS Paris 1 Panthéon Sorbonne"},{"$f":"VLOOKUP(VLOOKUP($A$93,'Pairing List calcul'!$B:$K,COLUMN(),0),$A:$O,2,0)","v":"UBO 1"},{"$f":"VLOOKUP(VLOOKUP($A$93,'Pairing List calcul'!$B:$K,COLUMN(),0),$A:$O,2,0)","v":"ENSTA Paris"},{"$f":"VLOOKUP(VLOOKUP($A$93,'Pairing List calcul'!$B:$K,COLUMN(),0),$A:$O,2,0)","v":"Karlsruhe"},{"$f":"VLOOKUP(VLOOKUP($A$93,'Pairing List calcul'!$B:$K,COLUMN(),0),$A:$O,2,0)","v":"Univ. La Rochelle"},{"$f":"VLOOKUP(VLOOKUP($A$93,'Pairing List calcul'!$B:$K,COLUMN(),0),$A:$O,2,0)","v":"IMT Atlantique Nantes 2"},{"$f":"VLOOKUP(VLOOKUP($A$93,'Pairing List calcul'!$B:$K,COLUMN(),0),$A:$O,2,0)","v":"IMT Atlantique Nantes 1"},{"$f":"VLOOKUP(VLOOKUP($A$93,'Pairing List calcul'!$B:$K,COLUMN(),0),$A:$O,2,0)","v":"UBS Lorient 1"},{"$f":"VLOOKUP(VLOOKUP($A$93,'Pairing List calcul'!$B:$K,COLUMN(),0),$A:$O,2,0)","v":"HYDRO Sailing Team Le Havre"}]
["Place"]
["Flight 9"]
["Race","Boat 1","Boat 2","Boat 3","Boat 4","Boat 5","Boat 6","Boat 7","Boat 8","Boat 9"]
[25,{"$f":"VLOOKUP(VLOOKUP($A$97,'Pairing List calcul'!$B:$K,COLUMN(),0),$A:$O,2,0)","v":"AS Paris 1 Panthéon Sorbonne"},{"$f":"VLOOKUP(VLOOKUP($A$97,'Pairing List calcul'!$B:$K,COLUMN(),0),$A:$O,2,0)","v":"ASUL Lannion"},{"$f":"VLOOKUP(VLOOKUP($A$97,'Pairing List calcul'!$B:$K,COLUMN(),0),$A:$O,2,0)","v":"ENSTA Paris"},{"$f":"VLOOKUP(VLOOKUP($A$97,'Pairing List calcul'!$B:$K,COLUMN(),0),$A:$O,2,0)","v":"UBO 1"},{"$f":"VLOOKUP(VLOOKUP($A$97,'Pairing List calcul'!$B:$K,COLUMN(),0),$A:$O,2,0)","v":"Dublin"},{"$f":"VLOOKUP(VLOOKUP($A$97,'Pairing List calcul'!$B:$K,COLUMN(),0),$A:$O,2,0)","v":"Univ. Nantes 3"},{"$f":"VLOOKUP(VLOOKUP($A$97,'Pairing List calcul'!$B:$K,COLUMN(),0),$A:$O,2,0)","v":"IMT Atlantique Nantes 1"},{"$f":"VLOOKUP(VLOOKUP($A$97,'Pairing List calcul'!$B:$K,COLUMN(),0),$A:$O,2,0)","v":"AS UB St Brieuc"},{"$f":"VLOOKUP(VLOOKUP($A$97,'Pairing List calcul'!$B:$K,COLUMN(),0),$A:$O,2,0)","v":"HYDRO Sailing Team Le Havre"}]
["Place"]
[26,{"$f":"VLOOKUP(VLOOKUP($A$99,'Pairing List calcul'!$B:$K,COLUMN(),0),$A:$O,2,0)","v":"Univ. La Rochelle"},{"$f":"VLOOKUP(VLOOKUP($A$99,'Pairing List calcul'!$B:$K,COLUMN(),0),$A:$O,2,0)","v":"UBO 2"},{"$f":"VLOOKUP(VLOOKUP($A$99,'Pairing List calcul'!$B:$K,COLUMN(),0),$A:$O,2,0)","v":"Univ. Nantes 1"},{"$f":"VLOOKUP(VLOOKUP($A$99,'Pairing List calcul'!$B:$K,COLUMN(),0),$A:$O,2,0)","v":"Univ. Nantes 2"},{"$f":"VLOOKUP(VLOOKUP($A$99,'Pairing List calcul'!$B:$K,COLUMN(),0),$A:$O,2,0)","v":"Centrales Nantes"},{"$f":"VLOOKUP(VLOOKUP($A$99,'Pairing List calcul'!$B:$K,COLUMN(),0),$A:$O,2,0)","v":"ENSTA Bretagne 1"},{"$f":"VLOOKUP(VLOOKUP($A$99,'Pairing List calcul'!$B:$K,COLUMN(),0),$A:$O,2,0)","v":"IMT Atlantique Brest"},{"$f":"VLOOKUP(VLOOKUP($A$99,'Pairing List calcul'!$B:$K,COLUMN(),0),$A:$O,2,0)","v":"UBS Lorient 1"},{"$f":"VLOOKUP(VLOOKUP($A$99,'Pairing List calcul'!$B:$K,COLUMN(),0),$A:$O,2,0)","v":"UBS Lorient 2"}]
["Place"]
[27,{"$f":"VLOOKUP(VLOOKUP($A$101,'Pairing List calcul'!$B:$K,COLUMN(),0),$A:$O,2,0)","v":"Hambourg"},{"$f":"VLOOKUP(VLOOKUP($A$101,'Pairing List calcul'!$B:$K,COLUMN(),0),$A:$O,2,0)","v":"EGSI La Rochelle"},{"$f":"VLOOKUP(VLOOKUP($A$101,'Pairing List calcul'!$B:$K,COLUMN(),0),$A:$O,2,0)","v":"Southampton"},{"$f":"VLOOKUP(VLOOKUP($A$101,'Pairing List calcul'!$B:$K,COLUMN(),0),$A:$O,2,0)","v":"Univ.Orléans"},{"$f":"VLOOKUP(VLOOKUP($A$101,'Pairing List calcul'!$B:$K,COLUMN(),0),$A:$O,2,0)","v":"IMT Atlantique Nantes 2"},{"$f":"VLOOKUP(VLOOKUP($A$101,'Pairing List calcul'!$B:$K,COLUMN(),0),$A:$O,2,0)","v":"Karlsruhe"},{"$f":"VLOOKUP(VLOOKUP($A$101,'Pairing List calcul'!$B:$K,COLUMN(),0),$A:$O,2,0)","v":"ENSTA Bretagne 2"},{"$f":"VLOOKUP(VLOOKUP($A$101,'Pairing List calcul'!$B:$K,COLUMN(),0),$A:$O,2,0)","v":"Hannovre"},{"$f":"VLOOKUP(VLOOKUP($A$101,'Pairing List calcul'!$B:$K,COLUMN(),0),$A:$O,2,0)","v":"UNICAEN - ASSUCherbourg"}]
["Place"]
["Flight 10"]
["Race","Boat 1","Boat 2","Boat 3","Boat 4","Boat 5","Boat 6","Boat 7","Boat 8","Boat 9"]
[28,{"$f":"VLOOKUP(VLOOKUP($A$105,'Pairing List calcul'!$B:$K,COLUMN(),0),$A:$O,2,0)","v":"Centrales Nantes"},{"$f":"VLOOKUP(VLOOKUP($A$105,'Pairing List calcul'!$B:$K,COLUMN(),0),$A:$O,2,0)","v":"AS UB St Brieuc"},{"$f":"VLOOKUP(VLOOKUP($A$105,'Pairing List calcul'!$B:$K,COLUMN(),0),$A:$O,2,0)","v":"Southampton"},{"$f":"VLOOKUP(VLOOKUP($A$105,'Pairing List calcul'!$B:$K,COLUMN(),0),$A:$O,2,0)","v":"Univ. Nantes 1"},{"$f":"VLOOKUP(VLOOKUP($A$105,'Pairing List calcul'!$B:$K,COLUMN(),0),$A:$O,2,0)","v":"IMT Atlantique Nantes 2"},{"$f":"VLOOKUP(VLOOKUP($A$105,'Pairing List calcul'!$B:$K,COLUMN(),0),$A:$O,2,0)","v":"Univ. La Rochelle"},{"$f":"VLOOKUP(VLOOKUP($A$105,'Pairing List calcul'!$B:$K,COLUMN(),0),$A:$O,2,0)","v":"ENSTA Bretagne 2"},{"$f":"VLOOKUP(VLOOKUP($A$105,'Pairing List calcul'!$B:$K,COLUMN(),0),$A:$O,2,0)","v":"IMT Atlantique Nantes 1"},{"$f":"VLOOKUP(VLOOKUP($A$105,'Pairing List calcul'!$B:$K,COLUMN(),0),$A:$O,2,0)","v":"Dublin"}]
["Place"]
[29,{"$f":"VLOOKUP(VLOOKUP($A$107,'Pairing List calcul'!$B:$K,COLUMN(),0),$A:$O,2,0)","v":"UBO 2"},{"$f":"VLOOKUP(VLOOKUP($A$107,'Pairing List calcul'!$B:$K,COLUMN(),0),$A:$O,2,0)","v":"ENSTA Bretagne 1"},{"$f":"VLOOKUP(VLOOKUP($A$107,'Pairing List calcul'!$B:$K,COLUMN(),0),$A:$O,2,0)","v":"Univ. Nantes 2"},{"$f":"VLOOKUP(VLOOKUP($A$107,'Pairing List calcul'!$B:$K,COLUMN(),0),$A:$O,2,0)","v":"Univ. Nantes 3"},{"$f":"VLOOKUP(VLOOKUP($A$107,'Pairing List calcul'!$B:$K,COLUMN(),0),$A:$O,2,0)","v":"HYDRO Sailing Team Le Havre"},{"$f":"VLOOKUP(VLOOKUP($A$107,'Pairing List calcul'!$B:$K,COLUMN(),0),$A:$O,2,0)","v":"AS Paris 1 Panthéon Sorbonne"},{"$f":"VLOOKUP(VLOOKUP($A$107,'Pairing List calcul'!$B:$K,COLUMN(),0),$A:$O,2,0)","v":"Univ.Orléans"},{"$f":"VLOOKUP(VLOOKUP($A$107,'Pairing List calcul'!$B:$K,COLUMN(),0),$A:$O,2,0)","v":"EGSI La Rochelle"},{"$f":"VLOOKUP(VLOOKUP($A$107,'Pairing List calcul'!$B:$K,COLUMN(),0),$A:$O,2,0)","v":"Hannovre"}]
["Place"]
[30,{"$f":"VLOOKUP(VLOOKUP($A$109,'Pairing List calcul'!$B:$K,COLUMN(),0),$A:$O,2,0)","v":"Hambourg"},{"$f":"VLOOKUP(VLOOKUP($A$109,'Pairing List calcul'!$B:$K,COLUMN(),0),$A:$O,2,0)","v":"UBO 1"},{"$f":"VLOOKUP(VLOOKUP($A$109,'Pairing List calcul'!$B:$K,COLUMN(),0),$A:$O,2,0)","v":"UNICAEN - ASSUCherbourg"},{"$f":"VLOOKUP(VLOOKUP($A$109,'Pairing List calcul'!$B:$K,COLUMN(),0),$A:$O,2,0)","v":"ENSTA Paris"},{"$f":"VLOOKUP(VLOOKUP($A$109,'Pairing List calcul'!$B:$K,COLUMN(),0),$A:$O,2,0)","v":"UBS Lorient 1"},{"$f":"VLOOKUP(VLOOKUP($A$109,'Pairing List calcul'!$B:$K,COLUMN(),0),$A:$O,2,0)","v":"ASUL Lannion"},{"$f":"VLOOKUP(VLOOKUP($A$109,'Pairing List calcul'!$B:$K,COLUMN(),0),$A:$O,2,0)","v":"Karlsruhe"},{"$f":"VLOOKUP(VLOOKUP($A$109,'Pairing List calcul'!$B:$K,COLUMN(),0),$A:$O,2,0)","v":"IMT Atlantique Brest"},{"$f":"VLOOKUP(VLOOKUP($A$109,'Pairing List calcul'!$B:$K,COLUMN(),0),$A:$O,2,0)","v":"UBS Lorient 2"}]
["Place"]
["Flight 11"]
["Race","Boat 1","Boat 2","Boat 3","Boat 4","Boat 5","Boat 6","Boat 7","Boat 8","Boat 9"]
[31,{"$f":"VLOOKUP(VLOOKUP($A$113,'Pairing List calcul'!$B:$K,COLUMN(),0),$A:$O,2,0)","v":"Hambourg"},{"$f":"VLOOKUP(VLOOKUP($A$113,'Pairing List calcul'!$B:$K,COLUMN(),0),$A:$O,2,0)","v":"Univ. Nantes 3"},{"$f":"VLOOKUP(VLOOKUP($A$113,'Pairing List calcul'!$B:$K,COLUMN(),0),$A:$O,2,0)","v":"AS UB St Brieuc"},{"$f":"VLOOKUP(VLOOKUP($A$113,'Pairing List calcul'!$B:$K,COLUMN(),0),$A:$O,2,0)","v":"ENSTA Paris"},{"$f":"VLOOKUP(VLOOKUP($A$113,'Pairing List calcul'!$B:$K,COLUMN(),0),$A:$O,2,0)","v":"UBS Lorient 1"},{"$f":"VLOOKUP(VLOOKUP($A$113,'Pairing List calcul'!$B:$K,COLUMN(),0),$A:$O,2,0)","v":"Centrales Nantes"},{"$f":"VLOOKUP(VLOOKUP($A$113,'Pairing List calcul'!$B:$K,COLUMN(),0),$A:$O,2,0)","v":"EGSI La Rochelle"},{"$f":"VLOOKUP(VLOOKUP($A$113,'Pairing List calcul'!$B:$K,COLUMN(),0),$A:$O,2,0)","v":"IMT Atlantique Nantes 2"},{"$f":"VLOOKUP(VLOOKUP($A$113,'Pairing List calcul'!$B:$K,COLUMN(),0),$A:$O,2,0)","v":"UBS Lorient 2"}]
["Place"]
[32,{"$f":"VLOOKUP(VLOOKUP($A$115,'Pairing List calcul'!$B:$K,COLUMN(),0),$A:$O,2,0)","v":"UBO 2"},{"$f":"VLOOKUP(VLOOKUP($A$115,'Pairing List calcul'!$B:$K,COLUMN(),0),$A:$O,2,0)","v":"Univ. Nantes 1"},{"$f":"VLOOKUP(VLOOKUP($A$115,'Pairing List calcul'!$B:$K,COLUMN(),0),$A:$O,2,0)","v":"Univ. Nantes 2"},{"$f":"VLOOKUP(VLOOKUP($A$115,'Pairing List calcul'!$B:$K,COLUMN(),0),$A:$O,2,0)","v":"Southampton"},{"$f":"VLOOKUP(VLOOKUP($A$115,'Pairing List calcul'!$B:$K,COLUMN(),0),$A:$O,2,0)","v":"HYDRO Sailing Team Le Havre"},{"$f":"VLOOKUP(VLOOKUP($A$115,'Pairing List calcul'!$B:$K,COLUMN(),0),$A:$O,2,0)","v":"Univ.Orléans"},{"$f":"VLOOKUP(VLOOKUP($A$115,'Pairing List calcul'!$B:$K,COLUMN(),0),$A:$O,2,0)","v":"UBO 1"},{"$f":"VLOOKUP(VLOOKUP($A$115,'Pairing List calcul'!$B:$K,COLUMN(),0),$A:$O,2,0)","v":"Univ. La Rochelle"},{"$f":"VLOOKUP(VLOOKUP($A$115,'Pairing List calcul'!$B:$K,COLUMN(),0),$A:$O,2,0)","v":"ASUL Lannion"}]
["Place"]
[33,{"$f":"VLOOKUP(VLOOKUP($A$117,'Pairing List calcul'!$B:$K,COLUMN(),0),$A:$O,2,0)","v":"Karlsruhe"},{"$f":"VLOOKUP(VLOOKUP($A$117,'Pairing List calcul'!$B:$K,COLUMN(),0),$A:$O,2,0)","v":"ENSTA Bretagne 1"},{"$f":"VLOOKUP(VLOOKUP($A$117,'Pairing List calcul'!$B:$K,COLUMN(),0),$A:$O,2,0)","v":"UNICAEN - ASSUCherbourg"},{"$f":"VLOOKUP(VLOOKUP($A$117,'Pairing List calcul'!$B:$K,COLUMN(),0),$A:$O,2,0)","v":"ENSTA Bretagne 2"},{"$f":"VLOOKUP(VLOOKUP($A$117,'Pairing List calcul'!$B:$K,COLUMN(),0),$A:$O,2,0)","v":"IMT Atlantique Nantes 1"},{"$f":"VLOOKUP(VLOOKUP($A$117,'Pairing List calcul'!$B:$K,COLUMN(),0),$A:$O,2,0)","v":"AS Paris 1 Panthéon Sorbonne"},{"$f":"VLOOKUP(VLOOKUP($A$117,'Pairing List calcul'!$B:$K,COLUMN(),0),$A:$O,2,0)","v":"Dublin"},{"$f":"VLOOKUP(VLOOKUP($A$117,'Pairing List calcul'!$B:$K,COLUMN(),0),$A:$O,2,0)","v":"IMT Atlantique Brest"},{"$f":"VLOOKUP(VLOOKUP($A$117,'Pairing List calcul'!$B:$K,COLUMN(),0),$A:$O,2,0)","v":"Hannovre"}]
["Place"]
["Flight 12"]
["Race","Boat 1","Boat 2","Boat 3","Boat 4","Boat 5","Boat 6","Boat 7","Boat 8","Boat 9"]
[34,{"$f":"VLOOKUP(VLOOKUP($A$121,'Pairing List calcul'!$B:$K,COLUMN(),0),$A:$O,2,0)","v":"Karlsruhe"},{"$f":"VLOOKUP(VLOOKUP($A$121,'Pairing List calcul'!$B:$K,COLUMN(),0),$A:$O,2,0)","v":"HYDRO Sailing Team Le Havre"},{"$f":"VLOOKUP(VLOOKUP($A$121,'Pairing List calcul'!$B:$K,COLUMN(),0),$A:$O,2,0)","v":"AS UB St Brieuc"},{"$f":"VLOOKUP(VLOOKUP($A$121,'Pairing List calcul'!$B:$K,COLUMN(),0),$A:$O,2,0)","v":"ENSTA Bretagne 2"},{"$f":"VLOOKUP(VLOOKUP($A$121,'Pairing List calcul'!$B:$K,COLUMN(),0),$A:$O,2,0)","v":"Univ. Nantes 3"},{"$f":"VLOOKUP(VLOOKUP($A$121,'Pairing List calcul'!$B:$K,COLUMN(),0),$A:$O,2,0)","v":"Univ. Nantes 1"},{"$f":"VLOOKUP(VLOOKUP($A$121,'Pairing List calcul'!$B:$K,COLUMN(),0),$A:$O,2,0)","v":"Hambourg"},{"$f":"VLOOKUP(VLOOKUP($A$121,'Pairing List calcul'!$B:$K,COLUMN(),0),$A:$O,2,0)","v":"Centrales Nantes"},{"$f":"VLOOKUP(VLOOKUP($A$121,'Pairing List calcul'!$B:$K,COLUMN(),0),$A:$O,2,0)","v":"UBS Lorient 1"}]
["Place"]
[35,{"$f":"VLOOKUP(VLOOKUP($A$123,'Pairing List calcul'!$B:$K,COLUMN(),0),$A:$O,2,0)","v":"IMT Atlantique Nantes 1"},{"$f":"VLOOKUP(VLOOKUP($A$123,'Pairing List calcul'!$B:$K,COLUMN(),0),$A:$O,2,0)","v":"Dublin"},{"$f":"VLOOKUP(VLOOKUP($A$123,'Pairing List calcul'!$B:$K,COLUMN(),0),$A:$O,2,0)","v":"Hannovre"},{"$f":"VLOOKUP(VLOOKUP($A$123,'Pairing List calcul'!$B:$K,COLUMN(),0),$A:$O,2,0)","v":"Univ. La Rochelle"},{"$f":"VLOOKUP(VLOOKUP($A$123,'Pairing List calcul'!$B:$K,COLUMN(),0),$A:$O,2,0)","v":"Univ. Nantes 2"},{"$f":"VLOOKUP(VLOOKUP($A$123,'Pairing List calcul'!$B:$K,COLUMN(),0),$A:$O,2,0)","v":"Southampton"},{"$f":"VLOOKUP(VLOOKUP($A$123,'Pairing List calcul'!$B:$K,COLUMN(),0),$A:$O,2,0)","v":"ENSTA Paris"},{"$f":"VLOOKUP(VLOOKUP($A$123,'Pairing List calcul'!$B:$K,COLUMN(),0),$A:$O,2,0)","v":"UBS Lorient 2"},{"$f":"VLOOKUP(VLOOKUP($A$123,'Pairing List calcul'!$B:$K,COLUMN(),0),$A:$O,2,0)","v":"Univ.Orléans"}]
["Place"]
[36,{"$f":"VLOOKUP(VLOOKUP($A$125,'Pairing List calcul'!$B:$K,COLUMN(),0),$A:$O,2,0)","v":"UBO 1"},{"$f":"VLOOKUP(VLOOKUP($A$125,'Pairing List calcul'!$B:$K,COLUMN(),0),$A:$O,2,0)","v":"IMT Atlantique Brest"},{"$f":"VLOOKUP(VLOOKUP($A$125,'Pairing List calcul'!$B:$K,COLUMN(),0),$A:$O,2,0)","v":"AS Paris 1 Panthéon Sorbonne"},{"$f":"VLOOKUP(VLOOKUP($A$125,'Pairing List calcul'!$B:$K,COLUMN(),0),$A:$O,2,0)","v":"IMT Atlantique Nantes 2"},{"$f":"VLOOKUP(VLOOKUP($A$125,'Pairing List calcul'!$B:$K,COLUMN(),0),$A:$O,2,0)","v":"ASUL Lannion"},{"$f":"VLOOKUP(VLOOKUP($A$125,'Pairing List calcul'!$B:$K,COLUMN(),0),$A:$O,2,0)","v":"EGSI La Rochelle"},{"$f":"VLOOKUP(VLOOKUP($A$125,'Pairing List calcul'!$B:$K,COLUMN(),0),$A:$O,2,0)","v":"UNICAEN - ASSUCherbourg"},{"$f":"VLOOKUP(VLOOKUP($A$125,'Pairing List calcul'!$B:$K,COLUMN(),0),$A:$O,2,0)","v":"UBO 2"},{"$f":"VLOOKUP(VLOOKUP($A$125,'Pairing List calcul'!$B:$K,COLUMN(),0),$A:$O,2,0)","v":"ENSTA Bretagne 1"}]
["Place"]
["Flight 13"]
["Race","Boat 1","Boat 2","Boat 3","Boat 4","Boat 5","Boat 6","Boat 7","Boat 8","Boat 9"]
[37,{"$f":"VLOOKUP(VLOOKUP($A$129,'Pairing List calcul'!$B:$K,COLUMN(),0),$A:$O,2,0)","v":"Hannovre"},{"$f":"VLOOKUP(VLOOKUP($A$129,'Pairing List calcul'!$B:$K,COLUMN(),0),$A:$O,2,0)","v":"Univ. Nantes 3"},{"$f":"VLOOKUP(VLOOKUP($A$129,'Pairing List calcul'!$B:$K,COLUMN(),0),$A:$O,2,0)","v":"AS Paris 1 Panthéon Sorbonne"},{"$f":"VLOOKUP(VLOOKUP($A$129,'Pairing List calcul'!$B:$K,COLUMN(),0),$A:$O,2,0)","v":"IMT Atlantique Nantes 2"},{"$f":"VLOOKUP(VLOOKUP($A$129,'Pairing List calcul'!$B:$K,COLUMN(),0),$A:$O,2,0)","v":"ASUL Lannion"},{"$f":"VLOOKUP(VLOOKUP($A$129,'Pairing List calcul'!$B:$K,COLUMN(),0),$A:$O,2,0)","v":"IMT Atlantique Nantes 1"},{"$f":"VLOOKUP(VLOOKUP($A$129,'Pairing List calcul'!$B:$K,COLUMN(),0),$A:$O,2,0)","v":"UBS Lorient 1"},{"$f":"VLOOKUP(VLOOKUP($A$129,'Pairing List calcul'!$B:$K,COLUMN(),0),$A:$O,2,0)","v":"UBO 2"},{"$f":"VLOOKUP(VLOOKUP($A$129,'Pairing List calcul'!$B:$K,COLUMN(),0),$A:$O,2,0)","v":"ENSTA Bretagne 2"}]
["Place"]
[38,{"$f":"VLOOKUP(VLOOKUP($A$131,'Pairing List calcul'!$B:$K,COLUMN(),0),$A:$O,2,0)","v":"Southampton"},{"$f":"VLOOKUP(VLOOKUP($A$131,'Pairing List calcul'!$B:$K,COLUMN(),0),$A:$O,2,0)","v":"HYDRO Sailing Team Le Havre"},{"$f":"VLOOKUP(VLOOKUP($A$131,'Pairing List calcul'!$B:$K,COLUMN(),0),$A:$O,2,0)","v":"EGSI La Rochelle"},{"$f":"VLOOKUP(VLOOKUP($A$131,'Pairing List calcul'!$B:$K,COLUMN(),0),$A:$O,2,0)","v":"Hambourg"},{"$f":"VLOOKUP(VLOOKUP($A$131,'Pairing List calcul'!$B:$K,COLUMN(),0),$A:$O,2,0)","v":"Univ. Nantes 1"},{"$f":"VLOOKUP(VLOOKUP($A$131,'Pairing List calcul'!$B:$K,COLUMN(),0),$A:$O,2,0)","v":"IMT Atlantique Brest"},{"$f":"VLOOKUP(VLOOKUP($A$131,'Pairing List calcul'!$B:$K,COLUMN(),0),$A:$O,2,0)","v":"ENSTA Paris"},{"$f":"VLOOKUP(VLOOKUP($A$131,'Pairing List calcul'!$B:$K,COLUMN(),0),$A:$O,2,0)","v":"Dublin"},{"$f":"VLOOKUP(VLOOKUP($A$131,'Pairing List calcul'!$B:$K,COLUMN(),0),$A:$O,2,0)","v":"ENSTA Bretagne 1"}]
["Place"]
[39,{"$f":"VLOOKUP(VLOOKUP($A$133,'Pairing List calcul'!$B:$K,COLUMN(),0),$A:$O,2,0)","v":"UBO 1"},{"$f":"VLOOKUP(VLOOKUP($A$133,'Pairing List calcul'!$B:$K,COLUMN(),0),$A:$O,2,0)","v":"Univ. La Rochelle"},{"$f":"VLOOKUP(VLOOKUP($A$133,'Pairing List calcul'!$B:$K,COLUMN(),0),$A:$O,2,0)","v":"UBS Lorient 2"},{"$f":"VLOOKUP(VLOOKUP($A$133,'Pairing List calcul'!$B:$K,COLUMN(),0),$A:$O,2,0)","v":"AS UB St Brieuc"},{"$f":"VLOOKUP(VLOOKUP($A$133,'Pairing List calcul'!$B:$K,COLUMN(),0),$A:$O,2,0)","v":"Karlsruhe"},{"$f":"VLOOKUP(VLOOKUP($A$133,'Pairing List calcul'!$B:$K,COLUMN(),0),$A:$O,2,0)","v":"Centrales Nantes"},{"$f":"VLOOKUP(VLOOKUP($A$133,'Pairing List calcul'!$B:$K,COLUMN(),0),$A:$O,2,0)","v":"Univ.Orléans"},{"$f":"VLOOKUP(VLOOKUP($A$133,'Pairing List calcul'!$B:$K,COLUMN(),0),$A:$O,2,0)","v":"Univ. Nantes 2"},{"$f":"VLOOKUP(VLOOKUP($A$133,'Pairing List calcul'!$B:$K,COLUMN(),0),$A:$O,2,0)","v":"UNICAEN - ASSUCherbourg"}]
["Place"]
["Flight 14"]
["Race","Boat 1","Boat 2","Boat 3","Boat 4","Boat 5","Boat 6","Boat 7","Boat 8","Boat 9"]
[40,{"$f":"VLOOKUP(VLOOKUP($A$137,'Pairing List calcul'!$B:$K,COLUMN(),0),$A:$O,2,0)","v":"UBS Lorient 1"},{"$f":"VLOOKUP(VLOOKUP($A$137,'Pairing List calcul'!$B:$K,COLUMN(),0),$A:$O,2,0)","v":"Univ. La Rochelle"},{"$f":"VLOOKUP(VLOOKUP($A$137,'Pairing List calcul'!$B:$K,COLUMN(),0),$A:$O,2,0)","v":"ENSTA Bretagne 2"},{"$f":"VLOOKUP(VLOOKUP($A$137,'Pairing List calcul'!$B:$K,COLUMN(),0),$A:$O,2,0)","v":"EGSI La Rochelle"},{"$f":"VLOOKUP(VLOOKUP($A$137,'Pairing List calcul'!$B:$K,COLUMN(),0),$A:$O,2,0)","v":"Karlsruhe"},{"$f":"VLOOKUP(VLOOKUP($A$137,'Pairing List calcul'!$B:$K,COLUMN(),0),$A:$O,2,0)","v":"HYDRO Sailing Team Le Havre"},{"$f":"VLOOKUP(VLOOKUP($A$137,'Pairing List calcul'!$B:$K,COLUMN(),0),$A:$O,2,0)","v":"Dublin"},{"$f":"VLOOKUP(VLOOKUP($A$137,'Pairing List calcul'!$B:$K,COLUMN(),0),$A:$O,2,0)","v":"Univ. Nantes 2"},{"$f":"VLOOKUP(VLOOKUP($A$137,'Pairing List calcul'!$B:$K,COLUMN(),0),$A:$O,2,0)","v":"UNICAEN - ASSUCherbourg"}]
["Place"]
[41,{"$f":"VLOOKUP(VLOOKUP($A$139,'Pairing List calcul'!$B:$K,COLUMN(),0),$A:$O,2,0)","v":"Southampton"},{"$f":"VLOOKUP(VLOOKUP($A$139,'Pairing List calcul'!$B:$K,COLUMN(),0),$A:$O,2,0)","v":"Centrales Nantes"},{"$f":"VLOOKUP(VLOOKUP($A$139,'Pairing List calcul'!$B:$K,COLUMN(),0),$A:$O,2,0)","v":"ENSTA Bretagne 1"},{"$f":"VLOOKUP(VLOOKUP($A$139,'Pairing List calcul'!$B:$K,COLUMN(),0),$A:$O,2,0)","v":"Hambourg"},{"$f":"VLOOKUP(VLOOKUP($A$139,'Pairing List calcul'!$B:$K,COLUMN(),0),$A:$O,2,0)","v":"UBO 1"},{"$f":"VLOOKUP(VLOOKUP($A$139,'Pairing List calcul'!$B:$K,COLUMN(),0),$A:$O,2,0)","v":"Univ. Nantes 3"},{"$f":"VLOOKUP(VLOOKUP($A$139,'Pairing List calcul'!$B:$K,COLUMN(),0),$A:$O,2,0)","v":"Univ.Orléans"},{"$f":"VLOOKUP(VLOOKUP($A$139,'Pairing List calcul'!$B:$K,COLUMN(),0),$A:$O,2,0)","v":"AS Paris 1 Panthéon Sorbonne"},{"$f":"VLOOKUP(VLOOKUP($A$139,'Pairing List calcul'!$B:$K,COLUMN(),0),$A:$O,2,0)","v":"IMT Atlantique Nantes 2"}]
["Place"]
[42,{"$f":"VLOOKUP(VLOOKUP($A$141,'Pairing List calcul'!$B:$K,COLUMN(),0),$A:$O,2,0)","v":"Univ. Nantes 1"},{"$f":"VLOOKUP(VLOOKUP($A$141,'Pairing List calcul'!$B:$K,COLUMN(),0),$A:$O,2,0)","v":"AS UB St Brieuc"},{"$f":"VLOOKUP(VLOOKUP($A$141,'Pairing List calcul'!$B:$K,COLUMN(),0),$A:$O,2,0)","v":"IMT Atlantique Brest"},{"$f":"VLOOKUP(VLOOKUP($A$141,'Pairing List calcul'!$B:$K,COLUMN(),0),$A:$O,2,0)","v":"UBS Lorient 2"},{"$f":"VLOOKUP(VLOOKUP($A$141,'Pairing List calcul'!$B:$K,COLUMN(),0),$A:$O,2,0)","v":"Hannovre"},{"$f":"VLOOKUP(VLOOKUP($A$141,'Pairing List calcul'!$B:$K,COLUMN(),0),$A:$O,2,0)","v":"IMT Atlantique Nantes 1"},{"$f":"VLOOKUP(VLOOKUP($A$141,'Pairing List calcul'!$B:$K,COLUMN(),0),$A:$O,2,0)","v":"ASUL Lannion"},{"$f":"VLOOKUP(VLOOKUP($A$141,'Pairing List calcul'!$B:$K,COLUMN(),0),$A:$O,2,0)","v":"ENSTA Paris"},{"$f":"VLOOKUP(VLOOKUP($A$141,'Pairing List calcul'!$B:$K,COLUMN(),0),$A:$O,2,0)","v":"UBO 2"}]
["Place"]
["Flight 15"]
["Race","Boat 1","Boat 2","Boat 3","Boat 4","Boat 5","Boat 6","Boat 7","Boat 8","Boat 9"]
[43,{"$f":"VLOOKUP(VLOOKUP($A$145,'Pairing List calcul'!$B:$K,COLUMN(),0),$A:$O,2,0)","v":"Univ. Nantes 1"},{"$f":"VLOOKUP(VLOOKUP($A$145,'Pairing List calcul'!$B:$K,COLUMN(),0),$A:$O,2,0)","v":"AS UB St Brieuc"},{"$f":"VLOOKUP(VLOOKUP($A$145,'Pairing List calcul'!$B:$K,COLUMN(),0),$A:$O,2,0)","v":"IMT Atlantique Nantes 2"},{"$f":"VLOOKUP(VLOOKUP($A$145,'Pairing List calcul'!$B:$K,COLUMN(),0),$A:$O,2,0)","v":"UNICAEN - ASSUCherbourg"},{"$f":"VLOOKUP(VLOOKUP($A$145,'Pairing List calcul'!$B:$K,COLUMN(),0),$A:$O,2,0)","v":"Univ.Orléans"},{"$f":"VLOOKUP(VLOOKUP($A$145,'Pairing List calcul'!$B:$K,COLUMN(),0),$A:$O,2,0)","v":"IMT Atlantique Nantes 1"},{"$f":"VLOOKUP(VLOOKUP($A$145,'Pairing List calcul'!$B:$K,COLUMN(),0),$A:$O,2,0)","v":"HYDRO Sailing Team Le Havre"},{"$f":"VLOOKUP(VLOOKUP($A$145,'Pairing List calcul'!$B:$K,COLUMN(),0),$A:$O,2,0)","v":"ENSTA Paris"},{"$f":"VLOOKUP(VLOOKUP($A$145,'Pairing List calcul'!$B:$K,COLUMN(),0),$A:$O,2,0)","v":"UBO 2"}]
["Place"]
[44,{"$f":"VLOOKUP(VLOOKUP($A$147,'Pairing List calcul'!$B:$K,COLUMN(),0),$A:$O,2,0)","v":"EGSI La Rochelle"},{"$f":"VLOOKUP(VLOOKUP($A$147,'Pairing List calcul'!$B:$K,COLUMN(),0),$A:$O,2,0)","v":"IMT Atlantique Brest"},{"$f":"VLOOKUP(VLOOKUP($A$147,'Pairing List calcul'!$B:$K,COLUMN(),0),$A:$O,2,0)","v":"Hambourg"},{"$f":"VLOOKUP(VLOOKUP($A$147,'Pairing List calcul'!$B:$K,COLUMN(),0),$A:$O,2,0)","v":"Centrales Nantes"},{"$f":"VLOOKUP(VLOOKUP($A$147,'Pairing List calcul'!$B:$K,COLUMN(),0),$A:$O,2,0)","v":"Univ. La Rochelle"},{"$f":"VLOOKUP(VLOOKUP($A$147,'Pairing List calcul'!$B:$K,COLUMN(),0),$A:$O,2,0)","v":"Dublin"},{"$f":"VLOOKUP(VLOOKUP($A$147,'Pairing List calcul'!$B:$K,COLUMN(),0),$A:$O,2,0)","v":"ASUL Lannion"},{"$f":"VLOOKUP(VLOOKUP($A$147,'Pairing List calcul'!$B:$K,COLUMN(),0),$A:$O,2,0)","v":"AS Paris 1 Panthéon Sorbonne"},{"$f":"VLOOKUP(VLOOKUP($A$147,'Pairing List calcul'!$B:$K,COLUMN(),0),$A:$O,2,0)","v":"Univ. Nantes 3"}]
["Place"]
[45,{"$f":"VLOOKUP(VLOOKUP($A$149,'Pairing List calcul'!$B:$K,COLUMN(),0),$A:$O,2,0)","v":"Hannovre"},{"$f":"VLOOKUP(VLOOKUP($A$149,'Pairing List calcul'!$B:$K,COLUMN(),0),$A:$O,2,0)","v":"UBS Lorient 1"},{"$f":"VLOOKUP(VLOOKUP($A$149,'Pairing List calcul'!$B:$K,COLUMN(),0),$A:$O,2,0)","v":"ENSTA Bretagne 2"},{"$f":"VLOOKUP(VLOOKUP($A$149,'Pairing List calcul'!$B:$K,COLUMN(),0),$A:$O,2,0)","v":"UBO 1"},{"$f":"VLOOKUP(VLOOKUP($A$149,'Pairing List calcul'!$B:$K,COLUMN(),0),$A:$O,2,0)","v":"UBS Lorient 2"},{"$f":"VLOOKUP(VLOOKUP($A$149,'Pairing List calcul'!$B:$K,COLUMN(),0),$A:$O,2,0)","v":"Southampton"},{"$f":"VLOOKUP(VLOOKUP($A$149,'Pairing List calcul'!$B:$K,COLUMN(),0),$A:$O,2,0)","v":"ENSTA Bretagne 1"},{"$f":"VLOOKUP(VLOOKUP($A$149,'Pairing List calcul'!$B:$K,COLUMN(),0),$A:$O,2,0)","v":"Univ. Nantes 2"},{"$f":"VLOOKUP(VLOOKUP($A$149,'Pairing List calcul'!$B:$K,COLUMN(),0),$A:$O,2,0)","v":"Karlsruhe"}]
["Place"]
["Flight 16"]
["Race","Boat 1","Boat 2","Boat 3","Boat 4","Boat 5","Boat 6","Boat 7","Boat 8","Boat 9"]
[46,{"$f":"VLOOKUP(VLOOKUP($A$153,'Pairing List calcul'!$B:$K,COLUMN(),0),$A:$O,2,0)","v":"HYDRO Sailing Team Le Havre"},{"$f":"VLOOKUP(VLOOKUP($A$153,'Pairing List calcul'!$B:$K,COLUMN(),0),$A:$O,2,0)","v":"Univ. Nantes 3"},{"$f":"VLOOKUP(VLOOKUP($A$153,'Pairing List calcul'!$B:$K,COLUMN(),0),$A:$O,2,0)","v":"Univ.Orléans"},{"$f":"VLOOKUP(VLOOKUP($A$153,'Pairing List calcul'!$B:$K,COLUMN(),0),$A:$O,2,0)","v":"IMT Atlantique Nantes 1"},{"$f":"VLOOKUP(VLOOKUP($A$153,'Pairing List calcul'!$B:$K,COLUMN(),0),$A:$O,2,0)","v":"UBS Lorient 2"},{"$f":"VLOOKUP(VLOOKUP($A$153,'Pairing List calcul'!$B:$K,COLUMN(),0),$A:$O,2,0)","v":"IMT Atlantique Brest"},{"$f":"VLOOKUP(VLOOKUP($A$153,'Pairing List calcul'!$B:$K,COLUMN(),0),$A:$O,2,0)","v":"ENSTA Bretagne 1"},{"$f":"VLOOKUP(VLOOKUP($A$153,'Pairing List calcul'!$B:$K,COLUMN(),0),$A:$O,2,0)","v":"AS UB St Brieuc"},{"$f":"VLOOKUP(VLOOKUP($A$153,'Pairing List calcul'!$B:$K,COLUMN(),0),$A:$O,2,0)","v":"Karlsruhe"}]
["Place"]
[47,{"$f":"VLOOKUP(VLOOKUP($A$155,'Pairing List calcul'!$B:$K,COLUMN(),0),$A:$O,2,0)","v":"Dublin"},{"$f":"VLOOKUP(VLOOKUP($A$155,'Pairing List calcul'!$B:$K,COLUMN(),0),$A:$O,2,0)","v":"Univ. Nantes 1"},{"$f":"VLOOKUP(VLOOKUP($A$155,'Pairing List calcul'!$B:$K,COLUMN(),0),$A:$O,2,0)","v":"UBO 2"},{"$f":"VLOOKUP(VLOOKUP($A$155,'Pairing List calcul'!$B:$K,COLUMN(),0),$A:$O,2,0)","v":"UNICAEN - ASSUCherbourg"},{"$f":"VLOOKUP(VLOOKUP($A$155,'Pairing List calcul'!$B:$K,COLUMN(),0),$A:$O,2,0)","v":"UBO 1"},{"$f":"VLOOKUP(VLOOKUP($A$155,'Pairing List calcul'!$B:$K,COLUMN(),0),$A:$O,2,0)","v":"UBS Lorient 1"},{"$f":"VLOOKUP(VLOOKUP($A$155,'Pairing List calcul'!$B:$K,COLUMN(),0),$A:$O,2,0)","v":"AS Paris 1 Panthéon Sorbonne"},{"$f":"VLOOKUP(VLOOKUP($A$155,'Pairing List calcul'!$B:$K,COLUMN(),0),$A:$O,2,0)","v":"Southampton"},{"$f":"VLOOKUP(VLOOKUP($A$155,'Pairing List calcul'!$B:$K,COLUMN(),0),$A:$O,2,0)","v":"Hambourg"}]
["Place"]
[48,{"$f":"VLOOKUP(VLOOKUP($A$157,'Pairing List calcul'!$B:$K,COLUMN(),0),$A:$O,2,0)","v":"ASUL Lannion"},{"$f":"VLOOKUP(VLOOKUP($A$157,'Pairing List calcul'!$B:$K,COLUMN(),0),$A:$O,2,0)","v":"IMT Atlantique Nantes 2"},{"$f":"VLOOKUP(VLOOKUP($A$157,'Pairing List calcul'!$B:$K,COLUMN(),0),$A:$O,2,0)","v":"Centrales Nantes"},{"$f":"VLOOKUP(VLOOKUP($A$157,'Pairing List calcul'!$B:$K,COLUMN(),0),$A:$O,2,0)","v":"Univ. Nantes 2"},{"$f":"VLOOKUP(VLOOKUP($A$157,'Pairing List calcul'!$B:$K,COLUMN(),0),$A:$O,2,0)","v":"ENSTA Paris"},{"$f":"VLOOKUP(VLOOKUP($A$157,'Pairing List calcul'!$B:$K,COLUMN(),0),$A:$O,2,0)","v":"Univ. La Rochelle"},{"$f":"VLOOKUP(VLOOKUP($A$157,'Pairing List calcul'!$B:$K,COLUMN(),0),$A:$O,2,0)","v":"Hannovre"},{"$f":"VLOOKUP(VLOOKUP($A$157,'Pairing List calcul'!$B:$K,COLUMN(),0),$A:$O,2,0)","v":"ENSTA Bretagne 2"},{"$f":"VLOOKUP(VLOOKUP($A$157,'Pairing List calcul'!$B:$K,COLUMN(),0),$A:$O,2,0)","v":"EGSI La Rochelle"}]
["Place"]
["Flight 17"]
["Race","Boat 1","Boat 2","Boat 3","Boat 4","Boat 5","Boat 6","Boat 7","Boat 8","Boat 9"]
[49,{"$f":"VLOOKUP(VLOOKUP($A$161,'Pairing List calcul'!$B:$K,COLUMN(),0),$A:$O,2,0)","v":"AS UB St Brieuc"},{"$f":"VLOOKUP(VLOOKUP($A$161,'Pairing List calcul'!$B:$K,COLUMN(),0),$A:$O,2,0)","v":"AS Paris 1 Panthéon Sorbonne"},{"$f":"VLOOKUP(VLOOKUP($A$161,'Pairing List calcul'!$B:$K,COLUMN(),0),$A:$O,2,0)","v":"Karlsruhe"},{"$f":"VLOOKUP(VLOOKUP($A$161,'Pairing List calcul'!$B:$K,COLUMN(),0),$A:$O,2,0)","v":"Univ. Nantes 2"},{"$f":"VLOOKUP(VLOOKUP($A$161,'Pairing List calcul'!$B:$K,COLUMN(),0),$A:$O,2,0)","v":"ENSTA Paris"},{"$f":"VLOOKUP(VLOOKUP($A$161,'Pairing List calcul'!$B:$K,COLUMN(),0),$A:$O,2,0)","v":"Dublin"},{"$f":"VLOOKUP(VLOOKUP($A$161,'Pairing List calcul'!$B:$K,COLUMN(),0),$A:$O,2,0)","v":"IMT Atlantique Brest"},{"$f":"VLOOKUP(VLOOKUP($A$161,'Pairing List calcul'!$B:$K,COLUMN(),0),$A:$O,2,0)","v":"ENSTA Bretagne 2"},{"$f":"VLOOKUP(VLOOKUP($A$161,'Pairing List calcul'!$B:$K,COLUMN(),0),$A:$O,2,0)","v":"Southampton"}]
["Place"]
[50,{"$f":"VLOOKUP(VLOOKUP($A$163,'Pairing List calcul'!$B:$K,COLUMN(),0),$A:$O,2,0)","v":"IMT Atlantique Nantes 1"},{"$f":"VLOOKUP(VLOOKUP($A$163,'Pairing List calcul'!$B:$K,COLUMN(),0),$A:$O,2,0)","v":"Univ.Orléans"},{"$f":"VLOOKUP(VLOOKUP($A$163,'Pairing List calcul'!$B:$K,COLUMN(),0),$A:$O,2,0)","v":"HYDRO Sailing Team Le Havre"},{"$f":"VLOOKUP(VLOOKUP($A$163,'Pairing List calcul'!$B:$K,COLUMN(),0),$A:$O,2,0)","v":"Centrales Nantes"},{"$f":"VLOOKUP(VLOOKUP($A$163,'Pairing List calcul'!$B:$K,COLUMN(),0),$A:$O,2,0)","v":"ASUL Lannion"},{"$f":"VLOOKUP(VLOOKUP($A$163,'Pairing List calcul'!$B:$K,COLUMN(),0),$A:$O,2,0)","v":"EGSI La Rochelle"},{"$f":"VLOOKUP(VLOOKUP($A$163,'Pairing List calcul'!$B:$K,COLUMN(),0),$A:$O,2,0)","v":"UBS Lorient 1"},{"$f":"VLOOKUP(VLOOKUP($A$163,'Pairing List calcul'!$B:$K,COLUMN(),0),$A:$O,2,0)","v":"Hannovre"},{"$f":"VLOOKUP(VLOOKUP($A$163,'Pairing List calcul'!$B:$K,COLUMN(),0),$A:$O,2,0)","v":"Univ. La Rochelle"}]
["Place"]
[51,{"$f":"VLOOKUP(VLOOKUP($A$165,'Pairing List calcul'!$B:$K,COLUMN(),0),$A:$O,2,0)","v":"UBS Lorient 2"},{"$f":"VLOOKUP(VLOOKUP($A$165,'Pairing List calcul'!$B:$K,COLUMN(),0),$A:$O,2,0)","v":"Hambourg"},{"$f":"VLOOKUP(VLOOKUP($A$165,'Pairing List calcul'!$B:$K,COLUMN(),0),$A:$O,2,0)","v":"UBO 1"},{"$f":"VLOOKUP(VLOOKUP($A$165,'Pairing List calcul'!$B:$K,COLUMN(),0),$A:$O,2,0)","v":"Univ. Nantes 3"},{"$f":"VLOOKUP(VLOOKUP($A$165,'Pairing List calcul'!$B:$K,COLUMN(),0),$A:$O,2,0)","v":"Univ. Nantes 1"},{"$f":"VLOOKUP(VLOOKUP($A$165,'Pairing List calcul'!$B:$K,COLUMN(),0),$A:$O,2,0)","v":"UBO 2"},{"$f":"VLOOKUP(VLOOKUP($A$165,'Pairing List calcul'!$B:$K,COLUMN(),0),$A:$O,2,0)","v":"UNICAEN - ASSUCherbourg"},{"$f":"VLOOKUP(VLOOKUP($A$165,'Pairing List calcul'!$B:$K,COLUMN(),0),$A:$O,2,0)","v":"ENSTA Bretagne 1"},{"$f":"VLOOKUP(VLOOKUP($A$165,'Pairing List calcul'!$B:$K,COLUMN(),0),$A:$O,2,0)","v":"IMT Atlantique Nantes 2"}]
["Place"]
["Flight 18"]
["Race","Boat 1","Boat 2","Boat 3","Boat 4","Boat 5","Boat 6","Boat 7","Boat 8","Boat 9"]
[52,{"$f":"VLOOKUP(VLOOKUP($A$169,'Pairing List calcul'!$B:$K,COLUMN(),0),$A:$O,2,0)","v":"HYDRO Sailing Team Le Havre"},{"$f":"VLOOKUP(VLOOKUP($A$169,'Pairing List calcul'!$B:$K,COLUMN(),0),$A:$O,2,0)","v":"Hambourg"},{"$f":"VLOOKUP(VLOOKUP($A$169,'Pairing List calcul'!$B:$K,COLUMN(),0),$A:$O,2,0)","v":"AS Paris 1 Panthéon Sorbonne"},{"$f":"VLOOKUP(VLOOKUP($A$169,'Pairing List calcul'!$B:$K,COLUMN(),0),$A:$O,2,0)","v":"IMT Atlantique Brest"},{"$f":"VLOOKUP(VLOOKUP($A$169,'Pairing List calcul'!$B:$K,COLUMN(),0),$A:$O,2,0)","v":"Univ. Nantes 1"},{"$f":"VLOOKUP(VLOOKUP($A$169,'Pairing List calcul'!$B:$K,COLUMN(),0),$A:$O,2,0)","v":"Hannovre"},{"$f":"VLOOKUP(VLOOKUP($A$169,'Pairing List calcul'!$B:$K,COLUMN(),0),$A:$O,2,0)","v":"Univ. Nantes 2"},{"$f":"VLOOKUP(VLOOKUP($A$169,'Pairing List calcul'!$B:$K,COLUMN(),0),$A:$O,2,0)","v":"UBO 1"},{"$f":"VLOOKUP(VLOOKUP($A$169,'Pairing List calcul'!$B:$K,COLUMN(),0),$A:$O,2,0)","v":"Southampton"}]
["Place"]
[53,{"$f":"VLOOKUP(VLOOKUP($A$171,'Pairing List calcul'!$B:$K,COLUMN(),0),$A:$O,2,0)","v":"UBO 2"},{"$f":"VLOOKUP(VLOOKUP($A$171,'Pairing List calcul'!$B:$K,COLUMN(),0),$A:$O,2,0)","v":"Dublin"},{"$f":"VLOOKUP(VLOOKUP($A$171,'Pairing List calcul'!$B:$K,COLUMN(),0),$A:$O,2,0)","v":"Univ. Nantes 3"},{"$f":"VLOOKUP(VLOOKUP($A$171,'Pairing List calcul'!$B:$K,COLUMN(),0),$A:$O,2,0)","v":"Univ.Orléans"},{"$f":"VLOOKUP(VLOOKUP($A$171,'Pairing List calcul'!$B:$K,COLUMN(),0),$A:$O,2,0)","v":"ENSTA Bretagne 1"},{"$f":"VLOOKUP(VLOOKUP($A$171,'Pairing List calcul'!$B:$K,COLUMN(),0),$A:$O,2,0)","v":"EGSI La Rochelle"},{"$f":"VLOOKUP(VLOOKUP($A$171,'Pairing List calcul'!$B:$K,COLUMN(),0),$A:$O,2,0)","v":"UBS Lorient 1"},{"$f":"VLOOKUP(VLOOKUP($A$171,'Pairing List calcul'!$B:$K,COLUMN(),0),$A:$O,2,0)","v":"Karlsruhe"},{"$f":"VLOOKUP(VLOOKUP($A$171,'Pairing List calcul'!$B:$K,COLUMN(),0),$A:$O,2,0)","v":"IMT Atlantique Nantes 1"}]
["Place"]
[54,{"$f":"VLOOKUP(VLOOKUP($A$173,'Pairing List calcul'!$B:$K,COLUMN(),0),$A:$O,2,0)","v":"IMT Atlantique Nantes 2"},{"$f":"VLOOKUP(VLOOKUP($A$173,'Pairing List calcul'!$B:$K,COLUMN(),0),$A:$O,2,0)","v":"ENSTA Bretagne 2"},{"$f":"VLOOKUP(VLOOKUP($A$173,'Pairing List calcul'!$B:$K,COLUMN(),0),$A:$O,2,0)","v":"AS UB St Brieuc"},{"$f":"VLOOKUP(VLOOKUP($A$173,'Pairing List calcul'!$B:$K,COLUMN(),0),$A:$O,2,0)","v":"ASUL Lannion"},{"$f":"VLOOKUP(VLOOKUP($A$173,'Pairing List calcul'!$B:$K,COLUMN(),0),$A:$O,2,0)","v":"Centrales Nantes"},{"$f":"VLOOKUP(VLOOKUP($A$173,'Pairing List calcul'!$B:$K,COLUMN(),0),$A:$O,2,0)","v":"ENSTA Paris"},{"$f":"VLOOKUP(VLOOKUP($A$173,'Pairing List calcul'!$B:$K,COLUMN(),0),$A:$O,2,0)","v":"UNICAEN - ASSUCherbourg"},{"$f":"VLOOKUP(VLOOKUP($A$173,'Pairing List calcul'!$B:$K,COLUMN(),0),$A:$O,2,0)","v":"UBS Lorient 2"},{"$f":"VLOOKUP(VLOOKUP($A$173,'Pairing List calcul'!$B:$K,COLUMN(),0),$A:$O,2,0)","v":"Univ. La Rochelle"}]
["Place"]

{"sheet":"Classement final","index":3,"n_rows":28,"n_cols":3,"rows_kept":28,"cut":false,"hidden":false,"merged":[]}
["Place","Equipe","Nbr de point"]
[{"$f":"Général!V3","v":"1"},{"$f":"Général!B3","v":"Univ. Nantes 1"},{"$f":"Général!U3","v":0}]
[{"$f":"Général!V4","v":"1"},{"$f":"Général!B4","v":"AS Paris 1 Panthéon Sorbonne"},{"$f":"Général!U4","v":0}]
[{"$f":"Général!V5","v":"1"},{"$f":"Général!B5","v":"Hannovre"},{"$f":"Général!U5","v":0}]
[{"$f":"Général!V6","v":"1"},{"$f":"Général!B6","v":"IMT Atlantique Nantes 1"},{"$f":"Général!U6","v":0}]
[{"$f":"Général!V7","v":"1"},{"$f":"Général!B7","v":"ENSTA Bretagne 2"},{"$f":"Général!U7","v":0}]
[{"$f":"Général!V8","v":"1"},{"$f":"Général!B8","v":"IMT Atlantique Nantes 2"},{"$f":"Général!U8","v":0}]
[{"$f":"Général!V9","v":"1"},{"$f":"Général!B9","v":"Hambourg"},{"$f":"Général!U9","v":0}]
[{"$f":"Général!V10","v":"1"},{"$f":"Général!B10","v":"EGSI La Rochelle"},{"$f":"Général!U10","v":0}]
[{"$f":"Général!V11","v":"1"},{"$f":"Général!B11","v":"HYDRO Sailing Team Le Havre"},{"$f":"Général!U11","v":0}]
[{"$f":"Général!V12","v":"1"},{"$f":"Général!B12","v":"UNICAEN - ASSUCherbourg"},{"$f":"Général!U12","v":0}]
[{"$f":"Général!V13","v":"1"},{"$f":"Général!B13","v":"UBO 1"},{"$f":"Général!U13","v":0}]
[{"$f":"Général!V14","v":"1"},{"$f":"Général!B14","v":"ENSTA Bretagne 1"},{"$f":"Général!U14","v":0}]
[{"$f":"Général!V15","v":"1"},{"$f":"Général!B15","v":"ASUL Lannion"},{"$f":"Général!U15","v":0}]
[{"$f":"Général!V16","v":"1"},{"$f":"Général!B16","v":"ENSTA Paris"},{"$f":"Général!U16","v":0}]
[{"$f":"Général!V17","v":"1"},{"$f":"Général!B17","v":"IMT Atlantique Brest"},{"$f":"Général!U17","v":0}]
[{"$f":"Général!V18","v":"1"},{"$f":"Général!B18","v":"UBO 2"},{"$f":"Général!U18","v":0}]
[{"$f":"Général!V19","v":"1"},{"$f":"Général!B19","v":"Dublin"},{"$f":"Général!U19","v":0}]
[{"$f":"Général!V20","v":"1"},{"$f":"Général!B20","v":"Univ. Nantes 2"},{"$f":"Général!U20","v":0}]
[{"$f":"Général!V21","v":"1"},{"$f":"Général!B21","v":"UBS Lorient 1"},{"$f":"Général!U21","v":0}]
[{"$f":"Général!V22","v":"1"},{"$f":"Général!B22","v":"UBS Lorient 2"},{"$f":"Général!U22","v":0}]
[{"$f":"Général!V23","v":"1"},{"$f":"Général!B23","v":"Univ.Orléans"},{"$f":"Général!U23","v":0}]
[{"$f":"Général!V24","v":"1"},{"$f":"Général!B24","v":"Univ. La Rochelle"},{"$f":"Général!U24","v":0}]
[{"$f":"Général!V25","v":"1"},{"$f":"Général!B25","v":"AS UB St Brieuc"},{"$f":"Général!U25","v":0}]
[{"$f":"Général!V26","v":"1"},{"$f":"Général!B26","v":"Karlsruhe"},{"$f":"Général!U26","v":0}]
[{"$f":"Général!V27","v":"1"},{"$f":"Général!B27","v":"Univ. Nantes 3"},{"$f":"Général!U27","v":0}]
[{"$f":"Général!V28","v":"1"},{"$f":"Général!B28","v":"Centrales Nantes"},{"$f":"Général!U28","v":0}]
[{"$f":"Général!V29","v":"1"},{"$f":"Général!B29","v":"Southampton"},{"$f":"Général!U29","v":0}]

{"sheet":"Analyse","index":4,"n_rows":45,"n_cols":35,"rows_kept":45,"cut":false,"hidden":false,"merged":[]}
[null,"Bateaux",1,{"$f":"C1+1","v":2},3,4,5,6,7,8,9,10,11,12,13,14,15,16,17,18,19,20,21,22,23,24,25,26,27,28,29,30,31,32]
[null,1,{"$f":"COUNTIF('Pairing List calcul'!$C$2:$C$55,FIXED(C1,0, ))","v":3},{"$f":"COUNTIF('Pairing List calcul'!$C$2:$C$55,FIXED(D1,0, ))","v":2},{"$f":"COUNTIF('Pairing List calcul'!$C$2:$C$55,FIXED(E1,0, ))","v":2},{"$f":"COUNTIF('Pairing List calcul'!$C$2:$C$55,FIXED(F1,0, ))","v":3},{"$f":"COUNTIF('Pairing List calcul'!$C$2:$C$55,FIXED(G1,0, ))","v":2},{"$f":"COUNTIF('Pairing List calcul'!$C$2:$C$55,FIXED(H1,0, ))","v":3},{"$f":"COUNTIF('Pairing List calcul'!$C$2:$C$55,FIXED(I1,0, ))","v":3},{"$f":"COUNTIF('Pairing List calcul'!$C$2:$C$55,FIXED(J1,0, ))","v":1},{"$f":"COUNTIF('Pairing List calcul'!$C$2:$C$55,FIXED(K1,0, ))","v":2},{"$f":"COUNTIF('Pairing List calcul'!$C$2:$C$55,FIXED(L1,0, ))","v":1},{"$f":"COUNTIF('Pairing List calcul'!$C$2:$C$55,FIXED(M1,0, ))","v":2},{"$f":"COUNTIF('Pairing List calcul'!$C$2:$C$55,FIXED(N1,0, ))","v":1},{"$f":"COUNTIF('Pairing List calcul'!$C$2:$C$55,FIXED(O1,0, ))","v":2},{"$f":"COUNTIF('Pairing List calcul'!$C$2:$C$55,FIXED(P1,0, ))","v":2},{"$f":"COUNTIF('Pairing List calcul'!$C$2:$C$55,FIXED(Q1,0, ))","v":2},{"$f":"COUNTIF('Pairing List calcul'!$C$2:$C$55,FIXED(R1,0, ))","v":3},{"$f":"COUNTIF('Pairing List calcul'!$C$2:$C$55,FIXED(S1,0, ))","v":3},{"$f":"COUNTIF('Pairing List calcul'!$C$2:$C$55,FIXED(T1,0, ))","v":1},{"$f":"COUNTIF('Pairing List calcul'!$C$2:$C$55,FIXED(U1,0, ))","v":2},{"$f":"COUNTIF('Pairing List calcul'!$C$2:$C$55,FIXED(V1,0, ))","v":2},{"$f":"COUNTIF('Pairing List calcul'!$C$2:$C$55,FIXED(W1,0, ))","v":2},{"$f":"COUNTIF('Pairing List calcul'!$C$2:$C$55,FIXED(X1,0, ))","v":2},{"$f":"COUNTIF('Pairing List calcul'!$C$2:$C$55,FIXED(Y1,0, ))","v":2},{"$f":"COUNTIF('Pairing List calcul'!$C$2:$C$55,FIXED(Z1,0, ))","v":2},{"$f":"COUNTIF('Pairing List calcul'!$C$2:$C$55,FIXED(AA1,0, ))","v":1},{"$f":"COUNTIF('Pairing List calcul'!$C$2:$C$55,FIXED(AB1,0, ))","v":1},{"$f":"COUNTIF('Pairing List calcul'!$C$2:$C$55,FIXED(AC1,0, ))","v":2},{"$f":"COUNTIF('Pairing List calcul'!$C$2:$C$55,FIXED(AD1,0, ))","v":0},{"$f":"COUNTIF('Pairing List calcul'!$C$2:$C$55,FIXED(AE1,0, ))","v":0},{"$f":"COUNTIF('Pairing List calcul'!$C$2:$C$55,FIXED(AF1,0, ))","v":0},{"$f":"COUNTIF('Pairing List calcul'!$C$2:$C$55,FIXED(AG1,0, ))","v":0},{"$f":"COUNTIF('Pairing List calcul'!$C$2:$C$55,FIXED(AH1,0, ))","v":0}]
[null,{"$f":"B2+1","v":2},{"$f":"COUNTIF('Pairing List calcul'!$D$2:$D$55,FIXED(C1,0, ))","v":2},{"$f":"COUNTIF('Pairing List calcul'!$D$2:$D$55,FIXED(D1,0, ))","v":3},{"$f":"COUNTIF('Pairing List calcul'!$D$2:$D$55,FIXED(E1,0, ))","v":1},{"$f":"COUNTIF('Pairing List calcul'!$D$2:$D$55,FIXED(F1,0, ))","v":2},{"$f":"COUNTIF('Pairing List calcul'!$D$2:$D$55,FIXED(G1,0, ))","v":3},{"$f":"COUNTIF('Pairing List calcul'!$D$2:$D$55,FIXED(H1,0, ))","v":3},{"$f":"COUNTIF('Pairing List calcul'!$D$2:$D$55,FIXED(I1,0, ))","v":3},{"$f":"COUNTIF('Pairing List calcul'!$D$2:$D$55,FIXED(J1,0, ))","v":1},{"$f":"COUNTIF('Pairing List calcul'!$D$2:$D$55,FIXED(K1,0, ))","v":2},{"$f":"COUNTIF('Pairing List calcul'!$D$2:$D$55,FIXED(L1,0, ))","v":2},{"$f":"COUNTIF('Pairing List calcul'!$D$2:$D$55,FIXED(M1,0, ))","v":2},{"$f":"COUNTIF('Pairing List calcul'!$D$2:$D$55,FIXED(N1,0, ))","v":2},{"$f":"COUNTIF('Pairing List calcul'!$D$2:$D$55,FIXED(O1,0, ))","v":2},{"$f":"COUNTIF('Pairing List calcul'!$D$2:$D$55,FIXED(P1,0, ))","v":1},{"$f":"COUNTIF('Pairing List calcul'!$D$2:$D$55,FIXED(Q1,0, ))","v":2},{"$f":"COUNTIF('Pairing List calcul'!$D$2:$D$55,FIXED(R1,0, ))","v":2},{"$f":"COUNTIF('Pairing List calcul'!$D$2:$D$55,FIXED(S1,0, ))","v":3},{"$f":"COUNTIF('Pairing List calcul'!$D$2:$D$55,FIXED(T1,0, ))","v":1},{"$f":"COUNTIF('Pairing List calcul'!$D$2:$D$55,FIXED(U1,0, ))","v":2},{"$f":"COUNTIF('Pairing List calcul'!$D$2:$D$55,FIXED(V1,0, ))","v":1},{"$f":"COUNTIF('Pairing List calcul'!$D$2:$D$55,FIXED(W1,0, ))","v":2},{"$f":"COUNTIF('Pairing List calcul'!$D$2:$D$55,FIXED(X1,0, ))","v":2},{"$f":"COUNTIF('Pairing List calcul'!$D$2:$D$55,FIXED(Y1,0, ))","v":3},{"$f":"COUNTIF('Pairing List calcul'!$D$2:$D$55,FIXED(Z1,0, ))","v":1},{"$f":"COUNTIF('Pairing List calcul'!$D$2:$D$55,FIXED(AA1,0, ))","v":3},{"$f":"COUNTIF('Pairing List calcul'!$D$2:$D$55,FIXED(AB1,0, ))","v":2},{"$f":"COUNTIF('Pairing List calcul'!$D$2:$D$55,FIXED(AC1,0, ))","v":1},{"$f":"COUNTIF('Pairing List calcul'!$D$2:$D$55,FIXED(AD1,0, ))","v":0},{"$f":"COUNTIF('Pairing List calcul'!$D$2:$D$55,FIXED(AE1,0, ))","v":0},{"$f":"COUNTIF('Pairing List calcul'!$D$2:$D$55,FIXED(AF1,0, ))","v":0},{"$f":"COUNTIF('Pairing List calcul'!$D$2:$D$55,FIXED(AG1,0, ))","v":0},{"$f":"COUNTIF('Pairing List calcul'!$D$2:$D$55,FIXED(AH1,0, ))","v":0}]
[null,3,{"$f":"COUNTIF('Pairing List calcul'!$E$2:$E$55,FIXED(C1,0, ))","v":1},{"$f":"COUNTIF('Pairing List calcul'!$E$2:$E$55,FIXED(D1,0, ))","v":3},{"$f":"COUNTIF('Pairing List calcul'!$E$2:$E$55,FIXED(E1,0, ))","v":1},{"$f":"COUNTIF('Pairing List calcul'!$E$2:$E$55,FIXED(F1,0, ))","v":2},{"$f":"COUNTIF('Pairing List calcul'!$E$2:$E$55,FIXED(G1,0, ))","v":2},{"$f":"COUNTIF('Pairing List calcul'!$E$2:$E$55,FIXED(H1,0, ))","v":1},{"$f":"COUNTIF('Pairing List calcul'!$E$2:$E$55,FIXED(I1,0, ))","v":1},{"$f":"COUNTIF('Pairing List calcul'!$E$2:$E$55,FIXED(J1,0, ))","v":2},{"$f":"COUNTIF('Pairing List calcul'!$E$2:$E$55,FIXED(K1,0, ))","v":3},{"$f":"COUNTIF('Pairing List calcul'!$E$2:$E$55,FIXED(L1,0, ))","v":2},{"$f":"COUNTIF('Pairing List calcul'!$E$2:$E$55,FIXED(M1,0, ))","v":3},{"$f":"COUNTIF('Pairing List calcul'!$E$2:$E$55,FIXED(N1,0, ))","v":1},{"$f":"COUNTIF('Pairing List calcul'!$E$2:$E$55,FIXED(O1,0, ))","v":2},{"$f":"COUNTIF('Pairing List calcul'!$E$2:$E$55,FIXED(P1,0, ))","v":2},{"$f":"COUNTIF('Pairing List calcul'!$E$2:$E$55,FIXED(Q1,0, ))","v":2},{"$f":"COUNTIF('Pairing List calcul'!$E$2:$E$55,FIXED(R1,0, ))","v":1},{"$f":"COUNTIF('Pairing List calcul'!$E$2:$E$55,FIXED(S1,0, ))","v":1},{"$f":"COUNTIF('Pairing List calcul'!$E$2:$E$55,FIXED(T1,0, ))","v":3},{"$f":"COUNTIF('Pairing List calcul'!$E$2:$E$55,FIXED(U1,0, ))","v":1},{"$f":"COUNTIF('Pairing List calcul'!$E$2:$E$55,FIXED(V1,0, ))","v":3},{"$f":"COUNTIF('Pairing List calcul'!$E$2:$E$55,FIXED(W1,0, ))","v":3},{"$f":"COUNTIF('Pairing List calcul'!$E$2:$E$55,FIXED(X1,0, ))","v":2},{"$f":"COUNTIF('Pairing List calcul'!$E$2:$E$55,FIXED(Y1,0, ))","v":3},{"$f":"COUNTIF('Pairing List calcul'!$E$2:$E$55,FIXED(Z1,0, ))","v":3},{"$f":"COUNTIF('Pairing List calcul'!$E$2:$E$55,FIXED(AA1,0, ))","v":2},{"$f":"COUNTIF('Pairing List calcul'!$E$2:$E$55,FIXED(AB1,0, ))","v":2},{"$f":"COUNTIF('Pairing List calcul'!$E$2:$E$55,FIXED(AC1,0, ))","v":2},{"$f":"COUNTIF('Pairing List calcul'!$E$2:$E$55,FIXED(AD1,0, ))","v":0},{"$f":"COUNTIF('Pairing List calcul'!$E$2:$E$55,FIXED(AE1,0, ))","v":0},{"$f":"COUNTIF('Pairing List calcul'!$E$2:$E$55,FIXED(AF1,0, ))","v":0},{"$f":"COUNTIF('Pairing List calcul'!$E$2:$E$55,FIXED(AG1,0, ))","v":0},{"$f":"COUNTIF('Pairing List calcul'!$E$2:$E$55,FIXED(AH1,0, ))","v":0}]
[null,4,{"$f":"COUNTIF('Pairing List calcul'!$F$2:$F$55,FIXED(C1,0, ))","v":2},{"$f":"COUNTIF('Pairing List calcul'!$F$2:$F$55,FIXED(D1,0, ))","v":2},{"$f":"COUNTIF('Pairing List calcul'!$F$2:$F$55,FIXED(E1,0, ))","v":2},{"$f":"COUNTIF('Pairing List calcul'!$F$2:$F$55,FIXED(F1,0, ))","v":1},{"$f":"COUNTIF('Pairing List calcul'!$F$2:$F$55,FIXED(G1,0, ))","v":2},{"$f":"COUNTIF('Pairing List calcul'!$F$2:$F$55,FIXED(H1,0, ))","v":2},{"$f":"COUNTIF('Pairing List calcul'!$F$2:$F$55,FIXED(I1,0, ))","v":2},{"$f":"COUNTIF('Pairing List calcul'!$F$2:$F$55,FIXED(J1,0, ))","v":3},{"$f":"COUNTIF('Pairing List calcul'!$F$2:$F$55,FIXED(K1,0, ))","v":1},{"$f":"COUNTIF('Pairing List calcul'!$F$2:$F$55,FIXED(L1,0, ))","v":2},{"$f":"COUNTIF('Pairing List calcul'!$F$2:$F$55,FIXED(M1,0, ))","v":2},{"$f":"COUNTIF('Pairing List calcul'!$F$2:$F$55,FIXED(N1,0, ))","v":2},{"$f":"COUNTIF('Pairing List calcul'!$F$2:$F$55,FIXED(O1,0, ))","v":3},{"$f":"COUNTIF('Pairing List calcul'!$F$2:$F$55,FIXED(P1,0, ))","v":2},{"$f":"COUNTIF('Pairing List calcul'!$F$2:$F$55,FIXED(Q1,0, ))","v":2},{"$f":"COUNTIF('Pairing List calcul'!$F$2:$F$55,FIXED(R1,0, ))","v":2},{"$f":"COUNTIF('Pairing List calcul'!$F$2:$F$55,FIXED(S1,0, ))","v":2},{"$f":"COUNTIF('Pairing List calcul'!$F$2:$F$55,FIXED(T1,0, ))","v":3},{"$f":"COUNTIF('Pairing List calcul'!$F$2:$F$55,FIXED(U1,0, ))","v":2},{"$f":"COUNTIF('Pairing List calcul'!$F$2:$F$55,FIXED(V1,0, ))","v":1},{"$f":"COUNTIF('Pairing List calcul'!$F$2:$F$55,FIXED(W1,0, ))","v":2},{"$f":"COUNTIF('Pairing List calcul'!$F$2:$F$55,FIXED(X1,0, ))","v":2},{"$f":"COUNTIF('Pairing List calcul'!$F$2:$F$55,FIXED(Y1,0, ))","v":3},{"$f":"COUNTIF('Pairing List calcul'!$F$2:$F$55,FIXED(Z1,0, ))","v":1},{"$f":"COUNTIF('Pairing List calcul'!$F$2:$F$55,FIXED(AA1,0, ))","v":2},{"$f":"COUNTIF('Pairing List calcul'!$F$2:$F$55,FIXED(AB1,0, ))","v":3},{"$f":"COUNTIF('Pairing List calcul'!$F$2:$F$55,FIXED(AC1,0, ))","v":1},{"$f":"COUNTIF('Pairing List calcul'!$F$2:$F$55,FIXED(AD1,0, ))","v":0},{"$f":"COUNTIF('Pairing List calcul'!$F$2:$F$55,FIXED(AE1,0, ))","v":0},{"$f":"COUNTIF('Pairing List calcul'!$F$2:$F$55,FIXED(AF1,0, ))","v":0},{"$f":"COUNTIF('Pairing List calcul'!$F$2:$F$55,FIXED(AG1,0, ))","v":0},{"$f":"COUNTIF('Pairing List calcul'!$F$2:$F$55,FIXED(AH1,0, ))","v":0}]
[null,5,{"$f":"COUNTIF('Pairing List calcul'!$G$2:$G$55,FIXED(C1,0, ))","v":3},{"$f":"COUNTIF('Pairing List calcul'!$G$2:$G$55,FIXED(D1,0, ))","v":1},{"$f":"COUNTIF('Pairing List calcul'!$G$2:$G$55,FIXED(E1,0, ))","v":2},{"$f":"COUNTIF('Pairing List calcul'!$G$2:$G$55,FIXED(F1,0, ))","v":2},{"$f":"COUNTIF('Pairing List calcul'!$G$2:$G$55,FIXED(G1,0, ))","v":2},{"$f":"COUNTIF('Pairing List calcul'!$G$2:$G$55,FIXED(H1,0, ))","v":2},{"$f":"COUNTIF('Pairing List calcul'!$G$2:$G$55,FIXED(I1,0, ))","v":1},{"$f":"COUNTIF('Pairing List calcul'!$G$2:$G$55,FIXED(J1,0, ))","v":2},{"$f":"COUNTIF('Pairing List calcul'!$G$2:$G$55,FIXED(K1,0, ))","v":2},{"$f":"COUNTIF('Pairing List calcul'!$G$2:$G$55,FIXED(L1,0, ))","v":1},{"$f":"COUNTIF('Pairing List calcul'!$G$2:$G$55,FIXED(M1,0, ))","v":2},{"$f":"COUNTIF('Pairing List calcul'!$G$2:$G$55,FIXED(N1,0, ))","v":3},{"$f":"COUNTIF('Pairing List calcul'!$G$2:$G$55,FIXED(O1,0, ))","v":3},{"$f":"COUNTIF('Pairing List calcul'!$G$2:$G$55,FIXED(P1,0, ))","v":3},{"$f":"COUNTIF('Pairing List calcul'!$G$2:$G$55,FIXED(Q1,0, ))","v":1},{"$f":"COUNTIF('Pairing List calcul'!$G$2:$G$55,FIXED(R1,0, ))","v":2},{"$f":"COUNTIF('Pairing List calcul'!$G$2:$G$55,FIXED(S1,0, ))","v":1},{"$f":"COUNTIF('Pairing List calcul'!$G$2:$G$55,FIXED(T1,0, ))","v":2},{"$f":"COUNTIF('Pairing List calcul'!$G$2:$G$55,FIXED(U1,0, ))","v":2},{"$f":"COUNTIF('Pairing List calcul'!$G$2:$G$55,FIXED(V1,0, ))","v":3},{"$f":"COUNTIF('Pairing List calcul'!$G$2:$G$55,FIXED(W1,0, ))","v":2},{"$f":"COUNTIF('Pairing List calcul'!$G$2:$G$55,FIXED(X1,0, ))","v":2},{"$f":"COUNTIF('Pairing List calcul'!$G$2:$G$55,FIXED(Y1,0, ))","v":1},{"$f":"COUNTIF('Pairing List calcul'!$G$2:$G$55,FIXED(Z1,0, ))","v":2},{"$f":"COUNTIF('Pairing List calcul'!$G$2:$G$55,FIXED(AA1,0, ))","v":3},{"$f":"COUNTIF('Pairing List calcul'!$G$2:$G$55,FIXED(AB1,0, ))","v":3},{"$f":"COUNTIF('Pairing List calcul'!$G$2:$G$55,FIXED(AC1,0, ))","v":1},{"$f":"COUNTIF('Pairing List calcul'!$G$2:$G$55,FIXED(AD1,0, ))","v":0},{"$f":"COUNTIF('Pairing List calcul'!$G$2:$G$55,FIXED(AE1,0, ))","v":0},{"$f":"COUNTIF('Pairing List calcul'!$G$2:$G$55,FIXED(AF1,0, ))","v":0},{"$f":"COUNTIF('Pairing List calcul'!$G$2:$G$55,FIXED(AG1,0, ))","v":0},{"$f":"COUNTIF('Pairing List calcul'!$G$2:$G$55,FIXED(AH1,0, ))","v":0}]
[null,6,{"$f":"COUNTIF('Pairing List calcul'!$H$2:$H$55,FIXED(C1,0, ))","v":1},{"$f":"COUNTIF('Pairing List calcul'!$H$2:$H$55,FIXED(D1,0, ))","v":2},{"$f":"COUNTIF('Pairing List calcul'!$H$2:$H$55,FIXED(E1,0, ))","v":3},{"$f":"COUNTIF('Pairing List calcul'!$H$2:$H$55,FIXED(F1,0, ))","v":3},{"$f":"COUNTIF('Pairing List calcul'!$H$2:$H$55,FIXED(G1,0, ))","v":1},{"$f":"COUNTIF('Pairing List calcul'!$H$2:$H$55,FIXED(H1,0, ))","v":2},{"$f":"COUNTIF('Pairing List calcul'!$H$2:$H$55,FIXED(I1,0, ))","v":2},{"$f":"COUNTIF('Pairing List calcul'!$H$2:$H$55,FIXED(J1,0, ))","v":3},{"$f":"COUNTIF('Pairing List calcul'!$H$2:$H$55,FIXED(K1,0, ))","v":2},{"$f":"COUNTIF('Pairing List calcul'!$H$2:$H$55,FIXED(L1,0, ))","v":2},{"$f":"COUNTIF('Pairing List calcul'!$H$2:$H$55,FIXED(M1,0, ))","v":1},{"$f":"COUNTIF('Pairing List calcul'!$H$2:$H$55,FIXED(N1,0, ))","v":1},{"$f":"COUNTIF('Pairing List calcul'!$H$2:$H$55,FIXED(O1,0, ))","v":2},{"$f":"COUNTIF('Pairing List calcul'!$H$2:$H$55,FIXED(P1,0, ))","v":2},{"$f":"COUNTIF('Pairing List calcul'!$H$2:$H$55,FIXED(Q1,0, ))","v":2},{"$f":"COUNTIF('Pairing List calcul'!$H$2:$H$55,FIXED(R1,0, ))","v":2},{"$f":"COUNTIF('Pairing List calcul'!$H$2:$H$55,FIXED(S1,0, ))","v":3},{"$f":"COUNTIF('Pairing List calcul'!$H$2:$H$55,FIXED(T1,0, ))","v":1},{"$f":"COUNTIF('Pairing List calcul'!$H$2:$H$55,FIXED(U1,0, ))","v":3},{"$f":"COUNTIF('Pairing List calcul'!$H$2:$H$55,FIXED(V1,0, ))","v":1},{"$f":"COUNTIF('Pairing List calcul'!$H$2:$H$55,FIXED(W1,0, ))","v":1},{"$f":"COUNTIF('Pairing List calcul'!$H$2:$H$55,FIXED(X1,0, ))","v":2},{"$f":"COUNTIF('Pairing List calcul'!$H$2:$H$55,FIXED(Y1,0, ))","v":2},{"$f":"COUNTIF('Pairing List calcul'!$H$2:$H$55,FIXED(Z1,0, ))","v":3},{"$f":"COUNTIF('Pairing List calcul'!$H$2:$H$55,FIXED(AA1,0, ))","v":2},{"$f":"COUNTIF('Pairing List calcul'!$H$2:$H$55,FIXED(AB1,0, ))","v":2},{"$f":"COUNTIF('Pairing List calcul'!$H$2:$H$55,FIXED(AC1,0, ))","v":3},{"$f":"COUNTIF('Pairing List calcul'!$H$2:$H$55,FIXED(AD1,0, ))","v":0},{"$f":"COUNTIF('Pairing List calcul'!$H$2:$H$55,FIXED(AE1,0, ))","v":0},{"$f":"COUNTIF('Pairing List calcul'!$H$2:$H$55,FIXED(AF1,0, ))","v":0},{"$f":"COUNTIF('Pairing List calcul'!$H$2:$H$55,FIXED(AG1,0, ))","v":0},{"$f":"COUNTIF('Pairing List calcul'!$H$2:$H$55,FIXED(AH1,0, ))","v":0}]
[null,7,{"$f":"COUNTIF('Pairing List calcul'!$I$2:$I$55,FIXED(C1,0, ))","v":2},{"$f":"COUNTIF('Pairing List calcul'!$I$2:$I$55,FIXED(D1,0, ))","v":1},{"$f":"COUNTIF('Pairing List calcul'!$I$2:$I$55,FIXED(E1,0, ))","v":3},{"$f":"COUNTIF('Pairing List calcul'!$I$2:$I$55,FIXED(F1,0, ))","v":2},{"$f":"COUNTIF('Pairing List calcul'!$I$2:$I$55,FIXED(G1,0, ))","v":2},{"$f":"COUNTIF('Pairing List calcul'!$I$2:$I$55,FIXED(H1,0, ))","v":2},{"$f":"COUNTIF('Pairing List calcul'!$I$2:$I$55,FIXED(I1,0, ))","v":2},{"$f":"COUNTIF('Pairing List calcul'!$I$2:$I$55,FIXED(J1,0, ))","v":2},{"$f":"COUNTIF('Pairing List calcul'!$I$2:$I$55,FIXED(K1,0, ))","v":2},{"$f":"COUNTIF('Pairing List calcul'!$I$2:$I$55,FIXED(L1,0, ))","v":3},{"$f":"COUNTIF('Pairing List calcul'!$I$2:$I$55,FIXED(M1,0, ))","v":2},{"$f":"COUNTIF('Pairing List calcul'!$I$2:$I$55,FIXED(N1,0, ))","v":2},{"$f":"COUNTIF('Pairing List calcul'!$I$2:$I$55,FIXED(O1,0, ))","v":2},{"$f":"COUNTIF('Pairing List calcul'!$I$2:$I$55,FIXED(P1,0, ))","v":2},{"$f":"COUNTIF('Pairing List calcul'!$I$2:$I$55,FIXED(Q1,0, ))","v":3},{"$f":"COUNTIF('Pairing List calcul'!$I$2:$I$55,FIXED(R1,0, ))","v":2},{"$f":"COUNTIF('Pairing List calcul'!$I$2:$I$55,FIXED(S1,0, ))","v":2},{"$f":"COUNTIF('Pairing List calcul'!$I$2:$I$55,FIXED(T1,0, ))","v":2},{"$f":"COUNTIF('Pairing List calcul'!$I$2:$I$55,FIXED(U1,0, ))","v":3},{"$f":"COUNTIF('Pairing List calcul'!$I$2:$I$55,FIXED(V1,0, ))","v":1},{"$f":"COUNTIF('Pairing List calcul'!$I$2:$I$55,FIXED(W1,0, ))","v":3},{"$f":"COUNTIF('Pairing List calcul'!$I$2:$I$55,FIXED(X1,0, ))","v":1},{"$f":"COUNTIF('Pairing List calcul'!$I$2:$I$55,FIXED(Y1,0, ))","v":1},{"$f":"COUNTIF('Pairing List calcul'!$I$2:$I$55,FIXED(Z1,0, ))","v":1},{"$f":"COUNTIF('Pairing List calcul'!$I$2:$I$55,FIXED(AA1,0, ))","v":2},{"$f":"COUNTIF('Pairing List calcul'!$I$2:$I$55,FIXED(AB1,0, ))","v":2},{"$f":"COUNTIF('Pairing List calcul'!$I$2:$I$55,FIXED(AC1,0, ))","v":2},{"$f":"COUNTIF('Pairing List calcul'!$I$2:$I$55,FIXED(AD1,0, ))","v":0},{"$f":"COUNTIF('Pairing List calcul'!$I$2:$I$55,FIXED(AE1,0, ))","v":0},{"$f":"COUNTIF('Pairing List calcul'!$I$2:$I$55,FIXED(AF1,0, ))","v":0},{"$f":"COUNTIF('Pairing List calcul'!$I$2:$I$55,FIXED(AG1,0, ))","v":0},{"$f":"COUNTIF('Pairing List calcul'!$I$2:$I$55,FIXED(AH1,0, ))","v":0}]
[null,8,{"$f":"COUNTIF('Pairing List calcul'!$J$2:$J$55,FIXED(C1,0, ))","v":2},{"$f":"COUNTIF('Pairing List calcul'!$J$2:$J$55,FIXED(D1,0, ))","v":2},{"$f":"COUNTIF('Pairing List calcul'!$J$2:$J$55,FIXED(E1,0, ))","v":2},{"$f":"COUNTIF('Pairing List calcul'!$J$2:$J$55,FIXED(F1,0, ))","v":1},{"$f":"COUNTIF('Pairing List calcul'!$J$2:$J$55,FIXED(G1,0, ))","v":2},{"$f":"COUNTIF('Pairing List calcul'!$J$2:$J$55,FIXED(H1,0, ))","v":1},{"$f":"COUNTIF('Pairing List calcul'!$J$2:$J$55,FIXED(I1,0, ))","v":1},{"$f":"COUNTIF('Pairing List calcul'!$J$2:$J$55,FIXED(J1,0, ))","v":3},{"$f":"COUNTIF('Pairing List calcul'!$J$2:$J$55,FIXED(K1,0, ))","v":2},{"$f":"COUNTIF('Pairing List calcul'!$J$2:$J$55,FIXED(L1,0, ))","v":2},{"$f":"COUNTIF('Pairing List calcul'!$J$2:$J$55,FIXED(M1,0, ))","v":3},{"$f":"COUNTIF('Pairing List calcul'!$J$2:$J$55,FIXED(N1,0, ))","v":3},{"$f":"COUNTIF('Pairing List calcul'!$J$2:$J$55,FIXED(O1,0, ))","v":1},{"$f":"COUNTIF('Pairing List calcul'!$J$2:$J$55,FIXED(P1,0, ))","v":2},{"$f":"COUNTIF('Pairing List calcul'!$J$2:$J$55,FIXED(Q1,0, ))","v":2},{"$f":"COUNTIF('Pairing List calcul'!$J$2:$J$55,FIXED(R1,0, ))","v":2},{"$f":"COUNTIF('Pairing List calcul'!$J$2:$J$55,FIXED(S1,0, ))","v":1},{"$f":"COUNTIF('Pairing List calcul'!$J$2:$J$55,FIXED(T1,0, ))","v":3},{"$f":"COUNTIF('Pairing List calcul'!$J$2:$J$55,FIXED(U1,0, ))","v":2},{"$f":"COUNTIF('Pairing List calcul'!$J$2:$J$55,FIXED(V1,0, ))","v":3},{"$f":"COUNTIF('Pairing List calcul'!$J$2:$J$55,FIXED(W1,0, ))","v":1},{"$f":"COUNTIF('Pairing List calcul'!$J$2:$J$55,FIXED(X1,0, ))","v":2},{"$f":"COUNTIF('Pairing List calcul'!$J$2:$J$55,FIXED(Y1,0, ))","v":2},{"$f":"COUNTIF('Pairing List calcul'!$J$2:$J$55,FIXED(Z1,0, ))","v":3},{"$f":"COUNTIF('Pairing List calcul'!$J$2:$J$55,FIXED(AA1,0, ))","v":1},{"$f":"COUNTIF('Pairing List calcul'!$J$2:$J$55,FIXED(AB1,0, ))","v":2},{"$f":"COUNTIF('Pairing List calcul'!$J$2:$J$55,FIXED(AC1,0, ))","v":3},{"$f":"COUNTIF('Pairing List calcul'!$J$2:$J$55,FIXED(AD1,0, ))","v":0},{"$f":"COUNTIF('Pairing List calcul'!$J$2:$J$55,FIXED(AE1,0, ))","v":0},{"$f":"COUNTIF('Pairing List calcul'!$J$2:$J$55,FIXED(AF1,0, ))","v":0},{"$f":"COUNTIF('Pairing List calcul'!$J$2:$J$55,FIXED(AG1,0, ))","v":0},{"$f":"COUNTIF('Pairing List calcul'!$J$2:$J$55,FIXED(AH1,0, ))","v":0}]
[null,9,{"$f":"COUNTIF('Pairing List calcul'!$K$2:$K$55,FIXED(C1,0, ))","v":2},{"$f":"COUNTIF('Pairing List calcul'!$K$2:$K$55,FIXED(D1,0, ))","v":2},{"$f":"COUNTIF('Pairing List calcul'!$K$2:$K$55,FIXED(E1,0, ))","v":2},{"$f":"COUNTIF('Pairing List calcul'!$K$2:$K$55,FIXED(F1,0, ))","v":2},{"$f":"COUNTIF('Pairing List calcul'!$K$2:$K$55,FIXED(G1,0, ))","v":2},{"$f":"COUNTIF('Pairing List calcul'!$K$2:$K$55,FIXED(H1,0, ))","v":2},{"$f":"COUNTIF('Pairing List calcul'!$K$2:$K$55,FIXED(I1,0, ))","v":3},{"$f":"COUNTIF('Pairing List calcul'!$K$2:$K$55,FIXED(J1,0, ))","v":1},{"$f":"COUNTIF('Pairing List calcul'!$K$2:$K$55,FIXED(K1,0, ))","v":2},{"$f":"COUNTIF('Pairing List calcul'!$K$2:$K$55,FIXED(L1,0, ))","v":3},{"$f":"COUNTIF('Pairing List calcul'!$K$2:$K$55,FIXED(M1,0, ))","v":1},{"$f":"COUNTIF('Pairing List calcul'!$K$2:$K$55,FIXED(N1,0, ))","v":3},{"$f":"COUNTIF('Pairing List calcul'!$K$2:$K$55,FIXED(O1,0, ))","v":1},{"$f":"COUNTIF('Pairing List calcul'!$K$2:$K$55,FIXED(P1,0, ))","v":2},{"$f":"COUNTIF('Pairing List calcul'!$K$2:$K$55,FIXED(Q1,0, ))","v":2},{"$f":"COUNTIF('Pairing List calcul'!$K$2:$K$55,FIXED(R1,0, ))","v":2},{"$f":"COUNTIF('Pairing List calcul'!$K$2:$K$55,FIXED(S1,0, ))","v":2},{"$f":"COUNTIF('Pairing List calcul'!$K$2:$K$55,FIXED(T1,0, ))","v":2},{"$f":"COUNTIF('Pairing List calcul'!$K$2:$K$55,FIXED(U1,0, ))","v":1},{"$f":"COUNTIF('Pairing List calcul'!$K$2:$K$55,FIXED(V1,0, ))","v":3},{"$f":"COUNTIF('Pairing List calcul'!$K$2:$K$55,FIXED(W1,0, ))","v":2},{"$f":"COUNTIF('Pairing List calcul'!$K$2:$K$55,FIXED(X1,0, ))","v":3},{"$f":"COUNTIF('Pairing List calcul'!$K$2:$K$55,FIXED(Y1,0, ))","v":1},{"$f":"COUNTIF('Pairing List calcul'!$K$2:$K$55,FIXED(Z1,0, ))","v":2},{"$f":"COUNTIF('Pairing List calcul'!$K$2:$K$55,FIXED(AA1,0, ))","v":2},{"$f":"COUNTIF('Pairing List calcul'!$K$2:$K$55,FIXED(AB1,0, ))","v":1},{"$f":"COUNTIF('Pairing List calcul'!$K$2:$K$55,FIXED(AC1,0, ))","v":3},{"$f":"COUNTIF('Pairing List calcul'!$K$2:$K$55,FIXED(AD1,0, ))","v":0},{"$f":"COUNTIF('Pairing List calcul'!$K$2:$K$55,FIXED(AE1,0, ))","v":0},{"$f":"COUNTIF('Pairing List calcul'!$K$2:$K$55,FIXED(AF1,0, ))","v":0},{"$f":"COUNTIF('Pairing List calcul'!$K$2:$K$55,FIXED(AG1,0, ))","v":0},{"$f":"COUNTIF('Pairing List calcul'!$K$2:$K$55,FIXED(AH1,0, ))","v":0}]
[]
[]
[null,"Matchs",1,{"$f":"C13+1","v":2},3,4,5,6,7,8,9,10,11,12,13,14,15,16,17,18,19,20,21,22,23,24,25,26,27,28,29,30,31,32,"Total"]
[null,1,null,{"$f":"Eq.2!W1","v":5},{"$f":"Eq.3!W1","v":6},{"$f":"Eq.4!W1","v":4},{"$f":"Eq.5!W1","v":4},{"$f":"Eq.6!W1","v":5},{"$f":"Eq.7!W1","v":7},{"$f":"Eq.8!W1","v":5},{"$f":"Eq.9!W1","v":7},{"$f":"Eq.10!W1","v":6},{"$f":"Eq.11!W1","v":6},{"$f":"Eq.12!W1","v":5},{"$f":"Eq.13!W1","v":6},{"$f":"Eq.14!W1","v":5},{"$f":"Eq.15!W1","v":6},{"$f":"Eq.16!W1","v":7},{"$f":"Eq.17!W1","v":4},{"$f":"Eq.18!W1","v":7},{"$f":"Eq.19!W1","v":5},{"$f":"Eq.20!W1","v":6},{"$f":"Eq.21!W1","v":4},{"$f":"Eq.22!W1","v":5},{"$f":"Eq.23!W1","v":6},{"$f":"Eq.24!W1","v":4},{"$f":"Eq.25!W1","v":6},{"$f":"Eq.26!W1","v":6},{"$f":"Eq.27!W1","v":7},null,null,null,null,null,{"$f":"SUM(C14:AH14)","v":144}]
[null,{"$f":"B14+1","v":2},{"$f":"Eq.1!W2","v":5},null,{"$f":"Eq.3!W2","v":6},{"$f":"Eq.4!W2","v":5},{"$f":"Eq.5!W2","v":5},{"$f":"Eq.6!W2","v":5},{"$f":"Eq.7!W2","v":7},{"$f":"Eq.8!W2","v":6},{"$f":"Eq.9!W2","v":6},{"$f":"Eq.10!W2","v":4},{"$f":"Eq.11!W2","v":7},{"$f":"Eq.12!W2","v":6},{"$f":"Eq.13!W2","v":5},{"$f":"Eq.14!W2","v":6},{"$f":"Eq.15!W2","v":7},{"$f":"Eq.16!W2","v":6},{"$f":"Eq.17!W2","v":7},{"$f":"Eq.18!W2","v":6},{"$f":"Eq.19!W2","v":5},{"$f":"Eq.20!W2","v":4},{"$f":"Eq.21!W2","v":7},{"$f":"Eq.22!W2","v":4},{"$f":"Eq.23!W2","v":4},{"$f":"Eq.24!W2","v":5},{"$f":"Eq.25!W2","v":6},{"$f":"Eq.26!W2","v":4},{"$f":"Eq.27!W2","v":6},null,null,null,null,null,{"$f":"SUM(C15:AH15)","v":144}]
[null,3,{"$f":"Eq.1!W3","v":6},{"$f":"Eq.2!W3","v":6},null,{"$f":"Eq.4!W3","v":6},{"$f":"Eq.5!W3","v":6},{"$f":"Eq.6!W3","v":5},{"$f":"Eq.7!W3","v":6},{"$f":"Eq.8!W3","v":6},{"$f":"Eq.9!W3","v":6},{"$f":"Eq.10!W3","v":4},{"$f":"Eq.11!W3","v":5},{"$f":"Eq.12!W3","v":5},{"$f":"Eq.13!W3","v":6},{"$f":"Eq.14!W3","v":5},{"$f":"Eq.15!W3","v":7},{"$f":"Eq.16!W3","v":7},{"$f":"Eq.17!W3","v":4},{"$f":"Eq.18!W3","v":6},{"$f":"Eq.19!W3","v":6},{"$f":"Eq.20!W3","v":5},{"$f":"Eq.21!W3","v":6},{"$f":"Eq.22!W3","v":6},{"$f":"Eq.23!W3","v":4},{"$f":"Eq.24!W3","v":5},{"$f":"Eq.25!W3","v":4},{"$f":"Eq.26!W3","v":6},{"$f":"Eq.27!W3","v":6},null,null,null,null,null,144]
[null,4,{"$f":"Eq.1!W4","v":4},{"$f":"Eq.2!W4","v":5},{"$f":"Eq.3!W4","v":6},null,{"$f":"Eq.5!W4","v":5},{"$f":"Eq.6!W4","v":6},{"$f":"Eq.7!W4","v":4},{"$f":"Eq.8!W4","v":5},{"$f":"Eq.9!W4","v":6},{"$f":"Eq.10!W4","v":6},{"$f":"Eq.11!W4","v":5},{"$f":"Eq.12!W4","v":5},{"$f":"Eq.13!W4","v":7},{"$f":"Eq.14!W4","v":6},{"$f":"Eq.15!W4","v":6},{"$f":"Eq.16!W4","v":6},{"$f":"Eq.17!W4","v":6},{"$f":"Eq.18!W4","v":5},{"$f":"Eq.19!W4","v":6},{"$f":"Eq.20!W4","v":4},{"$f":"Eq.21!W4","v":6},{"$f":"Eq.22!W4","v":6},{"$f":"Eq.23!W4","v":7},{"$f":"Eq.24!W4","v":6},{"$f":"Eq.25!W4","v":6},{"$f":"Eq.26!W4","v":5},{"$f":"Eq.27!W4","v":5},null,null,null,null,null,144]
[null,5,{"$f":"Eq.1!W5","v":4},{"$f":"Eq.2!W5","v":5},{"$f":"Eq.3!W5","v":6},{"$f":"Eq.4!W5","v":5},null,{"$f":"Eq.6!W5","v":6},{"$f":"Eq.7!W5","v":5},{"$f":"Eq.8!W5","v":5},{"$f":"Eq.9!W5","v":5},{"$f":"Eq.10!W5","v":7},{"$f":"Eq.11!W5","v":4},{"$f":"Eq.12!W5","v":4},{"$f":"Eq.13!W5","v":6},{"$f":"Eq.14!W5","v":7},{"$f":"Eq.15!W5","v":5},{"$f":"Eq.16!W5","v":4},{"$f":"Eq.17!W5","v":7},{"$f":"Eq.18!W5","v":7},{"$f":"Eq.19!W5","v":6},{"$f":"Eq.20!W5","v":5},{"$f":"Eq.21!W5","v":5},{"$f":"Eq.22!W5","v":7},{"$f":"Eq.23!W5","v":5},{"$f":"Eq.24!W5","v":7},{"$f":"Eq.25!W5","v":5},{"$f":"Eq.26!W5","v":6},{"$f":"Eq.27!W5","v":6},null,null,null,null,null,144]
[null,6,{"$f":"Eq.1!W6","v":5},{"$f":"Eq.2!W6","v":5},{"$f":"Eq.3!W6","v":5},{"$f":"Eq.4!W6","v":6},{"$f":"Eq.5!W6","v":6},null,{"$f":"Eq.7!W6","v":6},{"$f":"Eq.8!W6","v":5},{"$f":"Eq.9!W6","v":5},{"$f":"Eq.10!W6","v":7},{"$f":"Eq.11!W6","v":6},{"$f":"Eq.12!W6","v":5},{"$f":"Eq.13!W6","v":6},{"$f":"Eq.14!W6","v":7},{"$f":"Eq.15!W6","v":4},{"$f":"Eq.16!W6","v":6},{"$f":"Eq.17!W6","v":5},{"$f":"Eq.18!W6","v":5},{"$f":"Eq.19!W6","v":6},{"$f":"Eq.20!W6","v":6},{"$f":"Eq.21!W6","v":4},{"$f":"Eq.22!W6","v":5},{"$f":"Eq.23!W6","v":6},{"$f":"Eq.24!W6","v":4},{"$f":"Eq.25!W6","v":7},{"$f":"Eq.26!W6","v":6},{"$f":"Eq.27!W6","v":6},null,null,null,null,null,144]
[null,7,{"$f":"Eq.1!W7","v":7},{"$f":"Eq.2!W7","v":7},{"$f":"Eq.3!W7","v":6},{"$f":"Eq.4!W7","v":4},{"$f":"Eq.5!W7","v":5},{"$f":"Eq.6!W7","v":6},null,{"$f":"Eq.8!W7","v":5},{"$f":"Eq.9!W7","v":5},{"$f":"Eq.10!W7","v":6},{"$f":"Eq.11!W7","v":7},{"$f":"Eq.12!W7","v":6},{"$f":"Eq.13!W7","v":5},{"$f":"Eq.14!W7","v":5},{"$f":"Eq.15!W7","v":7},{"$f":"Eq.16!W7","v":6},{"$f":"Eq.17!W7","v":6},{"$f":"Eq.18!W7","v":6},{"$f":"Eq.19!W7","v":5},{"$f":"Eq.20!W7","v":4},{"$f":"Eq.21!W7","v":5},{"$f":"Eq.22!W7","v":4},{"$f":"Eq.23!W7","v":4},{"$f":"Eq.24!W7","v":5},{"$f":"Eq.25!W7","v":6},{"$f":"Eq.26!W7","v":6},{"$f":"Eq.27!W7","v":6},null,null,null,null,null,144]
[null,8,{"$f":"Eq.1!W8","v":5},{"$f":"Eq.2!W8","v":6},{"$f":"Eq.3!W8","v":6},{"$f":"Eq.4!W8","v":5},{"$f":"Eq.5!W8","v":5},{"$f":"Eq.6!W8","v":5},{"$f":"Eq.7!W8","v":5},null,{"$f":"Eq.9!W8","v":6},{"$f":"Eq.10!W8","v":5},{"$f":"Eq.11!W8","v":6},{"$f":"Eq.12!W8","v":6},{"$f":"Eq.13!W8","v":6},{"$f":"Eq.14!W8","v":4},{"$f":"Eq.15!W8","v":5},{"$f":"Eq.16!W8","v":6},{"$f":"Eq.17!W8","v":6},{"$f":"Eq.18!W8","v":5},{"$f":"Eq.19!W8","v":6},{"$f":"Eq.20!W8","v":5},{"$f":"Eq.21!W8","v":6},{"$f":"Eq.22!W8","v":6},{"$f":"Eq.23!W8","v":4},{"$f":"Eq.24!W8","v":7},{"$f":"Eq.25!W8","v":6},{"$f":"Eq.26!W8","v":7},{"$f":"Eq.27!W8","v":5},null,null,null,null,null,144]
[null,9,{"$f":"Eq.1!W9","v":7},{"$f":"Eq.2!W9","v":6},{"$f":"Eq.3!W9","v":6},{"$f":"Eq.4!W9","v":6},{"$f":"Eq.5!W9","v":5},{"$f":"Eq.6!W9","v":5},{"$f":"Eq.7!W9","v":5},{"$f":"Eq.8!W9","v":6},null,{"$f":"Eq.10!W9","v":5},{"$f":"Eq.11!W9","v":6},{"$f":"Eq.12!W9","v":7},{"$f":"Eq.13!W9","v":5},{"$f":"Eq.14!W9","v":5},{"$f":"Eq.15!W9","v":5},{"$f":"Eq.16!W9","v":6},{"$f":"Eq.17!W9","v":5},{"$f":"Eq.18!W9","v":5},{"$f":"Eq.19!W9","v":6},{"$f":"Eq.20!W9","v":6},{"$f":"Eq.21!W9","v":5},{"$f":"Eq.22!W9","v":6},{"$f":"Eq.23!W9","v":7},{"$f":"Eq.24!W9","v":5},{"$f":"Eq.25!W9","v":5},{"$f":"Eq.26!W9","v":4},{"$f":"Eq.27!W9","v":5},null,null,null,null,null,144]
[null,10,{"$f":"Eq.1!W10","v":6},{"$f":"Eq.2!W10","v":4},{"$f":"Eq.3!W10","v":4},{"$f":"Eq.4!W10","v":6},{"$f":"Eq.5!W10","v":7},{"$f":"Eq.6!W10","v":7},{"$f":"Eq.7!W10","v":6},{"$f":"Eq.8!W10","v":5},{"$f":"Eq.9!W10","v":5},null,{"$f":"Eq.11!W10","v":6},{"$f":"Eq.12!W10","v":6},{"$f":"Eq.13!W10","v":5},{"$f":"Eq.14!W10","v":5},{"$f":"Eq.15!W10","v":5},{"$f":"Eq.16!W10","v":6},{"$f":"Eq.17!W10","v":5},{"$f":"Eq.18!W10","v":5},{"$f":"Eq.19!W10","v":5},{"$f":"Eq.20!W10","v":7},{"$f":"Eq.21!W10","v":5},{"$f":"Eq.22!W10","v":5},{"$f":"Eq.23!W10","v":6},{"$f":"Eq.24!W10","v":6},{"$f":"Eq.25!W10","v":6},{"$f":"Eq.26!W10","v":7},{"$f":"Eq.27!W10","v":4},null,null,null,null,null,144]
[null,11,{"$f":"Eq.1!W11","v":6},{"$f":"Eq.2!W11","v":7},{"$f":"Eq.3!W11","v":5},{"$f":"Eq.4!W11","v":5},{"$f":"Eq.5!W11","v":4},{"$f":"Eq.6!W11","v":6},{"$f":"Eq.7!W11","v":7},{"$f":"Eq.8!W11","v":6},{"$f":"Eq.9!W11","v":6},{"$f":"Eq.10!W11","v":6},null,{"$f":"Eq.12!W11","v":6},{"$f":"Eq.13!W11","v":5},{"$f":"Eq.14!W11","v":6},{"$f":"Eq.15!W11","v":6},{"$f":"Eq.16!W11","v":6},{"$f":"Eq.17!W11","v":4},{"$f":"Eq.18!W11","v":6},{"$f":"Eq.19!W11","v":7},{"$f":"Eq.20!W11","v":5},{"$f":"Eq.21!W11","v":5},{"$f":"Eq.22!W11","v":6},{"$f":"Eq.23!W11","v":4},{"$f":"Eq.24!W11","v":6},{"$f":"Eq.25!W11","v":4},{"$f":"Eq.26!W11","v":4},{"$f":"Eq.27!W11","v":6},null,null,null,null,null,144]
[null,12,{"$f":"Eq.1!W12","v":5},{"$f":"Eq.2!W12","v":6},{"$f":"Eq.3!W12","v":5},{"$f":"Eq.4!W12","v":5},{"$f":"Eq.5!W12","v":4},{"$f":"Eq.6!W12","v":5},{"$f":"Eq.7!W12","v":6},{"$f":"Eq.8!W12","v":6},{"$f":"Eq.9!W12","v":7},{"$f":"Eq.10!W12","v":6},{"$f":"Eq.11!W12","v":6},null,{"$f":"Eq.13!W12","v":5},{"$f":"Eq.14!W12","v":4},{"$f":"Eq.15!W12","v":6},{"$f":"Eq.16!W12","v":7},{"$f":"Eq.17!W12","v":5},{"$f":"Eq.18!W12","v":6},{"$f":"Eq.19!W12","v":5},{"$f":"Eq.20!W12","v":6},{"$f":"Eq.21!W12","v":6},{"$f":"Eq.22!W12","v":4},{"$f":"Eq.23!W12","v":6},{"$f":"Eq.24!W12","v":6},{"$f":"Eq.25!W12","v":7},{"$f":"Eq.26!W12","v":4},{"$f":"Eq.27!W12","v":6},null,null,null,null,null,144]
[null,13,{"$f":"Eq.1!W13","v":6},{"$f":"Eq.2!W13","v":5},{"$f":"Eq.3!W13","v":6},{"$f":"Eq.4!W13","v":7},{"$f":"Eq.5!W13","v":6},{"$f":"Eq.6!W13","v":6},{"$f":"Eq.7!W13","v":5},{"$f":"Eq.8!W13","v":6},{"$f":"Eq.9!W13","v":5},{"$f":"Eq.10!W13","v":5},{"$f":"Eq.11!W13","v":5},{"$f":"Eq.12!W13","v":5},null,{"$f":"Eq.14!W13","v":6},{"$f":"Eq.15!W13","v":6},{"$f":"Eq.16!W13","v":6},{"$f":"Eq.17!W13","v":5},{"$f":"Eq.18!W13","v":5},{"$f":"Eq.19!W13","v":6},{"$f":"Eq.20!W13","v":5},{"$f":"Eq.21!W13","v":4},{"$f":"Eq.22!W13","v":7},{"$f":"Eq.23!W13","v":6},{"$f":"Eq.24!W13","v":4},{"$f":"Eq.25!W13","v":5},{"$f":"Eq.26!W13","v":7},{"$f":"Eq.27!W13","v":5},null,null,null,null,null,144]
[null,14,{"$f":"Eq.1!W14","v":5},{"$f":"Eq.2!W14","v":6},{"$f":"Eq.3!W14","v":5},{"$f":"Eq.4!W14","v":6},{"$f":"Eq.5!W14","v":7},{"$f":"Eq.6!W14","v":7},{"$f":"Eq.7!W14","v":5},{"$f":"Eq.8!W14","v":4},{"$f":"Eq.9!W14","v":5},{"$f":"Eq.10!W14","v":5},{"$f":"Eq.11!W14","v":6},{"$f":"Eq.12!W14","v":4},{"$f":"Eq.13!W14","v":6},null,{"$f":"Eq.15!W14","v":6},{"$f":"Eq.16!W14","v":4},{"$f":"Eq.17!W14","v":6},{"$f":"Eq.18!W14","v":6},{"$f":"Eq.19!W14","v":5},{"$f":"Eq.20!W14","v":6},{"$f":"Eq.21!W14","v":7},{"$f":"Eq.22!W14","v":6},{"$f":"Eq.23!W14","v":6},{"$f":"Eq.24!W14","v":5},{"$f":"Eq.25!W14","v":5},{"$f":"Eq.26!W14","v":6},{"$f":"Eq.27!W14","v":5},null,null,null,null,null,144]
[null,15,{"$f":"Eq.1!W15","v":6},{"$f":"Eq.2!W15","v":7},{"$f":"Eq.3!W15","v":7},{"$f":"Eq.4!W15","v":6},{"$f":"Eq.5!W15","v":5},{"$f":"Eq.6!W15","v":4},{"$f":"Eq.7!W15","v":7},{"$f":"Eq.8!W15","v":5},{"$f":"Eq.9!W15","v":5},{"$f":"Eq.10!W15","v":5},{"$f":"Eq.11!W15","v":6},{"$f":"Eq.12!W15","v":6},{"$f":"Eq.13!W15","v":6},{"$f":"Eq.14!W15","v":6},null,{"$f":"Eq.16!W15","v":4},{"$f":"Eq.17!W15","v":6},{"$f":"Eq.18!W15","v":6},{"$f":"Eq.19!W15","v":4},{"$f":"Eq.20!W15","v":7},{"$f":"Eq.21!W15","v":4},{"$f":"Eq.22!W15","v":4},{"$f":"Eq.23!W15","v":6},{"$f":"Eq.24!W15","v":6},{"$f":"Eq.25!W15","v":5},{"$f":"Eq.26!W15","v":5},{"$f":"Eq.27!W15","v":6},null,null,null,null,null,144]
[null,16,{"$f":"Eq.1!W16","v":7},{"$f":"Eq.2!W16","v":6},{"$f":"Eq.3!W16","v":7},{"$f":"Eq.4!W16","v":6},{"$f":"Eq.5!W16","v":4},{"$f":"Eq.6!W16","v":6},{"$f":"Eq.7!W16","v":6},{"$f":"Eq.8!W16","v":6},{"$f":"Eq.9!W16","v":6},{"$f":"Eq.10!W16","v":6},{"$f":"Eq.11!W16","v":6},{"$f":"Eq.12!W16","v":7},{"$f":"Eq.13!W16","v":6},{"$f":"Eq.14!W16","v":4},{"$f":"Eq.15!W16","v":4},null,{"$f":"Eq.17!W16","v":6},{"$f":"Eq.18!W16","v":4},{"$f":"Eq.19!W16","v":6},{"$f":"Eq.20!W16","v":6},{"$f":"Eq.21!W16","v":6},{"$f":"Eq.22!W16","v":4},{"$f":"Eq.23!W16","v":4},{"$f":"Eq.24!W16","v":5},{"$f":"Eq.25!W16","v":6},{"$f":"Eq.26!W16","v":4},{"$f":"Eq.27!W16","v":6},null,null,null,null,null,144]
[null,17,{"$f":"Eq.1!W17","v":4},{"$f":"Eq.2!W17","v":7},{"$f":"Eq.3!W17","v":4},{"$f":"Eq.4!W17","v":6},{"$f":"Eq.5!W17","v":7},{"$f":"Eq.6!W17","v":5},{"$f":"Eq.7!W17","v":6},{"$f":"Eq.8!W17","v":6},{"$f":"Eq.9!W17","v":5},{"$f":"Eq.10!W17","v":5},{"$f":"Eq.11!W17","v":4},{"$f":"Eq.12!W17","v":5},{"$f":"Eq.13!W17","v":5},{"$f":"Eq.14!W17","v":6},{"$f":"Eq.15!W17","v":6},{"$f":"Eq.16!W17","v":6},null,{"$f":"Eq.18!W17","v":5},{"$f":"Eq.19!W17","v":6},{"$f":"Eq.20!W17","v":4},{"$f":"Eq.21!W17","v":7},{"$f":"Eq.22!W17","v":6},{"$f":"Eq.23!W17","v":6},{"$f":"Eq.24!W17","v":7},{"$f":"Eq.25!W17","v":5},{"$f":"Eq.26!W17","v":5},{"$f":"Eq.27!W17","v":6},null,null,null,null,null,144]
[null,18,{"$f":"Eq.1!W18","v":7},{"$f":"Eq.2!W18","v":6},{"$f":"Eq.3!W18","v":6},{"$f":"Eq.4!W18","v":5},{"$f":"Eq.5!W18","v":7},{"$f":"Eq.6!W18","v":5},{"$f":"Eq.7!W18","v":6},{"$f":"Eq.8!W18","v":5},{"$f":"Eq.9!W18","v":5},{"$f":"Eq.10!W18","v":5},{"$f":"Eq.11!W18","v":6},{"$f":"Eq.12!W18","v":6},{"$f":"Eq.13!W18","v":5},{"$f":"Eq.14!W18","v":6},{"$f":"Eq.15!W18","v":6},{"$f":"Eq.16!W18","v":4},{"$f":"Eq.17!W18","v":5},null,{"$f":"Eq.19!W18","v":5},{"$f":"Eq.20!W18","v":5},{"$f":"Eq.21!W18","v":7},{"$f":"Eq.22!W18","v":7},{"$f":"Eq.23!W18","v":4},{"$f":"Eq.24!W18","v":6},{"$f":"Eq.25!W18","v":4},{"$f":"Eq.26!W18","v":4},{"$f":"Eq.27!W18","v":7},null,null,null,null,null,144]
[null,19,{"$f":"Eq.1!W19","v":5},{"$f":"Eq.2!W19","v":5},{"$f":"Eq.3!W19","v":6},{"$f":"Eq.4!W19","v":6},{"$f":"Eq.5!W19","v":6},{"$f":"Eq.6!W19","v":6},{"$f":"Eq.7!W19","v":5},{"$f":"Eq.8!W19","v":6},{"$f":"Eq.9!W19","v":6},{"$f":"Eq.10!W19","v":5},{"$f":"Eq.11!W19","v":7},{"$f":"Eq.12!W19","v":5},{"$f":"Eq.13!W19","v":6},{"$f":"Eq.14!W19","v":5},{"$f":"Eq.15!W19","v":4},{"$f":"Eq.16!W19","v":6},{"$f":"Eq.17!W19","v":6},{"$f":"Eq.18!W19","v":5},null,{"$f":"Eq.20!W19","v":5},{"$f":"Eq.21!W19","v":5},{"$f":"Eq.22!W19","v":6},{"$f":"Eq.23!W19","v":6},{"$f":"Eq.24!W19","v":6},{"$f":"Eq.25!W19","v":5},{"$f":"Eq.26!W19","v":6},{"$f":"Eq.27!W19","v":5},null,null,null,null,null,144]
[null,20,{"$f":"Eq.1!W20","v":6},{"$f":"Eq.2!W20","v":4},{"$f":"Eq.3!W20","v":5},{"$f":"Eq.4!W20","v":4},{"$f":"Eq.5!W20","v":5},{"$f":"Eq.6!W20","v":6},{"$f":"Eq.7!W20","v":4},{"$f":"Eq.8!W20","v":5},{"$f":"Eq.9!W20","v":6},{"$f":"Eq.10!W20","v":7},{"$f":"Eq.11!W20","v":5},{"$f":"Eq.12!W20","v":6},{"$f":"Eq.13!W20","v":5},{"$f":"Eq.14!W20","v":6},{"$f":"Eq.15!W20","v":7},{"$f":"Eq.16!W20","v":6},{"$f":"Eq.17!W20","v":4},{"$f":"Eq.18!W20","v":5},{"$f":"Eq.19!W20","v":5},null,{"$f":"Eq.21!W20","v":5},{"$f":"Eq.22!W20","v":6},{"$f":"Eq.23!W20","v":7},{"$f":"Eq.24!W20","v":6},{"$f":"Eq.25!W20","v":6},{"$f":"Eq.26!W20","v":7},{"$f":"Eq.27!W20","v":6},null,null,null,null,null,144]
[null,21,{"$f":"Eq.1!W21","v":4},{"$f":"Eq.2!W21","v":7},{"$f":"Eq.3!W21","v":6},{"$f":"Eq.4!W21","v":6},{"$f":"Eq.5!W21","v":5},{"$f":"Eq.6!W21","v":4},{"$f":"Eq.7!W21","v":5},{"$f":"Eq.8!W21","v":6},{"$f":"Eq.9!W21","v":5},{"$f":"Eq.10!W21","v":5},{"$f":"Eq.11!W21","v":5},{"$f":"Eq.12!W21","v":6},{"$f":"Eq.13!W21","v":4},{"$f":"Eq.14!W21","v":7},{"$f":"Eq.15!W21","v":4},{"$f":"Eq.16!W21","v":6},{"$f":"Eq.17!W21","v":7},{"$f":"Eq.18!W21","v":7},{"$f":"Eq.19!W21","v":5},{"$f":"Eq.20!W21","v":5},null,{"$f":"Eq.22!W21","v":6},{"$f":"Eq.23!W21","v":5},{"$f":"Eq.24!W21","v":6},{"$f":"Eq.25!W21","v":6},{"$f":"Eq.26!W21","v":7},{"$f":"Eq.27!W21","v":5},null,null,null,null,null,144]
[null,22,{"$f":"Eq.1!W22","v":5},{"$f":"Eq.2!W22","v":4},{"$f":"Eq.3!W22","v":6},{"$f":"Eq.4!W22","v":6},{"$f":"Eq.5!W22","v":7},{"$f":"Eq.6!W22","v":5},{"$f":"Eq.7!W22","v":4},{"$f":"Eq.8!W22","v":6},{"$f":"Eq.9!W22","v":6},{"$f":"Eq.10!W22","v":5},{"$f":"Eq.11!W22","v":6},{"$f":"Eq.12!W22","v":4},{"$f":"Eq.13!W22","v":7},{"$f":"Eq.14!W22","v":6},{"$f":"Eq.15!W22","v":4},{"$f":"Eq.16!W22","v":4},{"$f":"Eq.17!W22","v":6},{"$f":"Eq.18!W22","v":7},{"$f":"Eq.19!W22","v":6},{"$f":"Eq.20!W22","v":6},{"$f":"Eq.21!W22","v":6},null,{"$f":"Eq.23!W22","v":7},{"$f":"Eq.24!W22","v":4},{"$f":"Eq.25!W22","v":5},{"$f":"Eq.26!W22","v":7},{"$f":"Eq.27!W22","v":5},null,null,null,null,null,144]
[null,23,{"$f":"Eq.1!W23","v":6},{"$f":"Eq.2!W23","v":4},{"$f":"Eq.3!W23","v":4},{"$f":"Eq.4!W23","v":7},{"$f":"Eq.5!W23","v":5},{"$f":"Eq.6!W23","v":6},{"$f":"Eq.7!W23","v":4},{"$f":"Eq.8!W23","v":4},{"$f":"Eq.9!W23","v":7},{"$f":"Eq.10!W23","v":6},{"$f":"Eq.11!W23","v":4},{"$f":"Eq.12!W23","v":6},{"$f":"Eq.13!W23","v":6},{"$f":"Eq.14!W23","v":6},{"$f":"Eq.15!W23","v":6},{"$f":"Eq.16!W23","v":4},{"$f":"Eq.17!W23","v":6},{"$f":"Eq.18!W23","v":4},{"$f":"Eq.19!W23","v":6},{"$f":"Eq.20!W23","v":7},{"$f":"Eq.21!W23","v":5},{"$f":"Eq.22!W23","v":7},null,{"$f":"Eq.24!W23","v":6},{"$f":"Eq.25!W23","v":7},{"$f":"Eq.26!W23","v":6},{"$f":"Eq.27!W23","v":5},null,null,null,null,null,144]
[null,24,{"$f":"Eq.1!W24","v":4},{"$f":"Eq.2!W24","v":5},{"$f":"Eq.3!W24","v":5},{"$f":"Eq.4!W24","v":6},{"$f":"Eq.5!W24","v":7},{"$f":"Eq.6!W24","v":4},{"$f":"Eq.7!W24","v":5},{"$f":"Eq.8!W24","v":7},{"$f":"Eq.9!W24","v":5},{"$f":"Eq.10!W24","v":6},{"$f":"Eq.11!W24","v":6},{"$f":"Eq.12!W24","v":6},{"$f":"Eq.13!W24","v":4},{"$f":"Eq.14!W24","v":5},{"$f":"Eq.15!W24","v":6},{"$f":"Eq.16!W24","v":5},{"$f":"Eq.17!W24","v":7},{"$f":"Eq.18!W24","v":6},{"$f":"Eq.19!W24","v":6},{"$f":"Eq.20!W24","v":6},{"$f":"Eq.21!W24","v":6},{"$f":"Eq.22!W24","v":4},{"$f":"Eq.23!W24","v":6},null,{"$f":"Eq.25!W24","v":6},{"$f":"Eq.26!W24","v":5},{"$f":"Eq.27!W24","v":6},null,null,null,null,null,144]
[null,25,{"$f":"Eq.1!W25","v":6},{"$f":"Eq.2!W25","v":6},{"$f":"Eq.3!W25","v":4},{"$f":"Eq.4!W25","v":6},{"$f":"Eq.5!W25","v":5},{"$f":"Eq.6!W25","v":7},{"$f":"Eq.7!W25","v":6},{"$f":"Eq.8!W25","v":6},{"$f":"Eq.9!W25","v":5},{"$f":"Eq.10!W25","v":6},{"$f":"Eq.11!W25","v":4},{"$f":"Eq.12!W25","v":7},{"$f":"Eq.13!W25","v":5},{"$f":"Eq.14!W25","v":5},{"$f":"Eq.15!W25","v":5},{"$f":"Eq.16!W25","v":6},{"$f":"Eq.17!W25","v":5},{"$f":"Eq.18!W25","v":4},{"$f":"Eq.19!W25","v":5},{"$f":"Eq.20!W25","v":6},{"$f":"Eq.21!W25","v":6},{"$f":"Eq.22!W25","v":5},{"$f":"Eq.23!W25","v":7},{"$f":"Eq.24!W25","v":6},null,{"$f":"Eq.26!W25","v":6},{"$f":"Eq.27!W25","v":5},null,null,null,null,null,144]
[null,26,{"$f":"Eq.1!W26","v":6},{"$f":"Eq.2!W26","v":4},{"$f":"Eq.3!W26","v":6},{"$f":"Eq.4!W26","v":5},{"$f":"Eq.5!W26","v":6},{"$f":"Eq.6!W26","v":6},{"$f":"Eq.7!W26","v":6},{"$f":"Eq.8!W26","v":7},{"$f":"Eq.9!W26","v":4},{"$f":"Eq.10!W26","v":7},{"$f":"Eq.11!W26","v":4},{"$f":"Eq.12!W26","v":4},{"$f":"Eq.13!W26","v":7},{"$f":"Eq.14!W26","v":6},{"$f":"Eq.15!W26","v":5},{"$f":"Eq.16!W26","v":4},{"$f":"Eq.17!W26","v":5},{"$f":"Eq.18!W26","v":4},{"$f":"Eq.19!W26","v":6},{"$f":"Eq.20!W26","v":7},{"$f":"Eq.21!W26","v":7},{"$f":"Eq.22!W26","v":7},{"$f":"Eq.23!W26","v":6},{"$f":"Eq.24!W26","v":5},{"$f":"Eq.25!W26","v":6},null,{"$f":"Eq.27!W26","v":4},null,null,null,null,null,144]
[null,27,{"$f":"Eq.1!W27","v":7},{"$f":"Eq.2!W27","v":6},{"$f":"Eq.3!W27","v":6},{"$f":"Eq.4!W27","v":5},{"$f":"Eq.5!W27","v":6},{"$f":"Eq.6!W27","v":6},{"$f":"Eq.7!W27","v":6},{"$f":"Eq.8!W27","v":5},{"$f":"Eq.9!W27","v":5},{"$f":"Eq.10!W27","v":4},{"$f":"Eq.11!W27","v":6},{"$f":"Eq.12!W27","v":6},{"$f":"Eq.13!W27","v":5},{"$f":"Eq.14!W27","v":5},{"$f":"Eq.15!W27","v":6},{"$f":"Eq.16!W27","v":6},{"$f":"Eq.17!W27","v":6},{"$f":"Eq.18!W27","v":7},{"$f":"Eq.19!W27","v":5},{"$f":"Eq.20!W27","v":6},{"$f":"Eq.21!W27","v":5},{"$f":"Eq.22!W27","v":5},{"$f":"Eq.23!W27","v":5},{"$f":"Eq.24!W27","v":6},{"$f":"Eq.25!W27","v":5},{"$f":"Eq.26!W27","v":4},null,null,null,null,null,null,144]
[null,28,{"$f":"Eq.1!W28","v":0},{"$f":"Eq.2!W28","v":0},{"$f":"Eq.3!W28","v":0},{"$f":"Eq.4!W28","v":0},{"$f":"Eq.5!W28","v":0},{"$f":"Eq.6!W28","v":0},{"$f":"Eq.7!W28","v":0},{"$f":"Eq.8!W28","v":0},{"$f":"Eq.9!W28","v":0},{"$f":"Eq.10!W28","v":0},{"$f":"Eq.11!W28","v":0},{"$f":"Eq.12!W28","v":0},{"$f":"Eq.13!W28","v":0},{"$f":"Eq.14!W28","v":0},{"$f":"Eq.15!W28","v":0},{"$f":"Eq.16!W28","v":0},{"$f":"Eq.17!W28","v":0},{"$f":"Eq.18!W28","v":0},{"$f":"Eq.19!W28","v":0},{"$f":"Eq.20!W28","v":0},{"$f":"Eq.21!W28","v":0},{"$f":"Eq.22!W28","v":0},{"$f":"Eq.23!W28","v":0},{"$f":"Eq.24!W28","v":0},{"$f":"Eq.25!W28","v":0},{"$f":"Eq.26!W28","v":0},{"$f":"Eq.27!W28","v":0},null,null,null,null,null,0]
[null,29,{"$f":"Eq.1!W29","v":0},{"$f":"Eq.2!W29","v":0},{"$f":"Eq.3!W29","v":0},{"$f":"Eq.4!W29","v":0},{"$f":"Eq.5!W29","v":0},{"$f":"Eq.6!W29","v":0},{"$f":"Eq.7!W29","v":0},{"$f":"Eq.8!W29","v":0},{"$f":"Eq.9!W29","v":0},{"$f":"Eq.10!W29","v":0},{"$f":"Eq.11!W29","v":0},{"$f":"Eq.12!W29","v":0},{"$f":"Eq.13!W29","v":0},{"$f":"Eq.14!W29","v":0},{"$f":"Eq.15!W29","v":0},{"$f":"Eq.16!W29","v":0},{"$f":"Eq.17!W29","v":0},{"$f":"Eq.18!W29","v":0},{"$f":"Eq.19!W29","v":0},{"$f":"Eq.20!W29","v":0},{"$f":"Eq.21!W29","v":0},{"$f":"Eq.22!W29","v":0},{"$f":"Eq.23!W29","v":0},{"$f":"Eq.24!W29","v":0},{"$f":"Eq.25!W29","v":0},{"$f":"Eq.26!W29","v":0},{"$f":"Eq.27!W29","v":0},null,null,null,null,null,0]
[null,30,{"$f":"Eq.1!W30","v":0},{"$f":"Eq.2!W30","v":0},{"$f":"Eq.3!W30","v":0},{"$f":"Eq.4!W30","v":0},{"$f":"Eq.5!W30","v":0},{"$f":"Eq.6!W30","v":0},{"$f":"Eq.7!W30","v":0},{"$f":"Eq.8!W30","v":0},{"$f":"Eq.9!W30","v":0},{"$f":"Eq.10!W30","v":0},{"$f":"Eq.11!W30","v":0},{"$f":"Eq.12!W30","v":0},{"$f":"Eq.13!W30","v":0},{"$f":"Eq.14!W30","v":0},{"$f":"Eq.15!W30","v":0},{"$f":"Eq.16!W30","v":0},{"$f":"Eq.17!W30","v":0},{"$f":"Eq.18!W30","v":0},{"$f":"Eq.19!W30","v":0},{"$f":"Eq.20!W30","v":0},{"$f":"Eq.21!W30","v":0},{"$f":"Eq.22!W30","v":0},{"$f":"Eq.23!W30","v":0},{"$f":"Eq.24!W30","v":0},{"$f":"Eq.25!W30","v":0},{"$f":"Eq.26!W30","v":0},{"$f":"Eq.27!W30","v":0},null,null,null,null,null,0]
[null,31,{"$f":"Eq.1!W31","v":0},{"$f":"Eq.2!W31","v":0},{"$f":"Eq.3!W31","v":0},{"$f":"Eq.4!W31","v":0},{"$f":"Eq.5!W31","v":0},{"$f":"Eq.6!W31","v":0},{"$f":"Eq.7!W31","v":0},{"$f":"Eq.8!W31","v":0},{"$f":"Eq.9!W31","v":0},{"$f":"Eq.10!W31","v":0},{"$f":"Eq.11!W31","v":0},{"$f":"Eq.12!W31","v":0},{"$f":"Eq.13!W31","v":0},{"$f":"Eq.14!W31","v":0},{"$f":"Eq.15!W31","v":0},{"$f":"Eq.16!W31","v":0},{"$f":"Eq.17!W31","v":0},{"$f":"Eq.18!W31","v":0},{"$f":"Eq.19!W31","v":0},{"$f":"Eq.20!W31","v":0},{"$f":"Eq.21!W31","v":0},{"$f":"Eq.22!W31","v":0},{"$f":"Eq.23!W31","v":0},{"$f":"Eq.24!W31","v":0},{"$f":"Eq.25!W31","v":0},{"$f":"Eq.26!W31","v":0},{"$f":"Eq.27!W31","v":0},null,null,null,null,null,0]
[null,32,{"$f":"Eq.1!W32","v":0},{"$f":"Eq.2!W32","v":0},{"$f":"Eq.3!W32","v":0},{"$f":"Eq.4!W32","v":0},{"$f":"Eq.5!W32","v":0},{"$f":"Eq.6!W32","v":0},{"$f":"Eq.7!W32","v":0},{"$f":"Eq.8!W32","v":0},{"$f":"Eq.9!W32","v":0},{"$f":"Eq.10!W32","v":0},{"$f":"Eq.11!W32","v":0},{"$f":"Eq.12!W32","v":0},{"$f":"Eq.13!W32","v":0},{"$f":"Eq.14!W32","v":0},{"$f":"Eq.15!W32","v":0},{"$f":"Eq.16!W32","v":0},{"$f":"Eq.17!W32","v":0},{"$f":"Eq.18!W32","v":0},{"$f":"Eq.19!W32","v":0},{"$f":"Eq.20!W32","v":0},{"$f":"Eq.21!W32","v":0},{"$f":"Eq.22!W32","v":0},{"$f":"Eq.23!W32","v":0},{"$f":"Eq.24!W32","v":0},{"$f":"Eq.25!W32","v":0},{"$f":"Eq.26!W32","v":0},{"$f":"Eq.27!W32","v":0},null,null,null,null,null,0]

{"sheet":"Eq.1","index":5,"n_rows":32,"n_cols":23,"rows_kept":32,"cut":false,"hidden":false,"merged":[[15,0,15,1],[0,0,1,5],[0,6,1,10],[3,0,3,1],[4,0,4,1],[5,0,5,1],[14,0,14,1],[7,0,7,1],[8,0,8,1],[9,0,9,1],[10,0,10,1],[11,0,11,1],[12,0,12,1],[13,0,13,1]]}
["Equipage ",null,null,null,null,null,{"$f":"Général!B3","v":"Univ. Nantes 1"},null,null,null,null,null,null,null,null,null,null,null,null,null,null,{"$f":"Général!B3","v":"Univ. Nantes 1"},{"$f":"COUNTIF(C$8:T$16,V1)","v":18}]
[null,null,null,null,null,null,null,null,null,null,null,null,null,null,null,null,null,null,null,null,null,{"$f":"Général!B4","v":"AS Paris 1 Panthéon Sorbonne"},{"$f":"COUNTIF($C$8:$T$16,V2)","v":5}]
[null,null,null,null,null,null,null,null,null,null,null,null,null,null,null,null,null,null,null,null,null,{"$f":"Général!B5","v":"Hannovre"},{"$f":"COUNTIF($C$8:$T$16,V3)","v":6}]
[null,null,"FLIGHT 1","FLIGHT 2","FLIGHT 3","FLIGHT 4","FLIGHT 5","FLIGHT 6","FLIGHT 7","FLIGHT 8","FLIGHT 9","FLIGHT 10","FLIGHT 11","FLIGHT 12","FLIGHT 13","FLIGHT 14","FLIGHT 15","FLIGHT 16","FLIGHT 17","FLIGHT 18",null,{"$f":"Général!B6","v":"IMT Atlantique Nantes 1"},4]
["N° de course",null,{"$f":"IF(COUNTIF(Général!B33:J33,$G$1)=1,\"Course 1\",IF(COUNTIF(Général!B35:J35,$G$1)=1,\"Course 2\",IF(COUNTIF(Général!B37:J37,$G$1)=1,\"Course 3\",\"Course 4\")))","v":"Course 2"},{"$f":"IF(COUNTIF(Général!B41:J41,$G$1)=1,\"Course 1\",IF(COUNTIF(Général!B43:J43,$G$1)=1,\"Course 2\",IF(COUNTIF(Général!B45:J45,$G$1)=1,\"Course 3\",\"Course 4\")))","v":"Course 3"},{"$f":"IF(COUNTIF(Général!B49:J49,$G$1)=1,\"Course 1\",IF(COUNTIF(Général!B51:J51,$G$1)=1,\"Course 2\",IF(COUNTIF(Général!B53:J53,$G$1)=1,\"Course 3\",\"Course 4\")))","v":"Course 1"},{"$f":"IF(COUNTIF(Général!B57:J57,$G$1)=1,\"Course 1\",IF(COUNTIF(Général!B59:J59,$G$1)=1,\"Course 2\",IF(COUNTIF(Général!B61:J61,$G$1)=1,\"Course 3\",\"Course 4\")))","v":"Course 2"},{"$f":"IF(COUNTIF(Général!B65:J65,$G$1)=1,\"Course 1\",IF(COUNTIF(Général!B67:J67,$G$1)=1,\"Course 2\",IF(COUNTIF(Général!B69:J69,$G$1)=1,\"Course 3\",\"Course 4\")))","v":"Course 3"},{"$f":"IF(COUNTIF(Général!B73:J73,$G$1)=1,\"Course 1\",IF(COUNTIF(Général!B75:J75,$G$1)=1,\"Course 2\",IF(COUNTIF(Général!B77:J77,$G$1)=1,\"Course 3\",\"Course 4\")))","v":"Course 3"},{"$f":"IF(COUNTIF(Général!B81:J81,$G$1)=1,\"Course 1\",IF(COUNTIF(Général!B83:J83,$G$1)=1,\"Course 2\",IF(COUNTIF(Général!B85:J85,$G$1)=1,\"Course 3\",\"Course 4\")))","v":"Course 3"},{"$f":"IF(COUNTIF(Général!B89:J89,$G$1)=1,\"Course 1\",IF(COUNTIF(Général!B91:J91,$G$1)=1,\"Course 2\",IF(COUNTIF(Général!B93:J93,$G$1)=1,\"Course 3\",\"Course 4\")))","v":"Course 2"},{"$f":"IF(COUNTIF(Général!B97:J97,$G$1)=1,\"Course 1\",IF(COUNTIF(Général!B99:J99,$G$1)=1,\"Course 2\",IF(COUNTIF(Général!B101:J101,$G$1)=1,\"Course 3\",\"Course 4\")))","v":"Course 2"},{"$f":"IF(COUNTIF(Général!B105:J105,$G$1)=1,\"Course 1\",IF(COUNTIF(Général!B107:J107,$G$1)=1,\"Course 2\",IF(COUNTIF(Général!B109:J109,$G$1)=1,\"Course 3\",\"Course 4\")))","v":"Course 1"},{"$f":"IF(COUNTIF(Général!B113:J113,$G$1)=1,\"Course 1\",IF(COUNTIF(Général!B115:J115,$G$1)=1,\"Course 2\",IF(COUNTIF(Général!B117:J117,$G$1)=1,\"Course 3\",\"Course 4\")))","v":"Course 2"},{"$f":"IF(COUNTIF(Général!B121:J121,$G$1)=1,\"Course 1\",IF(COUNTIF(Général!B123:J123,$G$1)=1,\"Course 2\",IF(COUNTIF(Général!B125:J125,$G$1)=1,\"Course 3\",\"Course 4\")))","v":"Course 1"},{"$f":"IF(COUNTIF(Général!B129:J129,$G$1)=1,\"Course 1\",IF(COUNTIF(Général!B131:J131,$G$1)=1,\"Course 2\",IF(COUNTIF(Général!B133:J133,$G$1)=1,\"Course 3\",\"Course 4\")))","v":"Course 2"},{"$f":"IF(COUNTIF(Général!B137:J137,$G$1)=1,\"Course 1\",IF(COUNTIF(Général!B139:J139,$G$1)=1,\"Course 2\",IF(COUNTIF(Général!B141:J141,$G$1)=1,\"Course 3\",\"Course 4\")))","v":"Course 3"},{"$f":"IF(COUNTIF(Général!B145:J145,$G$1)=1,\"Course 1\",IF(COUNTIF(Général!B147:J147,$G$1)=1,\"Course 2\",IF(COUNTIF(Général!B149:J149,$G$1)=1,\"Course 3\",\"Course 4\")))","v":"Course 1"},{"$f":"IF(COUNTIF(Général!B153:J153,$G$1)=1,\"Course 1\",IF(COUNTIF(Général!B155:J155,$G$1)=1,\"Course 2\",IF(COUNTIF(Général!B157:J157,$G$1)=1,\"Course 3\",\"Course 4\")))","v":"Course 2"},{"$f":"IF(COUNTIF(Général!B161:J161,$G$1)=1,\"Course 1\",IF(COUNTIF(Général!B163:J163,$G$1)=1,\"Course 2\",IF(COUNTIF(Général!B165:J165,$G$1)=1,\"Course 3\",\"Course 4\")))","v":"Course 3"},{"$f":"IF(COUNTIF(Général!B169:J169,$G$1)=1,\"Course 1\",IF(COUNTIF(Général!B171:J171,$G$1)=1,\"Course 2\",IF(COUNTIF(Général!B173:J173,$G$1)=1,\"Course 3\",\"Course 4\")))","v":"Course 1"},null,{"$f":"Général!B7","v":"ENSTA Bretagne 2"},4]
["Bateau",null,{"$f":"IF(COUNTIF(Général!B33:B38,$G$1)=1,\"Boat 1\",IF(COUNTIF(Général!C33:C38,$G$1)=1,\"Boat 2\",IF(COUNTIF(Général!D33:D38,$G$1)=1,\"Boat 3\", IF(COUNTIF(Général!E33:E38,$G$1)=1,\"Boat 4\", IF(COUNTIF(Général!F33:F38,$G$1)=1,\"Boat 5\", IF(COUNTIF(Général!G33:G38,$G$1)=1,\"Boat 6\", IF(COUNTIF(Général!H33:H38,$G$1)=1,\"Boat 7\",IF(COUNTIF(Général!I33:I38,$G$1)=1,\"Boat 8\",\"Boat 9\"))))))))","v":"Boat 1"},{"$f":"IF(COUNTIF(Général!B41:B46,$G$1)=1,\"Boat 1\",IF(COUNTIF(Général!C41:C46,$G$1)=1,\"Boat 2\",IF(COUNTIF(Général!D41:D46,$G$1)=1,\"Boat 3\", IF(COUNTIF(Général!E41:E46,$G$1)=1,\"Boat 4\", IF(COUNTIF(Général!F41:F46,$G$1)=1,\"Boat 5\", IF(COUNTIF(Général!G41:G46,$G$1)=1,\"Boat 6\", IF(COUNTIF(Général!H41:H46,$G$1)=1,\"Boat 7\",IF(COUNTIF(Général!I33:I38,$G$1)=1,\"Boat 8\",\"Boat 9\"))))))))","v":"Boat 9"},{"$f":"IF(COUNTIF(Général!B49:B54,$G$1)=1,\"Boat 1\",IF(COUNTIF(Général!C49:C54,$G$1)=1,\"Boat 2\",IF(COUNTIF(Général!D49:D54,$G$1)=1,\"Boat 3\", IF(COUNTIF(Général!E49:E54,$G$1)=1,\"Boat 4\", IF(COUNTIF(Général!F49:F54,$G$1)=1,\"Boat 5\", IF(COUNTIF(Général!G49:G54,$G$1)=1,\"Boat 6\", IF(COUNTIF(Général!H49:H54,$G$1)=1,\"Boat 7\",IF(COUNTIF(Général!I33:I38,$G$1)=1,\"Boat 8\",\"Boat 9\"))))))))","v":"Boat 9"},{"$f":"IF(COUNTIF(Général!B57:B62,$G$1)=1,\"Boat 1\",IF(COUNTIF(Général!C57:C62,$G$1)=1,\"Boat 2\",IF(COUNTIF(Général!D57:D62,$G$1)=1,\"Boat 3\", IF(COUNTIF(Général!E57:E62,$G$1)=1,\"Boat 4\", IF(COUNTIF(Général!F57:F62,$G$1)=1,\"Boat 5\", IF(COUNTIF(Général!G57:G62,$G$1)=1,\"Boat 6\", IF(COUNTIF(Général!H57:H62,$G$1)=1,\"Boat 7\",IF(COUNTIF(Général!I33:I38,$G$1)=1,\"Boat 8\",\"Boat 9\"))))))))","v":"Boat 9"},{"$f":"IF(COUNTIF(Général!B65:B70,$G$1)=1,\"Boat 1\",IF(COUNTIF(Général!C65:C70,$G$1)=1,\"Boat 2\",IF(COUNTIF(Général!D65:D70,$G$1)=1,\"Boat 3\", IF(COUNTIF(Général!E65:E70,$G$1)=1,\"Boat 4\", IF(COUNTIF(Général!F65:F70,$G$1)=1,\"Boat 5\", IF(COUNTIF(Général!G65:G70,$G$1)=1,\"Boat 6\", IF(COUNTIF(Général!H65:H70,$G$1)=1,\"Boat 7\",IF(COUNTIF(Général!I33:I38,$G$1)=1,\"Boat 8\",\"Boat 9\"))))))))","v":"Boat 9"},{"$f":"IF(COUNTIF(Général!B73:B78,$G$1)=1,\"Boat 1\",IF(COUNTIF(Général!C73:C78,$G$1)=1,\"Boat 2\",IF(COUNTIF(Général!D73:D78,$G$1)=1,\"Boat 3\", IF(COUNTIF(Général!E73:E78,$G$1)=1,\"Boat 4\", IF(COUNTIF(Général!F73:F78,$G$1)=1,\"Boat 5\", IF(COUNTIF(Général!G73:G78,$G$1)=1,\"Boat 6\", IF(COUNTIF(Général!H73:H78,$G$1)=1,\"Boat 7\",IF(COUNTIF(Général!I33:I38,$G$1)=1,\"Boat 8\",\"Boat 9\"))))))))","v":"Boat 7"},{"$f":"IF(COUNTIF(Général!B81:B86,$G$1)=1,\"Boat 1\",IF(COUNTIF(Général!C81:C86,$G$1)=1,\"Boat 2\",IF(COUNTIF(Général!D81:D86,$G$1)=1,\"Boat 3\", IF(COUNTIF(Général!E81:E86,$G$1)=1,\"Boat 4\", IF(COUNTIF(Général!F81:F86,$G$1)=1,\"Boat 5\", IF(COUNTIF(Général!G81:G86,$G$1)=1,\"Boat 6\", IF(COUNTIF(Général!H81:H86,$G$1)=1,\"Boat 7\",IF(COUNTIF(Général!I33:I38,$G$1)=1,\"Boat 8\",\"Boat 9\"))))))))","v":"Boat 7"},{"$f":"IF(COUNTIF(Général!B89:B94,$G$1)=1,\"Boat 1\",IF(COUNTIF(Général!C89:C94,$G$1)=1,\"Boat 2\",IF(COUNTIF(Général!D89:D94,$G$1)=1,\"Boat 3\", IF(COUNTIF(Général!E89:E94,$G$1)=1,\"Boat 4\", IF(COUNTIF(Général!F89:F94,$G$1)=1,\"Boat 5\", IF(COUNTIF(Général!G89:G94,$G$1)=1,\"Boat 6\", IF(COUNTIF(Général!H89:H94,$G$1)=1,\"Boat 7\",IF(COUNTIF(Général!I33:I38,$G$1)=1,\"Boat 8\",\"Boat 9\"))))))))","v":"Boat 4"},{"$f":"IF(COUNTIF(Général!B97:B102,$G$1)=1,\"Boat 1\",IF(COUNTIF(Général!C97:C102,$G$1)=1,\"Boat 2\",IF(COUNTIF(Général!D97:D102,$G$1)=1,\"Boat 3\", IF(COUNTIF(Général!E97:E102,$G$1)=1,\"Boat 4\", IF(COUNTIF(Général!F97:F102,$G$1)=1,\"Boat 5\", IF(COUNTIF(Général!G97:G102,$G$1)=1,\"Boat 6\", IF(COUNTIF(Général!H97:H102,$G$1)=1,\"Boat 7\",IF(COUNTIF(Général!I33:I38,$G$1)=1,\"Boat 8\",\"Boat 9\"))))))))","v":"Boat 3"},{"$f":"IF(COUNTIF(Général!B105:B110,$G$1)=1,\"Boat 1\",IF(COUNTIF(Général!C105:C110,$G$1)=1,\"Boat 2\",IF(COUNTIF(Général!D105:D110,$G$1)=1,\"Boat 3\", IF(COUNTIF(Général!E105:E110,$G$1)=1,\"Boat 4\", IF(COUNTIF(Général!F105:F110,$G$1)=1,\"Boat 5\", IF(COUNTIF(Général!G105:G110,$G$1)=1,\"Boat 6\", IF(COUNTIF(Général!H105:H110,$G$1)=1,\"Boat 7\",IF(COUNTIF(Général!I33:I38,$G$1)=1,\"Boat 8\",\"Boat 9\"))))))))","v":"Boat 4"},{"$f":"IF(COUNTIF(Général!B113:B118,$G$1)=1,\"Boat 1\",IF(COUNTIF(Général!C113:C118,$G$1)=1,\"Boat 2\",IF(COUNTIF(Général!C113:D118,$G$1)=1,\"Boat 3\", IF(COUNTIF(Général!C113:E118,$G$1)=1,\"Boat 4\", IF(COUNTIF(Général!F113:F118,$G$1)=1,\"Boat 5\", IF(COUNTIF(Général!G113:G118,$G$1)=1,\"Boat 6\", IF(COUNTIF(Général!H113:H118,$G$1)=1,\"Boat 7\",IF(COUNTIF(Général!I33:I38,$G$1)=1,\"Boat 8\",\"Boat 9\"))))))))","v":"Boat 2"},{"$f":"IF(COUNTIF(Général!B121:B126,$G$1)=1,\"Boat 1\",IF(COUNTIF(Général!C121:C126,$G$1)=1,\"Boat 2\",IF(COUNTIF(Général!D121:D126,$G$1)=1,\"Boat 3\", IF(COUNTIF(Général!E121:E126,$G$1)=1,\"Boat 4\", IF(COUNTIF(Général!F121:F126,$G$1)=1,\"Boat 5\", IF(COUNTIF(Général!G121:G126,$G$1)=1,\"Boat 6\", IF(COUNTIF(Général!H121:H126,$G$1)=1,\"Boat 7\",IF(COUNTIF(Général!I33:I38,$G$1)=1,\"Boat 8\",\"Boat 9\"))))))))","v":"Boat 6"},{"$f":"IF(COUNTIF(Général!B129:B134,$G$1)=1,\"Boat 1\",IF(COUNTIF(Général!C129:C134,$G$1)=1,\"Boat 2\",IF(COUNTIF(Général!D131:D134,$G$1)=1,\"Boat 3\", IF(COUNTIF(Général!E129:E134,$G$1)=1,\"Boat 4\", IF(COUNTIF(Général!F129:F134,$G$1)=1,\"Boat 5\", IF(COUNTIF(Général!G129:G134,$G$1)=1,\"Boat 6\", IF(COUNTIF(Général!H129:H134,$G$1)=1,\"Boat 7\",IF(COUNTIF(Général!I33:I38,$G$1)=1,\"Boat 8\",\"Boat 9\"))))))))","v":"Boat 5"},{"$f":"IF(COUNTIF(Général!B137:B142,$G$1)=1,\"Boat 1\",IF(COUNTIF(Général!C137:C142,$G$1)=1,\"Boat 2\",IF(COUNTIF(Général!D137:D142,$G$1)=1,\"Boat 3\", IF(COUNTIF(Général!E137:E142,$G$1)=1,\"Boat 4\", IF(COUNTIF(Général!F145:F150,$G$1)=1,\"Boat 5\", IF(COUNTIF(Général!G145:G150,$G$1)=1,\"Boat 6\", IF(COUNTIF(Général!H145:H150,$G$1)=1,\"Boat 7\",IF(COUNTIF(Général!I33:I38,$G$1)=1,\"Boat 8\",\"Boat 9\"))))))))","v":"Boat 1"},{"$f":"IF(COUNTIF(Général!B145:B150,$G$1)=1,\"Boat 1\",IF(COUNTIF(Général!C145:C150,$G$1)=1,\"Boat 2\",IF(COUNTIF(Général!D145:D150,$G$1)=1,\"Boat 3\", IF(COUNTIF(Général!E145:E150,$G$1)=1,\"Boat 4\", IF(COUNTIF(Général!F145:F150,$G$1)=1,\"Boat 5\", IF(COUNTIF(Général!G145:G150,$G$1)=1,\"Boat 6\", IF(COUNTIF(Général!H145:H150,$G$1)=1,\"Boat 7\",IF(COUNTIF(Général!I33:I38,$G$1)=1,\"Boat 8\",\"Boat 9\"))))))))","v":"Boat 1"},{"$f":"IF(COUNTIF(Général!B153:B158,$G$1)=1,\"Boat 1\",IF(COUNTIF(Général!C153:C158,$G$1)=1,\"Boat 2\",IF(COUNTIF(Général!D153:D158,$G$1)=1,\"Boat 3\", IF(COUNTIF(Général!E153:E158,$G$1)=1,\"Boat 4\", IF(COUNTIF(Général!F153:F158,$G$1)=1,\"Boat 5\", IF(COUNTIF(Général!G153:G158,$G$1)=1,\"Boat 6\", IF(COUNTIF(Général!H153:H158,$G$1)=1,\"Boat 7\",IF(COUNTIF(Général!I33:I38,$G$1)=1,\"Boat 8\",\"Boat 9\"))))))))","v":"Boat 2"},{"$f":"IF(COUNTIF(Général!B161:B166,$G$1)=1,\"Boat 1\",IF(COUNTIF(Général!C161:C166,$G$1)=1,\"Boat 2\",IF(COUNTIF(Général!D161:D166,$G$1)=1,\"Boat 3\", IF(COUNTIF(Général!E161:E166,$G$1)=1,\"Boat 4\", IF(COUNTIF(Général!F161:F166,$G$1)=1,\"Boat 5\", IF(COUNTIF(Général!G161:G166,$G$1)=1,\"Boat 6\", IF(COUNTIF(Général!H161:H166,$G$1)=1,\"Boat 7\",IF(COUNTIF(Général!I33:I38,$G$1)=1,\"Boat 8\",\"Boat 9\"))))))))","v":"Boat 5"},{"$f":"IF(COUNTIF(Général!B169:B174,$G$1)=1,\"Boat 1\",IF(COUNTIF(Général!C169:C174,$G$1)=1,\"Boat 2\",IF(COUNTIF(Général!D169:D174,$G$1)=1,\"Boat 3\", IF(COUNTIF(Général!E169:E174,$G$1)=1,\"Boat 4\", IF(COUNTIF(Général!F169:F174,$G$1)=1,\"Boat 5\", IF(COUNTIF(Général!G169:G174,$G$1)=1,\"Boat 6\", IF(COUNTIF(Général!H169:H174,$G$1)=1,\"Boat 7\",IF(COUNTIF(Général!I33:I38,$G$1)=1,\"Boat 8\",\"Boat 9\"))))))))","v":"Boat 5"},null,{"$f":"Général!B8","v":"IMT Atlantique Nantes 2"},5]
[null,null,null,null,null,null,null,null,null,null,null,null,null,null,null,null,null,null,null,null,null,{"$f":"Général!B9","v":"Hambourg"},7]
["1er Equipage",null,{"$f":"IF($C$5=\"Course 1\",Général!B33,IF($C$5=\"Course 2\",Général!B35,IF($C$5=\"Course 3\",Général!B37,Général!#REF!)))","v":"Univ. Nantes 1"},{"$f":"IF($D$5=\"Course 1\",Général!B41,IF($D$5=\"Course 2\",Général!B43,IF($D$5=\"Course 3\",Général!B45,Général!#REF!)))","v":"Univ. Nantes 2"},{"$f":"IF($E$5=\"Course 1\",Général!B49,IF($E$5=\"Course 2\",Général!B51,IF($E$5=\"Course 3\",Général!B53,Général!#REF!)))","v":"UBS Lorient 1"},{"$f":"IF($F$5=\"Course 1\",Général!B$57,IF($F$5=\"Course 2\",Général!B$59,IF($F$5=\"Course 3\",Général!B$61,Général!#REF!)))","v":"Univ.Orléans"},{"$f":"IF($G$5=\"Course 1\",Général!B$65,IF($G$5=\"Course 2\",Général!B$67,IF($G$5=\"Course 3\",Général!B$69,Général!#REF!)))","v":"ENSTA Bretagne 2"},{"$f":"IF($H$5=\"Course 1\",Général!B$73,IF($H$5=\"Course 2\",Général!B$75,IF($H$5=\"Course 3\",Général!B$77,Général!#REF!)))","v":"ENSTA Bretagne 2"},{"$f":"IF($I$5=\"Course 1\",Général!B$81,IF($I$5=\"Course 2\",Général!B$83,IF($I$5=\"Course 3\",Général!B$85,Général!#REF!)))","v":"Univ. Nantes 3"},{"$f":"IF($J$5=\"Course 1\",Général!B$89,IF($J$5=\"Course 2\",Général!B$91,IF($J$5=\"Course 3\",Général!B$93,Général!#REF!)))","v":"UNICAEN - ASSUCherbourg"},{"$f":"IF($K$5=\"Course 1\",Général!B$97,IF($K$5=\"Course 2\",Général!B$99,IF($K$5=\"Course 3\",Général!B$101,Général!#REF!)))","v":"Univ. La Rochelle"},{"$f":"IF($L$5=\"Course 1\",Général!B$105,IF($L$5=\"Course 2\",Général!B$107,IF($L$5=\"Course 3\",Général!B$109,Général!#REF!)))","v":"Centrales Nantes"},{"$f":"IF($M$5=\"Course 1\",Général!B$113,IF($M$5=\"Course 2\",Général!B$115,IF($M$5=\"Course 3\",Général!B$117,Général!#REF!)))","v":"UBO 2"},{"$f":"IF($N$5=\"Course 1\",Général!B$121,IF($N$5=\"Course 2\",Général!B$123,IF($N$5=\"Course 3\",Général!B$125,Général!#REF!)))","v":"Karlsruhe"},{"$f":"IF($O$5=\"Course 1\",Général!B$129,IF($O$5=\"Course 2\",Général!B$131,IF($O$5=\"Course 3\",Général!B$133,Général!#REF!)))","v":"Southampton"},{"$f":"IF($P$5=\"Course 1\",Général!B$137,IF($P$5=\"Course 2\",Général!B$139,IF($P$5=\"Course 3\",Général!B$141,Général!#REF!)))","v":"Univ. Nantes 1"},{"$f":"IF($Q$5=\"Course 1\",Général!B$145,IF($Q$5=\"Course 2\",Général!B$147,IF($Q$5=\"Course 3\",Général!B$149,Général!#REF!)))","v":"Univ. Nantes 1"},{"$f":"IF($R$5=\"Course 1\",Général!B$153,IF($R$5=\"Course 2\",Général!B$155,IF($R$5=\"Course 3\",Général!B$157,Général!#REF!)))","v":"Dublin"},{"$f":"IF($S$5=\"Course 1\",Général!B$161,IF($S$5=\"Course 2\",Général!B$163,IF($S$5=\"Course 3\",Général!B$165,Général!#REF!)))","v":"UBS Lorient 2"},{"$f":"IF($T$5=\"Course 1\",Général!B$169,IF($T$5=\"Course 2\",Général!B$171,IF($T$5=\"Course 3\",Général!B$173,Général!#REF!)))","v":"HYDRO Sailing Team Le Havre"},null,{"$f":"Général!B10","v":"EGSI La Rochelle"},5]
["2nd Equipage",null,{"$f":"IF($C$5=\"Course 1\",Général!C33,IF($C$5=\"Course 2\",Général!C35,IF($C$5=\"Course 3\",Général!C37,Général!#REF!)))","v":"Hannovre"},{"$f":"IF($D$5=\"Course 1\",Général!C41,IF($D$5=\"Course 2\",Général!C43,IF($D$5=\"Course 3\",Général!C45,Général!#REF!)))","v":"IMT Atlantique Nantes 2"},{"$f":"IF($E$5=\"Course 1\",Général!C49,IF($E$5=\"Course 2\",Général!C51,IF($E$5=\"Course 3\",Général!C53,Général!#REF!)))","v":"UNICAEN - ASSUCherbourg"},{"$f":"IF($F$5=\"Course 1\",Général!C$57,IF($F$5=\"Course 2\",Général!C$59,IF($F$5=\"Course 3\",Général!C$61,Général!#REF!)))","v":"AS Paris 1 Panthéon Sorbonne"},{"$f":"IF($G$5=\"Course 1\",Général!C$65,IF($G$5=\"Course 2\",Général!C$67,IF($G$5=\"Course 3\",Général!C$69,Général!#REF!)))","v":"IMT Atlantique Nantes 1"},{"$f":"IF($H$5=\"Course 1\",Général!C$73,IF($H$5=\"Course 2\",Général!C$75,IF($H$5=\"Course 3\",Général!C$77,Général!#REF!)))","v":"ENSTA Paris"},{"$f":"IF($I$5=\"Course 1\",Général!C$81,IF($I$5=\"Course 2\",Général!C$83,IF($I$5=\"Course 3\",Général!C$85,Général!#REF!)))","v":"Southampton"},{"$f":"IF($J$5=\"Course 1\",Général!C$89,IF($J$5=\"Course 2\",Général!C$91,IF($J$5=\"Course 3\",Général!C$93,Général!#REF!)))","v":"UBO 2"},{"$f":"IF($K$5=\"Course 1\",Général!C$97,IF($K$5=\"Course 2\",Général!C$99,IF($K$5=\"Course 3\",Général!C$101,Général!#REF!)))","v":"UBO 2"},{"$f":"IF($L$5=\"Course 1\",Général!C$105,IF($L$5=\"Course 2\",Général!C$107,IF($L$5=\"Course 3\",Général!C$109,Général!#REF!)))","v":"AS UB St Brieuc"},{"$f":"IF($M$5=\"Course 1\",Général!C$113,IF($M$5=\"Course 2\",Général!C$115,IF($M$5=\"Course 3\",Général!C$117,Général!#REF!)))","v":"Univ. Nantes 1"},{"$f":"IF($N$5=\"Course 1\",Général!C$121,IF($N$5=\"Course 2\",Général!C$123,IF($N$5=\"Course 3\",Général!C$125,Général!#REF!)))","v":"HYDRO Sailing Team Le Havre"},{"$f":"IF($O$5=\"Course 1\",Général!C$129,IF($O$5=\"Course 2\",Général!C$131,IF($O$5=\"Course 3\",Général!C$133,Général!#REF!)))","v":"HYDRO Sailing Team Le Havre"},{"$f":"IF($P$5=\"Course 1\",Général!C$137,IF($P$5=\"Course 2\",Général!C$139,IF($P$5=\"Course 3\",Général!C$141,Général!#REF!)))","v":"AS UB St Brieuc"},{"$f":"IF($Q$5=\"Course 1\",Général!C$145,IF($Q$5=\"Course 2\",Général!C$147,IF($Q$5=\"Course 3\",Général!C$149,Général!#REF!)))","v":"AS UB St Brieuc"},{"$f":"IF($R$5=\"Course 1\",Général!C$153,IF($R$5=\"Course 2\",Général!C$155,IF($R$5=\"Course 3\",Général!C$157,Général!#REF!)))","v":"Univ. Nantes 1"},{"$f":"IF($S$5=\"Course 1\",Général!C$161,IF($S$5=\"Course 2\",Général!C$163,IF($S$5=\"Course 3\",Général!C$165,Général!#REF!)))","v":"Hambourg"},{"$f":"IF($T$5=\"Course 1\",Général!C$169,IF($T$5=\"Course 2\",Général!C$171,IF($T$5=\"Course 3\",Général!C$173,Général!#REF!)))","v":"Hambourg"},null,{"$f":"Général!B11","v":"HYDRO Sailing Team Le Havre"},7]
["3ème Equipage",null,{"$f":"IF($C$5=\"Course 1\",Général!D33,IF($C$5=\"Course 2\",Général!D35,IF($C$5=\"Course 3\",Général!D37,Général!#REF!)))","v":"IMT Atlantique Brest"},{"$f":"IF($D$5=\"Course 1\",Général!D41,IF($D$5=\"Course 2\",Général!D43,IF($D$5=\"Course 3\",Général!D45,Général!#REF!)))","v":"HYDRO Sailing Team Le Havre"},{"$f":"IF($E$5=\"Course 1\",Général!D49,IF($E$5=\"Course 2\",Général!D51,IF($E$5=\"Course 3\",Général!D53,Général!#REF!)))","v":"HYDRO Sailing Team Le Havre"},{"$f":"IF($F$5=\"Course 1\",Général!D$57,IF($F$5=\"Course 2\",Général!D$59,IF($F$5=\"Course 3\",Général!D$61,Général!#REF!)))","v":"Karlsruhe"},{"$f":"IF($G$5=\"Course 1\",Général!D$65,IF($G$5=\"Course 2\",Général!D$67,IF($G$5=\"Course 3\",Général!D$69,Général!#REF!)))","v":"Univ. La Rochelle"},{"$f":"IF($H$5=\"Course 1\",Général!D$73,IF($H$5=\"Course 2\",Général!D$75,IF($H$5=\"Course 3\",Général!D$77,Général!#REF!)))","v":"Univ.Orléans"},{"$f":"IF($I$5=\"Course 1\",Général!D$81,IF($I$5=\"Course 2\",Général!D$83,IF($I$5=\"Course 3\",Général!D$85,Général!#REF!)))","v":"ASUL Lannion"},{"$f":"IF($J$5=\"Course 1\",Général!D$89,IF($J$5=\"Course 2\",Général!D$91,IF($J$5=\"Course 3\",Général!D$93,Général!#REF!)))","v":"EGSI La Rochelle"},{"$f":"IF($K$5=\"Course 1\",Général!D$97,IF($K$5=\"Course 2\",Général!D$99,IF($K$5=\"Course 3\",Général!D$101,Général!#REF!)))","v":"Univ. Nantes 1"},{"$f":"IF($L$5=\"Course 1\",Général!D$105,IF($L$5=\"Course 2\",Général!D$107,IF($L$5=\"Course 3\",Général!D$109,Général!#REF!)))","v":"Southampton"},{"$f":"IF($M$5=\"Course 1\",Général!D$113,IF($M$5=\"Course 2\",Général!D$115,IF($M$5=\"Course 3\",Général!D$117,Général!#REF!)))","v":"Univ. Nantes 2"},{"$f":"IF($N$5=\"Course 1\",Général!D$121,IF($N$5=\"Course 2\",Général!D$123,IF($N$5=\"Course 3\",Général!D$125,Général!#REF!)))","v":"AS UB St Brieuc"},{"$f":"IF($O$5=\"Course 1\",Général!D$129,IF($O$5=\"Course 2\",Général!D$131,IF($O$5=\"Course 3\",Général!D$133,Général!#REF!)))","v":"EGSI La Rochelle"},{"$f":"IF($P$5=\"Course 1\",Général!D$137,IF($P$5=\"Course 2\",Général!D$139,IF($P$5=\"Course 3\",Général!D$141,Général!#REF!)))","v":"IMT Atlantique Brest"},{"$f":"IF($Q$5=\"Course 1\",Général!D$145,IF($Q$5=\"Course 2\",Général!D$147,IF($Q$5=\"Course 3\",Général!D$149,Général!#REF!)))","v":"IMT Atlantique Nantes 2"},{"$f":"IF($R$5=\"Course 1\",Général!D$153,IF($R$5=\"Course 2\",Général!D$155,IF($R$5=\"Course 3\",Général!D$157,Général!#REF!)))","v":"UBO 2"},{"$f":"IF($S$5=\"Course 1\",Général!D$161,IF($S$5=\"Course 2\",Général!D$163,IF($S$5=\"Course 3\",Général!D$165,Général!#REF!)))","v":"UBO 1"},{"$f":"IF($T$5=\"Course 1\",Général!D$169,IF($T$5=\"Course 2\",Général!D$171,IF($T$5=\"Course 3\",Général!D$173,Général!#REF!)))","v":"AS Paris 1 Panthéon Sorbonne"},null,{"$f":"Général!B12","v":"UNICAEN - ASSUCherbourg"},6]
["4ème Equipage",null,{"$f":"IF($C$5=\"Course 1\",Général!E33,IF($C$5=\"Course 2\",Général!E35,IF($C$5=\"Course 3\",Général!E37,Général!#REF!)))","v":"AS UB St Brieuc"},{"$f":"IF($D$5=\"Course 1\",Général!E41,IF($D$5=\"Course 2\",Général!E43,IF($D$5=\"Course 3\",Général!E45,Général!#REF!)))","v":"AS Paris 1 Panthéon Sorbonne"},{"$f":"IF($E$5=\"Course 1\",Général!E49,IF($E$5=\"Course 2\",Général!E51,IF($E$5=\"Course 3\",Général!E53,Général!#REF!)))","v":"Centrales Nantes"},{"$f":"IF($F$5=\"Course 1\",Général!E$57,IF($F$5=\"Course 2\",Général!E$59,IF($F$5=\"Course 3\",Général!E$61,Général!#REF!)))","v":"ASUL Lannion"},{"$f":"IF($G$5=\"Course 1\",Général!E$65,IF($G$5=\"Course 2\",Général!E$67,IF($G$5=\"Course 3\",Général!E$69,Général!#REF!)))","v":"ASUL Lannion"},{"$f":"IF($H$5=\"Course 1\",Général!E$73,IF($H$5=\"Course 2\",Général!E$75,IF($H$5=\"Course 3\",Général!E$77,Général!#REF!)))","v":"EGSI La Rochelle"},{"$f":"IF($I$5=\"Course 1\",Général!E$81,IF($I$5=\"Course 2\",Général!E$83,IF($I$5=\"Course 3\",Général!E$85,Général!#REF!)))","v":"ENSTA Bretagne 1"},{"$f":"IF($J$5=\"Course 1\",Général!E$89,IF($J$5=\"Course 2\",Général!E$91,IF($J$5=\"Course 3\",Général!E$93,Général!#REF!)))","v":"Univ. Nantes 1"},{"$f":"IF($K$5=\"Course 1\",Général!E$97,IF($K$5=\"Course 2\",Général!E$99,IF($K$5=\"Course 3\",Général!E$101,Général!#REF!)))","v":"Univ. Nantes 2"},{"$f":"IF($L$5=\"Course 1\",Général!E$105,IF($L$5=\"Course 2\",Général!E$107,IF($L$5=\"Course 3\",Général!E$109,Général!#REF!)))","v":"Univ. Nantes 1"},{"$f":"IF($M$5=\"Course 1\",Général!E$113,IF($M$5=\"Course 2\",Général!E$115,IF($M$5=\"Course 3\",Général!E$117,Général!#REF!)))","v":"Southampton"},{"$f":"IF($N$5=\"Course 1\",Général!E$121,IF($N$5=\"Course 2\",Général!E$123,IF($N$5=\"Course 3\",Général!E$125,Général!#REF!)))","v":"ENSTA Bretagne 2"},{"$f":"IF($O$5=\"Course 1\",Général!E$129,IF($O$5=\"Course 2\",Général!E$131,IF($O$5=\"Course 3\",Général!E$133,Général!#REF!)))","v":"Hambourg"},{"$f":"IF($P$5=\"Course 1\",Général!E$137,IF($P$5=\"Course 2\",Général!E$139,IF($P$5=\"Course 3\",Général!E$141,Général!#REF!)))","v":"UBS Lorient 2"},{"$f":"IF($Q$5=\"Course 1\",Général!E$145,IF($Q$5=\"Course 2\",Général!E$147,IF($Q$5=\"Course 3\",Général!E$149,Général!#REF!)))","v":"UNICAEN - ASSUCherbourg"},{"$f":"IF($R$5=\"Course 1\",Général!E$153,IF($R$5=\"Course 2\",Général!E$155,IF($R$5=\"Course 3\",Général!E$157,Général!#REF!)))","v":"UNICAEN - ASSUCherbourg"},{"$f":"IF($S$5=\"Course 1\",Général!E$161,IF($S$5=\"Course 2\",Général!E$163,IF($S$5=\"Course 3\",Général!E$165,Général!#REF!)))","v":"Univ. Nantes 3"},{"$f":"IF($T$5=\"Course 1\",Général!E$169,IF($T$5=\"Course 2\",Général!E$171,IF($T$5=\"Course 3\",Général!E$173,Général!#REF!)))","v":"IMT Atlantique Brest"},null,{"$f":"Général!B13","v":"UBO 1"},6]
["5ème Equipage",null,{"$f":"IF($C$5=\"Course 1\",Général!F33,IF($C$5=\"Course 2\",Général!F35,IF($C$5=\"Course 3\",Général!F37,Général!#REF!)))","v":"EGSI La Rochelle"},{"$f":"IF($D$5=\"Course 1\",Général!F41,IF($D$5=\"Course 2\",Général!F43,IF($D$5=\"Course 3\",Général!F45,Général!#REF!)))","v":"IMT Atlantique Brest"},{"$f":"IF($E$5=\"Course 1\",Général!F49,IF($E$5=\"Course 2\",Général!F51,IF($E$5=\"Course 3\",Général!F53,Général!#REF!)))","v":"ENSTA Bretagne 1"},{"$f":"IF($F$5=\"Course 1\",Général!F$57,IF($F$5=\"Course 2\",Général!F$59,IF($F$5=\"Course 3\",Général!F$61,Général!#REF!)))","v":"Centrales Nantes"},{"$f":"IF($G$5=\"Course 1\",Général!F$65,IF($G$5=\"Course 2\",Général!F$67,IF($G$5=\"Course 3\",Général!F$69,Général!#REF!)))","v":"Univ. Nantes 3"},{"$f":"IF($H$5=\"Course 1\",Général!F$73,IF($H$5=\"Course 2\",Général!F$75,IF($H$5=\"Course 3\",Général!F$77,Général!#REF!)))","v":"Univ. Nantes 2"},{"$f":"IF($I$5=\"Course 1\",Général!F$81,IF($I$5=\"Course 2\",Général!F$83,IF($I$5=\"Course 3\",Général!F$85,Général!#REF!)))","v":"ENSTA Paris"},{"$f":"IF($J$5=\"Course 1\",Général!F$89,IF($J$5=\"Course 2\",Général!F$91,IF($J$5=\"Course 3\",Général!F$93,Général!#REF!)))","v":"Hannovre"},{"$f":"IF($K$5=\"Course 1\",Général!F$97,IF($K$5=\"Course 2\",Général!F$99,IF($K$5=\"Course 3\",Général!F$101,Général!#REF!)))","v":"Centrales Nantes"},{"$f":"IF($L$5=\"Course 1\",Général!F$105,IF($L$5=\"Course 2\",Général!$F107,IF($L$5=\"Course 3\",Général!F$109,Général!#REF!)))","v":"IMT Atlantique Nantes 2"},{"$f":"IF($M$5=\"Course 1\",Général!F$113,IF($M$5=\"Course 2\",Général!F$115,IF($M$5=\"Course 3\",Général!F$117,Général!#REF!)))","v":"HYDRO Sailing Team Le Havre"},{"$f":"IF($N$5=\"Course 1\",Général!F$121,IF($N$5=\"Course 2\",Général!F$123,IF($N$5=\"Course 3\",Général!F$125,Général!#REF!)))","v":"Univ. Nantes 3"},{"$f":"IF($O$5=\"Course 1\",Général!F$129,IF($O$5=\"Course 2\",Général!F$131,IF($O$5=\"Course 3\",Général!F$133,Général!#REF!)))","v":"Univ. Nantes 1"},{"$f":"IF($P$5=\"Course 1\",Général!F$137,IF($P$5=\"Course 2\",Général!F$139,IF($P$5=\"Course 3\",Général!F$141,Général!#REF!)))","v":"Hannovre"},{"$f":"IF($Q$5=\"Course 1\",Général!F$145,IF($Q$5=\"Course 2\",Général!F$147,IF($Q$5=\"Course 3\",Général!F$149,Général!#REF!)))","v":"Univ.Orléans"},{"$f":"IF($R$5=\"Course 1\",Général!F$153,IF($R$5=\"Course 2\",Général!F$155,IF($R$5=\"Course 3\",Général!F$157,Général!#REF!)))","v":"UBO 1"},{"$f":"IF($S$5=\"Course 1\",Général!F$161,IF($S$5=\"Course 2\",Général!F$163,IF($S$5=\"Course 3\",Général!F$165,Général!#REF!)))","v":"Univ. Nantes 1"},{"$f":"IF($T$5=\"Course 1\",Général!F$169,IF($T$5=\"Course 2\",Général!F$171,IF($T$5=\"Course 3\",Général!F$173,Général!#REF!)))","v":"Univ. Nantes 1"},null,{"$f":"Général!B14","v":"ENSTA Bretagne 1"},5]
["6ème Equipage",null,{"$f":"IF($C$5=\"Course 1\",Général!G33,IF($C$5=\"Course 2\",Général!G35,IF($C$5=\"Course 3\",Général!G37,Général!#REF!)))","v":"Karlsruhe"},{"$f":"IF($D$5=\"Course 1\",Général!G41,IF($D$5=\"Course 2\",Général!G43,IF($D$5=\"Course 3\",Général!G45,Général!#REF!)))","v":"UBS Lorient 2"},{"$f":"IF($E$5=\"Course 1\",Général!G49,IF($E$5=\"Course 2\",Général!G51,IF($E$5=\"Course 3\",Général!G53,Général!#REF!)))","v":"ASUL Lannion"},{"$f":"IF($F$5=\"Course 1\",Général!G$57,IF($F$5=\"Course 2\",Général!G$59,IF($F$5=\"Course 3\",Général!G$61,Général!#REF!)))","v":"Dublin"},{"$f":"IF($G$5=\"Course 1\",Général!G$65,IF($G$5=\"Course 2\",Général!G$67,IF($G$5=\"Course 3\",Général!G$69,Général!#REF!)))","v":"Hambourg"},{"$f":"IF($H$5=\"Course 1\",Général!G$73,IF($H$5=\"Course 2\",Général!G$75,IF($H$5=\"Course 3\",Général!G$77,Général!#REF!)))","v":"UBS Lorient 1"},{"$f":"IF($I$5=\"Course 1\",Général!G$81,IF($I$5=\"Course 2\",Général!G$83,IF($I$5=\"Course 3\",Général!G$85,Général!#REF!)))","v":"IMT Atlantique Nantes 2"},{"$f":"IF($J$5=\"Course 1\",Général!G$89,IF($J$5=\"Course 2\",Général!G$91,IF($J$5=\"Course 3\",Général!G$93,Général!#REF!)))","v":"Southampton"},{"$f":"IF($K$5=\"Course 1\",Général!G$97,IF($K$5=\"Course 2\",Général!G$99,IF($K$5=\"Course 3\",Général!G$101,Général!#REF!)))","v":"ENSTA Bretagne 1"},{"$f":"IF($L$5=\"Course 1\",Général!G$105,IF($L$5=\"Course 2\",Général!G$107,IF($L$5=\"Course 3\",Général!G$109,Général!#REF!)))","v":"Univ. La Rochelle"},{"$f":"IF($M$5=\"Course 1\",Général!G$113,IF($M$5=\"Course 2\",Général!G$115,IF($M$5=\"Course 3\",Général!G$117,Général!#REF!)))","v":"Univ.Orléans"},{"$f":"IF($N$5=\"Course 1\",Général!G$121,IF($N$5=\"Course 2\",Général!G$123,IF($N$5=\"Course 3\",Général!G$125,Général!#REF!)))","v":"Univ. Nantes 1"},{"$f":"IF($O$5=\"Course 1\",Général!G$129,IF($O$5=\"Course 2\",Général!G$131,IF($O$5=\"Course 3\",Général!G$133,Général!#REF!)))","v":"IMT Atlantique Brest"},{"$f":"IF($P$5=\"Course 1\",Général!G$137,IF($P$5=\"Course 2\",Général!G$139,IF($P$5=\"Course 3\",Général!G$141,Général!#REF!)))","v":"IMT Atlantique Nantes 1"},{"$f":"IF($Q$5=\"Course 1\",Général!G$145,IF($Q$5=\"Course 2\",Général!G$147,IF($Q$5=\"Course 3\",Général!G$149,Général!#REF!)))","v":"IMT Atlantique Nantes 1"},{"$f":"IF($R$5=\"Course 1\",Général!G$153,IF($R$5=\"Course 2\",Général!G$155,IF($R$5=\"Course 3\",Général!G$157,Général!#REF!)))","v":"UBS Lorient 1"},{"$f":"IF($S$5=\"Course 1\",Général!G$161,IF($S$5=\"Course 2\",Général!G$163,IF($S$5=\"Course 3\",Général!G$165,Général!#REF!)))","v":"UBO 2"},{"$f":"IF($T$5=\"Course 1\",Général!G$169,IF($T$5=\"Course 2\",Général!G$171,IF($T$5=\"Course 3\",Général!G$173,Général!#REF!)))","v":"Hannovre"},null,{"$f":"Général!B15","v":"ASUL Lannion"},6]
["7ème Equipage",null,{"$f":"IF($C$5=\"Course 1\",Général!H33,IF($C$5=\"Course 2\",Général!H35,IF($C$5=\"Course 3\",Général!H37,Général!#REF!)))","v":"Univ. La Rochelle"},{"$f":"IF($D$5=\"Course 1\",Général!H41,IF($D$5=\"Course 2\",Général!H43,IF($D$5=\"Course 3\",Général!H45,Général!#REF!)))","v":"Hannovre"},{"$f":"IF($E$5=\"Course 1\",Général!H49,IF($E$5=\"Course 2\",Général!H51,IF($E$5=\"Course 3\",Général!H53,Général!#REF!)))","v":"Hannovre"},{"$f":"IF($F$5=\"Course 1\",Général!H$57,IF($F$5=\"Course 2\",Général!H$59,IF($F$5=\"Course 3\",Général!H$61,Général!#REF!)))","v":"UBS Lorient 2"},{"$f":"IF($G$5=\"Course 1\",Général!H$65,IF($G$5=\"Course 2\",Général!H$67,IF($G$5=\"Course 3\",Général!H$69,Général!#REF!)))","v":"Univ. Nantes 2"},{"$f":"IF($H$5=\"Course 1\",Général!H$73,IF($H$5=\"Course 2\",Général!H$75,IF($H$5=\"Course 3\",Général!H$77,Général!#REF!)))","v":"Univ. Nantes 1"},{"$f":"IF($I$5=\"Course 1\",Général!H$81,IF($I$5=\"Course 2\",Général!H$83,IF($I$5=\"Course 3\",Général!H$85,Général!#REF!)))","v":"Univ. Nantes 1"},{"$f":"IF($J$5=\"Course 1\",Général!H$89,IF($J$5=\"Course 2\",Général!H$91,IF($J$5=\"Course 3\",Général!H$93,Général!#REF!)))","v":"Centrales Nantes"},{"$f":"IF($K$5=\"Course 1\",Général!H$97,IF($K$5=\"Course 2\",Général!H$99,IF($K$5=\"Course 3\",Général!H$101,Général!#REF!)))","v":"IMT Atlantique Brest"},{"$f":"IF($L$5=\"Course 1\",Général!H$105,IF($L$5=\"Course 2\",Général!H$107,IF($L$5=\"Course 3\",Général!H$109,Général!#REF!)))","v":"ENSTA Bretagne 2"},{"$f":"IF($M$5=\"Course 1\",Général!H$113,IF($M$5=\"Course 2\",Général!H$115,IF($M$5=\"Course 3\",Général!H$117,Général!#REF!)))","v":"UBO 1"},{"$f":"IF($N$5=\"Course 1\",Général!H$121,IF($N$5=\"Course 2\",Général!H$123,IF($N$5=\"Course 3\",Général!H$125,Général!#REF!)))","v":"Hambourg"},{"$f":"IF($O$5=\"Course 1\",Général!H$129,IF($O$5=\"Course 2\",Général!H$131,IF($O$5=\"Course 3\",Général!H$133,Général!#REF!)))","v":"ENSTA Paris"},{"$f":"IF($P$5=\"Course 1\",Général!H$137,IF($P$5=\"Course 2\",Général!H$139,IF($P$5=\"Course 3\",Général!H$141,Général!#REF!)))","v":"ASUL Lannion"},{"$f":"IF($Q$5=\"Course 1\",Général!H$145,IF($Q$5=\"Course 2\",Général!H$147,IF($Q$5=\"Course 3\",Général!H$149,Général!#REF!)))","v":"HYDRO Sailing Team Le Havre"},{"$f":"IF($R$5=\"Course 1\",Général!H$153,IF($R$5=\"Course 2\",Général!H$155,IF($R$5=\"Course 3\",Général!H$157,Général!#REF!)))","v":"AS Paris 1 Panthéon Sorbonne"},{"$f":"IF($S$5=\"Course 1\",Général!H$161,IF($S$5=\"Course 2\",Général!H$163,IF($S$5=\"Course 3\",Général!H$165,Général!#REF!)))","v":"UNICAEN - ASSUCherbourg"},{"$f":"IF($T$5=\"Course 1\",Général!H$169,IF($T$5=\"Course 2\",Général!H$171,IF($T$5=\"Course 3\",Général!H$173,Général!#REF!)))","v":"Univ. Nantes 2"},null,{"$f":"Général!B16","v":"ENSTA Paris"},5]
["8ème Equipage",null,{"$f":"IF($C$5=\"Course 1\",Général!I33,IF($C$5=\"Course 2\",Général!I35,IF($C$5=\"Course 3\",Général!I37,Général!#REF!)))","v":"Univ. Nantes 3"},{"$f":"IF($D$5=\"Course 1\",Général!I41,IF($D$5=\"Course 2\",Général!I43,IF($D$5=\"Course 3\",Général!I45,Général!#REF!)))","v":"Univ. Nantes 1"},{"$f":"IF($E$5=\"Course 1\",Général!I49,IF($E$5=\"Course 2\",Général!I51,IF($E$5=\"Course 3\",Général!I53,Général!#REF!)))","v":"Univ. Nantes 1"},{"$f":"IF($F$5=\"Course 1\",Général!I$57,IF($F$5=\"Course 2\",Général!I$59,IF($F$5=\"Course 3\",Général!I$61,Général!#REF!)))","v":"EGSI La Rochelle"},{"$f":"IF($G$5=\"Course 1\",Général!I$65,IF($G$5=\"Course 2\",Général!I$67,IF($G$5=\"Course 3\",Général!I$69,Général!#REF!)))","v":"UNICAEN - ASSUCherbourg"},{"$f":"IF($H$5=\"Course 1\",Général!I$73,IF($H$5=\"Course 2\",Général!I$75,IF($H$5=\"Course 3\",Général!I$77,Général!#REF!)))","v":"UBO 1"},{"$f":"IF($I$5=\"Course 1\",Général!I$81,IF($I$5=\"Course 2\",Général!I$83,IF($I$5=\"Course 3\",Général!I$85,Général!#REF!)))","v":"Karlsruhe"},{"$f":"IF($J$5=\"Course 1\",Général!I$89,IF($J$5=\"Course 2\",Général!I$91,IF($J$5=\"Course 3\",Général!I$93,Général!#REF!)))","v":"UBS Lorient 2"},{"$f":"IF($K$5=\"Course 1\",Général!I$97,IF($K$5=\"Course 2\",Général!I$99,IF($K$5=\"Course 3\",Général!I$101,Général!#REF!)))","v":"UBS Lorient 1"},{"$f":"IF($L$5=\"Course 1\",Général!I$105,IF($L$5=\"Course 2\",Général!I$107,IF($L$5=\"Course 3\",Général!I$109,Général!#REF!)))","v":"IMT Atlantique Nantes 1"},{"$f":"IF($M$5=\"Course 1\",Général!I$113,IF($M$5=\"Course 2\",Général!I$115,IF($M$5=\"Course 3\",Général!I$117,Général!#REF!)))","v":"Univ. La Rochelle"},{"$f":"IF($N$5=\"Course 1\",Général!I$121,IF($N$5=\"Course 2\",Général!I$123,IF($N$5=\"Course 3\",Général!I$125,Général!#REF!)))","v":"Centrales Nantes"},{"$f":"IF($O$5=\"Course 1\",Général!I$129,IF($O$5=\"Course 2\",Général!I$131,IF($O$5=\"Course 3\",Général!I$133,Général!#REF!)))","v":"Dublin"},{"$f":"IF($P$5=\"Course 1\",Général!I$137,IF($P$5=\"Course 2\",Général!I$139,IF($P$5=\"Course 3\",Général!I$141,Général!#REF!)))","v":"ENSTA Paris"},{"$f":"IF($Q$5=\"Course 1\",Général!I$145,IF($Q$5=\"Course 2\",Général!I$147,IF($Q$5=\"Course 3\",Général!I$149,Général!#REF!)))","v":"ENSTA Paris"},{"$f":"IF($R$5=\"Course 1\",Général!I$153,IF($R$5=\"Course 2\",Général!I$155,IF($R$5=\"Course 3\",Général!I$157,Général!#REF!)))","v":"Southampton"},{"$f":"IF($S$5=\"Course 1\",Général!I$161,IF($S$5=\"Course 2\",Général!I$163,IF($S$5=\"Course 3\",Général!I$165,Général!#REF!)))","v":"ENSTA Bretagne 1"},{"$f":"IF($T$5=\"Course 1\",Général!I$169,IF($T$5=\"Course 2\",Général!I$171,IF($T$5=\"Course 3\",Général!I$173,Général!#REF!)))","v":"UBO 1"},null,{"$f":"Général!B17","v":"IMT Atlantique Brest"},6]
["9ème Equipage",null,{"$f":"IF($C$5=\"Course 1\",Général!J33,IF($C$5=\"Course 2\",Général!J35,IF($C$5=\"Course 3\",Général!J37,Général!#REF!)))","v":"UBO 1"},{"$f":"IF($D$5=\"Course 1\",Général!J41,IF($D$5=\"Course 2\",Général!J43,IF($D$5=\"Course 3\",Général!J45,Général!#REF!)))","v":"Hambourg"},{"$f":"IF($E$5=\"Course 1\",Général!J49,IF($E$5=\"Course 2\",Général!J51,IF($E$5=\"Course 3\",Général!J53,Général!#REF!)))","v":"AS UB St Brieuc"},{"$f":"IF($F$5=\"Course 1\",Général!J$57,IF($F$5=\"Course 2\",Général!J$59,IF($F$5=\"Course 3\",Général!J$61,Général!#REF!)))","v":"Univ. Nantes 1"},{"$f":"IF($G$5=\"Course 1\",Général!J$65,IF($G$5=\"Course 2\",Général!J$67,IF($G$5=\"Course 3\",Général!J$69,Général!#REF!)))","v":"Univ. Nantes 1"},{"$f":"IF($H$5=\"Course 1\",Général!J$73,IF($H$5=\"Course 2\",Général!J$75,IF($H$5=\"Course 3\",Général!$J77,Général!#REF!)))","v":"AS Paris 1 Panthéon Sorbonne"},{"$f":"IF($I$5=\"Course 1\",Général!J$81,IF($I$5=\"Course 2\",Général!J$83,IF($I$5=\"Course 3\",Général!J$85,Général!#REF!)))","v":"Univ. Nantes 2"},{"$f":"IF($J$5=\"Course 1\",Général!J$89,IF($J$5=\"Course 2\",Général!J$91,IF($J$5=\"Course 3\",Général!J$93,Général!#REF!)))","v":"Univ. Nantes 3"},{"$f":"IF($K$5=\"Course 1\",Général!J$97,IF($K$5=\"Course 2\",Général!J$99,IF($K$5=\"Course 3\",Général!J$101,Général!#REF!)))","v":"UBS Lorient 2"},{"$f":"IF($L$5=\"Course 1\",Général!J$105,IF($L$5=\"Course 2\",Général!J$107,IF($L$5=\"Course 3\",Général!J$109,Général!#REF!)))","v":"Dublin"},{"$f":"IF($M$5=\"Course 1\",Général!J$113,IF($M$5=\"Course 2\",Général!J$115,IF($M$5=\"Course 3\",Général!J$117,Général!#REF!)))","v":"ASUL Lannion"},{"$f":"IF($N$5=\"Course 1\",Général!J$121,IF($N$5=\"Course 2\",Général!J$123,IF($N$5=\"Course 3\",Général!J$125,Général!#REF!)))","v":"UBS Lorient 1"},{"$f":"IF($O$5=\"Course 1\",Général!J$129,IF($O$5=\"Course 2\",Général!J$131,IF($O$5=\"Course 3\",Général!J$133,Général!#REF!)))","v":"ENSTA Bretagne 1"},{"$f":"IF($P$5=\"Course 1\",Général!J$137,IF($P$5=\"Course 2\",Général!J$139,IF($P$5=\"Course 3\",Général!J$141,Général!#REF!)))","v":"UBO 2"},{"$f":"IF($Q$5=\"Course 1\",Général!J$145,IF($Q$5=\"Course 2\",Général!J$147,IF($Q$5=\"Course 3\",Général!J$149,Général!#REF!)))","v":"UBO 2"},{"$f":"IF($R$5=\"Course 1\",Général!J$153,IF($R$5=\"Course 2\",Général!J$155,IF($R$5=\"Course 3\",Général!J$157,Général!#REF!)))","v":"Hambourg"},{"$f":"IF($S$5=\"Course 1\",Général!J$161,IF($S$5=\"Course 2\",Général!J$163,IF($S$5=\"Course 3\",Général!J$165,Général!#REF!)))","v":"IMT Atlantique Nantes 2"},{"$f":"IF($T$5=\"Course 1\",Général!J$169,IF($T$5=\"Course 2\",Général!J$171,IF($T$5=\"Course 3\",Général!J$173,Général!#REF!)))","v":"Southampton"},null,{"$f":"Général!B18","v":"UBO 2"},7]
[null,null,null,null,null,null,null,null,null,null,null,null,null,null,null,null,null,null,null,null,null,{"$f":"Général!B19","v":"Dublin"},4]
[null,null,null,null,null,null,null,null,null,null,null,null,null,null,null,null,null,null,null,null,null,{"$f":"Général!B20","v":"Univ. Nantes 2"},7]
[null,null,null,null,null,null,null,null,null,null,null,null,null,null,null,null,null,null,null,null,null,{"$f":"Général!B21","v":"UBS Lorient 1"},5]
[null,null,null,null,null,null,null,null,null,null,null,null,null,null,null,null,null,null,null,null,null,{"$f":"Général!B22","v":"UBS Lorient 2"},6]
[null,null,null,null,null,null,null,null,null,null,null,null,null,null,null,null,null,null,null,null,null,{"$f":"Général!B23","v":"Univ.Orléans"},4]
[null,null,null,null,null,null,null,null,null,null,null,null,null,null,null,null,null,null,null,null,null,{"$f":"Général!B24","v":"Univ. La Rochelle"},5]
[null,null,null,null,null,null,null,null,null,null,null,null,null,null,null,null,null,null,null,null,null,{"$f":"Général!B25","v":"AS UB St Brieuc"},6]
[null,null,null,null,null,null,null,null,null,null,null,null,null,null,null,null,null,null,null,null,null,{"$f":"Général!B26","v":"Karlsruhe"},4]
[null,null,null,null,null,null,null,null,null,null,null,null,null,null,null,null,null,null,null,null,null,{"$f":"Général!B27","v":"Univ. Nantes 3"},6]
[null,null,null,null,null,null,null,null,null,null,null,null,null,null,null,null,null,null,null,null,null,{"$f":"Général!B28","v":"Centrales Nantes"},6]
[null,null,null,null,null,null,null,null,null,null,null,null,null,null,null,null,null,null,null,null,null,{"$f":"Général!B29","v":"Southampton"},7]
[null,null,null,null,null,null,null,null,null,null,null,null,null,null,null,null,null,null,null,null,null,{"$f":"Général!#REF!","v":{"$error":"#REF!"}},0]
[null,null,null,null,null,null,null,null,null,null,null,null,null,null,null,null,null,null,null,null,null,{"$f":"Général!#REF!","v":{"$error":"#REF!"}},0]
[null,null,null,null,null,null,null,null,null,null,null,null,null,null,null,null,null,null,null,null,null,{"$f":"Général!#REF!","v":{"$error":"#REF!"}},0]
[null,null,null,null,null,null,null,null,null,null,null,null,null,null,null,null,null,null,null,null,null,{"$f":"Général!#REF!","v":{"$error":"#REF!"}},0]
[null,null,null,null,null,null,null,null,null,null,null,null,null,null,null,null,null,null,null,null,null,{"$f":"Général!#REF!","v":{"$error":"#REF!"}},0]

{"sheet":"Eq.2","index":6,"n_rows":32,"n_cols":23,"rows_kept":32,"cut":false,"hidden":false,"merged":[[14,0,14,1],[15,0,15,1],[8,0,8,1],[9,0,9,1],[10,0,10,1],[11,0,11,1],[12,0,12,1],[13,0,13,1],[7,0,7,1],[0,0,1,5],[0,6,1,10],[3,0,3,1],[4,0,4,1],[5,0,5,1]]}
["Equipage ",null,null,null,null,null,{"$f":"Général!B4","v":"AS Paris 1 Panthéon Sorbonne"},null,null,null,null,null,null,null,null,null,null,null,null,null,null,{"$f":"Général!B3","v":"Univ. Nantes 1"},{"$f":"COUNTIF(C$8:T$16,V1)","v":5}]
[null,null,null,null,null,null,null,null,null,null,null,null,null,null,null,null,null,null,null,null,null,{"$f":"Général!B4","v":"AS Paris 1 Panthéon Sorbonne"},{"$f":"COUNTIF($C$8:$T$16,V2)","v":18}]
[null,null,null,null,null,null,null,null,null,null,null,null,null,null,null,null,null,null,null,null,null,{"$f":"Général!B5","v":"Hannovre"},{"$f":"COUNTIF($C$8:$T$16,V3)","v":6}]
[null,null,"FLIGHT 1","FLIGHT 2","FLIGHT 3","FLIGHT 4","FLIGHT 5","FLIGHT 6","FLIGHT 7","FLIGHT 8","FLIGHT 9","FLIGHT 10","FLIGHT 11","FLIGHT 12","FLIGHT 13","FLIGHT 14","FLIGHT 15","FLIGHT 16","FLIGHT 17","FLIGHT 18",null,{"$f":"Général!B6","v":"IMT Atlantique Nantes 1"},5]
["N° de course",null,{"$f":"IF(COUNTIF(Général!B33:J33,$G$1)=1,\"Course 1\",IF(COUNTIF(Général!B35:J35,$G$1)=1,\"Course 2\",IF(COUNTIF(Général!B37:J37,$G$1)=1,\"Course 3\",\"Course 4\")))","v":"Course 1"},{"$f":"IF(COUNTIF(Général!B41:J41,$G$1)=1,\"Course 1\",IF(COUNTIF(Général!B43:J43,$G$1)=1,\"Course 2\",IF(COUNTIF(Général!B45:J45,$G$1)=1,\"Course 3\",\"Course 4\")))","v":"Course 3"},{"$f":"IF(COUNTIF(Général!B49:J49,$G$1)=1,\"Course 1\",IF(COUNTIF(Général!B51:J51,$G$1)=1,\"Course 2\",IF(COUNTIF(Général!B53:J53,$G$1)=1,\"Course 3\",\"Course 4\")))","v":"Course 3"},{"$f":"IF(COUNTIF(Général!B57:J57,$G$1)=1,\"Course 1\",IF(COUNTIF(Général!B59:J59,$G$1)=1,\"Course 2\",IF(COUNTIF(Général!B61:J61,$G$1)=1,\"Course 3\",\"Course 4\")))","v":"Course 2"},{"$f":"IF(COUNTIF(Général!B65:J65,$G$1)=1,\"Course 1\",IF(COUNTIF(Général!B67:J67,$G$1)=1,\"Course 2\",IF(COUNTIF(Général!B69:J69,$G$1)=1,\"Course 3\",\"Course 4\")))","v":"Course 2"},{"$f":"IF(COUNTIF(Général!B73:J73,$G$1)=1,\"Course 1\",IF(COUNTIF(Général!B75:J75,$G$1)=1,\"Course 2\",IF(COUNTIF(Général!B77:J77,$G$1)=1,\"Course 3\",\"Course 4\")))","v":"Course 3"},{"$f":"IF(COUNTIF(Général!B81:J81,$G$1)=1,\"Course 1\",IF(COUNTIF(Général!B83:J83,$G$1)=1,\"Course 2\",IF(COUNTIF(Général!B85:J85,$G$1)=1,\"Course 3\",\"Course 4\")))","v":"Course 1"},{"$f":"IF(COUNTIF(Général!B89:J89,$G$1)=1,\"Course 1\",IF(COUNTIF(Général!B91:J91,$G$1)=1,\"Course 2\",IF(COUNTIF(Général!B93:J93,$G$1)=1,\"Course 3\",\"Course 4\")))","v":"Course 3"},{"$f":"IF(COUNTIF(Général!B97:J97,$G$1)=1,\"Course 1\",IF(COUNTIF(Général!B99:J99,$G$1)=1,\"Course 2\",IF(COUNTIF(Général!B101:J101,$G$1)=1,\"Course 3\",\"Course 4\")))","v":"Course 1"},{"$f":"IF(COUNTIF(Général!B105:J105,$G$1)=1,\"Course 1\",IF(COUNTIF(Général!B107:J107,$G$1)=1,\"Course 2\",IF(COUNTIF(Général!B109:J109,$G$1)=1,\"Course 3\",\"Course 4\")))","v":"Course 2"},{"$f":"IF(COUNTIF(Général!B113:J113,$G$1)=1,\"Course 1\",IF(COUNTIF(Général!B115:J115,$G$1)=1,\"Course 2\",IF(COUNTIF(Général!B117:J117,$G$1)=1,\"Course 3\",\"Course 4\")))","v":"Course 3"},{"$f":"IF(COUNTIF(Général!B121:J121,$G$1)=1,\"Course 1\",IF(COUNTIF(Général!B123:J123,$G$1)=1,\"Course 2\",IF(COUNTIF(Général!B125:J125,$G$1)=1,\"Course 3\",\"Course 4\")))","v":"Course 3"},{"$f":"IF(COUNTIF(Général!B129:J129,$G$1)=1,\"Course 1\",IF(COUNTIF(Général!B131:J131,$G$1)=1,\"Course 2\",IF(COUNTIF(Général!B133:J133,$G$1)=1,\"Course 3\",\"Course 4\")))","v":"Course 1"},{"$f":"IF(COUNTIF(Général!B137:J137,$G$1)=1,\"Course 1\",IF(COUNTIF(Général!B139:J139,$G$1)=1,\"Course 2\",IF(COUNTIF(Général!B141:J141,$G$1)=1,\"Course 3\",\"Course 4\")))","v":"Course 2"},{"$f":"IF(COUNTIF(Général!B145:J145,$G$1)=1,\"Course 1\",IF(COUNTIF(Général!B147:J147,$G$1)=1,\"Course 2\",IF(COUNTIF(Général!B149:J149,$G$1)=1,\"Course 3\",\"Course 4\")))","v":"Course 2"},{"$f":"IF(COUNTIF(Général!B153:J153,$G$1)=1,\"Course 1\",IF(COUNTIF(Général!B155:J155,$G$1)=1,\"Course 2\",IF(COUNTIF(Général!B157:J157,$G$1)=1,\"Course 3\",\"Course 4\")))","v":"Course 2"},{"$f":"IF(COUNTIF(Général!B161:J161,$G$1)=1,\"Course 1\",IF(COUNTIF(Général!B163:J163,$G$1)=1,\"Course 2\",IF(COUNTIF(Général!B165:J165,$G$1)=1,\"Course 3\",\"Course 4\")))","v":"Course 1"},{"$f":"IF(COUNTIF(Général!B169:J169,$G$1)=1,\"Course 1\",IF(COUNTIF(Général!B171:J171,$G$1)=1,\"Course 2\",IF(COUNTIF(Général!B173:J173,$G$1)=1,\"Course 3\",\"Course 4\")))","v":"Course 1"},null,{"$f":"Général!B7","v":"ENSTA Bretagne 2"},5]
["Bateau",null,{"$f":"IF(COUNTIF(Général!B33:B38,$G$1)=1,\"Boat 1\",IF(COUNTIF(Général!C33:C38,$G$1)=1,\"Boat 2\",IF(COUNTIF(Général!D33:D38,$G$1)=1,\"Boat 3\", IF(COUNTIF(Général!E33:E38,$G$1)=1,\"Boat 4\", IF(COUNTIF(Général!F33:F38,$G$1)=1,\"Boat 5\", IF(COUNTIF(Général!G33:G38,$G$1)=1,\"Boat 6\", IF(COUNTIF(Général!H33:H38,$G$1)=1,\"Boat 7\",IF(COUNTIF(Général!I33:I38,$G$1)=1,\"Boat 8\",\"Boat 9\"))))))))","v":"Boat 4"},{"$f":"IF(COUNTIF(Général!B41:B46,$G$1)=1,\"Boat 1\",IF(COUNTIF(Général!C41:C46,$G$1)=1,\"Boat 2\",IF(COUNTIF(Général!D41:D46,$G$1)=1,\"Boat 3\", IF(COUNTIF(Général!E41:E46,$G$1)=1,\"Boat 4\", IF(COUNTIF(Général!F41:F46,$G$1)=1,\"Boat 5\", IF(COUNTIF(Général!G41:G46,$G$1)=1,\"Boat 6\", IF(COUNTIF(Général!H41:H46,$G$1)=1,\"Boat 7\",IF(COUNTIF(Général!I33:I38,$G$1)=1,\"Boat 8\",\"Boat 9\"))))))))","v":"Boat 4"},{"$f":"IF(COUNTIF(Général!B49:B54,$G$1)=1,\"Boat 1\",IF(COUNTIF(Général!C49:C54,$G$1)=1,\"Boat 2\",IF(COUNTIF(Général!D49:D54,$G$1)=1,\"Boat 3\", IF(COUNTIF(Général!E49:E54,$G$1)=1,\"Boat 4\", IF(COUNTIF(Général!F49:F54,$G$1)=1,\"Boat 5\", IF(COUNTIF(Général!G49:G54,$G$1)=1,\"Boat 6\", IF(COUNTIF(Général!H49:H54,$G$1)=1,\"Boat 7\",IF(COUNTIF(Général!I33:I38,$G$1)=1,\"Boat 8\",\"Boat 9\"))))))))","v":"Boat 5"},{"$f":"IF(COUNTIF(Général!B57:B62,$G$1)=1,\"Boat 1\",IF(COUNTIF(Général!C57:C62,$G$1)=1,\"Boat 2\",IF(COUNTIF(Général!D57:D62,$G$1)=1,\"Boat 3\", IF(COUNTIF(Général!E57:E62,$G$1)=1,\"Boat 4\", IF(COUNTIF(Général!F57:F62,$G$1)=1,\"Boat 5\", IF(COUNTIF(Général!G57:G62,$G$1)=1,\"Boat 6\", IF(COUNTIF(Général!H57:H62,$G$1)=1,\"Boat 7\",IF(COUNTIF(Général!I33:I38,$G$1)=1,\"Boat 8\",\"Boat 9\"))))))))","v":"Boat 2"},{"$f":"IF(COUNTIF(Général!B65:B70,$G$1)=1,\"Boat 1\",IF(COUNTIF(Général!C65:C70,$G$1)=1,\"Boat 2\",IF(COUNTIF(Général!D65:D70,$G$1)=1,\"Boat 3\", IF(COUNTIF(Général!E65:E70,$G$1)=1,\"Boat 4\", IF(COUNTIF(Général!F65:F70,$G$1)=1,\"Boat 5\", IF(COUNTIF(Général!G65:G70,$G$1)=1,\"Boat 6\", IF(COUNTIF(Général!H65:H70,$G$1)=1,\"Boat 7\",IF(COUNTIF(Général!I33:I38,$G$1)=1,\"Boat 8\",\"Boat 9\"))))))))","v":"Boat 2"},{"$f":"IF(COUNTIF(Général!B73:B78,$G$1)=1,\"Boat 1\",IF(COUNTIF(Général!C73:C78,$G$1)=1,\"Boat 2\",IF(COUNTIF(Général!D73:D78,$G$1)=1,\"Boat 3\", IF(COUNTIF(Général!E73:E78,$G$1)=1,\"Boat 4\", IF(COUNTIF(Général!F73:F78,$G$1)=1,\"Boat 5\", IF(COUNTIF(Général!G73:G78,$G$1)=1,\"Boat 6\", IF(COUNTIF(Général!H73:H78,$G$1)=1,\"Boat 7\",IF(COUNTIF(Général!I33:I38,$G$1)=1,\"Boat 8\",\"Boat 9\"))))))))","v":"Boat 9"},{"$f":"IF(COUNTIF(Général!B81:B86,$G$1)=1,\"Boat 1\",IF(COUNTIF(Général!C81:C86,$G$1)=1,\"Boat 2\",IF(COUNTIF(Général!D81:D86,$G$1)=1,\"Boat 3\", IF(COUNTIF(Général!E81:E86,$G$1)=1,\"Boat 4\", IF(COUNTIF(Général!F81:F86,$G$1)=1,\"Boat 5\", IF(COUNTIF(Général!G81:G86,$G$1)=1,\"Boat 6\", IF(COUNTIF(Général!H81:H86,$G$1)=1,\"Boat 7\",IF(COUNTIF(Général!I33:I38,$G$1)=1,\"Boat 8\",\"Boat 9\"))))))))","v":"Boat 9"},{"$f":"IF(COUNTIF(Général!B89:B94,$G$1)=1,\"Boat 1\",IF(COUNTIF(Général!C89:C94,$G$1)=1,\"Boat 2\",IF(COUNTIF(Général!D89:D94,$G$1)=1,\"Boat 3\", IF(COUNTIF(Général!E89:E94,$G$1)=1,\"Boat 4\", IF(COUNTIF(Général!F89:F94,$G$1)=1,\"Boat 5\", IF(COUNTIF(Général!G89:G94,$G$1)=1,\"Boat 6\", IF(COUNTIF(Général!H89:H94,$G$1)=1,\"Boat 7\",IF(COUNTIF(Général!I33:I38,$G$1)=1,\"Boat 8\",\"Boat 9\"))))))))","v":"Boat 1"},{"$f":"IF(COUNTIF(Général!B97:B102,$G$1)=1,\"Boat 1\",IF(COUNTIF(Général!C97:C102,$G$1)=1,\"Boat 2\",IF(COUNTIF(Général!D97:D102,$G$1)=1,\"Boat 3\", IF(COUNTIF(Général!E97:E102,$G$1)=1,\"Boat 4\", IF(COUNTIF(Général!F97:F102,$G$1)=1,\"Boat 5\", IF(COUNTIF(Général!G97:G102,$G$1)=1,\"Boat 6\", IF(COUNTIF(Général!H97:H102,$G$1)=1,\"Boat 7\",IF(COUNTIF(Général!I33:I38,$G$1)=1,\"Boat 8\",\"Boat 9\"))))))))","v":"Boat 1"},{"$f":"IF(COUNTIF(Général!B105:B110,$G$1)=1,\"Boat 1\",IF(COUNTIF(Général!C105:C110,$G$1)=1,\"Boat 2\",IF(COUNTIF(Général!D105:D110,$G$1)=1,\"Boat 3\", IF(COUNTIF(Général!E105:E110,$G$1)=1,\"Boat 4\", IF(COUNTIF(Général!F105:F110,$G$1)=1,\"Boat 5\", IF(COUNTIF(Général!G105:G110,$G$1)=1,\"Boat 6\", IF(COUNTIF(Général!H105:H110,$G$1)=1,\"Boat 7\",IF(COUNTIF(Général!I33:I38,$G$1)=1,\"Boat 8\",\"Boat 9\"))))))))","v":"Boat 6"},{"$f":"IF(COUNTIF(Général!B113:B118,$G$1)=1,\"Boat 1\",IF(COUNTIF(Général!C113:C118,$G$1)=1,\"Boat 2\",IF(COUNTIF(Général!C113:D118,$G$1)=1,\"Boat 3\", IF(COUNTIF(Général!C113:E118,$G$1)=1,\"Boat 4\", IF(COUNTIF(Général!F113:F118,$G$1)=1,\"Boat 5\", IF(COUNTIF(Général!G113:G118,$G$1)=1,\"Boat 6\", IF(COUNTIF(Général!H113:H118,$G$1)=1,\"Boat 7\",IF(COUNTIF(Général!I33:I38,$G$1)=1,\"Boat 8\",\"Boat 9\"))))))))","v":"Boat 6"},{"$f":"IF(COUNTIF(Général!B121:B126,$G$1)=1,\"Boat 1\",IF(COUNTIF(Général!C121:C126,$G$1)=1,\"Boat 2\",IF(COUNTIF(Général!D121:D126,$G$1)=1,\"Boat 3\", IF(COUNTIF(Général!E121:E126,$G$1)=1,\"Boat 4\", IF(COUNTIF(Général!F121:F126,$G$1)=1,\"Boat 5\", IF(COUNTIF(Général!G121:G126,$G$1)=1,\"Boat 6\", IF(COUNTIF(Général!H121:H126,$G$1)=1,\"Boat 7\",IF(COUNTIF(Général!I33:I38,$G$1)=1,\"Boat 8\",\"Boat 9\"))))))))","v":"Boat 3"},{"$f":"IF(COUNTIF(Général!B129:B134,$G$1)=1,\"Boat 1\",IF(COUNTIF(Général!C129:C134,$G$1)=1,\"Boat 2\",IF(COUNTIF(Général!D131:D134,$G$1)=1,\"Boat 3\", IF(COUNTIF(Général!E129:E134,$G$1)=1,\"Boat 4\", IF(COUNTIF(Général!F129:F134,$G$1)=1,\"Boat 5\", IF(COUNTIF(Général!G129:G134,$G$1)=1,\"Boat 6\", IF(COUNTIF(Général!H129:H134,$G$1)=1,\"Boat 7\",IF(COUNTIF(Général!I33:I38,$G$1)=1,\"Boat 8\",\"Boat 9\"))))))))","v":"Boat 9"},{"$f":"IF(COUNTIF(Général!B137:B142,$G$1)=1,\"Boat 1\",IF(COUNTIF(Général!C137:C142,$G$1)=1,\"Boat 2\",IF(COUNTIF(Général!D137:D142,$G$1)=1,\"Boat 3\", IF(COUNTIF(Général!E137:E142,$G$1)=1,\"Boat 4\", IF(COUNTIF(Général!F145:F150,$G$1)=1,\"Boat 5\", IF(COUNTIF(Général!G145:G150,$G$1)=1,\"Boat 6\", IF(COUNTIF(Général!H145:H150,$G$1)=1,\"Boat 7\",IF(COUNTIF(Général!I33:I38,$G$1)=1,\"Boat 8\",\"Boat 9\"))))))))","v":"Boat 9"},{"$f":"IF(COUNTIF(Général!B145:B150,$G$1)=1,\"Boat 1\",IF(COUNTIF(Général!C145:C150,$G$1)=1,\"Boat 2\",IF(COUNTIF(Général!D145:D150,$G$1)=1,\"Boat 3\", IF(COUNTIF(Général!E145:E150,$G$1)=1,\"Boat 4\", IF(COUNTIF(Général!F145:F150,$G$1)=1,\"Boat 5\", IF(COUNTIF(Général!G145:G150,$G$1)=1,\"Boat 6\", IF(COUNTIF(Général!H145:H150,$G$1)=1,\"Boat 7\",IF(COUNTIF(Général!I33:I38,$G$1)=1,\"Boat 8\",\"Boat 9\"))))))))","v":"Boat 9"},{"$f":"IF(COUNTIF(Général!B153:B158,$G$1)=1,\"Boat 1\",IF(COUNTIF(Général!C153:C158,$G$1)=1,\"Boat 2\",IF(COUNTIF(Général!D153:D158,$G$1)=1,\"Boat 3\", IF(COUNTIF(Général!E153:E158,$G$1)=1,\"Boat 4\", IF(COUNTIF(Général!F153:F158,$G$1)=1,\"Boat 5\", IF(COUNTIF(Général!G153:G158,$G$1)=1,\"Boat 6\", IF(COUNTIF(Général!H153:H158,$G$1)=1,\"Boat 7\",IF(COUNTIF(Général!I33:I38,$G$1)=1,\"Boat 8\",\"Boat 9\"))))))))","v":"Boat 7"},{"$f":"IF(COUNTIF(Général!B161:B166,$G$1)=1,\"Boat 1\",IF(COUNTIF(Général!C161:C166,$G$1)=1,\"Boat 2\",IF(COUNTIF(Général!D161:D166,$G$1)=1,\"Boat 3\", IF(COUNTIF(Général!E161:E166,$G$1)=1,\"Boat 4\", IF(COUNTIF(Général!F161:F166,$G$1)=1,\"Boat 5\", IF(COUNTIF(Général!G161:G166,$G$1)=1,\"Boat 6\", IF(COUNTIF(Général!H161:H166,$G$1)=1,\"Boat 7\",IF(COUNTIF(Général!I33:I38,$G$1)=1,\"Boat 8\",\"Boat 9\"))))))))","v":"Boat 2"},{"$f":"IF(COUNTIF(Général!B169:B174,$G$1)=1,\"Boat 1\",IF(COUNTIF(Général!C169:C174,$G$1)=1,\"Boat 2\",IF(COUNTIF(Général!D169:D174,$G$1)=1,\"Boat 3\", IF(COUNTIF(Général!E169:E174,$G$1)=1,\"Boat 4\", IF(COUNTIF(Général!F169:F174,$G$1)=1,\"Boat 5\", IF(COUNTIF(Général!G169:G174,$G$1)=1,\"Boat 6\", IF(COUNTIF(Général!H169:H174,$G$1)=1,\"Boat 7\",IF(COUNTIF(Général!I33:I38,$G$1)=1,\"Boat 8\",\"Boat 9\"))))))))","v":"Boat 3"},null,{"$f":"Général!B8","v":"IMT Atlantique Nantes 2"},5]
[null,null,null,null,null,null,null,null,null,null,null,null,null,null,null,null,null,null,null,null,null,{"$f":"Général!B9","v":"Hambourg"},7]
["1er Equipage",null,{"$f":"IF($C$5=\"Course 1\",Général!B33,IF($C$5=\"Course 2\",Général!B35,IF($C$5=\"Course 3\",Général!B37,Général!#REF!)))","v":"ENSTA Paris"},{"$f":"IF($D$5=\"Course 1\",Général!B41,IF($D$5=\"Course 2\",Général!B43,IF($D$5=\"Course 3\",Général!B45,Général!#REF!)))","v":"Univ. Nantes 2"},{"$f":"IF($E$5=\"Course 1\",Général!B49,IF($E$5=\"Course 2\",Général!B51,IF($E$5=\"Course 3\",Général!B53,Général!#REF!)))","v":"Univ.Orléans"},{"$f":"IF($F$5=\"Course 1\",Général!B$57,IF($F$5=\"Course 2\",Général!B$59,IF($F$5=\"Course 3\",Général!B$61,Général!#REF!)))","v":"Univ.Orléans"},{"$f":"IF($G$5=\"Course 1\",Général!B$65,IF($G$5=\"Course 2\",Général!B$67,IF($G$5=\"Course 3\",Général!B$69,Général!#REF!)))","v":"AS UB St Brieuc"},{"$f":"IF($H$5=\"Course 1\",Général!B$73,IF($H$5=\"Course 2\",Général!B$75,IF($H$5=\"Course 3\",Général!B$77,Général!#REF!)))","v":"ENSTA Bretagne 2"},{"$f":"IF($I$5=\"Course 1\",Général!B$81,IF($I$5=\"Course 2\",Général!B$83,IF($I$5=\"Course 3\",Général!B$85,Général!#REF!)))","v":"Dublin"},{"$f":"IF($J$5=\"Course 1\",Général!B$89,IF($J$5=\"Course 2\",Général!B$91,IF($J$5=\"Course 3\",Général!B$93,Général!#REF!)))","v":"AS Paris 1 Panthéon Sorbonne"},{"$f":"IF($K$5=\"Course 1\",Général!B$97,IF($K$5=\"Course 2\",Général!B$99,IF($K$5=\"Course 3\",Général!B$101,Général!#REF!)))","v":"AS Paris 1 Panthéon Sorbonne"},{"$f":"IF($L$5=\"Course 1\",Général!B$105,IF($L$5=\"Course 2\",Général!B$107,IF($L$5=\"Course 3\",Général!B$109,Général!#REF!)))","v":"UBO 2"},{"$f":"IF($M$5=\"Course 1\",Général!B$113,IF($M$5=\"Course 2\",Général!B$115,IF($M$5=\"Course 3\",Général!B$117,Général!#REF!)))","v":"Karlsruhe"},{"$f":"IF($N$5=\"Course 1\",Général!B$121,IF($N$5=\"Course 2\",Général!B$123,IF($N$5=\"Course 3\",Général!B$125,Général!#REF!)))","v":"UBO 1"},{"$f":"IF($O$5=\"Course 1\",Général!B$129,IF($O$5=\"Course 2\",Général!B$131,IF($O$5=\"Course 3\",Général!B$133,Général!#REF!)))","v":"Hannovre"},{"$f":"IF($P$5=\"Course 1\",Général!B$137,IF($P$5=\"Course 2\",Général!B$139,IF($P$5=\"Course 3\",Général!B$141,Général!#REF!)))","v":"Southampton"},{"$f":"IF($Q$5=\"Course 1\",Général!B$145,IF($Q$5=\"Course 2\",Général!B$147,IF($Q$5=\"Course 3\",Général!B$149,Général!#REF!)))","v":"EGSI La Rochelle"},{"$f":"IF($R$5=\"Course 1\",Général!B$153,IF($R$5=\"Course 2\",Général!B$155,IF($R$5=\"Course 3\",Général!B$157,Général!#REF!)))","v":"Dublin"},{"$f":"IF($S$5=\"Course 1\",Général!B$161,IF($S$5=\"Course 2\",Général!B$163,IF($S$5=\"Course 3\",Général!B$165,Général!#REF!)))","v":"AS UB St Brieuc"},{"$f":"IF($T$5=\"Course 1\",Général!B$169,IF($T$5=\"Course 2\",Général!B$171,IF($T$5=\"Course 3\",Général!B$173,Général!#REF!)))","v":"HYDRO Sailing Team Le Havre"},null,{"$f":"Général!B10","v":"EGSI La Rochelle"},6]
["2nd Equipage",null,{"$f":"IF($C$5=\"Course 1\",Général!C33,IF($C$5=\"Course 2\",Général!C35,IF($C$5=\"Course 3\",Général!C37,Général!#REF!)))","v":"Univ. Nantes 2"},{"$f":"IF($D$5=\"Course 1\",Général!C41,IF($D$5=\"Course 2\",Général!C43,IF($D$5=\"Course 3\",Général!C45,Général!#REF!)))","v":"IMT Atlantique Nantes 2"},{"$f":"IF($E$5=\"Course 1\",Général!C49,IF($E$5=\"Course 2\",Général!C51,IF($E$5=\"Course 3\",Général!C53,Général!#REF!)))","v":"ENSTA Bretagne 2"},{"$f":"IF($F$5=\"Course 1\",Général!C$57,IF($F$5=\"Course 2\",Général!C$59,IF($F$5=\"Course 3\",Général!C$61,Général!#REF!)))","v":"AS Paris 1 Panthéon Sorbonne"},{"$f":"IF($G$5=\"Course 1\",Général!C$65,IF($G$5=\"Course 2\",Général!C$67,IF($G$5=\"Course 3\",Général!C$69,Général!#REF!)))","v":"AS Paris 1 Panthéon Sorbonne"},{"$f":"IF($H$5=\"Course 1\",Général!C$73,IF($H$5=\"Course 2\",Général!C$75,IF($H$5=\"Course 3\",Général!C$77,Général!#REF!)))","v":"ENSTA Paris"},{"$f":"IF($I$5=\"Course 1\",Général!C$81,IF($I$5=\"Course 2\",Général!C$83,IF($I$5=\"Course 3\",Général!C$85,Général!#REF!)))","v":"Hambourg"},{"$f":"IF($J$5=\"Course 1\",Général!C$89,IF($J$5=\"Course 2\",Général!C$91,IF($J$5=\"Course 3\",Général!C$93,Général!#REF!)))","v":"UBO 1"},{"$f":"IF($K$5=\"Course 1\",Général!C$97,IF($K$5=\"Course 2\",Général!C$99,IF($K$5=\"Course 3\",Général!C$101,Général!#REF!)))","v":"ASUL Lannion"},{"$f":"IF($L$5=\"Course 1\",Général!C$105,IF($L$5=\"Course 2\",Général!C$107,IF($L$5=\"Course 3\",Général!C$109,Général!#REF!)))","v":"ENSTA Bretagne 1"},{"$f":"IF($M$5=\"Course 1\",Général!C$113,IF($M$5=\"Course 2\",Général!C$115,IF($M$5=\"Course 3\",Général!C$117,Général!#REF!)))","v":"ENSTA Bretagne 1"},{"$f":"IF($N$5=\"Course 1\",Général!C$121,IF($N$5=\"Course 2\",Général!C$123,IF($N$5=\"Course 3\",Général!C$125,Général!#REF!)))","v":"IMT Atlantique Brest"},{"$f":"IF($O$5=\"Course 1\",Général!C$129,IF($O$5=\"Course 2\",Général!C$131,IF($O$5=\"Course 3\",Général!C$133,Général!#REF!)))","v":"Univ. Nantes 3"},{"$f":"IF($P$5=\"Course 1\",Général!C$137,IF($P$5=\"Course 2\",Général!C$139,IF($P$5=\"Course 3\",Général!C$141,Général!#REF!)))","v":"Centrales Nantes"},{"$f":"IF($Q$5=\"Course 1\",Général!C$145,IF($Q$5=\"Course 2\",Général!C$147,IF($Q$5=\"Course 3\",Général!C$149,Général!#REF!)))","v":"IMT Atlantique Brest"},{"$f":"IF($R$5=\"Course 1\",Général!C$153,IF($R$5=\"Course 2\",Général!C$155,IF($R$5=\"Course 3\",Général!C$157,Général!#REF!)))","v":"Univ. Nantes 1"},{"$f":"IF($S$5=\"Course 1\",Général!C$161,IF($S$5=\"Course 2\",Général!C$163,IF($S$5=\"Course 3\",Général!C$165,Général!#REF!)))","v":"AS Paris 1 Panthéon Sorbonne"},{"$f":"IF($T$5=\"Course 1\",Général!C$169,IF($T$5=\"Course 2\",Général!C$171,IF($T$5=\"Course 3\",Général!C$173,Général!#REF!)))","v":"Hambourg"},null,{"$f":"Général!B11","v":"HYDRO Sailing Team Le Havre"},6]
["3ème Equipage",null,{"$f":"IF($C$5=\"Course 1\",Général!D33,IF($C$5=\"Course 2\",Général!D35,IF($C$5=\"Course 3\",Général!D37,Général!#REF!)))","v":"IMT Atlantique Nantes 1"},{"$f":"IF($D$5=\"Course 1\",Général!D41,IF($D$5=\"Course 2\",Général!D43,IF($D$5=\"Course 3\",Général!D45,Général!#REF!)))","v":"HYDRO Sailing Team Le Havre"},{"$f":"IF($E$5=\"Course 1\",Général!D49,IF($E$5=\"Course 2\",Général!D51,IF($E$5=\"Course 3\",Général!D53,Général!#REF!)))","v":"UBS Lorient 2"},{"$f":"IF($F$5=\"Course 1\",Général!D$57,IF($F$5=\"Course 2\",Général!D$59,IF($F$5=\"Course 3\",Général!D$61,Général!#REF!)))","v":"Karlsruhe"},{"$f":"IF($G$5=\"Course 1\",Général!D$65,IF($G$5=\"Course 2\",Général!D$67,IF($G$5=\"Course 3\",Général!D$69,Général!#REF!)))","v":"Karlsruhe"},{"$f":"IF($H$5=\"Course 1\",Général!D$73,IF($H$5=\"Course 2\",Général!D$75,IF($H$5=\"Course 3\",Général!D$77,Général!#REF!)))","v":"Univ.Orléans"},{"$f":"IF($I$5=\"Course 1\",Général!D$81,IF($I$5=\"Course 2\",Général!D$83,IF($I$5=\"Course 3\",Général!D$85,Général!#REF!)))","v":"Univ.Orléans"},{"$f":"IF($J$5=\"Course 1\",Général!D$89,IF($J$5=\"Course 2\",Général!D$91,IF($J$5=\"Course 3\",Général!D$93,Général!#REF!)))","v":"ENSTA Paris"},{"$f":"IF($K$5=\"Course 1\",Général!D$97,IF($K$5=\"Course 2\",Général!D$99,IF($K$5=\"Course 3\",Général!D$101,Général!#REF!)))","v":"ENSTA Paris"},{"$f":"IF($L$5=\"Course 1\",Général!D$105,IF($L$5=\"Course 2\",Général!D$107,IF($L$5=\"Course 3\",Général!D$109,Général!#REF!)))","v":"Univ. Nantes 2"},{"$f":"IF($M$5=\"Course 1\",Général!D$113,IF($M$5=\"Course 2\",Général!D$115,IF($M$5=\"Course 3\",Général!D$117,Général!#REF!)))","v":"UNICAEN - ASSUCherbourg"},{"$f":"IF($N$5=\"Course 1\",Général!D$121,IF($N$5=\"Course 2\",Général!D$123,IF($N$5=\"Course 3\",Général!D$125,Général!#REF!)))","v":"AS Paris 1 Panthéon Sorbonne"},{"$f":"IF($O$5=\"Course 1\",Général!D$129,IF($O$5=\"Course 2\",Général!D$131,IF($O$5=\"Course 3\",Général!D$133,Général!#REF!)))","v":"AS Paris 1 Panthéon Sorbonne"},{"$f":"IF($P$5=\"Course 1\",Général!D$137,IF($P$5=\"Course 2\",Général!D$139,IF($P$5=\"Course 3\",Général!D$141,Général!#REF!)))","v":"ENSTA Bretagne 1"},{"$f":"IF($Q$5=\"Course 1\",Général!D$145,IF($Q$5=\"Course 2\",Général!D$147,IF($Q$5=\"Course 3\",Général!D$149,Général!#REF!)))","v":"Hambourg"},{"$f":"IF($R$5=\"Course 1\",Général!D$153,IF($R$5=\"Course 2\",Général!D$155,IF($R$5=\"Course 3\",Général!D$157,Général!#REF!)))","v":"UBO 2"},{"$f":"IF($S$5=\"Course 1\",Général!D$161,IF($S$5=\"Course 2\",Général!D$163,IF($S$5=\"Course 3\",Général!D$165,Général!#REF!)))","v":"Karlsruhe"},{"$f":"IF($T$5=\"Course 1\",Général!D$169,IF($T$5=\"Course 2\",Général!D$171,IF($T$5=\"Course 3\",Général!D$173,Général!#REF!)))","v":"AS Paris 1 Panthéon Sorbonne"},null,{"$f":"Général!B12","v":"UNICAEN - ASSUCherbourg"},4]
["4ème Equipage",null,{"$f":"IF($C$5=\"Course 1\",Général!E33,IF($C$5=\"Course 2\",Général!E35,IF($C$5=\"Course 3\",Général!E37,Général!#REF!)))","v":"AS Paris 1 Panthéon Sorbonne"},{"$f":"IF($D$5=\"Course 1\",Général!E41,IF($D$5=\"Course 2\",Général!E43,IF($D$5=\"Course 3\",Général!E45,Général!#REF!)))","v":"AS Paris 1 Panthéon Sorbonne"},{"$f":"IF($E$5=\"Course 1\",Général!E49,IF($E$5=\"Course 2\",Général!E51,IF($E$5=\"Course 3\",Général!E53,Général!#REF!)))","v":"Univ. La Rochelle"},{"$f":"IF($F$5=\"Course 1\",Général!E$57,IF($F$5=\"Course 2\",Général!E$59,IF($F$5=\"Course 3\",Général!E$61,Général!#REF!)))","v":"ASUL Lannion"},{"$f":"IF($G$5=\"Course 1\",Général!E$65,IF($G$5=\"Course 2\",Général!E$67,IF($G$5=\"Course 3\",Général!E$69,Général!#REF!)))","v":"EGSI La Rochelle"},{"$f":"IF($H$5=\"Course 1\",Général!E$73,IF($H$5=\"Course 2\",Général!E$75,IF($H$5=\"Course 3\",Général!E$77,Général!#REF!)))","v":"EGSI La Rochelle"},{"$f":"IF($I$5=\"Course 1\",Général!E$81,IF($I$5=\"Course 2\",Général!E$83,IF($I$5=\"Course 3\",Général!E$85,Général!#REF!)))","v":"Hannovre"},{"$f":"IF($J$5=\"Course 1\",Général!E$89,IF($J$5=\"Course 2\",Général!E$91,IF($J$5=\"Course 3\",Général!E$93,Général!#REF!)))","v":"Karlsruhe"},{"$f":"IF($K$5=\"Course 1\",Général!E$97,IF($K$5=\"Course 2\",Général!E$99,IF($K$5=\"Course 3\",Général!E$101,Général!#REF!)))","v":"UBO 1"},{"$f":"IF($L$5=\"Course 1\",Général!E$105,IF($L$5=\"Course 2\",Général!E$107,IF($L$5=\"Course 3\",Général!E$109,Général!#REF!)))","v":"Univ. Nantes 3"},{"$f":"IF($M$5=\"Course 1\",Général!E$113,IF($M$5=\"Course 2\",Général!E$115,IF($M$5=\"Course 3\",Général!E$117,Général!#REF!)))","v":"ENSTA Bretagne 2"},{"$f":"IF($N$5=\"Course 1\",Général!E$121,IF($N$5=\"Course 2\",Général!E$123,IF($N$5=\"Course 3\",Général!E$125,Général!#REF!)))","v":"IMT Atlantique Nantes 2"},{"$f":"IF($O$5=\"Course 1\",Général!E$129,IF($O$5=\"Course 2\",Général!E$131,IF($O$5=\"Course 3\",Général!E$133,Général!#REF!)))","v":"IMT Atlantique Nantes 2"},{"$f":"IF($P$5=\"Course 1\",Général!E$137,IF($P$5=\"Course 2\",Général!E$139,IF($P$5=\"Course 3\",Général!E$141,Général!#REF!)))","v":"Hambourg"},{"$f":"IF($Q$5=\"Course 1\",Général!E$145,IF($Q$5=\"Course 2\",Général!E$147,IF($Q$5=\"Course 3\",Général!E$149,Général!#REF!)))","v":"Centrales Nantes"},{"$f":"IF($R$5=\"Course 1\",Général!E$153,IF($R$5=\"Course 2\",Général!E$155,IF($R$5=\"Course 3\",Général!E$157,Général!#REF!)))","v":"UNICAEN - ASSUCherbourg"},{"$f":"IF($S$5=\"Course 1\",Général!E$161,IF($S$5=\"Course 2\",Général!E$163,IF($S$5=\"Course 3\",Général!E$165,Général!#REF!)))","v":"Univ. Nantes 2"},{"$f":"IF($T$5=\"Course 1\",Général!E$169,IF($T$5=\"Course 2\",Général!E$171,IF($T$5=\"Course 3\",Général!E$173,Général!#REF!)))","v":"IMT Atlantique Brest"},null,{"$f":"Général!B13","v":"UBO 1"},7]
["5ème Equipage",null,{"$f":"IF($C$5=\"Course 1\",Général!F33,IF($C$5=\"Course 2\",Général!F35,IF($C$5=\"Course 3\",Général!F37,Général!#REF!)))","v":"Hambourg"},{"$f":"IF($D$5=\"Course 1\",Général!F41,IF($D$5=\"Course 2\",Général!F43,IF($D$5=\"Course 3\",Général!F45,Général!#REF!)))","v":"IMT Atlantique Brest"},{"$f":"IF($E$5=\"Course 1\",Général!F49,IF($E$5=\"Course 2\",Général!F51,IF($E$5=\"Course 3\",Général!F53,Général!#REF!)))","v":"AS Paris 1 Panthéon Sorbonne"},{"$f":"IF($F$5=\"Course 1\",Général!F$57,IF($F$5=\"Course 2\",Général!F$59,IF($F$5=\"Course 3\",Général!F$61,Général!#REF!)))","v":"Centrales Nantes"},{"$f":"IF($G$5=\"Course 1\",Général!F$65,IF($G$5=\"Course 2\",Général!F$67,IF($G$5=\"Course 3\",Général!F$69,Général!#REF!)))","v":"UBS Lorient 2"},{"$f":"IF($H$5=\"Course 1\",Général!F$73,IF($H$5=\"Course 2\",Général!F$75,IF($H$5=\"Course 3\",Général!F$77,Général!#REF!)))","v":"Univ. Nantes 2"},{"$f":"IF($I$5=\"Course 1\",Général!F$81,IF($I$5=\"Course 2\",Général!F$83,IF($I$5=\"Course 3\",Général!F$85,Général!#REF!)))","v":"UBO 2"},{"$f":"IF($J$5=\"Course 1\",Général!F$89,IF($J$5=\"Course 2\",Général!F$91,IF($J$5=\"Course 3\",Général!F$93,Général!#REF!)))","v":"Univ. La Rochelle"},{"$f":"IF($K$5=\"Course 1\",Général!F$97,IF($K$5=\"Course 2\",Général!F$99,IF($K$5=\"Course 3\",Général!F$101,Général!#REF!)))","v":"Dublin"},{"$f":"IF($L$5=\"Course 1\",Général!F$105,IF($L$5=\"Course 2\",Général!$F107,IF($L$5=\"Course 3\",Général!F$109,Général!#REF!)))","v":"HYDRO Sailing Team Le Havre"},{"$f":"IF($M$5=\"Course 1\",Général!F$113,IF($M$5=\"Course 2\",Général!F$115,IF($M$5=\"Course 3\",Général!F$117,Général!#REF!)))","v":"IMT Atlantique Nantes 1"},{"$f":"IF($N$5=\"Course 1\",Général!F$121,IF($N$5=\"Course 2\",Général!F$123,IF($N$5=\"Course 3\",Général!F$125,Général!#REF!)))","v":"ASUL Lannion"},{"$f":"IF($O$5=\"Course 1\",Général!F$129,IF($O$5=\"Course 2\",Général!F$131,IF($O$5=\"Course 3\",Général!F$133,Général!#REF!)))","v":"ASUL Lannion"},{"$f":"IF($P$5=\"Course 1\",Général!F$137,IF($P$5=\"Course 2\",Général!F$139,IF($P$5=\"Course 3\",Général!F$141,Général!#REF!)))","v":"UBO 1"},{"$f":"IF($Q$5=\"Course 1\",Général!F$145,IF($Q$5=\"Course 2\",Général!F$147,IF($Q$5=\"Course 3\",Général!F$149,Général!#REF!)))","v":"Univ. La Rochelle"},{"$f":"IF($R$5=\"Course 1\",Général!F$153,IF($R$5=\"Course 2\",Général!F$155,IF($R$5=\"Course 3\",Général!F$157,Général!#REF!)))","v":"UBO 1"},{"$f":"IF($S$5=\"Course 1\",Général!F$161,IF($S$5=\"Course 2\",Général!F$163,IF($S$5=\"Course 3\",Général!F$165,Général!#REF!)))","v":"ENSTA Paris"},{"$f":"IF($T$5=\"Course 1\",Général!F$169,IF($T$5=\"Course 2\",Général!F$171,IF($T$5=\"Course 3\",Général!F$173,Général!#REF!)))","v":"Univ. Nantes 1"},null,{"$f":"Général!B14","v":"ENSTA Bretagne 1"},6]
["6ème Equipage",null,{"$f":"IF($C$5=\"Course 1\",Général!G33,IF($C$5=\"Course 2\",Général!G35,IF($C$5=\"Course 3\",Général!G37,Général!#REF!)))","v":"UNICAEN - ASSUCherbourg"},{"$f":"IF($D$5=\"Course 1\",Général!G41,IF($D$5=\"Course 2\",Général!G43,IF($D$5=\"Course 3\",Général!G45,Général!#REF!)))","v":"UBS Lorient 2"},{"$f":"IF($E$5=\"Course 1\",Général!G49,IF($E$5=\"Course 2\",Général!G51,IF($E$5=\"Course 3\",Général!G53,Général!#REF!)))","v":"ENSTA Paris"},{"$f":"IF($F$5=\"Course 1\",Général!G$57,IF($F$5=\"Course 2\",Général!G$59,IF($F$5=\"Course 3\",Général!G$61,Général!#REF!)))","v":"Dublin"},{"$f":"IF($G$5=\"Course 1\",Général!G$65,IF($G$5=\"Course 2\",Général!G$67,IF($G$5=\"Course 3\",Général!G$69,Général!#REF!)))","v":"UBO 2"},{"$f":"IF($H$5=\"Course 1\",Général!G$73,IF($H$5=\"Course 2\",Général!G$75,IF($H$5=\"Course 3\",Général!G$77,Général!#REF!)))","v":"UBS Lorient 1"},{"$f":"IF($I$5=\"Course 1\",Général!G$81,IF($I$5=\"Course 2\",Général!G$83,IF($I$5=\"Course 3\",Général!G$85,Général!#REF!)))","v":"UBS Lorient 1"},{"$f":"IF($J$5=\"Course 1\",Général!G$89,IF($J$5=\"Course 2\",Général!G$91,IF($J$5=\"Course 3\",Général!G$93,Général!#REF!)))","v":"IMT Atlantique Nantes 2"},{"$f":"IF($K$5=\"Course 1\",Général!G$97,IF($K$5=\"Course 2\",Général!G$99,IF($K$5=\"Course 3\",Général!G$101,Général!#REF!)))","v":"Univ. Nantes 3"},{"$f":"IF($L$5=\"Course 1\",Général!G$105,IF($L$5=\"Course 2\",Général!G$107,IF($L$5=\"Course 3\",Général!G$109,Général!#REF!)))","v":"AS Paris 1 Panthéon Sorbonne"},{"$f":"IF($M$5=\"Course 1\",Général!G$113,IF($M$5=\"Course 2\",Général!G$115,IF($M$5=\"Course 3\",Général!G$117,Général!#REF!)))","v":"AS Paris 1 Panthéon Sorbonne"},{"$f":"IF($N$5=\"Course 1\",Général!G$121,IF($N$5=\"Course 2\",Général!G$123,IF($N$5=\"Course 3\",Général!G$125,Général!#REF!)))","v":"EGSI La Rochelle"},{"$f":"IF($O$5=\"Course 1\",Général!G$129,IF($O$5=\"Course 2\",Général!G$131,IF($O$5=\"Course 3\",Général!G$133,Général!#REF!)))","v":"IMT Atlantique Nantes 1"},{"$f":"IF($P$5=\"Course 1\",Général!G$137,IF($P$5=\"Course 2\",Général!G$139,IF($P$5=\"Course 3\",Général!G$141,Général!#REF!)))","v":"Univ. Nantes 3"},{"$f":"IF($Q$5=\"Course 1\",Général!G$145,IF($Q$5=\"Course 2\",Général!G$147,IF($Q$5=\"Course 3\",Général!G$149,Général!#REF!)))","v":"Dublin"},{"$f":"IF($R$5=\"Course 1\",Général!G$153,IF($R$5=\"Course 2\",Général!G$155,IF($R$5=\"Course 3\",Général!G$157,Général!#REF!)))","v":"UBS Lorient 1"},{"$f":"IF($S$5=\"Course 1\",Général!G$161,IF($S$5=\"Course 2\",Général!G$163,IF($S$5=\"Course 3\",Général!G$165,Général!#REF!)))","v":"Dublin"},{"$f":"IF($T$5=\"Course 1\",Général!G$169,IF($T$5=\"Course 2\",Général!G$171,IF($T$5=\"Course 3\",Général!G$173,Général!#REF!)))","v":"Hannovre"},null,{"$f":"Général!B15","v":"ASUL Lannion"},5]
["7ème Equipage",null,{"$f":"IF($C$5=\"Course 1\",Général!H33,IF($C$5=\"Course 2\",Général!H35,IF($C$5=\"Course 3\",Général!H37,Général!#REF!)))","v":"Centrales Nantes"},{"$f":"IF($D$5=\"Course 1\",Général!H41,IF($D$5=\"Course 2\",Général!H43,IF($D$5=\"Course 3\",Général!H45,Général!#REF!)))","v":"Hannovre"},{"$f":"IF($E$5=\"Course 1\",Général!H49,IF($E$5=\"Course 2\",Général!H51,IF($E$5=\"Course 3\",Général!H53,Général!#REF!)))","v":"Univ. Nantes 3"},{"$f":"IF($F$5=\"Course 1\",Général!H$57,IF($F$5=\"Course 2\",Général!H$59,IF($F$5=\"Course 3\",Général!H$61,Général!#REF!)))","v":"UBS Lorient 2"},{"$f":"IF($G$5=\"Course 1\",Général!H$65,IF($G$5=\"Course 2\",Général!H$67,IF($G$5=\"Course 3\",Général!H$69,Général!#REF!)))","v":"Southampton"},{"$f":"IF($H$5=\"Course 1\",Général!H$73,IF($H$5=\"Course 2\",Général!H$75,IF($H$5=\"Course 3\",Général!H$77,Général!#REF!)))","v":"Univ. Nantes 1"},{"$f":"IF($I$5=\"Course 1\",Général!H$81,IF($I$5=\"Course 2\",Général!H$83,IF($I$5=\"Course 3\",Général!H$85,Général!#REF!)))","v":"AS UB St Brieuc"},{"$f":"IF($J$5=\"Course 1\",Général!H$89,IF($J$5=\"Course 2\",Général!H$91,IF($J$5=\"Course 3\",Général!H$93,Général!#REF!)))","v":"IMT Atlantique Nantes 1"},{"$f":"IF($K$5=\"Course 1\",Général!H$97,IF($K$5=\"Course 2\",Général!H$99,IF($K$5=\"Course 3\",Général!H$101,Général!#REF!)))","v":"IMT Atlantique Nantes 1"},{"$f":"IF($L$5=\"Course 1\",Général!H$105,IF($L$5=\"Course 2\",Général!H$107,IF($L$5=\"Course 3\",Général!H$109,Général!#REF!)))","v":"Univ.Orléans"},{"$f":"IF($M$5=\"Course 1\",Général!H$113,IF($M$5=\"Course 2\",Général!H$115,IF($M$5=\"Course 3\",Général!H$117,Général!#REF!)))","v":"Dublin"},{"$f":"IF($N$5=\"Course 1\",Général!H$121,IF($N$5=\"Course 2\",Général!H$123,IF($N$5=\"Course 3\",Général!H$125,Général!#REF!)))","v":"UNICAEN - ASSUCherbourg"},{"$f":"IF($O$5=\"Course 1\",Général!H$129,IF($O$5=\"Course 2\",Général!H$131,IF($O$5=\"Course 3\",Général!H$133,Général!#REF!)))","v":"UBS Lorient 1"},{"$f":"IF($P$5=\"Course 1\",Général!H$137,IF($P$5=\"Course 2\",Général!H$139,IF($P$5=\"Course 3\",Général!H$141,Général!#REF!)))","v":"Univ.Orléans"},{"$f":"IF($Q$5=\"Course 1\",Général!H$145,IF($Q$5=\"Course 2\",Général!H$147,IF($Q$5=\"Course 3\",Général!H$149,Général!#REF!)))","v":"ASUL Lannion"},{"$f":"IF($R$5=\"Course 1\",Général!H$153,IF($R$5=\"Course 2\",Général!H$155,IF($R$5=\"Course 3\",Général!H$157,Général!#REF!)))","v":"AS Paris 1 Panthéon Sorbonne"},{"$f":"IF($S$5=\"Course 1\",Général!H$161,IF($S$5=\"Course 2\",Général!H$163,IF($S$5=\"Course 3\",Général!H$165,Général!#REF!)))","v":"IMT Atlantique Brest"},{"$f":"IF($T$5=\"Course 1\",Général!H$169,IF($T$5=\"Course 2\",Général!H$171,IF($T$5=\"Course 3\",Général!H$173,Général!#REF!)))","v":"Univ. Nantes 2"},null,{"$f":"Général!B16","v":"ENSTA Paris"},6]
["8ème Equipage",null,{"$f":"IF($C$5=\"Course 1\",Général!I33,IF($C$5=\"Course 2\",Général!I35,IF($C$5=\"Course 3\",Général!I37,Général!#REF!)))","v":"ENSTA Bretagne 1"},{"$f":"IF($D$5=\"Course 1\",Général!I41,IF($D$5=\"Course 2\",Général!I43,IF($D$5=\"Course 3\",Général!I45,Général!#REF!)))","v":"Univ. Nantes 1"},{"$f":"IF($E$5=\"Course 1\",Général!I49,IF($E$5=\"Course 2\",Général!I51,IF($E$5=\"Course 3\",Général!I53,Général!#REF!)))","v":"Southampton"},{"$f":"IF($F$5=\"Course 1\",Général!I$57,IF($F$5=\"Course 2\",Général!I$59,IF($F$5=\"Course 3\",Général!I$61,Général!#REF!)))","v":"EGSI La Rochelle"},{"$f":"IF($G$5=\"Course 1\",Général!I$65,IF($G$5=\"Course 2\",Général!I$67,IF($G$5=\"Course 3\",Général!I$69,Général!#REF!)))","v":"HYDRO Sailing Team Le Havre"},{"$f":"IF($H$5=\"Course 1\",Général!I$73,IF($H$5=\"Course 2\",Général!I$75,IF($H$5=\"Course 3\",Général!I$77,Général!#REF!)))","v":"UBO 1"},{"$f":"IF($I$5=\"Course 1\",Général!I$81,IF($I$5=\"Course 2\",Général!I$83,IF($I$5=\"Course 3\",Général!I$85,Général!#REF!)))","v":"Univ. La Rochelle"},{"$f":"IF($J$5=\"Course 1\",Général!I$89,IF($J$5=\"Course 2\",Général!I$91,IF($J$5=\"Course 3\",Général!I$93,Général!#REF!)))","v":"UBS Lorient 1"},{"$f":"IF($K$5=\"Course 1\",Général!I$97,IF($K$5=\"Course 2\",Général!I$99,IF($K$5=\"Course 3\",Général!I$101,Général!#REF!)))","v":"AS UB St Brieuc"},{"$f":"IF($L$5=\"Course 1\",Général!I$105,IF($L$5=\"Course 2\",Général!I$107,IF($L$5=\"Course 3\",Général!I$109,Général!#REF!)))","v":"EGSI La Rochelle"},{"$f":"IF($M$5=\"Course 1\",Général!I$113,IF($M$5=\"Course 2\",Général!I$115,IF($M$5=\"Course 3\",Général!I$117,Général!#REF!)))","v":"IMT Atlantique Brest"},{"$f":"IF($N$5=\"Course 1\",Général!I$121,IF($N$5=\"Course 2\",Général!I$123,IF($N$5=\"Course 3\",Général!I$125,Général!#REF!)))","v":"UBO 2"},{"$f":"IF($O$5=\"Course 1\",Général!I$129,IF($O$5=\"Course 2\",Général!I$131,IF($O$5=\"Course 3\",Général!I$133,Général!#REF!)))","v":"UBO 2"},{"$f":"IF($P$5=\"Course 1\",Général!I$137,IF($P$5=\"Course 2\",Général!I$139,IF($P$5=\"Course 3\",Général!I$141,Général!#REF!)))","v":"AS Paris 1 Panthéon Sorbonne"},{"$f":"IF($Q$5=\"Course 1\",Général!I$145,IF($Q$5=\"Course 2\",Général!I$147,IF($Q$5=\"Course 3\",Général!I$149,Général!#REF!)))","v":"AS Paris 1 Panthéon Sorbonne"},{"$f":"IF($R$5=\"Course 1\",Général!I$153,IF($R$5=\"Course 2\",Général!I$155,IF($R$5=\"Course 3\",Général!I$157,Général!#REF!)))","v":"Southampton"},{"$f":"IF($S$5=\"Course 1\",Général!I$161,IF($S$5=\"Course 2\",Général!I$163,IF($S$5=\"Course 3\",Général!I$165,Général!#REF!)))","v":"ENSTA Bretagne 2"},{"$f":"IF($T$5=\"Course 1\",Général!I$169,IF($T$5=\"Course 2\",Général!I$171,IF($T$5=\"Course 3\",Général!I$173,Général!#REF!)))","v":"UBO 1"},null,{"$f":"Général!B17","v":"IMT Atlantique Brest"},7]
["9ème Equipage",null,{"$f":"IF($C$5=\"Course 1\",Général!J33,IF($C$5=\"Course 2\",Général!J35,IF($C$5=\"Course 3\",Général!J37,Général!#REF!)))","v":"Univ.Orléans"},{"$f":"IF($D$5=\"Course 1\",Général!J41,IF($D$5=\"Course 2\",Général!J43,IF($D$5=\"Course 3\",Général!J45,Général!#REF!)))","v":"Hambourg"},{"$f":"IF($E$5=\"Course 1\",Général!J49,IF($E$5=\"Course 2\",Général!J51,IF($E$5=\"Course 3\",Général!J53,Général!#REF!)))","v":"IMT Atlantique Brest"},{"$f":"IF($F$5=\"Course 1\",Général!J$57,IF($F$5=\"Course 2\",Général!J$59,IF($F$5=\"Course 3\",Général!J$61,Général!#REF!)))","v":"Univ. Nantes 1"},{"$f":"IF($G$5=\"Course 1\",Général!J$65,IF($G$5=\"Course 2\",Général!J$67,IF($G$5=\"Course 3\",Général!J$69,Général!#REF!)))","v":"ENSTA Bretagne 1"},{"$f":"IF($H$5=\"Course 1\",Général!J$73,IF($H$5=\"Course 2\",Général!J$75,IF($H$5=\"Course 3\",Général!$J77,Général!#REF!)))","v":"AS Paris 1 Panthéon Sorbonne"},{"$f":"IF($I$5=\"Course 1\",Général!J$81,IF($I$5=\"Course 2\",Général!J$83,IF($I$5=\"Course 3\",Général!J$85,Général!#REF!)))","v":"AS Paris 1 Panthéon Sorbonne"},{"$f":"IF($J$5=\"Course 1\",Général!J$89,IF($J$5=\"Course 2\",Général!J$91,IF($J$5=\"Course 3\",Général!J$93,Général!#REF!)))","v":"HYDRO Sailing Team Le Havre"},{"$f":"IF($K$5=\"Course 1\",Général!J$97,IF($K$5=\"Course 2\",Général!J$99,IF($K$5=\"Course 3\",Général!J$101,Général!#REF!)))","v":"HYDRO Sailing Team Le Havre"},{"$f":"IF($L$5=\"Course 1\",Général!J$105,IF($L$5=\"Course 2\",Général!J$107,IF($L$5=\"Course 3\",Général!J$109,Général!#REF!)))","v":"Hannovre"},{"$f":"IF($M$5=\"Course 1\",Général!J$113,IF($M$5=\"Course 2\",Général!J$115,IF($M$5=\"Course 3\",Général!J$117,Général!#REF!)))","v":"Hannovre"},{"$f":"IF($N$5=\"Course 1\",Général!J$121,IF($N$5=\"Course 2\",Général!J$123,IF($N$5=\"Course 3\",Général!J$125,Général!#REF!)))","v":"ENSTA Bretagne 1"},{"$f":"IF($O$5=\"Course 1\",Général!J$129,IF($O$5=\"Course 2\",Général!J$131,IF($O$5=\"Course 3\",Général!J$133,Général!#REF!)))","v":"ENSTA Bretagne 2"},{"$f":"IF($P$5=\"Course 1\",Général!J$137,IF($P$5=\"Course 2\",Général!J$139,IF($P$5=\"Course 3\",Général!J$141,Général!#REF!)))","v":"IMT Atlantique Nantes 2"},{"$f":"IF($Q$5=\"Course 1\",Général!J$145,IF($Q$5=\"Course 2\",Général!J$147,IF($Q$5=\"Course 3\",Général!J$149,Général!#REF!)))","v":"Univ. Nantes 3"},{"$f":"IF($R$5=\"Course 1\",Général!J$153,IF($R$5=\"Course 2\",Général!J$155,IF($R$5=\"Course 3\",Général!J$157,Général!#REF!)))","v":"Hambourg"},{"$f":"IF($S$5=\"Course 1\",Général!J$161,IF($S$5=\"Course 2\",Général!J$163,IF($S$5=\"Course 3\",Général!J$165,Général!#REF!)))","v":"Southampton"},{"$f":"IF($T$5=\"Course 1\",Général!J$169,IF($T$5=\"Course 2\",Général!J$171,IF($T$5=\"Course 3\",Général!J$173,Général!#REF!)))","v":"Southampton"},null,{"$f":"Général!B18","v":"UBO 2"},6]
[null,null,null,null,null,null,null,null,null,null,null,null,null,null,null,null,null,null,null,null,null,{"$f":"Général!B19","v":"Dublin"},7]
[null,null,null,null,null,null,null,null,null,null,null,null,null,null,null,null,null,null,null,null,null,{"$f":"Général!B20","v":"Univ. Nantes 2"},6]
[null,null,null,null,null,null,null,null,null,null,null,null,null,null,null,null,null,null,null,null,null,{"$f":"Général!B21","v":"UBS Lorient 1"},5]
[null,null,null,null,null,null,null,null,null,null,null,null,null,null,null,null,null,null,null,null,null,{"$f":"Général!B22","v":"UBS Lorient 2"},4]
[null,null,null,null,null,null,null,null,null,null,null,null,null,null,null,null,null,null,null,null,null,{"$f":"Général!B23","v":"Univ.Orléans"},7]
[null,null,null,null,null,null,null,null,null,null,null,null,null,null,null,null,null,null,null,null,null,{"$f":"Général!B24","v":"Univ. La Rochelle"},4]
[null,null,null,null,null,null,null,null,null,null,null,null,null,null,null,null,null,null,null,null,null,{"$f":"Général!B25","v":"AS UB St Brieuc"},4]
[null,null,null,null,null,null,null,null,null,null,null,null,null,null,null,null,null,null,null,null,null,{"$f":"Général!B26","v":"Karlsruhe"},5]
[null,null,null,null,null,null,null,null,null,null,null,null,null,null,null,null,null,null,null,null,null,{"$f":"Général!B27","v":"Univ. Nantes 3"},6]
[null,null,null,null,null,null,null,null,null,null,null,null,null,null,null,null,null,null,null,null,null,{"$f":"Général!B28","v":"Centrales Nantes"},4]
[null,null,null,null,null,null,null,null,null,null,null,null,null,null,null,null,null,null,null,null,null,{"$f":"Général!B29","v":"Southampton"},6]
[null,null,null,null,null,null,null,null,null,null,null,null,null,null,null,null,null,null,null,null,null,{"$f":"Général!#REF!","v":{"$error":"#REF!"}},0]
[null,null,null,null,null,null,null,null,null,null,null,null,null,null,null,null,null,null,null,null,null,{"$f":"Général!#REF!","v":{"$error":"#REF!"}},0]
[null,null,null,null,null,null,null,null,null,null,null,null,null,null,null,null,null,null,null,null,null,{"$f":"Général!#REF!","v":{"$error":"#REF!"}},0]
[null,null,null,null,null,null,null,null,null,null,null,null,null,null,null,null,null,null,null,null,null,{"$f":"Général!#REF!","v":{"$error":"#REF!"}},0]
[null,null,null,null,null,null,null,null,null,null,null,null,null,null,null,null,null,null,null,null,null,{"$f":"Général!#REF!","v":{"$error":"#REF!"}},0]

{"sheet":"Eq.3","index":7,"n_rows":32,"n_cols":23,"rows_kept":32,"cut":false,"hidden":false,"merged":[[14,0,14,1],[15,0,15,1],[8,0,8,1],[9,0,9,1],[10,0,10,1],[11,0,11,1],[12,0,12,1],[13,0,13,1],[7,0,7,1],[0,0,1,5],[0,6,1,10],[3,0,3,1],[4,0,4,1],[5,0,5,1]]}
["Equipage ",null,null,null,null,null,{"$f":"Général!B5","v":"Hannovre"},null,null,null,null,null,null,null,null,null,null,null,null,null,null,{"$f":"Général!B3","v":"Univ. Nantes 1"},{"$f":"COUNTIF(C$8:T$16,V1)","v":6}]
[null,null,null,null,null,null,null,null,null,null,null,null,null,null,null,null,null,null,null,null,null,{"$f":"Général!B4","v":"AS Paris 1 Panthéon Sorbonne"},{"$f":"COUNTIF($C$8:$T$16,V2)","v":6}]
[null,null,null,null,null,null,null,null,null,null,null,null,null,null,null,null,null,null,null,null,null,{"$f":"Général!B5","v":"Hannovre"},{"$f":"COUNTIF($C$8:$T$16,V3)","v":18}]
[null,null,"FLIGHT 1","FLIGHT 2","FLIGHT 3","FLIGHT 4","FLIGHT 5","FLIGHT 6","FLIGHT 7","FLIGHT 8","FLIGHT 9","FLIGHT 10","FLIGHT 11","FLIGHT 12","FLIGHT 13","FLIGHT 14","FLIGHT 15","FLIGHT 16","FLIGHT 17","FLIGHT 18",null,{"$f":"Général!B6","v":"IMT Atlantique Nantes 1"},6]
["N° de course",null,{"$f":"IF(COUNTIF(Général!B33:J33,$G$1)=1,\"Course 1\",IF(COUNTIF(Général!B35:J35,$G$1)=1,\"Course 2\",IF(COUNTIF(Général!B37:J37,$G$1)=1,\"Course 3\",\"Course 4\")))","v":"Course 2"},{"$f":"IF(COUNTIF(Général!B41:J41,$G$1)=1,\"Course 1\",IF(COUNTIF(Général!B43:J43,$G$1)=1,\"Course 2\",IF(COUNTIF(Général!B45:J45,$G$1)=1,\"Course 3\",\"Course 4\")))","v":"Course 3"},{"$f":"IF(COUNTIF(Général!B49:J49,$G$1)=1,\"Course 1\",IF(COUNTIF(Général!B51:J51,$G$1)=1,\"Course 2\",IF(COUNTIF(Général!B53:J53,$G$1)=1,\"Course 3\",\"Course 4\")))","v":"Course 1"},{"$f":"IF(COUNTIF(Général!B57:J57,$G$1)=1,\"Course 1\",IF(COUNTIF(Général!B59:J59,$G$1)=1,\"Course 2\",IF(COUNTIF(Général!B61:J61,$G$1)=1,\"Course 3\",\"Course 4\")))","v":"Course 3"},{"$f":"IF(COUNTIF(Général!B65:J65,$G$1)=1,\"Course 1\",IF(COUNTIF(Général!B67:J67,$G$1)=1,\"Course 2\",IF(COUNTIF(Général!B69:J69,$G$1)=1,\"Course 3\",\"Course 4\")))","v":"Course 1"},{"$f":"IF(COUNTIF(Général!B73:J73,$G$1)=1,\"Course 1\",IF(COUNTIF(Général!B75:J75,$G$1)=1,\"Course 2\",IF(COUNTIF(Général!B77:J77,$G$1)=1,\"Course 3\",\"Course 4\")))","v":"Course 2"},{"$f":"IF(COUNTIF(Général!B81:J81,$G$1)=1,\"Course 1\",IF(COUNTIF(Général!B83:J83,$G$1)=1,\"Course 2\",IF(COUNTIF(Général!B85:J85,$G$1)=1,\"Course 3\",\"Course 4\")))","v":"Course 1"},{"$f":"IF(COUNTIF(Général!B89:J89,$G$1)=1,\"Course 1\",IF(COUNTIF(Général!B91:J91,$G$1)=1,\"Course 2\",IF(COUNTIF(Général!B93:J93,$G$1)=1,\"Course 3\",\"Course 4\")))","v":"Course 2"},{"$f":"IF(COUNTIF(Général!B97:J97,$G$1)=1,\"Course 1\",IF(COUNTIF(Général!B99:J99,$G$1)=1,\"Course 2\",IF(COUNTIF(Général!B101:J101,$G$1)=1,\"Course 3\",\"Course 4\")))","v":"Course 3"},{"$f":"IF(COUNTIF(Général!B105:J105,$G$1)=1,\"Course 1\",IF(COUNTIF(Général!B107:J107,$G$1)=1,\"Course 2\",IF(COUNTIF(Général!B109:J109,$G$1)=1,\"Course 3\",\"Course 4\")))","v":"Course 2"},{"$f":"IF(COUNTIF(Général!B113:J113,$G$1)=1,\"Course 1\",IF(COUNTIF(Général!B115:J115,$G$1)=1,\"Course 2\",IF(COUNTIF(Général!B117:J117,$G$1)=1,\"Course 3\",\"Course 4\")))","v":"Course 3"},{"$f":"IF(COUNTIF(Général!B121:J121,$G$1)=1,\"Course 1\",IF(COUNTIF(Général!B123:J123,$G$1)=1,\"Course 2\",IF(COUNTIF(Général!B125:J125,$G$1)=1,\"Course 3\",\"Course 4\")))","v":"Course 2"},{"$f":"IF(COUNTIF(Général!B129:J129,$G$1)=1,\"Course 1\",IF(COUNTIF(Général!B131:J131,$G$1)=1,\"Course 2\",IF(COUNTIF(Général!B133:J133,$G$1)=1,\"Course 3\",\"Course 4\")))","v":"Course 1"},{"$f":"IF(COUNTIF(Général!B137:J137,$G$1)=1,\"Course 1\",IF(COUNTIF(Général!B139:J139,$G$1)=1,\"Course 2\",IF(COUNTIF(Général!B141:J141,$G$1)=1,\"Course 3\",\"Course 4\")))","v":"Course 3"},{"$f":"IF(COUNTIF(Général!B145:J145,$G$1)=1,\"Course 1\",IF(COUNTIF(Général!B147:J147,$G$1)=1,\"Course 2\",IF(COUNTIF(Général!B149:J149,$G$1)=1,\"Course 3\",\"Course 4\")))","v":"Course 3"},{"$f":"IF(COUNTIF(Général!B153:J153,$G$1)=1,\"Course 1\",IF(COUNTIF(Général!B155:J155,$G$1)=1,\"Course 2\",IF(COUNTIF(Général!B157:J157,$G$1)=1,\"Course 3\",\"Course 4\")))","v":"Course 3"},{"$f":"IF(COUNTIF(Général!B161:J161,$G$1)=1,\"Course 1\",IF(COUNTIF(Général!B163:J163,$G$1)=1,\"Course 2\",IF(COUNTIF(Général!B165:J165,$G$1)=1,\"Course 3\",\"Course 4\")))","v":"Course 2"},{"$f":"IF(COUNTIF(Général!B169:J169,$G$1)=1,\"Course 1\",IF(COUNTIF(Général!B171:J171,$G$1)=1,\"Course 2\",IF(COUNTIF(Général!B173:J173,$G$1)=1,\"Course 3\",\"Course 4\")))","v":"Course 1"},null,{"$f":"Général!B7","v":"ENSTA Bretagne 2"},6]
["Bateau",null,{"$f":"IF(COUNTIF(Général!B33:B38,$G$1)=1,\"Boat 1\",IF(COUNTIF(Général!C33:C38,$G$1)=1,\"Boat 2\",IF(COUNTIF(Général!D33:D38,$G$1)=1,\"Boat 3\", IF(COUNTIF(Général!E33:E38,$G$1)=1,\"Boat 4\", IF(COUNTIF(Général!F33:F38,$G$1)=1,\"Boat 5\", IF(COUNTIF(Général!G33:G38,$G$1)=1,\"Boat 6\", IF(COUNTIF(Général!H33:H38,$G$1)=1,\"Boat 7\",IF(COUNTIF(Général!I33:I38,$G$1)=1,\"Boat 8\",\"Boat 9\"))))))))","v":"Boat 2"},{"$f":"IF(COUNTIF(Général!B41:B46,$G$1)=1,\"Boat 1\",IF(COUNTIF(Général!C41:C46,$G$1)=1,\"Boat 2\",IF(COUNTIF(Général!D41:D46,$G$1)=1,\"Boat 3\", IF(COUNTIF(Général!E41:E46,$G$1)=1,\"Boat 4\", IF(COUNTIF(Général!F41:F46,$G$1)=1,\"Boat 5\", IF(COUNTIF(Général!G41:G46,$G$1)=1,\"Boat 6\", IF(COUNTIF(Général!H41:H46,$G$1)=1,\"Boat 7\",IF(COUNTIF(Général!I33:I38,$G$1)=1,\"Boat 8\",\"Boat 9\"))))))))","v":"Boat 7"},{"$f":"IF(COUNTIF(Général!B49:B54,$G$1)=1,\"Boat 1\",IF(COUNTIF(Général!C49:C54,$G$1)=1,\"Boat 2\",IF(COUNTIF(Général!D49:D54,$G$1)=1,\"Boat 3\", IF(COUNTIF(Général!E49:E54,$G$1)=1,\"Boat 4\", IF(COUNTIF(Général!F49:F54,$G$1)=1,\"Boat 5\", IF(COUNTIF(Général!G49:G54,$G$1)=1,\"Boat 6\", IF(COUNTIF(Général!H49:H54,$G$1)=1,\"Boat 7\",IF(COUNTIF(Général!I33:I38,$G$1)=1,\"Boat 8\",\"Boat 9\"))))))))","v":"Boat 7"},{"$f":"IF(COUNTIF(Général!B57:B62,$G$1)=1,\"Boat 1\",IF(COUNTIF(Général!C57:C62,$G$1)=1,\"Boat 2\",IF(COUNTIF(Général!D57:D62,$G$1)=1,\"Boat 3\", IF(COUNTIF(Général!E57:E62,$G$1)=1,\"Boat 4\", IF(COUNTIF(Général!F57:F62,$G$1)=1,\"Boat 5\", IF(COUNTIF(Général!G57:G62,$G$1)=1,\"Boat 6\", IF(COUNTIF(Général!H57:H62,$G$1)=1,\"Boat 7\",IF(COUNTIF(Général!I33:I38,$G$1)=1,\"Boat 8\",\"Boat 9\"))))))))","v":"Boat 6"},{"$f":"IF(COUNTIF(Général!B65:B70,$G$1)=1,\"Boat 1\",IF(COUNTIF(Général!C65:C70,$G$1)=1,\"Boat 2\",IF(COUNTIF(Général!D65:D70,$G$1)=1,\"Boat 3\", IF(COUNTIF(Général!E65:E70,$G$1)=1,\"Boat 4\", IF(COUNTIF(Général!F65:F70,$G$1)=1,\"Boat 5\", IF(COUNTIF(Général!G65:G70,$G$1)=1,\"Boat 6\", IF(COUNTIF(Général!H65:H70,$G$1)=1,\"Boat 7\",IF(COUNTIF(Général!I33:I38,$G$1)=1,\"Boat 8\",\"Boat 9\"))))))))","v":"Boat 6"},{"$f":"IF(COUNTIF(Général!B73:B78,$G$1)=1,\"Boat 1\",IF(COUNTIF(Général!C73:C78,$G$1)=1,\"Boat 2\",IF(COUNTIF(Général!D73:D78,$G$1)=1,\"Boat 3\", IF(COUNTIF(Général!E73:E78,$G$1)=1,\"Boat 4\", IF(COUNTIF(Général!F73:F78,$G$1)=1,\"Boat 5\", IF(COUNTIF(Général!G73:G78,$G$1)=1,\"Boat 6\", IF(COUNTIF(Général!H73:H78,$G$1)=1,\"Boat 7\",IF(COUNTIF(Général!I33:I38,$G$1)=1,\"Boat 8\",\"Boat 9\"))))))))","v":"Boat 4"},{"$f":"IF(COUNTIF(Général!B81:B86,$G$1)=1,\"Boat 1\",IF(COUNTIF(Général!C81:C86,$G$1)=1,\"Boat 2\",IF(COUNTIF(Général!D81:D86,$G$1)=1,\"Boat 3\", IF(COUNTIF(Général!E81:E86,$G$1)=1,\"Boat 4\", IF(COUNTIF(Général!F81:F86,$G$1)=1,\"Boat 5\", IF(COUNTIF(Général!G81:G86,$G$1)=1,\"Boat 6\", IF(COUNTIF(Général!H81:H86,$G$1)=1,\"Boat 7\",IF(COUNTIF(Général!I33:I38,$G$1)=1,\"Boat 8\",\"Boat 9\"))))))))","v":"Boat 4"},{"$f":"IF(COUNTIF(Général!B89:B94,$G$1)=1,\"Boat 1\",IF(COUNTIF(Général!C89:C94,$G$1)=1,\"Boat 2\",IF(COUNTIF(Général!D89:D94,$G$1)=1,\"Boat 3\", IF(COUNTIF(Général!E89:E94,$G$1)=1,\"Boat 4\", IF(COUNTIF(Général!F89:F94,$G$1)=1,\"Boat 5\", IF(COUNTIF(Général!G89:G94,$G$1)=1,\"Boat 6\", IF(COUNTIF(Général!H89:H94,$G$1)=1,\"Boat 7\",IF(COUNTIF(Général!I33:I38,$G$1)=1,\"Boat 8\",\"Boat 9\"))))))))","v":"Boat 5"},{"$f":"IF(COUNTIF(Général!B97:B102,$G$1)=1,\"Boat 1\",IF(COUNTIF(Général!C97:C102,$G$1)=1,\"Boat 2\",IF(COUNTIF(Général!D97:D102,$G$1)=1,\"Boat 3\", IF(COUNTIF(Général!E97:E102,$G$1)=1,\"Boat 4\", IF(COUNTIF(Général!F97:F102,$G$1)=1,\"Boat 5\", IF(COUNTIF(Général!G97:G102,$G$1)=1,\"Boat 6\", IF(COUNTIF(Général!H97:H102,$G$1)=1,\"Boat 7\",IF(COUNTIF(Général!I33:I38,$G$1)=1,\"Boat 8\",\"Boat 9\"))))))))","v":"Boat 9"},{"$f":"IF(COUNTIF(Général!B105:B110,$G$1)=1,\"Boat 1\",IF(COUNTIF(Général!C105:C110,$G$1)=1,\"Boat 2\",IF(COUNTIF(Général!D105:D110,$G$1)=1,\"Boat 3\", IF(COUNTIF(Général!E105:E110,$G$1)=1,\"Boat 4\", IF(COUNTIF(Général!F105:F110,$G$1)=1,\"Boat 5\", IF(COUNTIF(Général!G105:G110,$G$1)=1,\"Boat 6\", IF(COUNTIF(Général!H105:H110,$G$1)=1,\"Boat 7\",IF(COUNTIF(Général!I33:I38,$G$1)=1,\"Boat 8\",\"Boat 9\"))))))))","v":"Boat 9"},{"$f":"IF(COUNTIF(Général!B113:B118,$G$1)=1,\"Boat 1\",IF(COUNTIF(Général!C113:C118,$G$1)=1,\"Boat 2\",IF(COUNTIF(Général!C113:D118,$G$1)=1,\"Boat 3\", IF(COUNTIF(Général!C113:E118,$G$1)=1,\"Boat 4\", IF(COUNTIF(Général!F113:F118,$G$1)=1,\"Boat 5\", IF(COUNTIF(Général!G113:G118,$G$1)=1,\"Boat 6\", IF(COUNTIF(Général!H113:H118,$G$1)=1,\"Boat 7\",IF(COUNTIF(Général!I33:I38,$G$1)=1,\"Boat 8\",\"Boat 9\"))))))))","v":"Boat 9"},{"$f":"IF(COUNTIF(Général!B121:B126,$G$1)=1,\"Boat 1\",IF(COUNTIF(Général!C121:C126,$G$1)=1,\"Boat 2\",IF(COUNTIF(Général!D121:D126,$G$1)=1,\"Boat 3\", IF(COUNTIF(Général!E121:E126,$G$1)=1,\"Boat 4\", IF(COUNTIF(Général!F121:F126,$G$1)=1,\"Boat 5\", IF(COUNTIF(Général!G121:G126,$G$1)=1,\"Boat 6\", IF(COUNTIF(Général!H121:H126,$G$1)=1,\"Boat 7\",IF(COUNTIF(Général!I33:I38,$G$1)=1,\"Boat 8\",\"Boat 9\"))))))))","v":"Boat 3"},{"$f":"IF(COUNTIF(Général!B129:B134,$G$1)=1,\"Boat 1\",IF(COUNTIF(Général!C129:C134,$G$1)=1,\"Boat 2\",IF(COUNTIF(Général!D131:D134,$G$1)=1,\"Boat 3\", IF(COUNTIF(Général!E129:E134,$G$1)=1,\"Boat 4\", IF(COUNTIF(Général!F129:F134,$G$1)=1,\"Boat 5\", IF(COUNTIF(Général!G129:G134,$G$1)=1,\"Boat 6\", IF(COUNTIF(Général!H129:H134,$G$1)=1,\"Boat 7\",IF(COUNTIF(Général!I33:I38,$G$1)=1,\"Boat 8\",\"Boat 9\"))))))))","v":"Boat 1"},{"$f":"IF(COUNTIF(Général!B137:B142,$G$1)=1,\"Boat 1\",IF(COUNTIF(Général!C137:C142,$G$1)=1,\"Boat 2\",IF(COUNTIF(Général!D137:D142,$G$1)=1,\"Boat 3\", IF(COUNTIF(Général!E137:E142,$G$1)=1,\"Boat 4\", IF(COUNTIF(Général!F145:F150,$G$1)=1,\"Boat 5\", IF(COUNTIF(Général!G145:G150,$G$1)=1,\"Boat 6\", IF(COUNTIF(Général!H145:H150,$G$1)=1,\"Boat 7\",IF(COUNTIF(Général!I33:I38,$G$1)=1,\"Boat 8\",\"Boat 9\"))))))))","v":"Boat 9"},{"$f":"IF(COUNTIF(Général!B145:B150,$G$1)=1,\"Boat 1\",IF(COUNTIF(Général!C145:C150,$G$1)=1,\"Boat 2\",IF(COUNTIF(Général!D145:D150,$G$1)=1,\"Boat 3\", IF(COUNTIF(Général!E145:E150,$G$1)=1,\"Boat 4\", IF(COUNTIF(Général!F145:F150,$G$1)=1,\"Boat 5\", IF(COUNTIF(Général!G145:G150,$G$1)=1,\"Boat 6\", IF(COUNTIF(Général!H145:H150,$G$1)=1,\"Boat 7\",IF(COUNTIF(Général!I33:I38,$G$1)=1,\"Boat 8\",\"Boat 9\"))))))))","v":"Boat 1"},{"$f":"IF(COUNTIF(Général!B153:B158,$G$1)=1,\"Boat 1\",IF(COUNTIF(Général!C153:C158,$G$1)=1,\"Boat 2\",IF(COUNTIF(Général!D153:D158,$G$1)=1,\"Boat 3\", IF(COUNTIF(Général!E153:E158,$G$1)=1,\"Boat 4\", IF(COUNTIF(Général!F153:F158,$G$1)=1,\"Boat 5\", IF(COUNTIF(Général!G153:G158,$G$1)=1,\"Boat 6\", IF(COUNTIF(Général!H153:H158,$G$1)=1,\"Boat 7\",IF(COUNTIF(Général!I33:I38,$G$1)=1,\"Boat 8\",\"Boat 9\"))))))))","v":"Boat 7"},{"$f":"IF(COUNTIF(Général!B161:B166,$G$1)=1,\"Boat 1\",IF(COUNTIF(Général!C161:C166,$G$1)=1,\"Boat 2\",IF(COUNTIF(Général!D161:D166,$G$1)=1,\"Boat 3\", IF(COUNTIF(Général!E161:E166,$G$1)=1,\"Boat 4\", IF(COUNTIF(Général!F161:F166,$G$1)=1,\"Boat 5\", IF(COUNTIF(Général!G161:G166,$G$1)=1,\"Boat 6\", IF(COUNTIF(Général!H161:H166,$G$1)=1,\"Boat 7\",IF(COUNTIF(Général!I33:I38,$G$1)=1,\"Boat 8\",\"Boat 9\"))))))))","v":"Boat 9"},{"$f":"IF(COUNTIF(Général!B169:B174,$G$1)=1,\"Boat 1\",IF(COUNTIF(Général!C169:C174,$G$1)=1,\"Boat 2\",IF(COUNTIF(Général!D169:D174,$G$1)=1,\"Boat 3\", IF(COUNTIF(Général!E169:E174,$G$1)=1,\"Boat 4\", IF(COUNTIF(Général!F169:F174,$G$1)=1,\"Boat 5\", IF(COUNTIF(Général!G169:G174,$G$1)=1,\"Boat 6\", IF(COUNTIF(Général!H169:H174,$G$1)=1,\"Boat 7\",IF(COUNTIF(Général!I33:I38,$G$1)=1,\"Boat 8\",\"Boat 9\"))))))))","v":"Boat 6"},null,{"$f":"Général!B8","v":"IMT Atlantique Nantes 2"},5]
[null,null,null,null,null,null,null,null,null,null,null,null,null,null,null,null,null,null,null,null,null,{"$f":"Général!B9","v":"Hambourg"},6]
["1er Equipage",null,{"$f":"IF($C$5=\"Course 1\",Général!B33,IF($C$5=\"Course 2\",Général!B35,IF($C$5=\"Course 3\",Général!B37,Général!#REF!)))","v":"Univ. Nantes 1"},{"$f":"IF($D$5=\"Course 1\",Général!B41,IF($D$5=\"Course 2\",Général!B43,IF($D$5=\"Course 3\",Général!B45,Général!#REF!)))","v":"Univ. Nantes 2"},{"$f":"IF($E$5=\"Course 1\",Général!B49,IF($E$5=\"Course 2\",Général!B51,IF($E$5=\"Course 3\",Général!B53,Général!#REF!)))","v":"UBS Lorient 1"},{"$f":"IF($F$5=\"Course 1\",Général!B$57,IF($F$5=\"Course 2\",Général!B$59,IF($F$5=\"Course 3\",Général!B$61,Général!#REF!)))","v":"Univ. La Rochelle"},{"$f":"IF($G$5=\"Course 1\",Général!B$65,IF($G$5=\"Course 2\",Général!B$67,IF($G$5=\"Course 3\",Général!B$69,Général!#REF!)))","v":"IMT Atlantique Brest"},{"$f":"IF($H$5=\"Course 1\",Général!B$73,IF($H$5=\"Course 2\",Général!B$75,IF($H$5=\"Course 3\",Général!B$77,Général!#REF!)))","v":"IMT Atlantique Brest"},{"$f":"IF($I$5=\"Course 1\",Général!B$81,IF($I$5=\"Course 2\",Général!B$83,IF($I$5=\"Course 3\",Général!B$85,Général!#REF!)))","v":"Dublin"},{"$f":"IF($J$5=\"Course 1\",Général!B$89,IF($J$5=\"Course 2\",Général!B$91,IF($J$5=\"Course 3\",Général!B$93,Général!#REF!)))","v":"UNICAEN - ASSUCherbourg"},{"$f":"IF($K$5=\"Course 1\",Général!B$97,IF($K$5=\"Course 2\",Général!B$99,IF($K$5=\"Course 3\",Général!B$101,Général!#REF!)))","v":"Hambourg"},{"$f":"IF($L$5=\"Course 1\",Général!B$105,IF($L$5=\"Course 2\",Général!B$107,IF($L$5=\"Course 3\",Général!B$109,Général!#REF!)))","v":"UBO 2"},{"$f":"IF($M$5=\"Course 1\",Général!B$113,IF($M$5=\"Course 2\",Général!B$115,IF($M$5=\"Course 3\",Général!B$117,Général!#REF!)))","v":"Karlsruhe"},{"$f":"IF($N$5=\"Course 1\",Général!B$121,IF($N$5=\"Course 2\",Général!B$123,IF($N$5=\"Course 3\",Général!B$125,Général!#REF!)))","v":"IMT Atlantique Nantes 1"},{"$f":"IF($O$5=\"Course 1\",Général!B$129,IF($O$5=\"Course 2\",Général!B$131,IF($O$5=\"Course 3\",Général!B$133,Général!#REF!)))","v":"Hannovre"},{"$f":"IF($P$5=\"Course 1\",Général!B$137,IF($P$5=\"Course 2\",Général!B$139,IF($P$5=\"Course 3\",Général!B$141,Général!#REF!)))","v":"Univ. Nantes 1"},{"$f":"IF($Q$5=\"Course 1\",Général!B$145,IF($Q$5=\"Course 2\",Général!B$147,IF($Q$5=\"Course 3\",Général!B$149,Général!#REF!)))","v":"Hannovre"},{"$f":"IF($R$5=\"Course 1\",Général!B$153,IF($R$5=\"Course 2\",Général!B$155,IF($R$5=\"Course 3\",Général!B$157,Général!#REF!)))","v":"ASUL Lannion"},{"$f":"IF($S$5=\"Course 1\",Général!B$161,IF($S$5=\"Course 2\",Général!B$163,IF($S$5=\"Course 3\",Général!B$165,Général!#REF!)))","v":"IMT Atlantique Nantes 1"},{"$f":"IF($T$5=\"Course 1\",Général!B$169,IF($T$5=\"Course 2\",Général!B$171,IF($T$5=\"Course 3\",Général!B$173,Général!#REF!)))","v":"HYDRO Sailing Team Le Havre"},null,{"$f":"Général!B10","v":"EGSI La Rochelle"},6]
["2nd Equipage",null,{"$f":"IF($C$5=\"Course 1\",Général!C33,IF($C$5=\"Course 2\",Général!C35,IF($C$5=\"Course 3\",Général!C37,Général!#REF!)))","v":"Hannovre"},{"$f":"IF($D$5=\"Course 1\",Général!C41,IF($D$5=\"Course 2\",Général!C43,IF($D$5=\"Course 3\",Général!C45,Général!#REF!)))","v":"IMT Atlantique Nantes 2"},{"$f":"IF($E$5=\"Course 1\",Général!C49,IF($E$5=\"Course 2\",Général!C51,IF($E$5=\"Course 3\",Général!C53,Général!#REF!)))","v":"UNICAEN - ASSUCherbourg"},{"$f":"IF($F$5=\"Course 1\",Général!C$57,IF($F$5=\"Course 2\",Général!C$59,IF($F$5=\"Course 3\",Général!C$61,Général!#REF!)))","v":"ENSTA Bretagne 2"},{"$f":"IF($G$5=\"Course 1\",Général!C$65,IF($G$5=\"Course 2\",Général!C$67,IF($G$5=\"Course 3\",Général!C$69,Général!#REF!)))","v":"Dublin"},{"$f":"IF($H$5=\"Course 1\",Général!C$73,IF($H$5=\"Course 2\",Général!C$75,IF($H$5=\"Course 3\",Général!C$77,Général!#REF!)))","v":"ASUL Lannion"},{"$f":"IF($I$5=\"Course 1\",Général!C$81,IF($I$5=\"Course 2\",Général!C$83,IF($I$5=\"Course 3\",Général!C$85,Général!#REF!)))","v":"Hambourg"},{"$f":"IF($J$5=\"Course 1\",Général!C$89,IF($J$5=\"Course 2\",Général!C$91,IF($J$5=\"Course 3\",Général!C$93,Général!#REF!)))","v":"UBO 2"},{"$f":"IF($K$5=\"Course 1\",Général!C$97,IF($K$5=\"Course 2\",Général!C$99,IF($K$5=\"Course 3\",Général!C$101,Général!#REF!)))","v":"EGSI La Rochelle"},{"$f":"IF($L$5=\"Course 1\",Général!C$105,IF($L$5=\"Course 2\",Général!C$107,IF($L$5=\"Course 3\",Général!C$109,Général!#REF!)))","v":"ENSTA Bretagne 1"},{"$f":"IF($M$5=\"Course 1\",Général!C$113,IF($M$5=\"Course 2\",Général!C$115,IF($M$5=\"Course 3\",Général!C$117,Général!#REF!)))","v":"ENSTA Bretagne 1"},{"$f":"IF($N$5=\"Course 1\",Général!C$121,IF($N$5=\"Course 2\",Général!C$123,IF($N$5=\"Course 3\",Général!C$125,Général!#REF!)))","v":"Dublin"},{"$f":"IF($O$5=\"Course 1\",Général!C$129,IF($O$5=\"Course 2\",Général!C$131,IF($O$5=\"Course 3\",Général!C$133,Général!#REF!)))","v":"Univ. Nantes 3"},{"$f":"IF($P$5=\"Course 1\",Général!C$137,IF($P$5=\"Course 2\",Général!C$139,IF($P$5=\"Course 3\",Général!C$141,Général!#REF!)))","v":"AS UB St Brieuc"},{"$f":"IF($Q$5=\"Course 1\",Général!C$145,IF($Q$5=\"Course 2\",Général!C$147,IF($Q$5=\"Course 3\",Général!C$149,Général!#REF!)))","v":"UBS Lorient 1"},{"$f":"IF($R$5=\"Course 1\",Général!C$153,IF($R$5=\"Course 2\",Général!C$155,IF($R$5=\"Course 3\",Général!C$157,Général!#REF!)))","v":"IMT Atlantique Nantes 2"},{"$f":"IF($S$5=\"Course 1\",Général!C$161,IF($S$5=\"Course 2\",Général!C$163,IF($S$5=\"Course 3\",Général!C$165,Général!#REF!)))","v":"Univ.Orléans"},{"$f":"IF($T$5=\"Course 1\",Général!C$169,IF($T$5=\"Course 2\",Général!C$171,IF($T$5=\"Course 3\",Général!C$173,Général!#REF!)))","v":"Hambourg"},null,{"$f":"Général!B11","v":"HYDRO Sailing Team Le Havre"},6]
["3ème Equipage",null,{"$f":"IF($C$5=\"Course 1\",Général!D33,IF($C$5=\"Course 2\",Général!D35,IF($C$5=\"Course 3\",Général!D37,Général!#REF!)))","v":"IMT Atlantique Brest"},{"$f":"IF($D$5=\"Course 1\",Général!D41,IF($D$5=\"Course 2\",Général!D43,IF($D$5=\"Course 3\",Général!D45,Général!#REF!)))","v":"HYDRO Sailing Team Le Havre"},{"$f":"IF($E$5=\"Course 1\",Général!D49,IF($E$5=\"Course 2\",Général!D51,IF($E$5=\"Course 3\",Général!D53,Général!#REF!)))","v":"HYDRO Sailing Team Le Havre"},{"$f":"IF($F$5=\"Course 1\",Général!D$57,IF($F$5=\"Course 2\",Général!D$59,IF($F$5=\"Course 3\",Général!D$61,Général!#REF!)))","v":"UBO 1"},{"$f":"IF($G$5=\"Course 1\",Général!D$65,IF($G$5=\"Course 2\",Général!D$67,IF($G$5=\"Course 3\",Général!D$69,Général!#REF!)))","v":"UBO 1"},{"$f":"IF($H$5=\"Course 1\",Général!D$73,IF($H$5=\"Course 2\",Général!D$75,IF($H$5=\"Course 3\",Général!D$77,Général!#REF!)))","v":"Centrales Nantes"},{"$f":"IF($I$5=\"Course 1\",Général!D$81,IF($I$5=\"Course 2\",Général!D$83,IF($I$5=\"Course 3\",Général!D$85,Général!#REF!)))","v":"Univ.Orléans"},{"$f":"IF($J$5=\"Course 1\",Général!D$89,IF($J$5=\"Course 2\",Général!D$91,IF($J$5=\"Course 3\",Général!D$93,Général!#REF!)))","v":"EGSI La Rochelle"},{"$f":"IF($K$5=\"Course 1\",Général!D$97,IF($K$5=\"Course 2\",Général!D$99,IF($K$5=\"Course 3\",Général!D$101,Général!#REF!)))","v":"Southampton"},{"$f":"IF($L$5=\"Course 1\",Général!D$105,IF($L$5=\"Course 2\",Général!D$107,IF($L$5=\"Course 3\",Général!D$109,Général!#REF!)))","v":"Univ. Nantes 2"},{"$f":"IF($M$5=\"Course 1\",Général!D$113,IF($M$5=\"Course 2\",Général!D$115,IF($M$5=\"Course 3\",Général!D$117,Général!#REF!)))","v":"UNICAEN - ASSUCherbourg"},{"$f":"IF($N$5=\"Course 1\",Général!D$121,IF($N$5=\"Course 2\",Général!D$123,IF($N$5=\"Course 3\",Général!D$125,Général!#REF!)))","v":"Hannovre"},{"$f":"IF($O$5=\"Course 1\",Général!D$129,IF($O$5=\"Course 2\",Général!D$131,IF($O$5=\"Course 3\",Général!D$133,Général!#REF!)))","v":"AS Paris 1 Panthéon Sorbonne"},{"$f":"IF($P$5=\"Course 1\",Général!D$137,IF($P$5=\"Course 2\",Général!D$139,IF($P$5=\"Course 3\",Général!D$141,Général!#REF!)))","v":"IMT Atlantique Brest"},{"$f":"IF($Q$5=\"Course 1\",Général!D$145,IF($Q$5=\"Course 2\",Général!D$147,IF($Q$5=\"Course 3\",Général!D$149,Général!#REF!)))","v":"ENSTA Bretagne 2"},{"$f":"IF($R$5=\"Course 1\",Général!D$153,IF($R$5=\"Course 2\",Général!D$155,IF($R$5=\"Course 3\",Général!D$157,Général!#REF!)))","v":"Centrales Nantes"},{"$f":"IF($S$5=\"Course 1\",Général!D$161,IF($S$5=\"Course 2\",Général!D$163,IF($S$5=\"Course 3\",Général!D$165,Général!#REF!)))","v":"HYDRO Sailing Team Le Havre"},{"$f":"IF($T$5=\"Course 1\",Général!D$169,IF($T$5=\"Course 2\",Général!D$171,IF($T$5=\"Course 3\",Général!D$173,Général!#REF!)))","v":"AS Paris 1 Panthéon Sorbonne"},null,{"$f":"Général!B12","v":"UNICAEN - ASSUCherbourg"},4]
["4ème Equipage",null,{"$f":"IF($C$5=\"Course 1\",Général!E33,IF($C$5=\"Course 2\",Général!E35,IF($C$5=\"Course 3\",Général!E37,Général!#REF!)))","v":"AS UB St Brieuc"},{"$f":"IF($D$5=\"Course 1\",Général!E41,IF($D$5=\"Course 2\",Général!E43,IF($D$5=\"Course 3\",Général!E45,Général!#REF!)))","v":"AS Paris 1 Panthéon Sorbonne"},{"$f":"IF($E$5=\"Course 1\",Général!E49,IF($E$5=\"Course 2\",Général!E51,IF($E$5=\"Course 3\",Général!E53,Général!#REF!)))","v":"Centrales Nantes"},{"$f":"IF($F$5=\"Course 1\",Général!E$57,IF($F$5=\"Course 2\",Général!E$59,IF($F$5=\"Course 3\",Général!E$61,Général!#REF!)))","v":"UBO 2"},{"$f":"IF($G$5=\"Course 1\",Général!E$65,IF($G$5=\"Course 2\",Général!E$67,IF($G$5=\"Course 3\",Général!E$69,Général!#REF!)))","v":"UBS Lorient 1"},{"$f":"IF($H$5=\"Course 1\",Général!E$73,IF($H$5=\"Course 2\",Général!E$75,IF($H$5=\"Course 3\",Général!E$77,Général!#REF!)))","v":"Hannovre"},{"$f":"IF($I$5=\"Course 1\",Général!E$81,IF($I$5=\"Course 2\",Général!E$83,IF($I$5=\"Course 3\",Général!E$85,Général!#REF!)))","v":"Hannovre"},{"$f":"IF($J$5=\"Course 1\",Général!E$89,IF($J$5=\"Course 2\",Général!E$91,IF($J$5=\"Course 3\",Général!E$93,Général!#REF!)))","v":"Univ. Nantes 1"},{"$f":"IF($K$5=\"Course 1\",Général!E$97,IF($K$5=\"Course 2\",Général!E$99,IF($K$5=\"Course 3\",Général!E$101,Général!#REF!)))","v":"Univ.Orléans"},{"$f":"IF($L$5=\"Course 1\",Général!E$105,IF($L$5=\"Course 2\",Général!E$107,IF($L$5=\"Course 3\",Général!E$109,Général!#REF!)))","v":"Univ. Nantes 3"},{"$f":"IF($M$5=\"Course 1\",Général!E$113,IF($M$5=\"Course 2\",Général!E$115,IF($M$5=\"Course 3\",Général!E$117,Général!#REF!)))","v":"ENSTA Bretagne 2"},{"$f":"IF($N$5=\"Course 1\",Général!E$121,IF($N$5=\"Course 2\",Général!E$123,IF($N$5=\"Course 3\",Général!E$125,Général!#REF!)))","v":"Univ. La Rochelle"},{"$f":"IF($O$5=\"Course 1\",Général!E$129,IF($O$5=\"Course 2\",Général!E$131,IF($O$5=\"Course 3\",Général!E$133,Général!#REF!)))","v":"IMT Atlantique Nantes 2"},{"$f":"IF($P$5=\"Course 1\",Général!E$137,IF($P$5=\"Course 2\",Général!E$139,IF($P$5=\"Course 3\",Général!E$141,Général!#REF!)))","v":"UBS Lorient 2"},{"$f":"IF($Q$5=\"Course 1\",Général!E$145,IF($Q$5=\"Course 2\",Général!E$147,IF($Q$5=\"Course 3\",Général!E$149,Général!#REF!)))","v":"UBO 1"},{"$f":"IF($R$5=\"Course 1\",Général!E$153,IF($R$5=\"Course 2\",Général!E$155,IF($R$5=\"Course 3\",Général!E$157,Général!#REF!)))","v":"Univ. Nantes 2"},{"$f":"IF($S$5=\"Course 1\",Général!E$161,IF($S$5=\"Course 2\",Général!E$163,IF($S$5=\"Course 3\",Général!E$165,Général!#REF!)))","v":"Centrales Nantes"},{"$f":"IF($T$5=\"Course 1\",Général!E$169,IF($T$5=\"Course 2\",Général!E$171,IF($T$5=\"Course 3\",Général!E$173,Général!#REF!)))","v":"IMT Atlantique Brest"},null,{"$f":"Général!B13","v":"UBO 1"},5]
["5ème Equipage",null,{"$f":"IF($C$5=\"Course 1\",Général!F33,IF($C$5=\"Course 2\",Général!F35,IF($C$5=\"Course 3\",Général!F37,Général!#REF!)))","v":"EGSI La Rochelle"},{"$f":"IF($D$5=\"Course 1\",Général!F41,IF($D$5=\"Course 2\",Général!F43,IF($D$5=\"Course 3\",Général!F45,Général!#REF!)))","v":"IMT Atlantique Brest"},{"$f":"IF($E$5=\"Course 1\",Général!F49,IF($E$5=\"Course 2\",Général!F51,IF($E$5=\"Course 3\",Général!F53,Général!#REF!)))","v":"ENSTA Bretagne 1"},{"$f":"IF($F$5=\"Course 1\",Général!F$57,IF($F$5=\"Course 2\",Général!F$59,IF($F$5=\"Course 3\",Général!F$61,Général!#REF!)))","v":"ENSTA Bretagne 1"},{"$f":"IF($G$5=\"Course 1\",Général!F$65,IF($G$5=\"Course 2\",Général!F$67,IF($G$5=\"Course 3\",Général!F$69,Général!#REF!)))","v":"Univ.Orléans"},{"$f":"IF($H$5=\"Course 1\",Général!F$73,IF($H$5=\"Course 2\",Général!F$75,IF($H$5=\"Course 3\",Général!F$77,Général!#REF!)))","v":"UBO 2"},{"$f":"IF($I$5=\"Course 1\",Général!F$81,IF($I$5=\"Course 2\",Général!F$83,IF($I$5=\"Course 3\",Général!F$85,Général!#REF!)))","v":"UBO 2"},{"$f":"IF($J$5=\"Course 1\",Général!F$89,IF($J$5=\"Course 2\",Général!F$91,IF($J$5=\"Course 3\",Général!F$93,Général!#REF!)))","v":"Hannovre"},{"$f":"IF($K$5=\"Course 1\",Général!F$97,IF($K$5=\"Course 2\",Général!F$99,IF($K$5=\"Course 3\",Général!F$101,Général!#REF!)))","v":"IMT Atlantique Nantes 2"},{"$f":"IF($L$5=\"Course 1\",Général!F$105,IF($L$5=\"Course 2\",Général!$F107,IF($L$5=\"Course 3\",Général!F$109,Général!#REF!)))","v":"HYDRO Sailing Team Le Havre"},{"$f":"IF($M$5=\"Course 1\",Général!F$113,IF($M$5=\"Course 2\",Général!F$115,IF($M$5=\"Course 3\",Général!F$117,Général!#REF!)))","v":"IMT Atlantique Nantes 1"},{"$f":"IF($N$5=\"Course 1\",Général!F$121,IF($N$5=\"Course 2\",Général!F$123,IF($N$5=\"Course 3\",Général!F$125,Général!#REF!)))","v":"Univ. Nantes 2"},{"$f":"IF($O$5=\"Course 1\",Général!F$129,IF($O$5=\"Course 2\",Général!F$131,IF($O$5=\"Course 3\",Général!F$133,Général!#REF!)))","v":"ASUL Lannion"},{"$f":"IF($P$5=\"Course 1\",Général!F$137,IF($P$5=\"Course 2\",Général!F$139,IF($P$5=\"Course 3\",Général!F$141,Général!#REF!)))","v":"Hannovre"},{"$f":"IF($Q$5=\"Course 1\",Général!F$145,IF($Q$5=\"Course 2\",Général!F$147,IF($Q$5=\"Course 3\",Général!F$149,Général!#REF!)))","v":"UBS Lorient 2"},{"$f":"IF($R$5=\"Course 1\",Général!F$153,IF($R$5=\"Course 2\",Général!F$155,IF($R$5=\"Course 3\",Général!F$157,Général!#REF!)))","v":"ENSTA Paris"},{"$f":"IF($S$5=\"Course 1\",Général!F$161,IF($S$5=\"Course 2\",Général!F$163,IF($S$5=\"Course 3\",Général!F$165,Général!#REF!)))","v":"ASUL Lannion"},{"$f":"IF($T$5=\"Course 1\",Général!F$169,IF($T$5=\"Course 2\",Général!F$171,IF($T$5=\"Course 3\",Général!F$173,Général!#REF!)))","v":"Univ. Nantes 1"},null,{"$f":"Général!B14","v":"ENSTA Bretagne 1"},5]
["6ème Equipage",null,{"$f":"IF($C$5=\"Course 1\",Général!G33,IF($C$5=\"Course 2\",Général!G35,IF($C$5=\"Course 3\",Général!G37,Général!#REF!)))","v":"Karlsruhe"},{"$f":"IF($D$5=\"Course 1\",Général!G41,IF($D$5=\"Course 2\",Général!G43,IF($D$5=\"Course 3\",Général!G45,Général!#REF!)))","v":"UBS Lorient 2"},{"$f":"IF($E$5=\"Course 1\",Général!G49,IF($E$5=\"Course 2\",Général!G51,IF($E$5=\"Course 3\",Général!G53,Général!#REF!)))","v":"ASUL Lannion"},{"$f":"IF($F$5=\"Course 1\",Général!G$57,IF($F$5=\"Course 2\",Général!G$59,IF($F$5=\"Course 3\",Général!G$61,Général!#REF!)))","v":"Hannovre"},{"$f":"IF($G$5=\"Course 1\",Général!G$65,IF($G$5=\"Course 2\",Général!G$67,IF($G$5=\"Course 3\",Général!G$69,Général!#REF!)))","v":"Hannovre"},{"$f":"IF($H$5=\"Course 1\",Général!G$73,IF($H$5=\"Course 2\",Général!G$75,IF($H$5=\"Course 3\",Général!G$77,Général!#REF!)))","v":"Hambourg"},{"$f":"IF($I$5=\"Course 1\",Général!G$81,IF($I$5=\"Course 2\",Général!G$83,IF($I$5=\"Course 3\",Général!G$85,Général!#REF!)))","v":"UBS Lorient 1"},{"$f":"IF($J$5=\"Course 1\",Général!G$89,IF($J$5=\"Course 2\",Général!G$91,IF($J$5=\"Course 3\",Général!G$93,Général!#REF!)))","v":"Southampton"},{"$f":"IF($K$5=\"Course 1\",Général!G$97,IF($K$5=\"Course 2\",Général!G$99,IF($K$5=\"Course 3\",Général!G$101,Général!#REF!)))","v":"Karlsruhe"},{"$f":"IF($L$5=\"Course 1\",Général!G$105,IF($L$5=\"Course 2\",Général!G$107,IF($L$5=\"Course 3\",Général!G$109,Général!#REF!)))","v":"AS Paris 1 Panthéon Sorbonne"},{"$f":"IF($M$5=\"Course 1\",Général!G$113,IF($M$5=\"Course 2\",Général!G$115,IF($M$5=\"Course 3\",Général!G$117,Général!#REF!)))","v":"AS Paris 1 Panthéon Sorbonne"},{"$f":"IF($N$5=\"Course 1\",Général!G$121,IF($N$5=\"Course 2\",Général!G$123,IF($N$5=\"Course 3\",Général!G$125,Général!#REF!)))","v":"Southampton"},{"$f":"IF($O$5=\"Course 1\",Général!G$129,IF($O$5=\"Course 2\",Général!G$131,IF($O$5=\"Course 3\",Général!G$133,Général!#REF!)))","v":"IMT Atlantique Nantes 1"},{"$f":"IF($P$5=\"Course 1\",Général!G$137,IF($P$5=\"Course 2\",Général!G$139,IF($P$5=\"Course 3\",Général!G$141,Général!#REF!)))","v":"IMT Atlantique Nantes 1"},{"$f":"IF($Q$5=\"Course 1\",Général!G$145,IF($Q$5=\"Course 2\",Général!G$147,IF($Q$5=\"Course 3\",Général!G$149,Général!#REF!)))","v":"Southampton"},{"$f":"IF($R$5=\"Course 1\",Général!G$153,IF($R$5=\"Course 2\",Général!G$155,IF($R$5=\"Course 3\",Général!G$157,Général!#REF!)))","v":"Univ. La Rochelle"},{"$f":"IF($S$5=\"Course 1\",Général!G$161,IF($S$5=\"Course 2\",Général!G$163,IF($S$5=\"Course 3\",Général!G$165,Général!#REF!)))","v":"EGSI La Rochelle"},{"$f":"IF($T$5=\"Course 1\",Général!G$169,IF($T$5=\"Course 2\",Général!G$171,IF($T$5=\"Course 3\",Général!G$173,Général!#REF!)))","v":"Hannovre"},null,{"$f":"Général!B15","v":"ASUL Lannion"},6]
["7ème Equipage",null,{"$f":"IF($C$5=\"Course 1\",Général!H33,IF($C$5=\"Course 2\",Général!H35,IF($C$5=\"Course 3\",Général!H37,Général!#REF!)))","v":"Univ. La Rochelle"},{"$f":"IF($D$5=\"Course 1\",Général!H41,IF($D$5=\"Course 2\",Général!H43,IF($D$5=\"Course 3\",Général!H45,Général!#REF!)))","v":"Hannovre"},{"$f":"IF($E$5=\"Course 1\",Général!H49,IF($E$5=\"Course 2\",Général!H51,IF($E$5=\"Course 3\",Général!H53,Général!#REF!)))","v":"Hannovre"},{"$f":"IF($F$5=\"Course 1\",Général!H$57,IF($F$5=\"Course 2\",Général!H$59,IF($F$5=\"Course 3\",Général!H$61,Général!#REF!)))","v":"Hambourg"},{"$f":"IF($G$5=\"Course 1\",Général!H$65,IF($G$5=\"Course 2\",Général!H$67,IF($G$5=\"Course 3\",Général!H$69,Général!#REF!)))","v":"IMT Atlantique Nantes 2"},{"$f":"IF($H$5=\"Course 1\",Général!H$73,IF($H$5=\"Course 2\",Général!H$75,IF($H$5=\"Course 3\",Général!H$77,Général!#REF!)))","v":"Southampton"},{"$f":"IF($I$5=\"Course 1\",Général!H$81,IF($I$5=\"Course 2\",Général!H$83,IF($I$5=\"Course 3\",Général!H$85,Général!#REF!)))","v":"AS UB St Brieuc"},{"$f":"IF($J$5=\"Course 1\",Général!H$89,IF($J$5=\"Course 2\",Général!H$91,IF($J$5=\"Course 3\",Général!H$93,Général!#REF!)))","v":"Centrales Nantes"},{"$f":"IF($K$5=\"Course 1\",Général!H$97,IF($K$5=\"Course 2\",Général!H$99,IF($K$5=\"Course 3\",Général!H$101,Général!#REF!)))","v":"ENSTA Bretagne 2"},{"$f":"IF($L$5=\"Course 1\",Général!H$105,IF($L$5=\"Course 2\",Général!H$107,IF($L$5=\"Course 3\",Général!H$109,Général!#REF!)))","v":"Univ.Orléans"},{"$f":"IF($M$5=\"Course 1\",Général!H$113,IF($M$5=\"Course 2\",Général!H$115,IF($M$5=\"Course 3\",Général!H$117,Général!#REF!)))","v":"Dublin"},{"$f":"IF($N$5=\"Course 1\",Général!H$121,IF($N$5=\"Course 2\",Général!H$123,IF($N$5=\"Course 3\",Général!H$125,Général!#REF!)))","v":"ENSTA Paris"},{"$f":"IF($O$5=\"Course 1\",Général!H$129,IF($O$5=\"Course 2\",Général!H$131,IF($O$5=\"Course 3\",Général!H$133,Général!#REF!)))","v":"UBS Lorient 1"},{"$f":"IF($P$5=\"Course 1\",Général!H$137,IF($P$5=\"Course 2\",Général!H$139,IF($P$5=\"Course 3\",Général!H$141,Général!#REF!)))","v":"ASUL Lannion"},{"$f":"IF($Q$5=\"Course 1\",Général!H$145,IF($Q$5=\"Course 2\",Général!H$147,IF($Q$5=\"Course 3\",Général!H$149,Général!#REF!)))","v":"ENSTA Bretagne 1"},{"$f":"IF($R$5=\"Course 1\",Général!H$153,IF($R$5=\"Course 2\",Général!H$155,IF($R$5=\"Course 3\",Général!H$157,Général!#REF!)))","v":"Hannovre"},{"$f":"IF($S$5=\"Course 1\",Général!H$161,IF($S$5=\"Course 2\",Général!H$163,IF($S$5=\"Course 3\",Général!H$165,Général!#REF!)))","v":"UBS Lorient 1"},{"$f":"IF($T$5=\"Course 1\",Général!H$169,IF($T$5=\"Course 2\",Général!H$171,IF($T$5=\"Course 3\",Général!H$173,Général!#REF!)))","v":"Univ. Nantes 2"},null,{"$f":"Général!B16","v":"ENSTA Paris"},5]
["8ème Equipage",null,{"$f":"IF($C$5=\"Course 1\",Général!I33,IF($C$5=\"Course 2\",Général!I35,IF($C$5=\"Course 3\",Général!I37,Général!#REF!)))","v":"Univ. Nantes 3"},{"$f":"IF($D$5=\"Course 1\",Général!I41,IF($D$5=\"Course 2\",Général!I43,IF($D$5=\"Course 3\",Général!I45,Général!#REF!)))","v":"Univ. Nantes 1"},{"$f":"IF($E$5=\"Course 1\",Général!I49,IF($E$5=\"Course 2\",Général!I51,IF($E$5=\"Course 3\",Général!I53,Général!#REF!)))","v":"Univ. Nantes 1"},{"$f":"IF($F$5=\"Course 1\",Général!I$57,IF($F$5=\"Course 2\",Général!I$59,IF($F$5=\"Course 3\",Général!I$61,Général!#REF!)))","v":"HYDRO Sailing Team Le Havre"},{"$f":"IF($G$5=\"Course 1\",Général!I$65,IF($G$5=\"Course 2\",Général!I$67,IF($G$5=\"Course 3\",Général!I$69,Général!#REF!)))","v":"Centrales Nantes"},{"$f":"IF($H$5=\"Course 1\",Général!I$73,IF($H$5=\"Course 2\",Général!I$75,IF($H$5=\"Course 3\",Général!I$77,Général!#REF!)))","v":"Karlsruhe"},{"$f":"IF($I$5=\"Course 1\",Général!I$81,IF($I$5=\"Course 2\",Général!I$83,IF($I$5=\"Course 3\",Général!I$85,Général!#REF!)))","v":"Univ. La Rochelle"},{"$f":"IF($J$5=\"Course 1\",Général!I$89,IF($J$5=\"Course 2\",Général!I$91,IF($J$5=\"Course 3\",Général!I$93,Général!#REF!)))","v":"UBS Lorient 2"},{"$f":"IF($K$5=\"Course 1\",Général!I$97,IF($K$5=\"Course 2\",Général!I$99,IF($K$5=\"Course 3\",Général!I$101,Général!#REF!)))","v":"Hannovre"},{"$f":"IF($L$5=\"Course 1\",Général!I$105,IF($L$5=\"Course 2\",Général!I$107,IF($L$5=\"Course 3\",Général!I$109,Général!#REF!)))","v":"EGSI La Rochelle"},{"$f":"IF($M$5=\"Course 1\",Général!I$113,IF($M$5=\"Course 2\",Général!I$115,IF($M$5=\"Course 3\",Général!I$117,Général!#REF!)))","v":"IMT Atlantique Brest"},{"$f":"IF($N$5=\"Course 1\",Général!I$121,IF($N$5=\"Course 2\",Général!I$123,IF($N$5=\"Course 3\",Général!I$125,Général!#REF!)))","v":"UBS Lorient 2"},{"$f":"IF($O$5=\"Course 1\",Général!I$129,IF($O$5=\"Course 2\",Général!I$131,IF($O$5=\"Course 3\",Général!I$133,Général!#REF!)))","v":"UBO 2"},{"$f":"IF($P$5=\"Course 1\",Général!I$137,IF($P$5=\"Course 2\",Général!I$139,IF($P$5=\"Course 3\",Général!I$141,Général!#REF!)))","v":"ENSTA Paris"},{"$f":"IF($Q$5=\"Course 1\",Général!I$145,IF($Q$5=\"Course 2\",Général!I$147,IF($Q$5=\"Course 3\",Général!I$149,Général!#REF!)))","v":"Univ. Nantes 2"},{"$f":"IF($R$5=\"Course 1\",Général!I$153,IF($R$5=\"Course 2\",Général!I$155,IF($R$5=\"Course 3\",Général!I$157,Général!#REF!)))","v":"ENSTA Bretagne 2"},{"$f":"IF($S$5=\"Course 1\",Général!I$161,IF($S$5=\"Course 2\",Général!I$163,IF($S$5=\"Course 3\",Général!I$165,Général!#REF!)))","v":"Hannovre"},{"$f":"IF($T$5=\"Course 1\",Général!I$169,IF($T$5=\"Course 2\",Général!I$171,IF($T$5=\"Course 3\",Général!I$173,Général!#REF!)))","v":"UBO 1"},null,{"$f":"Général!B17","v":"IMT Atlantique Brest"},7]
["9ème Equipage",null,{"$f":"IF($C$5=\"Course 1\",Général!J33,IF($C$5=\"Course 2\",Général!J35,IF($C$5=\"Course 3\",Général!J37,Général!#REF!)))","v":"UBO 1"},{"$f":"IF($D$5=\"Course 1\",Général!J41,IF($D$5=\"Course 2\",Général!J43,IF($D$5=\"Course 3\",Général!J45,Général!#REF!)))","v":"Hambourg"},{"$f":"IF($E$5=\"Course 1\",Général!J49,IF($E$5=\"Course 2\",Général!J51,IF($E$5=\"Course 3\",Général!J53,Général!#REF!)))","v":"AS UB St Brieuc"},{"$f":"IF($F$5=\"Course 1\",Général!J$57,IF($F$5=\"Course 2\",Général!J$59,IF($F$5=\"Course 3\",Général!J$61,Général!#REF!)))","v":"ENSTA Paris"},{"$f":"IF($G$5=\"Course 1\",Général!J$65,IF($G$5=\"Course 2\",Général!J$67,IF($G$5=\"Course 3\",Général!J$69,Général!#REF!)))","v":"ENSTA Paris"},{"$f":"IF($H$5=\"Course 1\",Général!J$73,IF($H$5=\"Course 2\",Général!J$75,IF($H$5=\"Course 3\",Général!$J77,Général!#REF!)))","v":"IMT Atlantique Nantes 1"},{"$f":"IF($I$5=\"Course 1\",Général!J$81,IF($I$5=\"Course 2\",Général!J$83,IF($I$5=\"Course 3\",Général!J$85,Général!#REF!)))","v":"AS Paris 1 Panthéon Sorbonne"},{"$f":"IF($J$5=\"Course 1\",Général!J$89,IF($J$5=\"Course 2\",Général!J$91,IF($J$5=\"Course 3\",Général!J$93,Général!#REF!)))","v":"Univ. Nantes 3"},{"$f":"IF($K$5=\"Course 1\",Général!J$97,IF($K$5=\"Course 2\",Général!J$99,IF($K$5=\"Course 3\",Général!J$101,Général!#REF!)))","v":"UNICAEN - ASSUCherbourg"},{"$f":"IF($L$5=\"Course 1\",Général!J$105,IF($L$5=\"Course 2\",Général!J$107,IF($L$5=\"Course 3\",Général!J$109,Général!#REF!)))","v":"Hannovre"},{"$f":"IF($M$5=\"Course 1\",Général!J$113,IF($M$5=\"Course 2\",Général!J$115,IF($M$5=\"Course 3\",Général!J$117,Général!#REF!)))","v":"Hannovre"},{"$f":"IF($N$5=\"Course 1\",Général!J$121,IF($N$5=\"Course 2\",Général!J$123,IF($N$5=\"Course 3\",Général!J$125,Général!#REF!)))","v":"Univ.Orléans"},{"$f":"IF($O$5=\"Course 1\",Général!J$129,IF($O$5=\"Course 2\",Général!J$131,IF($O$5=\"Course 3\",Général!J$133,Général!#REF!)))","v":"ENSTA Bretagne 2"},{"$f":"IF($P$5=\"Course 1\",Général!J$137,IF($P$5=\"Course 2\",Général!J$139,IF($P$5=\"Course 3\",Général!J$141,Général!#REF!)))","v":"UBO 2"},{"$f":"IF($Q$5=\"Course 1\",Général!J$145,IF($Q$5=\"Course 2\",Général!J$147,IF($Q$5=\"Course 3\",Général!J$149,Général!#REF!)))","v":"Karlsruhe"},{"$f":"IF($R$5=\"Course 1\",Général!J$153,IF($R$5=\"Course 2\",Général!J$155,IF($R$5=\"Course 3\",Général!J$157,Général!#REF!)))","v":"EGSI La Rochelle"},{"$f":"IF($S$5=\"Course 1\",Général!J$161,IF($S$5=\"Course 2\",Général!J$163,IF($S$5=\"Course 3\",Général!J$165,Général!#REF!)))","v":"Univ. La Rochelle"},{"$f":"IF($T$5=\"Course 1\",Général!J$169,IF($T$5=\"Course 2\",Général!J$171,IF($T$5=\"Course 3\",Général!J$173,Général!#REF!)))","v":"Southampton"},null,{"$f":"Général!B18","v":"UBO 2"},7]
[null,null,null,null,null,null,null,null,null,null,null,null,null,null,null,null,null,null,null,null,null,{"$f":"Général!B19","v":"Dublin"},4]
[null,null,null,null,null,null,null,null,null,null,null,null,null,null,null,null,null,null,null,null,null,{"$f":"Général!B20","v":"Univ. Nantes 2"},6]
[null,null,null,null,null,null,null,null,null,null,null,null,null,null,null,null,null,null,null,null,null,{"$f":"Général!B21","v":"UBS Lorient 1"},6]
[null,null,null,null,null,null,null,null,null,null,null,null,null,null,null,null,null,null,null,null,null,{"$f":"Général!B22","v":"UBS Lorient 2"},5]
[null,null,null,null,null,null,null,null,null,null,null,null,null,null,null,null,null,null,null,null,null,{"$f":"Général!B23","v":"Univ.Orléans"},6]
[null,null,null,null,null,null,null,null,null,null,null,null,null,null,null,null,null,null,null,null,null,{"$f":"Général!B24","v":"Univ. La Rochelle"},6]
[null,null,null,null,null,null,null,null,null,null,null,null,null,null,null,null,null,null,null,null,null,{"$f":"Général!B25","v":"AS UB St Brieuc"},4]
[null,null,null,null,null,null,null,null,null,null,null,null,null,null,null,null,null,null,null,null,null,{"$f":"Général!B26","v":"Karlsruhe"},5]
[null,null,null,null,null,null,null,null,null,null,null,null,null,null,null,null,null,null,null,null,null,{"$f":"Général!B27","v":"Univ. Nantes 3"},4]
[null,null,null,null,null,null,null,null,null,null,null,null,null,null,null,null,null,null,null,null,null,{"$f":"Général!B28","v":"Centrales Nantes"},6]
[null,null,null,null,null,null,null,null,null,null,null,null,null,null,null,null,null,null,null,null,null,{"$f":"Général!B29","v":"Southampton"},6]
[null,null,null,null,null,null,null,null,null,null,null,null,null,null,null,null,null,null,null,null,null,{"$f":"Général!#REF!","v":{"$error":"#REF!"}},0]
[null,null,null,null,null,null,null,null,null,null,null,null,null,null,null,null,null,null,null,null,null,{"$f":"Général!#REF!","v":{"$error":"#REF!"}},0]
[null,null,null,null,null,null,null,null,null,null,null,null,null,null,null,null,null,null,null,null,null,{"$f":"Général!#REF!","v":{"$error":"#REF!"}},0]
[null,null,null,null,null,null,null,null,null,null,null,null,null,null,null,null,null,null,null,null,null,{"$f":"Général!#REF!","v":{"$error":"#REF!"}},0]
[null,null,null,null,null,null,null,null,null,null,null,null,null,null,null,null,null,null,null,null,null,{"$f":"Général!#REF!","v":{"$error":"#REF!"}},0]

{"sheet":"Eq.4","index":8,"n_rows":32,"n_cols":23,"rows_kept":32,"cut":false,"hidden":false,"merged":[[14,0,14,1],[15,0,15,1],[8,0,8,1],[9,0,9,1],[10,0,10,1],[11,0,11,1],[12,0,12,1],[13,0,13,1],[7,0,7,1],[0,0,1,5],[0,6,1,10],[3,0,3,1],[4,0,4,1],[5,0,5,1]]}
["Equipage ",null,null,null,null,null,{"$f":"Général!B6","v":"IMT Atlantique Nantes 1"},null,null,null,null,null,null,null,null,null,null,null,null,null,null,{"$f":"Général!B3","v":"Univ. Nantes 1"},{"$f":"COUNTIF(C$8:T$16,V1)","v":4}]
[null,null,null,null,null,null,null,null,null,null,null,null,null,null,null,null,null,null,null,null,null,{"$f":"Général!B4","v":"AS Paris 1 Panthéon Sorbonne"},{"$f":"COUNTIF($C$8:$T$16,V2)","v":5}]
[null,null,null,null,null,null,null,null,null,null,null,null,null,null,null,null,null,null,null,null,null,{"$f":"Général!B5","v":"Hannovre"},{"$f":"COUNTIF($C$8:$T$16,V3)","v":6}]
[null,null,"FLIGHT 1","FLIGHT 2","FLIGHT 3","FLIGHT 4","FLIGHT 5","FLIGHT 6","FLIGHT 7","FLIGHT 8","FLIGHT 9","FLIGHT 10","FLIGHT 11","FLIGHT 12","FLIGHT 13","FLIGHT 14","FLIGHT 15","FLIGHT 16","FLIGHT 17","FLIGHT 18",null,{"$f":"Général!B6","v":"IMT Atlantique Nantes 1"},18]
["N° de course",null,{"$f":"IF(COUNTIF(Général!B33:J33,$G$1)=1,\"Course 1\",IF(COUNTIF(Général!B35:J35,$G$1)=1,\"Course 2\",IF(COUNTIF(Général!B37:J37,$G$1)=1,\"Course 3\",\"Course 4\")))","v":"Course 1"},{"$f":"IF(COUNTIF(Général!B41:J41,$G$1)=1,\"Course 1\",IF(COUNTIF(Général!B43:J43,$G$1)=1,\"Course 2\",IF(COUNTIF(Général!B45:J45,$G$1)=1,\"Course 3\",\"Course 4\")))","v":"Course 2"},{"$f":"IF(COUNTIF(Général!B49:J49,$G$1)=1,\"Course 1\",IF(COUNTIF(Général!B51:J51,$G$1)=1,\"Course 2\",IF(COUNTIF(Général!B53:J53,$G$1)=1,\"Course 3\",\"Course 4\")))","v":"Course 2"},{"$f":"IF(COUNTIF(Général!B57:J57,$G$1)=1,\"Course 1\",IF(COUNTIF(Général!B59:J59,$G$1)=1,\"Course 2\",IF(COUNTIF(Général!B61:J61,$G$1)=1,\"Course 3\",\"Course 4\")))","v":"Course 1"},{"$f":"IF(COUNTIF(Général!B65:J65,$G$1)=1,\"Course 1\",IF(COUNTIF(Général!B67:J67,$G$1)=1,\"Course 2\",IF(COUNTIF(Général!B69:J69,$G$1)=1,\"Course 3\",\"Course 4\")))","v":"Course 3"},{"$f":"IF(COUNTIF(Général!B73:J73,$G$1)=1,\"Course 1\",IF(COUNTIF(Général!B75:J75,$G$1)=1,\"Course 2\",IF(COUNTIF(Général!B77:J77,$G$1)=1,\"Course 3\",\"Course 4\")))","v":"Course 2"},{"$f":"IF(COUNTIF(Général!B81:J81,$G$1)=1,\"Course 1\",IF(COUNTIF(Général!B83:J83,$G$1)=1,\"Course 2\",IF(COUNTIF(Général!B85:J85,$G$1)=1,\"Course 3\",\"Course 4\")))","v":"Course 2"},{"$f":"IF(COUNTIF(Général!B89:J89,$G$1)=1,\"Course 1\",IF(COUNTIF(Général!B91:J91,$G$1)=1,\"Course 2\",IF(COUNTIF(Général!B93:J93,$G$1)=1,\"Course 3\",\"Course 4\")))","v":"Course 3"},{"$f":"IF(COUNTIF(Général!B97:J97,$G$1)=1,\"Course 1\",IF(COUNTIF(Général!B99:J99,$G$1)=1,\"Course 2\",IF(COUNTIF(Général!B101:J101,$G$1)=1,\"Course 3\",\"Course 4\")))","v":"Course 1"},{"$f":"IF(COUNTIF(Général!B105:J105,$G$1)=1,\"Course 1\",IF(COUNTIF(Général!B107:J107,$G$1)=1,\"Course 2\",IF(COUNTIF(Général!B109:J109,$G$1)=1,\"Course 3\",\"Course 4\")))","v":"Course 1"},{"$f":"IF(COUNTIF(Général!B113:J113,$G$1)=1,\"Course 1\",IF(COUNTIF(Général!B115:J115,$G$1)=1,\"Course 2\",IF(COUNTIF(Général!B117:J117,$G$1)=1,\"Course 3\",\"Course 4\")))","v":"Course 3"},{"$f":"IF(COUNTIF(Général!B121:J121,$G$1)=1,\"Course 1\",IF(COUNTIF(Général!B123:J123,$G$1)=1,\"Course 2\",IF(COUNTIF(Général!B125:J125,$G$1)=1,\"Course 3\",\"Course 4\")))","v":"Course 2"},{"$f":"IF(COUNTIF(Général!B129:J129,$G$1)=1,\"Course 1\",IF(COUNTIF(Général!B131:J131,$G$1)=1,\"Course 2\",IF(COUNTIF(Général!B133:J133,$G$1)=1,\"Course 3\",\"Course 4\")))","v":"Course 1"},{"$f":"IF(COUNTIF(Général!B137:J137,$G$1)=1,\"Course 1\",IF(COUNTIF(Général!B139:J139,$G$1)=1,\"Course 2\",IF(COUNTIF(Général!B141:J141,$G$1)=1,\"Course 3\",\"Course 4\")))","v":"Course 3"},{"$f":"IF(COUNTIF(Général!B145:J145,$G$1)=1,\"Course 1\",IF(COUNTIF(Général!B147:J147,$G$1)=1,\"Course 2\",IF(COUNTIF(Général!B149:J149,$G$1)=1,\"Course 3\",\"Course 4\")))","v":"Course 1"},{"$f":"IF(COUNTIF(Général!B153:J153,$G$1)=1,\"Course 1\",IF(COUNTIF(Général!B155:J155,$G$1)=1,\"Course 2\",IF(COUNTIF(Général!B157:J157,$G$1)=1,\"Course 3\",\"Course 4\")))","v":"Course 1"},{"$f":"IF(COUNTIF(Général!B161:J161,$G$1)=1,\"Course 1\",IF(COUNTIF(Général!B163:J163,$G$1)=1,\"Course 2\",IF(COUNTIF(Général!B165:J165,$G$1)=1,\"Course 3\",\"Course 4\")))","v":"Course 2"},{"$f":"IF(COUNTIF(Général!B169:J169,$G$1)=1,\"Course 1\",IF(COUNTIF(Général!B171:J171,$G$1)=1,\"Course 2\",IF(COUNTIF(Général!B173:J173,$G$1)=1,\"Course 3\",\"Course 4\")))","v":"Course 2"},null,{"$f":"Général!B7","v":"ENSTA Bretagne 2"},5]
["Bateau",null,{"$f":"IF(COUNTIF(Général!B33:B38,$G$1)=1,\"Boat 1\",IF(COUNTIF(Général!C33:C38,$G$1)=1,\"Boat 2\",IF(COUNTIF(Général!D33:D38,$G$1)=1,\"Boat 3\", IF(COUNTIF(Général!E33:E38,$G$1)=1,\"Boat 4\", IF(COUNTIF(Général!F33:F38,$G$1)=1,\"Boat 5\", IF(COUNTIF(Général!G33:G38,$G$1)=1,\"Boat 6\", IF(COUNTIF(Général!H33:H38,$G$1)=1,\"Boat 7\",IF(COUNTIF(Général!I33:I38,$G$1)=1,\"Boat 8\",\"Boat 9\"))))))))","v":"Boat 3"},{"$f":"IF(COUNTIF(Général!B41:B46,$G$1)=1,\"Boat 1\",IF(COUNTIF(Général!C41:C46,$G$1)=1,\"Boat 2\",IF(COUNTIF(Général!D41:D46,$G$1)=1,\"Boat 3\", IF(COUNTIF(Général!E41:E46,$G$1)=1,\"Boat 4\", IF(COUNTIF(Général!F41:F46,$G$1)=1,\"Boat 5\", IF(COUNTIF(Général!G41:G46,$G$1)=1,\"Boat 6\", IF(COUNTIF(Général!H41:H46,$G$1)=1,\"Boat 7\",IF(COUNTIF(Général!I33:I38,$G$1)=1,\"Boat 8\",\"Boat 9\"))))))))","v":"Boat 3"},{"$f":"IF(COUNTIF(Général!B49:B54,$G$1)=1,\"Boat 1\",IF(COUNTIF(Général!C49:C54,$G$1)=1,\"Boat 2\",IF(COUNTIF(Général!D49:D54,$G$1)=1,\"Boat 3\", IF(COUNTIF(Général!E49:E54,$G$1)=1,\"Boat 4\", IF(COUNTIF(Général!F49:F54,$G$1)=1,\"Boat 5\", IF(COUNTIF(Général!G49:G54,$G$1)=1,\"Boat 6\", IF(COUNTIF(Général!H49:H54,$G$1)=1,\"Boat 7\",IF(COUNTIF(Général!I33:I38,$G$1)=1,\"Boat 8\",\"Boat 9\"))))))))","v":"Boat 5"},{"$f":"IF(COUNTIF(Général!B57:B62,$G$1)=1,\"Boat 1\",IF(COUNTIF(Général!C57:C62,$G$1)=1,\"Boat 2\",IF(COUNTIF(Général!D57:D62,$G$1)=1,\"Boat 3\", IF(COUNTIF(Général!E57:E62,$G$1)=1,\"Boat 4\", IF(COUNTIF(Général!F57:F62,$G$1)=1,\"Boat 5\", IF(COUNTIF(Général!G57:G62,$G$1)=1,\"Boat 6\", IF(COUNTIF(Général!H57:H62,$G$1)=1,\"Boat 7\",IF(COUNTIF(Général!I33:I38,$G$1)=1,\"Boat 8\",\"Boat 9\"))))))))","v":"Boat 2"},{"$f":"IF(COUNTIF(Général!B65:B70,$G$1)=1,\"Boat 1\",IF(COUNTIF(Général!C65:C70,$G$1)=1,\"Boat 2\",IF(COUNTIF(Général!D65:D70,$G$1)=1,\"Boat 3\", IF(COUNTIF(Général!E65:E70,$G$1)=1,\"Boat 4\", IF(COUNTIF(Général!F65:F70,$G$1)=1,\"Boat 5\", IF(COUNTIF(Général!G65:G70,$G$1)=1,\"Boat 6\", IF(COUNTIF(Général!H65:H70,$G$1)=1,\"Boat 7\",IF(COUNTIF(Général!I33:I38,$G$1)=1,\"Boat 8\",\"Boat 9\"))))))))","v":"Boat 2"},{"$f":"IF(COUNTIF(Général!B73:B78,$G$1)=1,\"Boat 1\",IF(COUNTIF(Général!C73:C78,$G$1)=1,\"Boat 2\",IF(COUNTIF(Général!D73:D78,$G$1)=1,\"Boat 3\", IF(COUNTIF(Général!E73:E78,$G$1)=1,\"Boat 4\", IF(COUNTIF(Général!F73:F78,$G$1)=1,\"Boat 5\", IF(COUNTIF(Général!G73:G78,$G$1)=1,\"Boat 6\", IF(COUNTIF(Général!H73:H78,$G$1)=1,\"Boat 7\",IF(COUNTIF(Général!I33:I38,$G$1)=1,\"Boat 8\",\"Boat 9\"))))))))","v":"Boat 9"},{"$f":"IF(COUNTIF(Général!B81:B86,$G$1)=1,\"Boat 1\",IF(COUNTIF(Général!C81:C86,$G$1)=1,\"Boat 2\",IF(COUNTIF(Général!D81:D86,$G$1)=1,\"Boat 3\", IF(COUNTIF(Général!E81:E86,$G$1)=1,\"Boat 4\", IF(COUNTIF(Général!F81:F86,$G$1)=1,\"Boat 5\", IF(COUNTIF(Général!G81:G86,$G$1)=1,\"Boat 6\", IF(COUNTIF(Général!H81:H86,$G$1)=1,\"Boat 7\",IF(COUNTIF(Général!I33:I38,$G$1)=1,\"Boat 8\",\"Boat 9\"))))))))","v":"Boat 1"},{"$f":"IF(COUNTIF(Général!B89:B94,$G$1)=1,\"Boat 1\",IF(COUNTIF(Général!C89:C94,$G$1)=1,\"Boat 2\",IF(COUNTIF(Général!D89:D94,$G$1)=1,\"Boat 3\", IF(COUNTIF(Général!E89:E94,$G$1)=1,\"Boat 4\", IF(COUNTIF(Général!F89:F94,$G$1)=1,\"Boat 5\", IF(COUNTIF(Général!G89:G94,$G$1)=1,\"Boat 6\", IF(COUNTIF(Général!H89:H94,$G$1)=1,\"Boat 7\",IF(COUNTIF(Général!I33:I38,$G$1)=1,\"Boat 8\",\"Boat 9\"))))))))","v":"Boat 7"},{"$f":"IF(COUNTIF(Général!B97:B102,$G$1)=1,\"Boat 1\",IF(COUNTIF(Général!C97:C102,$G$1)=1,\"Boat 2\",IF(COUNTIF(Général!D97:D102,$G$1)=1,\"Boat 3\", IF(COUNTIF(Général!E97:E102,$G$1)=1,\"Boat 4\", IF(COUNTIF(Général!F97:F102,$G$1)=1,\"Boat 5\", IF(COUNTIF(Général!G97:G102,$G$1)=1,\"Boat 6\", IF(COUNTIF(Général!H97:H102,$G$1)=1,\"Boat 7\",IF(COUNTIF(Général!I33:I38,$G$1)=1,\"Boat 8\",\"Boat 9\"))))))))","v":"Boat 7"},{"$f":"IF(COUNTIF(Général!B105:B110,$G$1)=1,\"Boat 1\",IF(COUNTIF(Général!C105:C110,$G$1)=1,\"Boat 2\",IF(COUNTIF(Général!D105:D110,$G$1)=1,\"Boat 3\", IF(COUNTIF(Général!E105:E110,$G$1)=1,\"Boat 4\", IF(COUNTIF(Général!F105:F110,$G$1)=1,\"Boat 5\", IF(COUNTIF(Général!G105:G110,$G$1)=1,\"Boat 6\", IF(COUNTIF(Général!H105:H110,$G$1)=1,\"Boat 7\",IF(COUNTIF(Général!I33:I38,$G$1)=1,\"Boat 8\",\"Boat 9\"))))))))","v":"Boat 9"},{"$f":"IF(COUNTIF(Général!B113:B118,$G$1)=1,\"Boat 1\",IF(COUNTIF(Général!C113:C118,$G$1)=1,\"Boat 2\",IF(COUNTIF(Général!C113:D118,$G$1)=1,\"Boat 3\", IF(COUNTIF(Général!C113:E118,$G$1)=1,\"Boat 4\", IF(COUNTIF(Général!F113:F118,$G$1)=1,\"Boat 5\", IF(COUNTIF(Général!G113:G118,$G$1)=1,\"Boat 6\", IF(COUNTIF(Général!H113:H118,$G$1)=1,\"Boat 7\",IF(COUNTIF(Général!I33:I38,$G$1)=1,\"Boat 8\",\"Boat 9\"))))))))","v":"Boat 5"},{"$f":"IF(COUNTIF(Général!B121:B126,$G$1)=1,\"Boat 1\",IF(COUNTIF(Général!C121:C126,$G$1)=1,\"Boat 2\",IF(COUNTIF(Général!D121:D126,$G$1)=1,\"Boat 3\", IF(COUNTIF(Général!E121:E126,$G$1)=1,\"Boat 4\", IF(COUNTIF(Général!F121:F126,$G$1)=1,\"Boat 5\", IF(COUNTIF(Général!G121:G126,$G$1)=1,\"Boat 6\", IF(COUNTIF(Général!H121:H126,$G$1)=1,\"Boat 7\",IF(COUNTIF(Général!I33:I38,$G$1)=1,\"Boat 8\",\"Boat 9\"))))))))","v":"Boat 1"},{"$f":"IF(COUNTIF(Général!B129:B134,$G$1)=1,\"Boat 1\",IF(COUNTIF(Général!C129:C134,$G$1)=1,\"Boat 2\",IF(COUNTIF(Général!D131:D134,$G$1)=1,\"Boat 3\", IF(COUNTIF(Général!E129:E134,$G$1)=1,\"Boat 4\", IF(COUNTIF(Général!F129:F134,$G$1)=1,\"Boat 5\", IF(COUNTIF(Général!G129:G134,$G$1)=1,\"Boat 6\", IF(COUNTIF(Général!H129:H134,$G$1)=1,\"Boat 7\",IF(COUNTIF(Général!I33:I38,$G$1)=1,\"Boat 8\",\"Boat 9\"))))))))","v":"Boat 6"},{"$f":"IF(COUNTIF(Général!B137:B142,$G$1)=1,\"Boat 1\",IF(COUNTIF(Général!C137:C142,$G$1)=1,\"Boat 2\",IF(COUNTIF(Général!D137:D142,$G$1)=1,\"Boat 3\", IF(COUNTIF(Général!E137:E142,$G$1)=1,\"Boat 4\", IF(COUNTIF(Général!F145:F150,$G$1)=1,\"Boat 5\", IF(COUNTIF(Général!G145:G150,$G$1)=1,\"Boat 6\", IF(COUNTIF(Général!H145:H150,$G$1)=1,\"Boat 7\",IF(COUNTIF(Général!I33:I38,$G$1)=1,\"Boat 8\",\"Boat 9\"))))))))","v":"Boat 6"},{"$f":"IF(COUNTIF(Général!B145:B150,$G$1)=1,\"Boat 1\",IF(COUNTIF(Général!C145:C150,$G$1)=1,\"Boat 2\",IF(COUNTIF(Général!D145:D150,$G$1)=1,\"Boat 3\", IF(COUNTIF(Général!E145:E150,$G$1)=1,\"Boat 4\", IF(COUNTIF(Général!F145:F150,$G$1)=1,\"Boat 5\", IF(COUNTIF(Général!G145:G150,$G$1)=1,\"Boat 6\", IF(COUNTIF(Général!H145:H150,$G$1)=1,\"Boat 7\",IF(COUNTIF(Général!I33:I38,$G$1)=1,\"Boat 8\",\"Boat 9\"))))))))","v":"Boat 6"},{"$f":"IF(COUNTIF(Général!B153:B158,$G$1)=1,\"Boat 1\",IF(COUNTIF(Général!C153:C158,$G$1)=1,\"Boat 2\",IF(COUNTIF(Général!D153:D158,$G$1)=1,\"Boat 3\", IF(COUNTIF(Général!E153:E158,$G$1)=1,\"Boat 4\", IF(COUNTIF(Général!F153:F158,$G$1)=1,\"Boat 5\", IF(COUNTIF(Général!G153:G158,$G$1)=1,\"Boat 6\", IF(COUNTIF(Général!H153:H158,$G$1)=1,\"Boat 7\",IF(COUNTIF(Général!I33:I38,$G$1)=1,\"Boat 8\",\"Boat 9\"))))))))","v":"Boat 4"},{"$f":"IF(COUNTIF(Général!B161:B166,$G$1)=1,\"Boat 1\",IF(COUNTIF(Général!C161:C166,$G$1)=1,\"Boat 2\",IF(COUNTIF(Général!D161:D166,$G$1)=1,\"Boat 3\", IF(COUNTIF(Général!E161:E166,$G$1)=1,\"Boat 4\", IF(COUNTIF(Général!F161:F166,$G$1)=1,\"Boat 5\", IF(COUNTIF(Général!G161:G166,$G$1)=1,\"Boat 6\", IF(COUNTIF(Général!H161:H166,$G$1)=1,\"Boat 7\",IF(COUNTIF(Général!I33:I38,$G$1)=1,\"Boat 8\",\"Boat 9\"))))))))","v":"Boat 1"},{"$f":"IF(COUNTIF(Général!B169:B174,$G$1)=1,\"Boat 1\",IF(COUNTIF(Général!C169:C174,$G$1)=1,\"Boat 2\",IF(COUNTIF(Général!D169:D174,$G$1)=1,\"Boat 3\", IF(COUNTIF(Général!E169:E174,$G$1)=1,\"Boat 4\", IF(COUNTIF(Général!F169:F174,$G$1)=1,\"Boat 5\", IF(COUNTIF(Général!G169:G174,$G$1)=1,\"Boat 6\", IF(COUNTIF(Général!H169:H174,$G$1)=1,\"Boat 7\",IF(COUNTIF(Général!I33:I38,$G$1)=1,\"Boat 8\",\"Boat 9\"))))))))","v":"Boat 9"},null,{"$f":"Général!B8","v":"IMT Atlantique Nantes 2"},6]
[null,null,null,null,null,null,null,null,null,null,null,null,null,null,null,null,null,null,null,null,null,{"$f":"Général!B9","v":"Hambourg"},4]
["1er Equipage",null,{"$f":"IF($C$5=\"Course 1\",Général!B33,IF($C$5=\"Course 2\",Général!B35,IF($C$5=\"Course 3\",Général!B37,Général!#REF!)))","v":"ENSTA Paris"},{"$f":"IF($D$5=\"Course 1\",Général!B41,IF($D$5=\"Course 2\",Général!B43,IF($D$5=\"Course 3\",Général!B45,Général!#REF!)))","v":"ASUL Lannion"},{"$f":"IF($E$5=\"Course 1\",Général!B49,IF($E$5=\"Course 2\",Général!B51,IF($E$5=\"Course 3\",Général!B53,Général!#REF!)))","v":"IMT Atlantique Nantes 2"},{"$f":"IF($F$5=\"Course 1\",Général!B$57,IF($F$5=\"Course 2\",Général!B$59,IF($F$5=\"Course 3\",Général!B$61,Général!#REF!)))","v":"IMT Atlantique Nantes 2"},{"$f":"IF($G$5=\"Course 1\",Général!B$65,IF($G$5=\"Course 2\",Général!B$67,IF($G$5=\"Course 3\",Général!B$69,Général!#REF!)))","v":"ENSTA Bretagne 2"},{"$f":"IF($H$5=\"Course 1\",Général!B$73,IF($H$5=\"Course 2\",Général!B$75,IF($H$5=\"Course 3\",Général!B$77,Général!#REF!)))","v":"IMT Atlantique Brest"},{"$f":"IF($I$5=\"Course 1\",Général!B$81,IF($I$5=\"Course 2\",Général!B$83,IF($I$5=\"Course 3\",Général!B$85,Général!#REF!)))","v":"IMT Atlantique Nantes 1"},{"$f":"IF($J$5=\"Course 1\",Général!B$89,IF($J$5=\"Course 2\",Général!B$91,IF($J$5=\"Course 3\",Général!B$93,Général!#REF!)))","v":"AS Paris 1 Panthéon Sorbonne"},{"$f":"IF($K$5=\"Course 1\",Général!B$97,IF($K$5=\"Course 2\",Général!B$99,IF($K$5=\"Course 3\",Général!B$101,Général!#REF!)))","v":"AS Paris 1 Panthéon Sorbonne"},{"$f":"IF($L$5=\"Course 1\",Général!B$105,IF($L$5=\"Course 2\",Général!B$107,IF($L$5=\"Course 3\",Général!B$109,Général!#REF!)))","v":"Centrales Nantes"},{"$f":"IF($M$5=\"Course 1\",Général!B$113,IF($M$5=\"Course 2\",Général!B$115,IF($M$5=\"Course 3\",Général!B$117,Général!#REF!)))","v":"Karlsruhe"},{"$f":"IF($N$5=\"Course 1\",Général!B$121,IF($N$5=\"Course 2\",Général!B$123,IF($N$5=\"Course 3\",Général!B$125,Général!#REF!)))","v":"IMT Atlantique Nantes 1"},{"$f":"IF($O$5=\"Course 1\",Général!B$129,IF($O$5=\"Course 2\",Général!B$131,IF($O$5=\"Course 3\",Général!B$133,Général!#REF!)))","v":"Hannovre"},{"$f":"IF($P$5=\"Course 1\",Général!B$137,IF($P$5=\"Course 2\",Général!B$139,IF($P$5=\"Course 3\",Général!B$141,Général!#REF!)))","v":"Univ. Nantes 1"},{"$f":"IF($Q$5=\"Course 1\",Général!B$145,IF($Q$5=\"Course 2\",Général!B$147,IF($Q$5=\"Course 3\",Général!B$149,Général!#REF!)))","v":"Univ. Nantes 1"},{"$f":"IF($R$5=\"Course 1\",Général!B$153,IF($R$5=\"Course 2\",Général!B$155,IF($R$5=\"Course 3\",Général!B$157,Général!#REF!)))","v":"HYDRO Sailing Team Le Havre"},{"$f":"IF($S$5=\"Course 1\",Général!B$161,IF($S$5=\"Course 2\",Général!B$163,IF($S$5=\"Course 3\",Général!B$165,Général!#REF!)))","v":"IMT Atlantique Nantes 1"},{"$f":"IF($T$5=\"Course 1\",Général!B$169,IF($T$5=\"Course 2\",Général!B$171,IF($T$5=\"Course 3\",Général!B$173,Général!#REF!)))","v":"UBO 2"},null,{"$f":"Général!B10","v":"EGSI La Rochelle"},5]
["2nd Equipage",null,{"$f":"IF($C$5=\"Course 1\",Général!C33,IF($C$5=\"Course 2\",Général!C35,IF($C$5=\"Course 3\",Général!C37,Général!#REF!)))","v":"Univ. Nantes 2"},{"$f":"IF($D$5=\"Course 1\",Général!C41,IF($D$5=\"Course 2\",Général!C43,IF($D$5=\"Course 3\",Général!C45,Général!#REF!)))","v":"UBS Lorient 1"},{"$f":"IF($E$5=\"Course 1\",Général!C49,IF($E$5=\"Course 2\",Général!C51,IF($E$5=\"Course 3\",Général!C53,Général!#REF!)))","v":"Karlsruhe"},{"$f":"IF($F$5=\"Course 1\",Général!C$57,IF($F$5=\"Course 2\",Général!C$59,IF($F$5=\"Course 3\",Général!C$61,Général!#REF!)))","v":"IMT Atlantique Nantes 1"},{"$f":"IF($G$5=\"Course 1\",Général!C$65,IF($G$5=\"Course 2\",Général!C$67,IF($G$5=\"Course 3\",Général!C$69,Général!#REF!)))","v":"IMT Atlantique Nantes 1"},{"$f":"IF($H$5=\"Course 1\",Général!C$73,IF($H$5=\"Course 2\",Général!C$75,IF($H$5=\"Course 3\",Général!C$77,Général!#REF!)))","v":"ASUL Lannion"},{"$f":"IF($I$5=\"Course 1\",Général!C$81,IF($I$5=\"Course 2\",Général!C$83,IF($I$5=\"Course 3\",Général!C$85,Général!#REF!)))","v":"Centrales Nantes"},{"$f":"IF($J$5=\"Course 1\",Général!C$89,IF($J$5=\"Course 2\",Général!C$91,IF($J$5=\"Course 3\",Général!C$93,Général!#REF!)))","v":"UBO 1"},{"$f":"IF($K$5=\"Course 1\",Général!C$97,IF($K$5=\"Course 2\",Général!C$99,IF($K$5=\"Course 3\",Général!C$101,Général!#REF!)))","v":"ASUL Lannion"},{"$f":"IF($L$5=\"Course 1\",Général!C$105,IF($L$5=\"Course 2\",Général!C$107,IF($L$5=\"Course 3\",Général!C$109,Général!#REF!)))","v":"AS UB St Brieuc"},{"$f":"IF($M$5=\"Course 1\",Général!C$113,IF($M$5=\"Course 2\",Général!C$115,IF($M$5=\"Course 3\",Général!C$117,Général!#REF!)))","v":"ENSTA Bretagne 1"},{"$f":"IF($N$5=\"Course 1\",Général!C$121,IF($N$5=\"Course 2\",Général!C$123,IF($N$5=\"Course 3\",Général!C$125,Général!#REF!)))","v":"Dublin"},{"$f":"IF($O$5=\"Course 1\",Général!C$129,IF($O$5=\"Course 2\",Général!C$131,IF($O$5=\"Course 3\",Général!C$133,Général!#REF!)))","v":"Univ. Nantes 3"},{"$f":"IF($P$5=\"Course 1\",Général!C$137,IF($P$5=\"Course 2\",Général!C$139,IF($P$5=\"Course 3\",Général!C$141,Général!#REF!)))","v":"AS UB St Brieuc"},{"$f":"IF($Q$5=\"Course 1\",Général!C$145,IF($Q$5=\"Course 2\",Général!C$147,IF($Q$5=\"Course 3\",Général!C$149,Général!#REF!)))","v":"AS UB St Brieuc"},{"$f":"IF($R$5=\"Course 1\",Général!C$153,IF($R$5=\"Course 2\",Général!C$155,IF($R$5=\"Course 3\",Général!C$157,Général!#REF!)))","v":"Univ. Nantes 3"},{"$f":"IF($S$5=\"Course 1\",Général!C$161,IF($S$5=\"Course 2\",Général!C$163,IF($S$5=\"Course 3\",Général!C$165,Général!#REF!)))","v":"Univ.Orléans"},{"$f":"IF($T$5=\"Course 1\",Général!C$169,IF($T$5=\"Course 2\",Général!C$171,IF($T$5=\"Course 3\",Général!C$173,Général!#REF!)))","v":"Dublin"},null,{"$f":"Général!B11","v":"HYDRO Sailing Team Le Havre"},6]
["3ème Equipage",null,{"$f":"IF($C$5=\"Course 1\",Général!D33,IF($C$5=\"Course 2\",Général!D35,IF($C$5=\"Course 3\",Général!D37,Général!#REF!)))","v":"IMT Atlantique Nantes 1"},{"$f":"IF($D$5=\"Course 1\",Général!D41,IF($D$5=\"Course 2\",Général!D43,IF($D$5=\"Course 3\",Général!D45,Général!#REF!)))","v":"IMT Atlantique Nantes 1"},{"$f":"IF($E$5=\"Course 1\",Général!D49,IF($E$5=\"Course 2\",Général!D51,IF($E$5=\"Course 3\",Général!D53,Général!#REF!)))","v":"Dublin"},{"$f":"IF($F$5=\"Course 1\",Général!D$57,IF($F$5=\"Course 2\",Général!D$59,IF($F$5=\"Course 3\",Général!D$61,Général!#REF!)))","v":"Univ. Nantes 2"},{"$f":"IF($G$5=\"Course 1\",Général!D$65,IF($G$5=\"Course 2\",Général!D$67,IF($G$5=\"Course 3\",Général!D$69,Général!#REF!)))","v":"Univ. La Rochelle"},{"$f":"IF($H$5=\"Course 1\",Général!D$73,IF($H$5=\"Course 2\",Général!D$75,IF($H$5=\"Course 3\",Général!D$77,Général!#REF!)))","v":"Centrales Nantes"},{"$f":"IF($I$5=\"Course 1\",Général!D$81,IF($I$5=\"Course 2\",Général!D$83,IF($I$5=\"Course 3\",Général!D$85,Général!#REF!)))","v":"UBS Lorient 2"},{"$f":"IF($J$5=\"Course 1\",Général!D$89,IF($J$5=\"Course 2\",Général!D$91,IF($J$5=\"Course 3\",Général!D$93,Général!#REF!)))","v":"ENSTA Paris"},{"$f":"IF($K$5=\"Course 1\",Général!D$97,IF($K$5=\"Course 2\",Général!D$99,IF($K$5=\"Course 3\",Général!D$101,Général!#REF!)))","v":"ENSTA Paris"},{"$f":"IF($L$5=\"Course 1\",Général!D$105,IF($L$5=\"Course 2\",Général!D$107,IF($L$5=\"Course 3\",Général!D$109,Général!#REF!)))","v":"Southampton"},{"$f":"IF($M$5=\"Course 1\",Général!D$113,IF($M$5=\"Course 2\",Général!D$115,IF($M$5=\"Course 3\",Général!D$117,Général!#REF!)))","v":"UNICAEN - ASSUCherbourg"},{"$f":"IF($N$5=\"Course 1\",Général!D$121,IF($N$5=\"Course 2\",Général!D$123,IF($N$5=\"Course 3\",Général!D$125,Général!#REF!)))","v":"Hannovre"},{"$f":"IF($O$5=\"Course 1\",Général!D$129,IF($O$5=\"Course 2\",Général!D$131,IF($O$5=\"Course 3\",Général!D$133,Général!#REF!)))","v":"AS Paris 1 Panthéon Sorbonne"},{"$f":"IF($P$5=\"Course 1\",Général!D$137,IF($P$5=\"Course 2\",Général!D$139,IF($P$5=\"Course 3\",Général!D$141,Général!#REF!)))","v":"IMT Atlantique Brest"},{"$f":"IF($Q$5=\"Course 1\",Général!D$145,IF($Q$5=\"Course 2\",Général!D$147,IF($Q$5=\"Course 3\",Général!D$149,Général!#REF!)))","v":"IMT Atlantique Nantes 2"},{"$f":"IF($R$5=\"Course 1\",Général!D$153,IF($R$5=\"Course 2\",Général!D$155,IF($R$5=\"Course 3\",Général!D$157,Général!#REF!)))","v":"Univ.Orléans"},{"$f":"IF($S$5=\"Course 1\",Général!D$161,IF($S$5=\"Course 2\",Général!D$163,IF($S$5=\"Course 3\",Général!D$165,Général!#REF!)))","v":"HYDRO Sailing Team Le Havre"},{"$f":"IF($T$5=\"Course 1\",Général!D$169,IF($T$5=\"Course 2\",Général!D$171,IF($T$5=\"Course 3\",Général!D$173,Général!#REF!)))","v":"Univ. Nantes 3"},null,{"$f":"Général!B12","v":"UNICAEN - ASSUCherbourg"},6]
["4ème Equipage",null,{"$f":"IF($C$5=\"Course 1\",Général!E33,IF($C$5=\"Course 2\",Général!E35,IF($C$5=\"Course 3\",Général!E37,Général!#REF!)))","v":"AS Paris 1 Panthéon Sorbonne"},{"$f":"IF($D$5=\"Course 1\",Général!E41,IF($D$5=\"Course 2\",Général!E43,IF($D$5=\"Course 3\",Général!E45,Général!#REF!)))","v":"AS UB St Brieuc"},{"$f":"IF($E$5=\"Course 1\",Général!E49,IF($E$5=\"Course 2\",Général!E51,IF($E$5=\"Course 3\",Général!E53,Général!#REF!)))","v":"UBO 2"},{"$f":"IF($F$5=\"Course 1\",Général!E$57,IF($F$5=\"Course 2\",Général!E$59,IF($F$5=\"Course 3\",Général!E$61,Général!#REF!)))","v":"UBS Lorient 1"},{"$f":"IF($G$5=\"Course 1\",Général!E$65,IF($G$5=\"Course 2\",Général!E$67,IF($G$5=\"Course 3\",Général!E$69,Général!#REF!)))","v":"ASUL Lannion"},{"$f":"IF($H$5=\"Course 1\",Général!E$73,IF($H$5=\"Course 2\",Général!E$75,IF($H$5=\"Course 3\",Général!E$77,Général!#REF!)))","v":"Hannovre"},{"$f":"IF($I$5=\"Course 1\",Général!E$81,IF($I$5=\"Course 2\",Général!E$83,IF($I$5=\"Course 3\",Général!E$85,Général!#REF!)))","v":"IMT Atlantique Brest"},{"$f":"IF($J$5=\"Course 1\",Général!E$89,IF($J$5=\"Course 2\",Général!E$91,IF($J$5=\"Course 3\",Général!E$93,Général!#REF!)))","v":"Karlsruhe"},{"$f":"IF($K$5=\"Course 1\",Général!E$97,IF($K$5=\"Course 2\",Général!E$99,IF($K$5=\"Course 3\",Général!E$101,Général!#REF!)))","v":"UBO 1"},{"$f":"IF($L$5=\"Course 1\",Général!E$105,IF($L$5=\"Course 2\",Général!E$107,IF($L$5=\"Course 3\",Général!E$109,Général!#REF!)))","v":"Univ. Nantes 1"},{"$f":"IF($M$5=\"Course 1\",Général!E$113,IF($M$5=\"Course 2\",Général!E$115,IF($M$5=\"Course 3\",Général!E$117,Général!#REF!)))","v":"ENSTA Bretagne 2"},{"$f":"IF($N$5=\"Course 1\",Général!E$121,IF($N$5=\"Course 2\",Général!E$123,IF($N$5=\"Course 3\",Général!E$125,Général!#REF!)))","v":"Univ. La Rochelle"},{"$f":"IF($O$5=\"Course 1\",Général!E$129,IF($O$5=\"Course 2\",Général!E$131,IF($O$5=\"Course 3\",Général!E$133,Général!#REF!)))","v":"IMT Atlantique Nantes 2"},{"$f":"IF($P$5=\"Course 1\",Général!E$137,IF($P$5=\"Course 2\",Général!E$139,IF($P$5=\"Course 3\",Général!E$141,Général!#REF!)))","v":"UBS Lorient 2"},{"$f":"IF($Q$5=\"Course 1\",Général!E$145,IF($Q$5=\"Course 2\",Général!E$147,IF($Q$5=\"Course 3\",Général!E$149,Général!#REF!)))","v":"UNICAEN - ASSUCherbourg"},{"$f":"IF($R$5=\"Course 1\",Général!E$153,IF($R$5=\"Course 2\",Général!E$155,IF($R$5=\"Course 3\",Général!E$157,Général!#REF!)))","v":"IMT Atlantique Nantes 1"},{"$f":"IF($S$5=\"Course 1\",Général!E$161,IF($S$5=\"Course 2\",Général!E$163,IF($S$5=\"Course 3\",Général!E$165,Général!#REF!)))","v":"Centrales Nantes"},{"$f":"IF($T$5=\"Course 1\",Général!E$169,IF($T$5=\"Course 2\",Général!E$171,IF($T$5=\"Course 3\",Général!E$173,Général!#REF!)))","v":"Univ.Orléans"},null,{"$f":"Général!B13","v":"UBO 1"},5]
["5ème Equipage",null,{"$f":"IF($C$5=\"Course 1\",Général!F33,IF($C$5=\"Course 2\",Général!F35,IF($C$5=\"Course 3\",Général!F37,Général!#REF!)))","v":"Hambourg"},{"$f":"IF($D$5=\"Course 1\",Général!F41,IF($D$5=\"Course 2\",Général!F43,IF($D$5=\"Course 3\",Général!F45,Général!#REF!)))","v":"Southampton"},{"$f":"IF($E$5=\"Course 1\",Général!F49,IF($E$5=\"Course 2\",Général!F51,IF($E$5=\"Course 3\",Général!F53,Général!#REF!)))","v":"IMT Atlantique Nantes 1"},{"$f":"IF($F$5=\"Course 1\",Général!F$57,IF($F$5=\"Course 2\",Général!F$59,IF($F$5=\"Course 3\",Général!F$61,Général!#REF!)))","v":"UNICAEN - ASSUCherbourg"},{"$f":"IF($G$5=\"Course 1\",Général!F$65,IF($G$5=\"Course 2\",Général!F$67,IF($G$5=\"Course 3\",Général!F$69,Général!#REF!)))","v":"Univ. Nantes 3"},{"$f":"IF($H$5=\"Course 1\",Général!F$73,IF($H$5=\"Course 2\",Général!F$75,IF($H$5=\"Course 3\",Général!F$77,Général!#REF!)))","v":"UBO 2"},{"$f":"IF($I$5=\"Course 1\",Général!F$81,IF($I$5=\"Course 2\",Général!F$83,IF($I$5=\"Course 3\",Général!F$85,Général!#REF!)))","v":"EGSI La Rochelle"},{"$f":"IF($J$5=\"Course 1\",Général!F$89,IF($J$5=\"Course 2\",Général!F$91,IF($J$5=\"Course 3\",Général!F$93,Général!#REF!)))","v":"Univ. La Rochelle"},{"$f":"IF($K$5=\"Course 1\",Général!F$97,IF($K$5=\"Course 2\",Général!F$99,IF($K$5=\"Course 3\",Général!F$101,Général!#REF!)))","v":"Dublin"},{"$f":"IF($L$5=\"Course 1\",Général!F$105,IF($L$5=\"Course 2\",Général!$F107,IF($L$5=\"Course 3\",Général!F$109,Général!#REF!)))","v":"IMT Atlantique Nantes 2"},{"$f":"IF($M$5=\"Course 1\",Général!F$113,IF($M$5=\"Course 2\",Général!F$115,IF($M$5=\"Course 3\",Général!F$117,Général!#REF!)))","v":"IMT Atlantique Nantes 1"},{"$f":"IF($N$5=\"Course 1\",Général!F$121,IF($N$5=\"Course 2\",Général!F$123,IF($N$5=\"Course 3\",Général!F$125,Général!#REF!)))","v":"Univ. Nantes 2"},{"$f":"IF($O$5=\"Course 1\",Général!F$129,IF($O$5=\"Course 2\",Général!F$131,IF($O$5=\"Course 3\",Général!F$133,Général!#REF!)))","v":"ASUL Lannion"},{"$f":"IF($P$5=\"Course 1\",Général!F$137,IF($P$5=\"Course 2\",Général!F$139,IF($P$5=\"Course 3\",Général!F$141,Général!#REF!)))","v":"Hannovre"},{"$f":"IF($Q$5=\"Course 1\",Général!F$145,IF($Q$5=\"Course 2\",Général!F$147,IF($Q$5=\"Course 3\",Général!F$149,Général!#REF!)))","v":"Univ.Orléans"},{"$f":"IF($R$5=\"Course 1\",Général!F$153,IF($R$5=\"Course 2\",Général!F$155,IF($R$5=\"Course 3\",Général!F$157,Général!#REF!)))","v":"UBS Lorient 2"},{"$f":"IF($S$5=\"Course 1\",Général!F$161,IF($S$5=\"Course 2\",Général!F$163,IF($S$5=\"Course 3\",Général!F$165,Général!#REF!)))","v":"ASUL Lannion"},{"$f":"IF($T$5=\"Course 1\",Général!F$169,IF($T$5=\"Course 2\",Général!F$171,IF($T$5=\"Course 3\",Général!F$173,Général!#REF!)))","v":"ENSTA Bretagne 1"},null,{"$f":"Général!B14","v":"ENSTA Bretagne 1"},5]
["6ème Equipage",null,{"$f":"IF($C$5=\"Course 1\",Général!G33,IF($C$5=\"Course 2\",Général!G35,IF($C$5=\"Course 3\",Général!G37,Général!#REF!)))","v":"UNICAEN - ASSUCherbourg"},{"$f":"IF($D$5=\"Course 1\",Général!G41,IF($D$5=\"Course 2\",Général!G43,IF($D$5=\"Course 3\",Général!G45,Général!#REF!)))","v":"UBO 1"},{"$f":"IF($E$5=\"Course 1\",Général!G49,IF($E$5=\"Course 2\",Général!G51,IF($E$5=\"Course 3\",Général!G53,Général!#REF!)))","v":"Univ. Nantes 2"},{"$f":"IF($F$5=\"Course 1\",Général!G$57,IF($F$5=\"Course 2\",Général!G$59,IF($F$5=\"Course 3\",Général!G$61,Général!#REF!)))","v":"AS UB St Brieuc"},{"$f":"IF($G$5=\"Course 1\",Général!G$65,IF($G$5=\"Course 2\",Général!G$67,IF($G$5=\"Course 3\",Général!G$69,Général!#REF!)))","v":"Hambourg"},{"$f":"IF($H$5=\"Course 1\",Général!G$73,IF($H$5=\"Course 2\",Général!G$75,IF($H$5=\"Course 3\",Général!G$77,Général!#REF!)))","v":"Hambourg"},{"$f":"IF($I$5=\"Course 1\",Général!G$81,IF($I$5=\"Course 2\",Général!G$83,IF($I$5=\"Course 3\",Général!G$85,Général!#REF!)))","v":"UNICAEN - ASSUCherbourg"},{"$f":"IF($J$5=\"Course 1\",Général!G$89,IF($J$5=\"Course 2\",Général!G$91,IF($J$5=\"Course 3\",Général!G$93,Général!#REF!)))","v":"IMT Atlantique Nantes 2"},{"$f":"IF($K$5=\"Course 1\",Général!G$97,IF($K$5=\"Course 2\",Général!G$99,IF($K$5=\"Course 3\",Général!G$101,Général!#REF!)))","v":"Univ. Nantes 3"},{"$f":"IF($L$5=\"Course 1\",Général!G$105,IF($L$5=\"Course 2\",Général!G$107,IF($L$5=\"Course 3\",Général!G$109,Général!#REF!)))","v":"Univ. La Rochelle"},{"$f":"IF($M$5=\"Course 1\",Général!G$113,IF($M$5=\"Course 2\",Général!G$115,IF($M$5=\"Course 3\",Général!G$117,Général!#REF!)))","v":"AS Paris 1 Panthéon Sorbonne"},{"$f":"IF($N$5=\"Course 1\",Général!G$121,IF($N$5=\"Course 2\",Général!G$123,IF($N$5=\"Course 3\",Général!G$125,Général!#REF!)))","v":"Southampton"},{"$f":"IF($O$5=\"Course 1\",Général!G$129,IF($O$5=\"Course 2\",Général!G$131,IF($O$5=\"Course 3\",Général!G$133,Général!#REF!)))","v":"IMT Atlantique Nantes 1"},{"$f":"IF($P$5=\"Course 1\",Général!G$137,IF($P$5=\"Course 2\",Général!G$139,IF($P$5=\"Course 3\",Général!G$141,Général!#REF!)))","v":"IMT Atlantique Nantes 1"},{"$f":"IF($Q$5=\"Course 1\",Général!G$145,IF($Q$5=\"Course 2\",Général!G$147,IF($Q$5=\"Course 3\",Général!G$149,Général!#REF!)))","v":"IMT Atlantique Nantes 1"},{"$f":"IF($R$5=\"Course 1\",Général!G$153,IF($R$5=\"Course 2\",Général!G$155,IF($R$5=\"Course 3\",Général!G$157,Général!#REF!)))","v":"IMT Atlantique Brest"},{"$f":"IF($S$5=\"Course 1\",Général!G$161,IF($S$5=\"Course 2\",Général!G$163,IF($S$5=\"Course 3\",Général!G$165,Général!#REF!)))","v":"EGSI La Rochelle"},{"$f":"IF($T$5=\"Course 1\",Général!G$169,IF($T$5=\"Course 2\",Général!G$171,IF($T$5=\"Course 3\",Général!G$173,Général!#REF!)))","v":"EGSI La Rochelle"},null,{"$f":"Général!B15","v":"ASUL Lannion"},7]
["7ème Equipage",null,{"$f":"IF($C$5=\"Course 1\",Général!H33,IF($C$5=\"Course 2\",Général!H35,IF($C$5=\"Course 3\",Général!H37,Général!#REF!)))","v":"Centrales Nantes"},{"$f":"IF($D$5=\"Course 1\",Général!H41,IF($D$5=\"Course 2\",Général!H43,IF($D$5=\"Course 3\",Général!H45,Général!#REF!)))","v":"EGSI La Rochelle"},{"$f":"IF($E$5=\"Course 1\",Général!H49,IF($E$5=\"Course 2\",Général!H51,IF($E$5=\"Course 3\",Général!H53,Général!#REF!)))","v":"UBO 1"},{"$f":"IF($F$5=\"Course 1\",Général!H$57,IF($F$5=\"Course 2\",Général!H$59,IF($F$5=\"Course 3\",Général!H$61,Général!#REF!)))","v":"Univ. Nantes 3"},{"$f":"IF($G$5=\"Course 1\",Général!H$65,IF($G$5=\"Course 2\",Général!H$67,IF($G$5=\"Course 3\",Général!H$69,Général!#REF!)))","v":"Univ. Nantes 2"},{"$f":"IF($H$5=\"Course 1\",Général!H$73,IF($H$5=\"Course 2\",Général!H$75,IF($H$5=\"Course 3\",Général!H$77,Général!#REF!)))","v":"Southampton"},{"$f":"IF($I$5=\"Course 1\",Général!H$81,IF($I$5=\"Course 2\",Général!H$83,IF($I$5=\"Course 3\",Général!H$85,Général!#REF!)))","v":"HYDRO Sailing Team Le Havre"},{"$f":"IF($J$5=\"Course 1\",Général!H$89,IF($J$5=\"Course 2\",Général!H$91,IF($J$5=\"Course 3\",Général!H$93,Général!#REF!)))","v":"IMT Atlantique Nantes 1"},{"$f":"IF($K$5=\"Course 1\",Général!H$97,IF($K$5=\"Course 2\",Général!H$99,IF($K$5=\"Course 3\",Général!H$101,Général!#REF!)))","v":"IMT Atlantique Nantes 1"},{"$f":"IF($L$5=\"Course 1\",Général!H$105,IF($L$5=\"Course 2\",Général!H$107,IF($L$5=\"Course 3\",Général!H$109,Général!#REF!)))","v":"ENSTA Bretagne 2"},{"$f":"IF($M$5=\"Course 1\",Général!H$113,IF($M$5=\"Course 2\",Général!H$115,IF($M$5=\"Course 3\",Général!H$117,Général!#REF!)))","v":"Dublin"},{"$f":"IF($N$5=\"Course 1\",Général!H$121,IF($N$5=\"Course 2\",Général!H$123,IF($N$5=\"Course 3\",Général!H$125,Général!#REF!)))","v":"ENSTA Paris"},{"$f":"IF($O$5=\"Course 1\",Général!H$129,IF($O$5=\"Course 2\",Général!H$131,IF($O$5=\"Course 3\",Général!H$133,Général!#REF!)))","v":"UBS Lorient 1"},{"$f":"IF($P$5=\"Course 1\",Général!H$137,IF($P$5=\"Course 2\",Général!H$139,IF($P$5=\"Course 3\",Général!H$141,Général!#REF!)))","v":"ASUL Lannion"},{"$f":"IF($Q$5=\"Course 1\",Général!H$145,IF($Q$5=\"Course 2\",Général!H$147,IF($Q$5=\"Course 3\",Général!H$149,Général!#REF!)))","v":"HYDRO Sailing Team Le Havre"},{"$f":"IF($R$5=\"Course 1\",Général!H$153,IF($R$5=\"Course 2\",Général!H$155,IF($R$5=\"Course 3\",Général!H$157,Général!#REF!)))","v":"ENSTA Bretagne 1"},{"$f":"IF($S$5=\"Course 1\",Général!H$161,IF($S$5=\"Course 2\",Général!H$163,IF($S$5=\"Course 3\",Général!H$165,Général!#REF!)))","v":"UBS Lorient 1"},{"$f":"IF($T$5=\"Course 1\",Général!H$169,IF($T$5=\"Course 2\",Général!H$171,IF($T$5=\"Course 3\",Général!H$173,Général!#REF!)))","v":"UBS Lorient 1"},null,{"$f":"Général!B16","v":"ENSTA Paris"},6]
["8ème Equipage",null,{"$f":"IF($C$5=\"Course 1\",Général!I33,IF($C$5=\"Course 2\",Général!I35,IF($C$5=\"Course 3\",Général!I37,Général!#REF!)))","v":"ENSTA Bretagne 1"},{"$f":"IF($D$5=\"Course 1\",Général!I41,IF($D$5=\"Course 2\",Général!I43,IF($D$5=\"Course 3\",Général!I45,Général!#REF!)))","v":"ENSTA Bretagne 1"},{"$f":"IF($E$5=\"Course 1\",Général!I49,IF($E$5=\"Course 2\",Général!I51,IF($E$5=\"Course 3\",Général!I53,Général!#REF!)))","v":"EGSI La Rochelle"},{"$f":"IF($F$5=\"Course 1\",Général!I$57,IF($F$5=\"Course 2\",Général!I$59,IF($F$5=\"Course 3\",Général!I$61,Général!#REF!)))","v":"Southampton"},{"$f":"IF($G$5=\"Course 1\",Général!I$65,IF($G$5=\"Course 2\",Général!I$67,IF($G$5=\"Course 3\",Général!I$69,Général!#REF!)))","v":"UNICAEN - ASSUCherbourg"},{"$f":"IF($H$5=\"Course 1\",Général!I$73,IF($H$5=\"Course 2\",Général!I$75,IF($H$5=\"Course 3\",Général!I$77,Général!#REF!)))","v":"Karlsruhe"},{"$f":"IF($I$5=\"Course 1\",Général!I$81,IF($I$5=\"Course 2\",Général!I$83,IF($I$5=\"Course 3\",Général!I$85,Général!#REF!)))","v":"UBO 1"},{"$f":"IF($J$5=\"Course 1\",Général!I$89,IF($J$5=\"Course 2\",Général!I$91,IF($J$5=\"Course 3\",Général!I$93,Général!#REF!)))","v":"UBS Lorient 1"},{"$f":"IF($K$5=\"Course 1\",Général!I$97,IF($K$5=\"Course 2\",Général!I$99,IF($K$5=\"Course 3\",Général!I$101,Général!#REF!)))","v":"AS UB St Brieuc"},{"$f":"IF($L$5=\"Course 1\",Général!I$105,IF($L$5=\"Course 2\",Général!I$107,IF($L$5=\"Course 3\",Général!I$109,Général!#REF!)))","v":"IMT Atlantique Nantes 1"},{"$f":"IF($M$5=\"Course 1\",Général!I$113,IF($M$5=\"Course 2\",Général!I$115,IF($M$5=\"Course 3\",Général!I$117,Général!#REF!)))","v":"IMT Atlantique Brest"},{"$f":"IF($N$5=\"Course 1\",Général!I$121,IF($N$5=\"Course 2\",Général!I$123,IF($N$5=\"Course 3\",Général!I$125,Général!#REF!)))","v":"UBS Lorient 2"},{"$f":"IF($O$5=\"Course 1\",Général!I$129,IF($O$5=\"Course 2\",Général!I$131,IF($O$5=\"Course 3\",Général!I$133,Général!#REF!)))","v":"UBO 2"},{"$f":"IF($P$5=\"Course 1\",Général!I$137,IF($P$5=\"Course 2\",Général!I$139,IF($P$5=\"Course 3\",Général!I$141,Général!#REF!)))","v":"ENSTA Paris"},{"$f":"IF($Q$5=\"Course 1\",Général!I$145,IF($Q$5=\"Course 2\",Général!I$147,IF($Q$5=\"Course 3\",Général!I$149,Général!#REF!)))","v":"ENSTA Paris"},{"$f":"IF($R$5=\"Course 1\",Général!I$153,IF($R$5=\"Course 2\",Général!I$155,IF($R$5=\"Course 3\",Général!I$157,Général!#REF!)))","v":"AS UB St Brieuc"},{"$f":"IF($S$5=\"Course 1\",Général!I$161,IF($S$5=\"Course 2\",Général!I$163,IF($S$5=\"Course 3\",Général!I$165,Général!#REF!)))","v":"Hannovre"},{"$f":"IF($T$5=\"Course 1\",Général!I$169,IF($T$5=\"Course 2\",Général!I$171,IF($T$5=\"Course 3\",Général!I$173,Général!#REF!)))","v":"Karlsruhe"},null,{"$f":"Général!B17","v":"IMT Atlantique Brest"},6]
["9ème Equipage",null,{"$f":"IF($C$5=\"Course 1\",Général!J33,IF($C$5=\"Course 2\",Général!J35,IF($C$5=\"Course 3\",Général!J37,Général!#REF!)))","v":"Univ.Orléans"},{"$f":"IF($D$5=\"Course 1\",Général!J41,IF($D$5=\"Course 2\",Général!J43,IF($D$5=\"Course 3\",Général!J45,Général!#REF!)))","v":"Univ. La Rochelle"},{"$f":"IF($E$5=\"Course 1\",Général!J49,IF($E$5=\"Course 2\",Général!J51,IF($E$5=\"Course 3\",Général!J53,Général!#REF!)))","v":"Hambourg"},{"$f":"IF($F$5=\"Course 1\",Général!J$57,IF($F$5=\"Course 2\",Général!J$59,IF($F$5=\"Course 3\",Général!J$61,Général!#REF!)))","v":"IMT Atlantique Brest"},{"$f":"IF($G$5=\"Course 1\",Général!J$65,IF($G$5=\"Course 2\",Général!J$67,IF($G$5=\"Course 3\",Général!J$69,Général!#REF!)))","v":"Univ. Nantes 1"},{"$f":"IF($H$5=\"Course 1\",Général!J$73,IF($H$5=\"Course 2\",Général!J$75,IF($H$5=\"Course 3\",Général!$J77,Général!#REF!)))","v":"IMT Atlantique Nantes 1"},{"$f":"IF($I$5=\"Course 1\",Général!J$81,IF($I$5=\"Course 2\",Général!J$83,IF($I$5=\"Course 3\",Général!J$85,Général!#REF!)))","v":"ENSTA Bretagne 2"},{"$f":"IF($J$5=\"Course 1\",Général!J$89,IF($J$5=\"Course 2\",Général!J$91,IF($J$5=\"Course 3\",Général!J$93,Général!#REF!)))","v":"HYDRO Sailing Team Le Havre"},{"$f":"IF($K$5=\"Course 1\",Général!J$97,IF($K$5=\"Course 2\",Général!J$99,IF($K$5=\"Course 3\",Général!J$101,Général!#REF!)))","v":"HYDRO Sailing Team Le Havre"},{"$f":"IF($L$5=\"Course 1\",Général!J$105,IF($L$5=\"Course 2\",Général!J$107,IF($L$5=\"Course 3\",Général!J$109,Général!#REF!)))","v":"Dublin"},{"$f":"IF($M$5=\"Course 1\",Général!J$113,IF($M$5=\"Course 2\",Général!J$115,IF($M$5=\"Course 3\",Général!J$117,Général!#REF!)))","v":"Hannovre"},{"$f":"IF($N$5=\"Course 1\",Général!J$121,IF($N$5=\"Course 2\",Général!J$123,IF($N$5=\"Course 3\",Général!J$125,Général!#REF!)))","v":"Univ.Orléans"},{"$f":"IF($O$5=\"Course 1\",Général!J$129,IF($O$5=\"Course 2\",Général!J$131,IF($O$5=\"Course 3\",Général!J$133,Général!#REF!)))","v":"ENSTA Bretagne 2"},{"$f":"IF($P$5=\"Course 1\",Général!J$137,IF($P$5=\"Course 2\",Général!J$139,IF($P$5=\"Course 3\",Général!J$141,Général!#REF!)))","v":"UBO 2"},{"$f":"IF($Q$5=\"Course 1\",Général!J$145,IF($Q$5=\"Course 2\",Général!J$147,IF($Q$5=\"Course 3\",Général!J$149,Général!#REF!)))","v":"UBO 2"},{"$f":"IF($R$5=\"Course 1\",Général!J$153,IF($R$5=\"Course 2\",Général!J$155,IF($R$5=\"Course 3\",Général!J$157,Général!#REF!)))","v":"Karlsruhe"},{"$f":"IF($S$5=\"Course 1\",Général!J$161,IF($S$5=\"Course 2\",Général!J$163,IF($S$5=\"Course 3\",Général!J$165,Général!#REF!)))","v":"Univ. La Rochelle"},{"$f":"IF($T$5=\"Course 1\",Général!J$169,IF($T$5=\"Course 2\",Général!J$171,IF($T$5=\"Course 3\",Général!J$173,Général!#REF!)))","v":"IMT Atlantique Nantes 1"},null,{"$f":"Général!B18","v":"UBO 2"},6]
[null,null,null,null,null,null,null,null,null,null,null,null,null,null,null,null,null,null,null,null,null,{"$f":"Général!B19","v":"Dublin"},6]
[null,null,null,null,null,null,null,null,null,null,null,null,null,null,null,null,null,null,null,null,null,{"$f":"Général!B20","v":"Univ. Nantes 2"},5]
[null,null,null,null,null,null,null,null,null,null,null,null,null,null,null,null,null,null,null,null,null,{"$f":"Général!B21","v":"UBS Lorient 1"},6]
[null,null,null,null,null,null,null,null,null,null,null,null,null,null,null,null,null,null,null,null,null,{"$f":"Général!B22","v":"UBS Lorient 2"},4]
[null,null,null,null,null,null,null,null,null,null,null,null,null,null,null,null,null,null,null,null,null,{"$f":"Général!B23","v":"Univ.Orléans"},6]
[null,null,null,null,null,null,null,null,null,null,null,null,null,null,null,null,null,null,null,null,null,{"$f":"Général!B24","v":"Univ. La Rochelle"},6]
[null,null,null,null,null,null,null,null,null,null,null,null,null,null,null,null,null,null,null,null,null,{"$f":"Général!B25","v":"AS UB St Brieuc"},7]
[null,null,null,null,null,null,null,null,null,null,null,null,null,null,null,null,null,null,null,null,null,{"$f":"Général!B26","v":"Karlsruhe"},6]
[null,null,null,null,null,null,null,null,null,null,null,null,null,null,null,null,null,null,null,null,null,{"$f":"Général!B27","v":"Univ. Nantes 3"},6]
[null,null,null,null,null,null,null,null,null,null,null,null,null,null,null,null,null,null,null,null,null,{"$f":"Général!B28","v":"Centrales Nantes"},5]
[null,null,null,null,null,null,null,null,null,null,null,null,null,null,null,null,null,null,null,null,null,{"$f":"Général!B29","v":"Southampton"},5]
[null,null,null,null,null,null,null,null,null,null,null,null,null,null,null,null,null,null,null,null,null,{"$f":"Général!#REF!","v":{"$error":"#REF!"}},0]
[null,null,null,null,null,null,null,null,null,null,null,null,null,null,null,null,null,null,null,null,null,{"$f":"Général!#REF!","v":{"$error":"#REF!"}},0]
[null,null,null,null,null,null,null,null,null,null,null,null,null,null,null,null,null,null,null,null,null,{"$f":"Général!#REF!","v":{"$error":"#REF!"}},0]
[null,null,null,null,null,null,null,null,null,null,null,null,null,null,null,null,null,null,null,null,null,{"$f":"Général!#REF!","v":{"$error":"#REF!"}},0]
[null,null,null,null,null,null,null,null,null,null,null,null,null,null,null,null,null,null,null,null,null,{"$f":"Général!#REF!","v":{"$error":"#REF!"}},0]

{"sheet":"Eq.5","index":9,"n_rows":32,"n_cols":23,"rows_kept":32,"cut":false,"hidden":false,"merged":[[14,0,14,1],[15,0,15,1],[8,0,8,1],[9,0,9,1],[10,0,10,1],[11,0,11,1],[12,0,12,1],[13,0,13,1],[7,0,7,1],[0,0,1,5],[0,6,1,10],[3,0,3,1],[4,0,4,1],[5,0,5,1]]}
["Equipage ",null,null,null,null,null,{"$f":"Général!B7","v":"ENSTA Bretagne 2"},null,null,null,null,null,null,null,null,null,null,null,null,null,null,{"$f":"Général!B3","v":"Univ. Nantes 1"},{"$f":"COUNTIF(C$8:T$16,V1)","v":4}]
[null,null,null,null,null,null,null,null,null,null,null,null,null,null,null,null,null,null,null,null,null,{"$f":"Général!B4","v":"AS Paris 1 Panthéon Sorbonne"},{"$f":"COUNTIF($C$8:$T$16,V2)","v":5}]
[null,null,null,null,null,null,null,null,null,null,null,null,null,null,null,null,null,null,null,null,null,{"$f":"Général!B5","v":"Hannovre"},{"$f":"COUNTIF($C$8:$T$16,V3)","v":6}]
[null,null,"FLIGHT 1","FLIGHT 2","FLIGHT 3","FLIGHT 4","FLIGHT 5","FLIGHT 6","FLIGHT 7","FLIGHT 8","FLIGHT 9","FLIGHT 10","FLIGHT 11","FLIGHT 12","FLIGHT 13","FLIGHT 14","FLIGHT 15","FLIGHT 16","FLIGHT 17","FLIGHT 18",null,{"$f":"Général!B6","v":"IMT Atlantique Nantes 1"},5]
["N° de course",null,{"$f":"IF(COUNTIF(Général!B33:J33,$G$1)=1,\"Course 1\",IF(COUNTIF(Général!B35:J35,$G$1)=1,\"Course 2\",IF(COUNTIF(Général!B37:J37,$G$1)=1,\"Course 3\",\"Course 4\")))","v":"Course 3"},{"$f":"IF(COUNTIF(Général!B41:J41,$G$1)=1,\"Course 1\",IF(COUNTIF(Général!B43:J43,$G$1)=1,\"Course 2\",IF(COUNTIF(Général!B45:J45,$G$1)=1,\"Course 3\",\"Course 4\")))","v":"Course 1"},{"$f":"IF(COUNTIF(Général!B49:J49,$G$1)=1,\"Course 1\",IF(COUNTIF(Général!B51:J51,$G$1)=1,\"Course 2\",IF(COUNTIF(Général!B53:J53,$G$1)=1,\"Course 3\",\"Course 4\")))","v":"Course 3"},{"$f":"IF(COUNTIF(Général!B57:J57,$G$1)=1,\"Course 1\",IF(COUNTIF(Général!B59:J59,$G$1)=1,\"Course 2\",IF(COUNTIF(Général!B61:J61,$G$1)=1,\"Course 3\",\"Course 4\")))","v":"Course 3"},{"$f":"IF(COUNTIF(Général!B65:J65,$G$1)=1,\"Course 1\",IF(COUNTIF(Général!B67:J67,$G$1)=1,\"Course 2\",IF(COUNTIF(Général!B69:J69,$G$1)=1,\"Course 3\",\"Course 4\")))","v":"Course 3"},{"$f":"IF(COUNTIF(Général!B73:J73,$G$1)=1,\"Course 1\",IF(COUNTIF(Général!B75:J75,$G$1)=1,\"Course 2\",IF(COUNTIF(Général!B77:J77,$G$1)=1,\"Course 3\",\"Course 4\")))","v":"Course 3"},{"$f":"IF(COUNTIF(Général!B81:J81,$G$1)=1,\"Course 1\",IF(COUNTIF(Général!B83:J83,$G$1)=1,\"Course 2\",IF(COUNTIF(Général!B85:J85,$G$1)=1,\"Course 3\",\"Course 4\")))","v":"Course 2"},{"$f":"IF(COUNTIF(Général!B89:J89,$G$1)=1,\"Course 1\",IF(COUNTIF(Général!B91:J91,$G$1)=1,\"Course 2\",IF(COUNTIF(Général!B93:J93,$G$1)=1,\"Course 3\",\"Course 4\")))","v":"Course 1"},{"$f":"IF(COUNTIF(Général!B97:J97,$G$1)=1,\"Course 1\",IF(COUNTIF(Général!B99:J99,$G$1)=1,\"Course 2\",IF(COUNTIF(Général!B101:J101,$G$1)=1,\"Course 3\",\"Course 4\")))","v":"Course 3"},{"$f":"IF(COUNTIF(Général!B105:J105,$G$1)=1,\"Course 1\",IF(COUNTIF(Général!B107:J107,$G$1)=1,\"Course 2\",IF(COUNTIF(Général!B109:J109,$G$1)=1,\"Course 3\",\"Course 4\")))","v":"Course 1"},{"$f":"IF(COUNTIF(Général!B113:J113,$G$1)=1,\"Course 1\",IF(COUNTIF(Général!B115:J115,$G$1)=1,\"Course 2\",IF(COUNTIF(Général!B117:J117,$G$1)=1,\"Course 3\",\"Course 4\")))","v":"Course 3"},{"$f":"IF(COUNTIF(Général!B121:J121,$G$1)=1,\"Course 1\",IF(COUNTIF(Général!B123:J123,$G$1)=1,\"Course 2\",IF(COUNTIF(Général!B125:J125,$G$1)=1,\"Course 3\",\"Course 4\")))","v":"Course 1"},{"$f":"IF(COUNTIF(Général!B129:J129,$G$1)=1,\"Course 1\",IF(COUNTIF(Général!B131:J131,$G$1)=1,\"Course 2\",IF(COUNTIF(Général!B133:J133,$G$1)=1,\"Course 3\",\"Course 4\")))","v":"Course 1"},{"$f":"IF(COUNTIF(Général!B137:J137,$G$1)=1,\"Course 1\",IF(COUNTIF(Général!B139:J139,$G$1)=1,\"Course 2\",IF(COUNTIF(Général!B141:J141,$G$1)=1,\"Course 3\",\"Course 4\")))","v":"Course 1"},{"$f":"IF(COUNTIF(Général!B145:J145,$G$1)=1,\"Course 1\",IF(COUNTIF(Général!B147:J147,$G$1)=1,\"Course 2\",IF(COUNTIF(Général!B149:J149,$G$1)=1,\"Course 3\",\"Course 4\")))","v":"Course 3"},{"$f":"IF(COUNTIF(Général!B153:J153,$G$1)=1,\"Course 1\",IF(COUNTIF(Général!B155:J155,$G$1)=1,\"Course 2\",IF(COUNTIF(Général!B157:J157,$G$1)=1,\"Course 3\",\"Course 4\")))","v":"Course 3"},{"$f":"IF(COUNTIF(Général!B161:J161,$G$1)=1,\"Course 1\",IF(COUNTIF(Général!B163:J163,$G$1)=1,\"Course 2\",IF(COUNTIF(Général!B165:J165,$G$1)=1,\"Course 3\",\"Course 4\")))","v":"Course 1"},{"$f":"IF(COUNTIF(Général!B169:J169,$G$1)=1,\"Course 1\",IF(COUNTIF(Général!B171:J171,$G$1)=1,\"Course 2\",IF(COUNTIF(Général!B173:J173,$G$1)=1,\"Course 3\",\"Course 4\")))","v":"Course 3"},null,{"$f":"Général!B7","v":"ENSTA Bretagne 2"},18]
["Bateau",null,{"$f":"IF(COUNTIF(Général!B33:B38,$G$1)=1,\"Boat 1\",IF(COUNTIF(Général!C33:C38,$G$1)=1,\"Boat 2\",IF(COUNTIF(Général!D33:D38,$G$1)=1,\"Boat 3\", IF(COUNTIF(Général!E33:E38,$G$1)=1,\"Boat 4\", IF(COUNTIF(Général!F33:F38,$G$1)=1,\"Boat 5\", IF(COUNTIF(Général!G33:G38,$G$1)=1,\"Boat 6\", IF(COUNTIF(Général!H33:H38,$G$1)=1,\"Boat 7\",IF(COUNTIF(Général!I33:I38,$G$1)=1,\"Boat 8\",\"Boat 9\"))))))))","v":"Boat 5"},{"$f":"IF(COUNTIF(Général!B41:B46,$G$1)=1,\"Boat 1\",IF(COUNTIF(Général!C41:C46,$G$1)=1,\"Boat 2\",IF(COUNTIF(Général!D41:D46,$G$1)=1,\"Boat 3\", IF(COUNTIF(Général!E41:E46,$G$1)=1,\"Boat 4\", IF(COUNTIF(Général!F41:F46,$G$1)=1,\"Boat 5\", IF(COUNTIF(Général!G41:G46,$G$1)=1,\"Boat 6\", IF(COUNTIF(Général!H41:H46,$G$1)=1,\"Boat 7\",IF(COUNTIF(Général!I33:I38,$G$1)=1,\"Boat 8\",\"Boat 9\"))))))))","v":"Boat 5"},{"$f":"IF(COUNTIF(Général!B49:B54,$G$1)=1,\"Boat 1\",IF(COUNTIF(Général!C49:C54,$G$1)=1,\"Boat 2\",IF(COUNTIF(Général!D49:D54,$G$1)=1,\"Boat 3\", IF(COUNTIF(Général!E49:E54,$G$1)=1,\"Boat 4\", IF(COUNTIF(Général!F49:F54,$G$1)=1,\"Boat 5\", IF(COUNTIF(Général!G49:G54,$G$1)=1,\"Boat 6\", IF(COUNTIF(Général!H49:H54,$G$1)=1,\"Boat 7\",IF(COUNTIF(Général!I33:I38,$G$1)=1,\"Boat 8\",\"Boat 9\"))))))))","v":"Boat 2"},{"$f":"IF(COUNTIF(Général!B57:B62,$G$1)=1,\"Boat 1\",IF(COUNTIF(Général!C57:C62,$G$1)=1,\"Boat 2\",IF(COUNTIF(Général!D57:D62,$G$1)=1,\"Boat 3\", IF(COUNTIF(Général!E57:E62,$G$1)=1,\"Boat 4\", IF(COUNTIF(Général!F57:F62,$G$1)=1,\"Boat 5\", IF(COUNTIF(Général!G57:G62,$G$1)=1,\"Boat 6\", IF(COUNTIF(Général!H57:H62,$G$1)=1,\"Boat 7\",IF(COUNTIF(Général!I33:I38,$G$1)=1,\"Boat 8\",\"Boat 9\"))))))))","v":"Boat 2"},{"$f":"IF(COUNTIF(Général!B65:B70,$G$1)=1,\"Boat 1\",IF(COUNTIF(Général!C65:C70,$G$1)=1,\"Boat 2\",IF(COUNTIF(Général!D65:D70,$G$1)=1,\"Boat 3\", IF(COUNTIF(Général!E65:E70,$G$1)=1,\"Boat 4\", IF(COUNTIF(Général!F65:F70,$G$1)=1,\"Boat 5\", IF(COUNTIF(Général!G65:G70,$G$1)=1,\"Boat 6\", IF(COUNTIF(Général!H65:H70,$G$1)=1,\"Boat 7\",IF(COUNTIF(Général!I33:I38,$G$1)=1,\"Boat 8\",\"Boat 9\"))))))))","v":"Boat 1"},{"$f":"IF(COUNTIF(Général!B73:B78,$G$1)=1,\"Boat 1\",IF(COUNTIF(Général!C73:C78,$G$1)=1,\"Boat 2\",IF(COUNTIF(Général!D73:D78,$G$1)=1,\"Boat 3\", IF(COUNTIF(Général!E73:E78,$G$1)=1,\"Boat 4\", IF(COUNTIF(Général!F73:F78,$G$1)=1,\"Boat 5\", IF(COUNTIF(Général!G73:G78,$G$1)=1,\"Boat 6\", IF(COUNTIF(Général!H73:H78,$G$1)=1,\"Boat 7\",IF(COUNTIF(Général!I33:I38,$G$1)=1,\"Boat 8\",\"Boat 9\"))))))))","v":"Boat 1"},{"$f":"IF(COUNTIF(Général!B81:B86,$G$1)=1,\"Boat 1\",IF(COUNTIF(Général!C81:C86,$G$1)=1,\"Boat 2\",IF(COUNTIF(Général!D81:D86,$G$1)=1,\"Boat 3\", IF(COUNTIF(Général!E81:E86,$G$1)=1,\"Boat 4\", IF(COUNTIF(Général!F81:F86,$G$1)=1,\"Boat 5\", IF(COUNTIF(Général!G81:G86,$G$1)=1,\"Boat 6\", IF(COUNTIF(Général!H81:H86,$G$1)=1,\"Boat 7\",IF(COUNTIF(Général!I33:I38,$G$1)=1,\"Boat 8\",\"Boat 9\"))))))))","v":"Boat 9"},{"$f":"IF(COUNTIF(Général!B89:B94,$G$1)=1,\"Boat 1\",IF(COUNTIF(Général!C89:C94,$G$1)=1,\"Boat 2\",IF(COUNTIF(Général!D89:D94,$G$1)=1,\"Boat 3\", IF(COUNTIF(Général!E89:E94,$G$1)=1,\"Boat 4\", IF(COUNTIF(Général!F89:F94,$G$1)=1,\"Boat 5\", IF(COUNTIF(Général!G89:G94,$G$1)=1,\"Boat 6\", IF(COUNTIF(Général!H89:H94,$G$1)=1,\"Boat 7\",IF(COUNTIF(Général!I33:I38,$G$1)=1,\"Boat 8\",\"Boat 9\"))))))))","v":"Boat 6"},{"$f":"IF(COUNTIF(Général!B97:B102,$G$1)=1,\"Boat 1\",IF(COUNTIF(Général!C97:C102,$G$1)=1,\"Boat 2\",IF(COUNTIF(Général!D97:D102,$G$1)=1,\"Boat 3\", IF(COUNTIF(Général!E97:E102,$G$1)=1,\"Boat 4\", IF(COUNTIF(Général!F97:F102,$G$1)=1,\"Boat 5\", IF(COUNTIF(Général!G97:G102,$G$1)=1,\"Boat 6\", IF(COUNTIF(Général!H97:H102,$G$1)=1,\"Boat 7\",IF(COUNTIF(Général!I33:I38,$G$1)=1,\"Boat 8\",\"Boat 9\"))))))))","v":"Boat 7"},{"$f":"IF(COUNTIF(Général!B105:B110,$G$1)=1,\"Boat 1\",IF(COUNTIF(Général!C105:C110,$G$1)=1,\"Boat 2\",IF(COUNTIF(Général!D105:D110,$G$1)=1,\"Boat 3\", IF(COUNTIF(Général!E105:E110,$G$1)=1,\"Boat 4\", IF(COUNTIF(Général!F105:F110,$G$1)=1,\"Boat 5\", IF(COUNTIF(Général!G105:G110,$G$1)=1,\"Boat 6\", IF(COUNTIF(Général!H105:H110,$G$1)=1,\"Boat 7\",IF(COUNTIF(Général!I33:I38,$G$1)=1,\"Boat 8\",\"Boat 9\"))))))))","v":"Boat 7"},{"$f":"IF(COUNTIF(Général!B113:B118,$G$1)=1,\"Boat 1\",IF(COUNTIF(Général!C113:C118,$G$1)=1,\"Boat 2\",IF(COUNTIF(Général!C113:D118,$G$1)=1,\"Boat 3\", IF(COUNTIF(Général!C113:E118,$G$1)=1,\"Boat 4\", IF(COUNTIF(Général!F113:F118,$G$1)=1,\"Boat 5\", IF(COUNTIF(Général!G113:G118,$G$1)=1,\"Boat 6\", IF(COUNTIF(Général!H113:H118,$G$1)=1,\"Boat 7\",IF(COUNTIF(Général!I33:I38,$G$1)=1,\"Boat 8\",\"Boat 9\"))))))))","v":"Boat 4"},{"$f":"IF(COUNTIF(Général!B121:B126,$G$1)=1,\"Boat 1\",IF(COUNTIF(Général!C121:C126,$G$1)=1,\"Boat 2\",IF(COUNTIF(Général!D121:D126,$G$1)=1,\"Boat 3\", IF(COUNTIF(Général!E121:E126,$G$1)=1,\"Boat 4\", IF(COUNTIF(Général!F121:F126,$G$1)=1,\"Boat 5\", IF(COUNTIF(Général!G121:G126,$G$1)=1,\"Boat 6\", IF(COUNTIF(Général!H121:H126,$G$1)=1,\"Boat 7\",IF(COUNTIF(Général!I33:I38,$G$1)=1,\"Boat 8\",\"Boat 9\"))))))))","v":"Boat 4"},{"$f":"IF(COUNTIF(Général!B129:B134,$G$1)=1,\"Boat 1\",IF(COUNTIF(Général!C129:C134,$G$1)=1,\"Boat 2\",IF(COUNTIF(Général!D131:D134,$G$1)=1,\"Boat 3\", IF(COUNTIF(Général!E129:E134,$G$1)=1,\"Boat 4\", IF(COUNTIF(Général!F129:F134,$G$1)=1,\"Boat 5\", IF(COUNTIF(Général!G129:G134,$G$1)=1,\"Boat 6\", IF(COUNTIF(Général!H129:H134,$G$1)=1,\"Boat 7\",IF(COUNTIF(Général!I33:I38,$G$1)=1,\"Boat 8\",\"Boat 9\"))))))))","v":"Boat 9"},{"$f":"IF(COUNTIF(Général!B137:B142,$G$1)=1,\"Boat 1\",IF(COUNTIF(Général!C137:C142,$G$1)=1,\"Boat 2\",IF(COUNTIF(Général!D137:D142,$G$1)=1,\"Boat 3\", IF(COUNTIF(Général!E137:E142,$G$1)=1,\"Boat 4\", IF(COUNTIF(Général!F145:F150,$G$1)=1,\"Boat 5\", IF(COUNTIF(Général!G145:G150,$G$1)=1,\"Boat 6\", IF(COUNTIF(Général!H145:H150,$G$1)=1,\"Boat 7\",IF(COUNTIF(Général!I33:I38,$G$1)=1,\"Boat 8\",\"Boat 9\"))))))))","v":"Boat 3"},{"$f":"IF(COUNTIF(Général!B145:B150,$G$1)=1,\"Boat 1\",IF(COUNTIF(Général!C145:C150,$G$1)=1,\"Boat 2\",IF(COUNTIF(Général!D145:D150,$G$1)=1,\"Boat 3\", IF(COUNTIF(Général!E145:E150,$G$1)=1,\"Boat 4\", IF(COUNTIF(Général!F145:F150,$G$1)=1,\"Boat 5\", IF(COUNTIF(Général!G145:G150,$G$1)=1,\"Boat 6\", IF(COUNTIF(Général!H145:H150,$G$1)=1,\"Boat 7\",IF(COUNTIF(Général!I33:I38,$G$1)=1,\"Boat 8\",\"Boat 9\"))))))))","v":"Boat 3"},{"$f":"IF(COUNTIF(Général!B153:B158,$G$1)=1,\"Boat 1\",IF(COUNTIF(Général!C153:C158,$G$1)=1,\"Boat 2\",IF(COUNTIF(Général!D153:D158,$G$1)=1,\"Boat 3\", IF(COUNTIF(Général!E153:E158,$G$1)=1,\"Boat 4\", IF(COUNTIF(Général!F153:F158,$G$1)=1,\"Boat 5\", IF(COUNTIF(Général!G153:G158,$G$1)=1,\"Boat 6\", IF(COUNTIF(Général!H153:H158,$G$1)=1,\"Boat 7\",IF(COUNTIF(Général!I33:I38,$G$1)=1,\"Boat 8\",\"Boat 9\"))))))))","v":"Boat 9"},{"$f":"IF(COUNTIF(Général!B161:B166,$G$1)=1,\"Boat 1\",IF(COUNTIF(Général!C161:C166,$G$1)=1,\"Boat 2\",IF(COUNTIF(Général!D161:D166,$G$1)=1,\"Boat 3\", IF(COUNTIF(Général!E161:E166,$G$1)=1,\"Boat 4\", IF(COUNTIF(Général!F161:F166,$G$1)=1,\"Boat 5\", IF(COUNTIF(Général!G161:G166,$G$1)=1,\"Boat 6\", IF(COUNTIF(Général!H161:H166,$G$1)=1,\"Boat 7\",IF(COUNTIF(Général!I33:I38,$G$1)=1,\"Boat 8\",\"Boat 9\"))))))))","v":"Boat 9"},{"$f":"IF(COUNTIF(Général!B169:B174,$G$1)=1,\"Boat 1\",IF(COUNTIF(Général!C169:C174,$G$1)=1,\"Boat 2\",IF(COUNTIF(Général!D169:D174,$G$1)=1,\"Boat 3\", IF(COUNTIF(Général!E169:E174,$G$1)=1,\"Boat 4\", IF(COUNTIF(Général!F169:F174,$G$1)=1,\"Boat 5\", IF(COUNTIF(Général!G169:G174,$G$1)=1,\"Boat 6\", IF(COUNTIF(Général!H169:H174,$G$1)=1,\"Boat 7\",IF(COUNTIF(Général!I33:I38,$G$1)=1,\"Boat 8\",\"Boat 9\"))))))))","v":"Boat 2"},null,{"$f":"Général!B8","v":"IMT Atlantique Nantes 2"},6]
[null,null,null,null,null,null,null,null,null,null,null,null,null,null,null,null,null,null,null,null,null,{"$f":"Général!B9","v":"Hambourg"},5]
["1er Equipage",null,{"$f":"IF($C$5=\"Course 1\",Général!B33,IF($C$5=\"Course 2\",Général!B35,IF($C$5=\"Course 3\",Général!B37,Général!#REF!)))","v":"UBS Lorient 2"},{"$f":"IF($D$5=\"Course 1\",Général!B41,IF($D$5=\"Course 2\",Général!B43,IF($D$5=\"Course 3\",Général!B45,Général!#REF!)))","v":"ENSTA Paris"},{"$f":"IF($E$5=\"Course 1\",Général!B49,IF($E$5=\"Course 2\",Général!B51,IF($E$5=\"Course 3\",Général!B53,Général!#REF!)))","v":"Univ.Orléans"},{"$f":"IF($F$5=\"Course 1\",Général!B$57,IF($F$5=\"Course 2\",Général!B$59,IF($F$5=\"Course 3\",Général!B$61,Général!#REF!)))","v":"Univ. La Rochelle"},{"$f":"IF($G$5=\"Course 1\",Général!B$65,IF($G$5=\"Course 2\",Général!B$67,IF($G$5=\"Course 3\",Général!B$69,Général!#REF!)))","v":"ENSTA Bretagne 2"},{"$f":"IF($H$5=\"Course 1\",Général!B$73,IF($H$5=\"Course 2\",Général!B$75,IF($H$5=\"Course 3\",Général!B$77,Général!#REF!)))","v":"ENSTA Bretagne 2"},{"$f":"IF($I$5=\"Course 1\",Général!B$81,IF($I$5=\"Course 2\",Général!B$83,IF($I$5=\"Course 3\",Général!B$85,Général!#REF!)))","v":"IMT Atlantique Nantes 1"},{"$f":"IF($J$5=\"Course 1\",Général!B$89,IF($J$5=\"Course 2\",Général!B$91,IF($J$5=\"Course 3\",Général!B$93,Général!#REF!)))","v":"Dublin"},{"$f":"IF($K$5=\"Course 1\",Général!B$97,IF($K$5=\"Course 2\",Général!B$99,IF($K$5=\"Course 3\",Général!B$101,Général!#REF!)))","v":"Hambourg"},{"$f":"IF($L$5=\"Course 1\",Général!B$105,IF($L$5=\"Course 2\",Général!B$107,IF($L$5=\"Course 3\",Général!B$109,Général!#REF!)))","v":"Centrales Nantes"},{"$f":"IF($M$5=\"Course 1\",Général!B$113,IF($M$5=\"Course 2\",Général!B$115,IF($M$5=\"Course 3\",Général!B$117,Général!#REF!)))","v":"Karlsruhe"},{"$f":"IF($N$5=\"Course 1\",Général!B$121,IF($N$5=\"Course 2\",Général!B$123,IF($N$5=\"Course 3\",Général!B$125,Général!#REF!)))","v":"Karlsruhe"},{"$f":"IF($O$5=\"Course 1\",Général!B$129,IF($O$5=\"Course 2\",Général!B$131,IF($O$5=\"Course 3\",Général!B$133,Général!#REF!)))","v":"Hannovre"},{"$f":"IF($P$5=\"Course 1\",Général!B$137,IF($P$5=\"Course 2\",Général!B$139,IF($P$5=\"Course 3\",Général!B$141,Général!#REF!)))","v":"UBS Lorient 1"},{"$f":"IF($Q$5=\"Course 1\",Général!B$145,IF($Q$5=\"Course 2\",Général!B$147,IF($Q$5=\"Course 3\",Général!B$149,Général!#REF!)))","v":"Hannovre"},{"$f":"IF($R$5=\"Course 1\",Général!B$153,IF($R$5=\"Course 2\",Général!B$155,IF($R$5=\"Course 3\",Général!B$157,Général!#REF!)))","v":"ASUL Lannion"},{"$f":"IF($S$5=\"Course 1\",Général!B$161,IF($S$5=\"Course 2\",Général!B$163,IF($S$5=\"Course 3\",Général!B$165,Général!#REF!)))","v":"AS UB St Brieuc"},{"$f":"IF($T$5=\"Course 1\",Général!B$169,IF($T$5=\"Course 2\",Général!B$171,IF($T$5=\"Course 3\",Général!B$173,Général!#REF!)))","v":"IMT Atlantique Nantes 2"},null,{"$f":"Général!B10","v":"EGSI La Rochelle"},5]
["2nd Equipage",null,{"$f":"IF($C$5=\"Course 1\",Général!C33,IF($C$5=\"Course 2\",Général!C35,IF($C$5=\"Course 3\",Général!C37,Général!#REF!)))","v":"IMT Atlantique Nantes 2"},{"$f":"IF($D$5=\"Course 1\",Général!C41,IF($D$5=\"Course 2\",Général!C43,IF($D$5=\"Course 3\",Général!C45,Général!#REF!)))","v":"UNICAEN - ASSUCherbourg"},{"$f":"IF($E$5=\"Course 1\",Général!C49,IF($E$5=\"Course 2\",Général!C51,IF($E$5=\"Course 3\",Général!C53,Général!#REF!)))","v":"ENSTA Bretagne 2"},{"$f":"IF($F$5=\"Course 1\",Général!C$57,IF($F$5=\"Course 2\",Général!C$59,IF($F$5=\"Course 3\",Général!C$61,Général!#REF!)))","v":"ENSTA Bretagne 2"},{"$f":"IF($G$5=\"Course 1\",Général!C$65,IF($G$5=\"Course 2\",Général!C$67,IF($G$5=\"Course 3\",Général!C$69,Général!#REF!)))","v":"IMT Atlantique Nantes 1"},{"$f":"IF($H$5=\"Course 1\",Général!C$73,IF($H$5=\"Course 2\",Général!C$75,IF($H$5=\"Course 3\",Général!C$77,Général!#REF!)))","v":"ENSTA Paris"},{"$f":"IF($I$5=\"Course 1\",Général!C$81,IF($I$5=\"Course 2\",Général!C$83,IF($I$5=\"Course 3\",Général!C$85,Général!#REF!)))","v":"Centrales Nantes"},{"$f":"IF($J$5=\"Course 1\",Général!C$89,IF($J$5=\"Course 2\",Général!C$91,IF($J$5=\"Course 3\",Général!C$93,Général!#REF!)))","v":"Univ.Orléans"},{"$f":"IF($K$5=\"Course 1\",Général!C$97,IF($K$5=\"Course 2\",Général!C$99,IF($K$5=\"Course 3\",Général!C$101,Général!#REF!)))","v":"EGSI La Rochelle"},{"$f":"IF($L$5=\"Course 1\",Général!C$105,IF($L$5=\"Course 2\",Général!C$107,IF($L$5=\"Course 3\",Général!C$109,Général!#REF!)))","v":"AS UB St Brieuc"},{"$f":"IF($M$5=\"Course 1\",Général!C$113,IF($M$5=\"Course 2\",Général!C$115,IF($M$5=\"Course 3\",Général!C$117,Général!#REF!)))","v":"ENSTA Bretagne 1"},{"$f":"IF($N$5=\"Course 1\",Général!C$121,IF($N$5=\"Course 2\",Général!C$123,IF($N$5=\"Course 3\",Général!C$125,Général!#REF!)))","v":"HYDRO Sailing Team Le Havre"},{"$f":"IF($O$5=\"Course 1\",Général!C$129,IF($O$5=\"Course 2\",Général!C$131,IF($O$5=\"Course 3\",Général!C$133,Général!#REF!)))","v":"Univ. Nantes 3"},{"$f":"IF($P$5=\"Course 1\",Général!C$137,IF($P$5=\"Course 2\",Général!C$139,IF($P$5=\"Course 3\",Général!C$141,Général!#REF!)))","v":"Univ. La Rochelle"},{"$f":"IF($Q$5=\"Course 1\",Général!C$145,IF($Q$5=\"Course 2\",Général!C$147,IF($Q$5=\"Course 3\",Général!C$149,Général!#REF!)))","v":"UBS Lorient 1"},{"$f":"IF($R$5=\"Course 1\",Général!C$153,IF($R$5=\"Course 2\",Général!C$155,IF($R$5=\"Course 3\",Général!C$157,Général!#REF!)))","v":"IMT Atlantique Nantes 2"},{"$f":"IF($S$5=\"Course 1\",Général!C$161,IF($S$5=\"Course 2\",Général!C$163,IF($S$5=\"Course 3\",Général!C$165,Général!#REF!)))","v":"AS Paris 1 Panthéon Sorbonne"},{"$f":"IF($T$5=\"Course 1\",Général!C$169,IF($T$5=\"Course 2\",Général!C$171,IF($T$5=\"Course 3\",Général!C$173,Général!#REF!)))","v":"ENSTA Bretagne 2"},null,{"$f":"Général!B11","v":"HYDRO Sailing Team Le Havre"},5]
["3ème Equipage",null,{"$f":"IF($C$5=\"Course 1\",Général!D33,IF($C$5=\"Course 2\",Général!D35,IF($C$5=\"Course 3\",Général!D37,Général!#REF!)))","v":"UBS Lorient 1"},{"$f":"IF($D$5=\"Course 1\",Général!D41,IF($D$5=\"Course 2\",Général!D43,IF($D$5=\"Course 3\",Général!D45,Général!#REF!)))","v":"Univ. Nantes 3"},{"$f":"IF($E$5=\"Course 1\",Général!D49,IF($E$5=\"Course 2\",Général!D51,IF($E$5=\"Course 3\",Général!D53,Général!#REF!)))","v":"UBS Lorient 2"},{"$f":"IF($F$5=\"Course 1\",Général!D$57,IF($F$5=\"Course 2\",Général!D$59,IF($F$5=\"Course 3\",Général!D$61,Général!#REF!)))","v":"UBO 1"},{"$f":"IF($G$5=\"Course 1\",Général!D$65,IF($G$5=\"Course 2\",Général!D$67,IF($G$5=\"Course 3\",Général!D$69,Général!#REF!)))","v":"Univ. La Rochelle"},{"$f":"IF($H$5=\"Course 1\",Général!D$73,IF($H$5=\"Course 2\",Général!D$75,IF($H$5=\"Course 3\",Général!D$77,Général!#REF!)))","v":"Univ.Orléans"},{"$f":"IF($I$5=\"Course 1\",Général!D$81,IF($I$5=\"Course 2\",Général!D$83,IF($I$5=\"Course 3\",Général!D$85,Général!#REF!)))","v":"UBS Lorient 2"},{"$f":"IF($J$5=\"Course 1\",Général!D$89,IF($J$5=\"Course 2\",Général!D$91,IF($J$5=\"Course 3\",Général!D$93,Général!#REF!)))","v":"ASUL Lannion"},{"$f":"IF($K$5=\"Course 1\",Général!D$97,IF($K$5=\"Course 2\",Général!D$99,IF($K$5=\"Course 3\",Général!D$101,Général!#REF!)))","v":"Southampton"},{"$f":"IF($L$5=\"Course 1\",Général!D$105,IF($L$5=\"Course 2\",Général!D$107,IF($L$5=\"Course 3\",Général!D$109,Général!#REF!)))","v":"Southampton"},{"$f":"IF($M$5=\"Course 1\",Général!D$113,IF($M$5=\"Course 2\",Général!D$115,IF($M$5=\"Course 3\",Général!D$117,Général!#REF!)))","v":"UNICAEN - ASSUCherbourg"},{"$f":"IF($N$5=\"Course 1\",Général!D$121,IF($N$5=\"Course 2\",Général!D$123,IF($N$5=\"Course 3\",Général!D$125,Général!#REF!)))","v":"AS UB St Brieuc"},{"$f":"IF($O$5=\"Course 1\",Général!D$129,IF($O$5=\"Course 2\",Général!D$131,IF($O$5=\"Course 3\",Général!D$133,Général!#REF!)))","v":"AS Paris 1 Panthéon Sorbonne"},{"$f":"IF($P$5=\"Course 1\",Général!D$137,IF($P$5=\"Course 2\",Général!D$139,IF($P$5=\"Course 3\",Général!D$141,Général!#REF!)))","v":"ENSTA Bretagne 2"},{"$f":"IF($Q$5=\"Course 1\",Général!D$145,IF($Q$5=\"Course 2\",Général!D$147,IF($Q$5=\"Course 3\",Général!D$149,Général!#REF!)))","v":"ENSTA Bretagne 2"},{"$f":"IF($R$5=\"Course 1\",Général!D$153,IF($R$5=\"Course 2\",Général!D$155,IF($R$5=\"Course 3\",Général!D$157,Général!#REF!)))","v":"Centrales Nantes"},{"$f":"IF($S$5=\"Course 1\",Général!D$161,IF($S$5=\"Course 2\",Général!D$163,IF($S$5=\"Course 3\",Général!D$165,Général!#REF!)))","v":"Karlsruhe"},{"$f":"IF($T$5=\"Course 1\",Général!D$169,IF($T$5=\"Course 2\",Général!D$171,IF($T$5=\"Course 3\",Général!D$173,Général!#REF!)))","v":"AS UB St Brieuc"},null,{"$f":"Général!B12","v":"UNICAEN - ASSUCherbourg"},7]
["4ème Equipage",null,{"$f":"IF($C$5=\"Course 1\",Général!E33,IF($C$5=\"Course 2\",Général!E35,IF($C$5=\"Course 3\",Général!E37,Général!#REF!)))","v":"Dublin"},{"$f":"IF($D$5=\"Course 1\",Général!E41,IF($D$5=\"Course 2\",Général!E43,IF($D$5=\"Course 3\",Général!E45,Général!#REF!)))","v":"Dublin"},{"$f":"IF($E$5=\"Course 1\",Général!E49,IF($E$5=\"Course 2\",Général!E51,IF($E$5=\"Course 3\",Général!E53,Général!#REF!)))","v":"Univ. La Rochelle"},{"$f":"IF($F$5=\"Course 1\",Général!E$57,IF($F$5=\"Course 2\",Général!E$59,IF($F$5=\"Course 3\",Général!E$61,Général!#REF!)))","v":"UBO 2"},{"$f":"IF($G$5=\"Course 1\",Général!E$65,IF($G$5=\"Course 2\",Général!E$67,IF($G$5=\"Course 3\",Général!E$69,Général!#REF!)))","v":"ASUL Lannion"},{"$f":"IF($H$5=\"Course 1\",Général!E$73,IF($H$5=\"Course 2\",Général!E$75,IF($H$5=\"Course 3\",Général!E$77,Général!#REF!)))","v":"EGSI La Rochelle"},{"$f":"IF($I$5=\"Course 1\",Général!E$81,IF($I$5=\"Course 2\",Général!E$83,IF($I$5=\"Course 3\",Général!E$85,Général!#REF!)))","v":"IMT Atlantique Brest"},{"$f":"IF($J$5=\"Course 1\",Général!E$89,IF($J$5=\"Course 2\",Général!E$91,IF($J$5=\"Course 3\",Général!E$93,Général!#REF!)))","v":"ENSTA Bretagne 1"},{"$f":"IF($K$5=\"Course 1\",Général!E$97,IF($K$5=\"Course 2\",Général!E$99,IF($K$5=\"Course 3\",Général!E$101,Général!#REF!)))","v":"Univ.Orléans"},{"$f":"IF($L$5=\"Course 1\",Général!E$105,IF($L$5=\"Course 2\",Général!E$107,IF($L$5=\"Course 3\",Général!E$109,Général!#REF!)))","v":"Univ. Nantes 1"},{"$f":"IF($M$5=\"Course 1\",Général!E$113,IF($M$5=\"Course 2\",Général!E$115,IF($M$5=\"Course 3\",Général!E$117,Général!#REF!)))","v":"ENSTA Bretagne 2"},{"$f":"IF($N$5=\"Course 1\",Général!E$121,IF($N$5=\"Course 2\",Général!E$123,IF($N$5=\"Course 3\",Général!E$125,Général!#REF!)))","v":"ENSTA Bretagne 2"},{"$f":"IF($O$5=\"Course 1\",Général!E$129,IF($O$5=\"Course 2\",Général!E$131,IF($O$5=\"Course 3\",Général!E$133,Général!#REF!)))","v":"IMT Atlantique Nantes 2"},{"$f":"IF($P$5=\"Course 1\",Général!E$137,IF($P$5=\"Course 2\",Général!E$139,IF($P$5=\"Course 3\",Général!E$141,Général!#REF!)))","v":"EGSI La Rochelle"},{"$f":"IF($Q$5=\"Course 1\",Général!E$145,IF($Q$5=\"Course 2\",Général!E$147,IF($Q$5=\"Course 3\",Général!E$149,Général!#REF!)))","v":"UBO 1"},{"$f":"IF($R$5=\"Course 1\",Général!E$153,IF($R$5=\"Course 2\",Général!E$155,IF($R$5=\"Course 3\",Général!E$157,Général!#REF!)))","v":"Univ. Nantes 2"},{"$f":"IF($S$5=\"Course 1\",Général!E$161,IF($S$5=\"Course 2\",Général!E$163,IF($S$5=\"Course 3\",Général!E$165,Général!#REF!)))","v":"Univ. Nantes 2"},{"$f":"IF($T$5=\"Course 1\",Général!E$169,IF($T$5=\"Course 2\",Général!E$171,IF($T$5=\"Course 3\",Général!E$173,Général!#REF!)))","v":"ASUL Lannion"},null,{"$f":"Général!B13","v":"UBO 1"},4]
["5ème Equipage",null,{"$f":"IF($C$5=\"Course 1\",Général!F33,IF($C$5=\"Course 2\",Général!F35,IF($C$5=\"Course 3\",Général!F37,Général!#REF!)))","v":"ENSTA Bretagne 2"},{"$f":"IF($D$5=\"Course 1\",Général!F41,IF($D$5=\"Course 2\",Général!F43,IF($D$5=\"Course 3\",Général!F45,Général!#REF!)))","v":"ENSTA Bretagne 2"},{"$f":"IF($E$5=\"Course 1\",Général!F49,IF($E$5=\"Course 2\",Général!F51,IF($E$5=\"Course 3\",Général!F53,Général!#REF!)))","v":"AS Paris 1 Panthéon Sorbonne"},{"$f":"IF($F$5=\"Course 1\",Général!F$57,IF($F$5=\"Course 2\",Général!F$59,IF($F$5=\"Course 3\",Général!F$61,Général!#REF!)))","v":"ENSTA Bretagne 1"},{"$f":"IF($G$5=\"Course 1\",Général!F$65,IF($G$5=\"Course 2\",Général!F$67,IF($G$5=\"Course 3\",Général!F$69,Général!#REF!)))","v":"Univ. Nantes 3"},{"$f":"IF($H$5=\"Course 1\",Général!F$73,IF($H$5=\"Course 2\",Général!F$75,IF($H$5=\"Course 3\",Général!F$77,Général!#REF!)))","v":"Univ. Nantes 2"},{"$f":"IF($I$5=\"Course 1\",Général!F$81,IF($I$5=\"Course 2\",Général!F$83,IF($I$5=\"Course 3\",Général!F$85,Général!#REF!)))","v":"EGSI La Rochelle"},{"$f":"IF($J$5=\"Course 1\",Général!F$89,IF($J$5=\"Course 2\",Général!F$91,IF($J$5=\"Course 3\",Général!F$93,Général!#REF!)))","v":"AS UB St Brieuc"},{"$f":"IF($K$5=\"Course 1\",Général!F$97,IF($K$5=\"Course 2\",Général!F$99,IF($K$5=\"Course 3\",Général!F$101,Général!#REF!)))","v":"IMT Atlantique Nantes 2"},{"$f":"IF($L$5=\"Course 1\",Général!F$105,IF($L$5=\"Course 2\",Général!$F107,IF($L$5=\"Course 3\",Général!F$109,Général!#REF!)))","v":"IMT Atlantique Nantes 2"},{"$f":"IF($M$5=\"Course 1\",Général!F$113,IF($M$5=\"Course 2\",Général!F$115,IF($M$5=\"Course 3\",Général!F$117,Général!#REF!)))","v":"IMT Atlantique Nantes 1"},{"$f":"IF($N$5=\"Course 1\",Général!F$121,IF($N$5=\"Course 2\",Général!F$123,IF($N$5=\"Course 3\",Général!F$125,Général!#REF!)))","v":"Univ. Nantes 3"},{"$f":"IF($O$5=\"Course 1\",Général!F$129,IF($O$5=\"Course 2\",Général!F$131,IF($O$5=\"Course 3\",Général!F$133,Général!#REF!)))","v":"ASUL Lannion"},{"$f":"IF($P$5=\"Course 1\",Général!F$137,IF($P$5=\"Course 2\",Général!F$139,IF($P$5=\"Course 3\",Général!F$141,Général!#REF!)))","v":"Karlsruhe"},{"$f":"IF($Q$5=\"Course 1\",Général!F$145,IF($Q$5=\"Course 2\",Général!F$147,IF($Q$5=\"Course 3\",Général!F$149,Général!#REF!)))","v":"UBS Lorient 2"},{"$f":"IF($R$5=\"Course 1\",Général!F$153,IF($R$5=\"Course 2\",Général!F$155,IF($R$5=\"Course 3\",Général!F$157,Général!#REF!)))","v":"ENSTA Paris"},{"$f":"IF($S$5=\"Course 1\",Général!F$161,IF($S$5=\"Course 2\",Général!F$163,IF($S$5=\"Course 3\",Général!F$165,Général!#REF!)))","v":"ENSTA Paris"},{"$f":"IF($T$5=\"Course 1\",Général!F$169,IF($T$5=\"Course 2\",Général!F$171,IF($T$5=\"Course 3\",Général!F$173,Général!#REF!)))","v":"Centrales Nantes"},null,{"$f":"Général!B14","v":"ENSTA Bretagne 1"},4]
["6ème Equipage",null,{"$f":"IF($C$5=\"Course 1\",Général!G33,IF($C$5=\"Course 2\",Général!G35,IF($C$5=\"Course 3\",Général!G37,Général!#REF!)))","v":"HYDRO Sailing Team Le Havre"},{"$f":"IF($D$5=\"Course 1\",Général!G41,IF($D$5=\"Course 2\",Général!G43,IF($D$5=\"Course 3\",Général!G45,Général!#REF!)))","v":"Karlsruhe"},{"$f":"IF($E$5=\"Course 1\",Général!G49,IF($E$5=\"Course 2\",Général!G51,IF($E$5=\"Course 3\",Général!G53,Général!#REF!)))","v":"ENSTA Paris"},{"$f":"IF($F$5=\"Course 1\",Général!G$57,IF($F$5=\"Course 2\",Général!G$59,IF($F$5=\"Course 3\",Général!G$61,Général!#REF!)))","v":"Hannovre"},{"$f":"IF($G$5=\"Course 1\",Général!G$65,IF($G$5=\"Course 2\",Général!G$67,IF($G$5=\"Course 3\",Général!G$69,Général!#REF!)))","v":"Hambourg"},{"$f":"IF($H$5=\"Course 1\",Général!G$73,IF($H$5=\"Course 2\",Général!G$75,IF($H$5=\"Course 3\",Général!G$77,Général!#REF!)))","v":"UBS Lorient 1"},{"$f":"IF($I$5=\"Course 1\",Général!G$81,IF($I$5=\"Course 2\",Général!G$83,IF($I$5=\"Course 3\",Général!G$85,Général!#REF!)))","v":"UNICAEN - ASSUCherbourg"},{"$f":"IF($J$5=\"Course 1\",Général!G$89,IF($J$5=\"Course 2\",Général!G$91,IF($J$5=\"Course 3\",Général!G$93,Général!#REF!)))","v":"ENSTA Bretagne 2"},{"$f":"IF($K$5=\"Course 1\",Général!G$97,IF($K$5=\"Course 2\",Général!G$99,IF($K$5=\"Course 3\",Général!G$101,Général!#REF!)))","v":"Karlsruhe"},{"$f":"IF($L$5=\"Course 1\",Général!G$105,IF($L$5=\"Course 2\",Général!G$107,IF($L$5=\"Course 3\",Général!G$109,Général!#REF!)))","v":"Univ. La Rochelle"},{"$f":"IF($M$5=\"Course 1\",Général!G$113,IF($M$5=\"Course 2\",Général!G$115,IF($M$5=\"Course 3\",Général!G$117,Général!#REF!)))","v":"AS Paris 1 Panthéon Sorbonne"},{"$f":"IF($N$5=\"Course 1\",Général!G$121,IF($N$5=\"Course 2\",Général!G$123,IF($N$5=\"Course 3\",Général!G$125,Général!#REF!)))","v":"Univ. Nantes 1"},{"$f":"IF($O$5=\"Course 1\",Général!G$129,IF($O$5=\"Course 2\",Général!G$131,IF($O$5=\"Course 3\",Général!G$133,Général!#REF!)))","v":"IMT Atlantique Nantes 1"},{"$f":"IF($P$5=\"Course 1\",Général!G$137,IF($P$5=\"Course 2\",Général!G$139,IF($P$5=\"Course 3\",Général!G$141,Général!#REF!)))","v":"HYDRO Sailing Team Le Havre"},{"$f":"IF($Q$5=\"Course 1\",Général!G$145,IF($Q$5=\"Course 2\",Général!G$147,IF($Q$5=\"Course 3\",Général!G$149,Général!#REF!)))","v":"Southampton"},{"$f":"IF($R$5=\"Course 1\",Général!G$153,IF($R$5=\"Course 2\",Général!G$155,IF($R$5=\"Course 3\",Général!G$157,Général!#REF!)))","v":"Univ. La Rochelle"},{"$f":"IF($S$5=\"Course 1\",Général!G$161,IF($S$5=\"Course 2\",Général!G$163,IF($S$5=\"Course 3\",Général!G$165,Général!#REF!)))","v":"Dublin"},{"$f":"IF($T$5=\"Course 1\",Général!G$169,IF($T$5=\"Course 2\",Général!G$171,IF($T$5=\"Course 3\",Général!G$173,Général!#REF!)))","v":"ENSTA Paris"},null,{"$f":"Général!B15","v":"ASUL Lannion"},6]
["7ème Equipage",null,{"$f":"IF($C$5=\"Course 1\",Général!H33,IF($C$5=\"Course 2\",Général!H35,IF($C$5=\"Course 3\",Général!H37,Général!#REF!)))","v":"UBO 2"},{"$f":"IF($D$5=\"Course 1\",Général!H41,IF($D$5=\"Course 2\",Général!H43,IF($D$5=\"Course 3\",Général!H45,Général!#REF!)))","v":"UBO 2"},{"$f":"IF($E$5=\"Course 1\",Général!H49,IF($E$5=\"Course 2\",Général!H51,IF($E$5=\"Course 3\",Général!H53,Général!#REF!)))","v":"Univ. Nantes 3"},{"$f":"IF($F$5=\"Course 1\",Général!H$57,IF($F$5=\"Course 2\",Général!H$59,IF($F$5=\"Course 3\",Général!H$61,Général!#REF!)))","v":"Hambourg"},{"$f":"IF($G$5=\"Course 1\",Général!H$65,IF($G$5=\"Course 2\",Général!H$67,IF($G$5=\"Course 3\",Général!H$69,Général!#REF!)))","v":"Univ. Nantes 2"},{"$f":"IF($H$5=\"Course 1\",Général!H$73,IF($H$5=\"Course 2\",Général!H$75,IF($H$5=\"Course 3\",Général!H$77,Général!#REF!)))","v":"Univ. Nantes 1"},{"$f":"IF($I$5=\"Course 1\",Général!H$81,IF($I$5=\"Course 2\",Général!H$83,IF($I$5=\"Course 3\",Général!H$85,Général!#REF!)))","v":"HYDRO Sailing Team Le Havre"},{"$f":"IF($J$5=\"Course 1\",Général!H$89,IF($J$5=\"Course 2\",Général!H$91,IF($J$5=\"Course 3\",Général!H$93,Général!#REF!)))","v":"IMT Atlantique Brest"},{"$f":"IF($K$5=\"Course 1\",Général!H$97,IF($K$5=\"Course 2\",Général!H$99,IF($K$5=\"Course 3\",Général!H$101,Général!#REF!)))","v":"ENSTA Bretagne 2"},{"$f":"IF($L$5=\"Course 1\",Général!H$105,IF($L$5=\"Course 2\",Général!H$107,IF($L$5=\"Course 3\",Général!H$109,Général!#REF!)))","v":"ENSTA Bretagne 2"},{"$f":"IF($M$5=\"Course 1\",Général!H$113,IF($M$5=\"Course 2\",Général!H$115,IF($M$5=\"Course 3\",Général!H$117,Général!#REF!)))","v":"Dublin"},{"$f":"IF($N$5=\"Course 1\",Général!H$121,IF($N$5=\"Course 2\",Général!H$123,IF($N$5=\"Course 3\",Général!H$125,Général!#REF!)))","v":"Hambourg"},{"$f":"IF($O$5=\"Course 1\",Général!H$129,IF($O$5=\"Course 2\",Général!H$131,IF($O$5=\"Course 3\",Général!H$133,Général!#REF!)))","v":"UBS Lorient 1"},{"$f":"IF($P$5=\"Course 1\",Général!H$137,IF($P$5=\"Course 2\",Général!H$139,IF($P$5=\"Course 3\",Général!H$141,Général!#REF!)))","v":"Dublin"},{"$f":"IF($Q$5=\"Course 1\",Général!H$145,IF($Q$5=\"Course 2\",Général!H$147,IF($Q$5=\"Course 3\",Général!H$149,Général!#REF!)))","v":"ENSTA Bretagne 1"},{"$f":"IF($R$5=\"Course 1\",Général!H$153,IF($R$5=\"Course 2\",Général!H$155,IF($R$5=\"Course 3\",Général!H$157,Général!#REF!)))","v":"Hannovre"},{"$f":"IF($S$5=\"Course 1\",Général!H$161,IF($S$5=\"Course 2\",Général!H$163,IF($S$5=\"Course 3\",Général!H$165,Général!#REF!)))","v":"IMT Atlantique Brest"},{"$f":"IF($T$5=\"Course 1\",Général!H$169,IF($T$5=\"Course 2\",Général!H$171,IF($T$5=\"Course 3\",Général!H$173,Général!#REF!)))","v":"UNICAEN - ASSUCherbourg"},null,{"$f":"Général!B16","v":"ENSTA Paris"},7]
["8ème Equipage",null,{"$f":"IF($C$5=\"Course 1\",Général!I33,IF($C$5=\"Course 2\",Général!I35,IF($C$5=\"Course 3\",Général!I37,Général!#REF!)))","v":"ASUL Lannion"},{"$f":"IF($D$5=\"Course 1\",Général!I41,IF($D$5=\"Course 2\",Général!I43,IF($D$5=\"Course 3\",Général!I45,Général!#REF!)))","v":"Univ.Orléans"},{"$f":"IF($E$5=\"Course 1\",Général!I49,IF($E$5=\"Course 2\",Général!I51,IF($E$5=\"Course 3\",Général!I53,Général!#REF!)))","v":"Southampton"},{"$f":"IF($F$5=\"Course 1\",Général!I$57,IF($F$5=\"Course 2\",Général!I$59,IF($F$5=\"Course 3\",Général!I$61,Général!#REF!)))","v":"HYDRO Sailing Team Le Havre"},{"$f":"IF($G$5=\"Course 1\",Général!I$65,IF($G$5=\"Course 2\",Général!I$67,IF($G$5=\"Course 3\",Général!I$69,Général!#REF!)))","v":"UNICAEN - ASSUCherbourg"},{"$f":"IF($H$5=\"Course 1\",Général!I$73,IF($H$5=\"Course 2\",Général!I$75,IF($H$5=\"Course 3\",Général!I$77,Général!#REF!)))","v":"UBO 1"},{"$f":"IF($I$5=\"Course 1\",Général!I$81,IF($I$5=\"Course 2\",Général!I$83,IF($I$5=\"Course 3\",Général!I$85,Général!#REF!)))","v":"UBO 1"},{"$f":"IF($J$5=\"Course 1\",Général!I$89,IF($J$5=\"Course 2\",Général!I$91,IF($J$5=\"Course 3\",Général!I$93,Général!#REF!)))","v":"Hambourg"},{"$f":"IF($K$5=\"Course 1\",Général!I$97,IF($K$5=\"Course 2\",Général!I$99,IF($K$5=\"Course 3\",Général!I$101,Général!#REF!)))","v":"Hannovre"},{"$f":"IF($L$5=\"Course 1\",Général!I$105,IF($L$5=\"Course 2\",Général!I$107,IF($L$5=\"Course 3\",Général!I$109,Général!#REF!)))","v":"IMT Atlantique Nantes 1"},{"$f":"IF($M$5=\"Course 1\",Général!I$113,IF($M$5=\"Course 2\",Général!I$115,IF($M$5=\"Course 3\",Général!I$117,Général!#REF!)))","v":"IMT Atlantique Brest"},{"$f":"IF($N$5=\"Course 1\",Général!I$121,IF($N$5=\"Course 2\",Général!I$123,IF($N$5=\"Course 3\",Général!I$125,Général!#REF!)))","v":"Centrales Nantes"},{"$f":"IF($O$5=\"Course 1\",Général!I$129,IF($O$5=\"Course 2\",Général!I$131,IF($O$5=\"Course 3\",Général!I$133,Général!#REF!)))","v":"UBO 2"},{"$f":"IF($P$5=\"Course 1\",Général!I$137,IF($P$5=\"Course 2\",Général!I$139,IF($P$5=\"Course 3\",Général!I$141,Général!#REF!)))","v":"Univ. Nantes 2"},{"$f":"IF($Q$5=\"Course 1\",Général!I$145,IF($Q$5=\"Course 2\",Général!I$147,IF($Q$5=\"Course 3\",Général!I$149,Général!#REF!)))","v":"Univ. Nantes 2"},{"$f":"IF($R$5=\"Course 1\",Général!I$153,IF($R$5=\"Course 2\",Général!I$155,IF($R$5=\"Course 3\",Général!I$157,Général!#REF!)))","v":"ENSTA Bretagne 2"},{"$f":"IF($S$5=\"Course 1\",Général!I$161,IF($S$5=\"Course 2\",Général!I$163,IF($S$5=\"Course 3\",Général!I$165,Général!#REF!)))","v":"ENSTA Bretagne 2"},{"$f":"IF($T$5=\"Course 1\",Général!I$169,IF($T$5=\"Course 2\",Général!I$171,IF($T$5=\"Course 3\",Général!I$173,Général!#REF!)))","v":"UBS Lorient 2"},null,{"$f":"Général!B17","v":"IMT Atlantique Brest"},5]
["9ème Equipage",null,{"$f":"IF($C$5=\"Course 1\",Général!J33,IF($C$5=\"Course 2\",Général!J35,IF($C$5=\"Course 3\",Général!J37,Général!#REF!)))","v":"Southampton"},{"$f":"IF($D$5=\"Course 1\",Général!J41,IF($D$5=\"Course 2\",Général!J43,IF($D$5=\"Course 3\",Général!J45,Général!#REF!)))","v":"Centrales Nantes"},{"$f":"IF($E$5=\"Course 1\",Général!J49,IF($E$5=\"Course 2\",Général!J51,IF($E$5=\"Course 3\",Général!J53,Général!#REF!)))","v":"IMT Atlantique Brest"},{"$f":"IF($F$5=\"Course 1\",Général!J$57,IF($F$5=\"Course 2\",Général!J$59,IF($F$5=\"Course 3\",Général!J$61,Général!#REF!)))","v":"ENSTA Paris"},{"$f":"IF($G$5=\"Course 1\",Général!J$65,IF($G$5=\"Course 2\",Général!J$67,IF($G$5=\"Course 3\",Général!J$69,Général!#REF!)))","v":"Univ. Nantes 1"},{"$f":"IF($H$5=\"Course 1\",Général!J$73,IF($H$5=\"Course 2\",Général!J$75,IF($H$5=\"Course 3\",Général!$J77,Général!#REF!)))","v":"AS Paris 1 Panthéon Sorbonne"},{"$f":"IF($I$5=\"Course 1\",Général!J$81,IF($I$5=\"Course 2\",Général!J$83,IF($I$5=\"Course 3\",Général!J$85,Général!#REF!)))","v":"ENSTA Bretagne 2"},{"$f":"IF($J$5=\"Course 1\",Général!J$89,IF($J$5=\"Course 2\",Général!J$91,IF($J$5=\"Course 3\",Général!J$93,Général!#REF!)))","v":"Univ. Nantes 2"},{"$f":"IF($K$5=\"Course 1\",Général!J$97,IF($K$5=\"Course 2\",Général!J$99,IF($K$5=\"Course 3\",Général!J$101,Général!#REF!)))","v":"UNICAEN - ASSUCherbourg"},{"$f":"IF($L$5=\"Course 1\",Général!J$105,IF($L$5=\"Course 2\",Général!J$107,IF($L$5=\"Course 3\",Général!J$109,Général!#REF!)))","v":"Dublin"},{"$f":"IF($M$5=\"Course 1\",Général!J$113,IF($M$5=\"Course 2\",Général!J$115,IF($M$5=\"Course 3\",Général!J$117,Général!#REF!)))","v":"Hannovre"},{"$f":"IF($N$5=\"Course 1\",Général!J$121,IF($N$5=\"Course 2\",Général!J$123,IF($N$5=\"Course 3\",Général!J$125,Général!#REF!)))","v":"UBS Lorient 1"},{"$f":"IF($O$5=\"Course 1\",Général!J$129,IF($O$5=\"Course 2\",Général!J$131,IF($O$5=\"Course 3\",Général!J$133,Général!#REF!)))","v":"ENSTA Bretagne 2"},{"$f":"IF($P$5=\"Course 1\",Général!J$137,IF($P$5=\"Course 2\",Général!J$139,IF($P$5=\"Course 3\",Général!J$141,Général!#REF!)))","v":"UNICAEN - ASSUCherbourg"},{"$f":"IF($Q$5=\"Course 1\",Général!J$145,IF($Q$5=\"Course 2\",Général!J$147,IF($Q$5=\"Course 3\",Général!J$149,Général!#REF!)))","v":"Karlsruhe"},{"$f":"IF($R$5=\"Course 1\",Général!J$153,IF($R$5=\"Course 2\",Général!J$155,IF($R$5=\"Course 3\",Général!J$157,Général!#REF!)))","v":"EGSI La Rochelle"},{"$f":"IF($S$5=\"Course 1\",Général!J$161,IF($S$5=\"Course 2\",Général!J$163,IF($S$5=\"Course 3\",Général!J$165,Général!#REF!)))","v":"Southampton"},{"$f":"IF($T$5=\"Course 1\",Général!J$169,IF($T$5=\"Course 2\",Général!J$171,IF($T$5=\"Course 3\",Général!J$173,Général!#REF!)))","v":"Univ. La Rochelle"},null,{"$f":"Général!B18","v":"UBO 2"},4]
[null,null,null,null,null,null,null,null,null,null,null,null,null,null,null,null,null,null,null,null,null,{"$f":"Général!B19","v":"Dublin"},7]
[null,null,null,null,null,null,null,null,null,null,null,null,null,null,null,null,null,null,null,null,null,{"$f":"Général!B20","v":"Univ. Nantes 2"},7]
[null,null,null,null,null,null,null,null,null,null,null,null,null,null,null,null,null,null,null,null,null,{"$f":"Général!B21","v":"UBS Lorient 1"},6]
[null,null,null,null,null,null,null,null,null,null,null,null,null,null,null,null,null,null,null,null,null,{"$f":"Général!B22","v":"UBS Lorient 2"},5]
[null,null,null,null,null,null,null,null,null,null,null,null,null,null,null,null,null,null,null,null,null,{"$f":"Général!B23","v":"Univ.Orléans"},5]
[null,null,null,null,null,null,null,null,null,null,null,null,null,null,null,null,null,null,null,null,null,{"$f":"Général!B24","v":"Univ. La Rochelle"},7]
[null,null,null,null,null,null,null,null,null,null,null,null,null,null,null,null,null,null,null,null,null,{"$f":"Général!B25","v":"AS UB St Brieuc"},5]
[null,null,null,null,null,null,null,null,null,null,null,null,null,null,null,null,null,null,null,null,null,{"$f":"Général!B26","v":"Karlsruhe"},7]
[null,null,null,null,null,null,null,null,null,null,null,null,null,null,null,null,null,null,null,null,null,{"$f":"Général!B27","v":"Univ. Nantes 3"},5]
[null,null,null,null,null,null,null,null,null,null,null,null,null,null,null,null,null,null,null,null,null,{"$f":"Général!B28","v":"Centrales Nantes"},6]
[null,null,null,null,null,null,null,null,null,null,null,null,null,null,null,null,null,null,null,null,null,{"$f":"Général!B29","v":"Southampton"},6]
[null,null,null,null,null,null,null,null,null,null,null,null,null,null,null,null,null,null,null,null,null,{"$f":"Général!#REF!","v":{"$error":"#REF!"}},0]
[null,null,null,null,null,null,null,null,null,null,null,null,null,null,null,null,null,null,null,null,null,{"$f":"Général!#REF!","v":{"$error":"#REF!"}},0]
[null,null,null,null,null,null,null,null,null,null,null,null,null,null,null,null,null,null,null,null,null,{"$f":"Général!#REF!","v":{"$error":"#REF!"}},0]
[null,null,null,null,null,null,null,null,null,null,null,null,null,null,null,null,null,null,null,null,null,{"$f":"Général!#REF!","v":{"$error":"#REF!"}},0]
[null,null,null,null,null,null,null,null,null,null,null,null,null,null,null,null,null,null,null,null,null,{"$f":"Général!#REF!","v":{"$error":"#REF!"}},0]

{"sheet":"Eq.6","index":10,"n_rows":32,"n_cols":23,"rows_kept":32,"cut":false,"hidden":false,"merged":[[14,0,14,1],[15,0,15,1],[8,0,8,1],[9,0,9,1],[10,0,10,1],[11,0,11,1],[12,0,12,1],[13,0,13,1],[7,0,7,1],[0,0,1,5],[0,6,1,10],[3,0,3,1],[4,0,4,1],[5,0,5,1]]}
["Equipage ",null,null,null,null,null,{"$f":"Général!B8","v":"IMT Atlantique Nantes 2"},null,null,null,null,null,null,null,null,null,null,null,null,null,null,{"$f":"Général!B3","v":"Univ. Nantes 1"},{"$f":"COUNTIF(C$8:T$16,V1)","v":5}]
[null,null,null,null,null,null,null,null,null,null,null,null,null,null,null,null,null,null,null,null,null,{"$f":"Général!B4","v":"AS Paris 1 Panthéon Sorbonne"},{"$f":"COUNTIF($C$8:$T$16,V2)","v":5}]
[null,null,null,null,null,null,null,null,null,null,null,null,null,null,null,null,null,null,null,null,null,{"$f":"Général!B5","v":"Hannovre"},{"$f":"COUNTIF($C$8:$T$16,V3)","v":5}]
[null,null,"FLIGHT 1","FLIGHT 2","FLIGHT 3","FLIGHT 4","FLIGHT 5","FLIGHT 6","FLIGHT 7","FLIGHT 8","FLIGHT 9","FLIGHT 10","FLIGHT 11","FLIGHT 12","FLIGHT 13","FLIGHT 14","FLIGHT 15","FLIGHT 16","FLIGHT 17","FLIGHT 18",null,{"$f":"Général!B6","v":"IMT Atlantique Nantes 1"},6]
["N° de course",null,{"$f":"IF(COUNTIF(Général!B33:J33,$G$1)=1,\"Course 1\",IF(COUNTIF(Général!B35:J35,$G$1)=1,\"Course 2\",IF(COUNTIF(Général!B37:J37,$G$1)=1,\"Course 3\",\"Course 4\")))","v":"Course 3"},{"$f":"IF(COUNTIF(Général!B41:J41,$G$1)=1,\"Course 1\",IF(COUNTIF(Général!B43:J43,$G$1)=1,\"Course 2\",IF(COUNTIF(Général!B45:J45,$G$1)=1,\"Course 3\",\"Course 4\")))","v":"Course 3"},{"$f":"IF(COUNTIF(Général!B49:J49,$G$1)=1,\"Course 1\",IF(COUNTIF(Général!B51:J51,$G$1)=1,\"Course 2\",IF(COUNTIF(Général!B53:J53,$G$1)=1,\"Course 3\",\"Course 4\")))","v":"Course 2"},{"$f":"IF(COUNTIF(Général!B57:J57,$G$1)=1,\"Course 1\",IF(COUNTIF(Général!B59:J59,$G$1)=1,\"Course 2\",IF(COUNTIF(Général!B61:J61,$G$1)=1,\"Course 3\",\"Course 4\")))","v":"Course 1"},{"$f":"IF(COUNTIF(Général!B65:J65,$G$1)=1,\"Course 1\",IF(COUNTIF(Général!B67:J67,$G$1)=1,\"Course 2\",IF(COUNTIF(Général!B69:J69,$G$1)=1,\"Course 3\",\"Course 4\")))","v":"Course 1"},{"$f":"IF(COUNTIF(Général!B73:J73,$G$1)=1,\"Course 1\",IF(COUNTIF(Général!B75:J75,$G$1)=1,\"Course 2\",IF(COUNTIF(Général!B77:J77,$G$1)=1,\"Course 3\",\"Course 4\")))","v":"Course 1"},{"$f":"IF(COUNTIF(Général!B81:J81,$G$1)=1,\"Course 1\",IF(COUNTIF(Général!B83:J83,$G$1)=1,\"Course 2\",IF(COUNTIF(Général!B85:J85,$G$1)=1,\"Course 3\",\"Course 4\")))","v":"Course 3"},{"$f":"IF(COUNTIF(Général!B89:J89,$G$1)=1,\"Course 1\",IF(COUNTIF(Général!B91:J91,$G$1)=1,\"Course 2\",IF(COUNTIF(Général!B93:J93,$G$1)=1,\"Course 3\",\"Course 4\")))","v":"Course 3"},{"$f":"IF(COUNTIF(Général!B97:J97,$G$1)=1,\"Course 1\",IF(COUNTIF(Général!B99:J99,$G$1)=1,\"Course 2\",IF(COUNTIF(Général!B101:J101,$G$1)=1,\"Course 3\",\"Course 4\")))","v":"Course 3"},{"$f":"IF(COUNTIF(Général!B105:J105,$G$1)=1,\"Course 1\",IF(COUNTIF(Général!B107:J107,$G$1)=1,\"Course 2\",IF(COUNTIF(Général!B109:J109,$G$1)=1,\"Course 3\",\"Course 4\")))","v":"Course 1"},{"$f":"IF(COUNTIF(Général!B113:J113,$G$1)=1,\"Course 1\",IF(COUNTIF(Général!B115:J115,$G$1)=1,\"Course 2\",IF(COUNTIF(Général!B117:J117,$G$1)=1,\"Course 3\",\"Course 4\")))","v":"Course 1"},{"$f":"IF(COUNTIF(Général!B121:J121,$G$1)=1,\"Course 1\",IF(COUNTIF(Général!B123:J123,$G$1)=1,\"Course 2\",IF(COUNTIF(Général!B125:J125,$G$1)=1,\"Course 3\",\"Course 4\")))","v":"Course 3"},{"$f":"IF(COUNTIF(Général!B129:J129,$G$1)=1,\"Course 1\",IF(COUNTIF(Général!B131:J131,$G$1)=1,\"Course 2\",IF(COUNTIF(Général!B133:J133,$G$1)=1,\"Course 3\",\"Course 4\")))","v":"Course 1"},{"$f":"IF(COUNTIF(Général!B137:J137,$G$1)=1,\"Course 1\",IF(COUNTIF(Général!B139:J139,$G$1)=1,\"Course 2\",IF(COUNTIF(Général!B141:J141,$G$1)=1,\"Course 3\",\"Course 4\")))","v":"Course 2"},{"$f":"IF(COUNTIF(Général!B145:J145,$G$1)=1,\"Course 1\",IF(COUNTIF(Général!B147:J147,$G$1)=1,\"Course 2\",IF(COUNTIF(Général!B149:J149,$G$1)=1,\"Course 3\",\"Course 4\")))","v":"Course 1"},{"$f":"IF(COUNTIF(Général!B153:J153,$G$1)=1,\"Course 1\",IF(COUNTIF(Général!B155:J155,$G$1)=1,\"Course 2\",IF(COUNTIF(Général!B157:J157,$G$1)=1,\"Course 3\",\"Course 4\")))","v":"Course 3"},{"$f":"IF(COUNTIF(Général!B161:J161,$G$1)=1,\"Course 1\",IF(COUNTIF(Général!B163:J163,$G$1)=1,\"Course 2\",IF(COUNTIF(Général!B165:J165,$G$1)=1,\"Course 3\",\"Course 4\")))","v":"Course 3"},{"$f":"IF(COUNTIF(Général!B169:J169,$G$1)=1,\"Course 1\",IF(COUNTIF(Général!B171:J171,$G$1)=1,\"Course 2\",IF(COUNTIF(Général!B173:J173,$G$1)=1,\"Course 3\",\"Course 4\")))","v":"Course 3"},null,{"$f":"Général!B7","v":"ENSTA Bretagne 2"},6]
["Bateau",null,{"$f":"IF(COUNTIF(Général!B33:B38,$G$1)=1,\"Boat 1\",IF(COUNTIF(Général!C33:C38,$G$1)=1,\"Boat 2\",IF(COUNTIF(Général!D33:D38,$G$1)=1,\"Boat 3\", IF(COUNTIF(Général!E33:E38,$G$1)=1,\"Boat 4\", IF(COUNTIF(Général!F33:F38,$G$1)=1,\"Boat 5\", IF(COUNTIF(Général!G33:G38,$G$1)=1,\"Boat 6\", IF(COUNTIF(Général!H33:H38,$G$1)=1,\"Boat 7\",IF(COUNTIF(Général!I33:I38,$G$1)=1,\"Boat 8\",\"Boat 9\"))))))))","v":"Boat 2"},{"$f":"IF(COUNTIF(Général!B41:B46,$G$1)=1,\"Boat 1\",IF(COUNTIF(Général!C41:C46,$G$1)=1,\"Boat 2\",IF(COUNTIF(Général!D41:D46,$G$1)=1,\"Boat 3\", IF(COUNTIF(Général!E41:E46,$G$1)=1,\"Boat 4\", IF(COUNTIF(Général!F41:F46,$G$1)=1,\"Boat 5\", IF(COUNTIF(Général!G41:G46,$G$1)=1,\"Boat 6\", IF(COUNTIF(Général!H41:H46,$G$1)=1,\"Boat 7\",IF(COUNTIF(Général!I33:I38,$G$1)=1,\"Boat 8\",\"Boat 9\"))))))))","v":"Boat 2"},{"$f":"IF(COUNTIF(Général!B49:B54,$G$1)=1,\"Boat 1\",IF(COUNTIF(Général!C49:C54,$G$1)=1,\"Boat 2\",IF(COUNTIF(Général!D49:D54,$G$1)=1,\"Boat 3\", IF(COUNTIF(Général!E49:E54,$G$1)=1,\"Boat 4\", IF(COUNTIF(Général!F49:F54,$G$1)=1,\"Boat 5\", IF(COUNTIF(Général!G49:G54,$G$1)=1,\"Boat 6\", IF(COUNTIF(Général!H49:H54,$G$1)=1,\"Boat 7\",IF(COUNTIF(Général!I33:I38,$G$1)=1,\"Boat 8\",\"Boat 9\"))))))))","v":"Boat 1"},{"$f":"IF(COUNTIF(Général!B57:B62,$G$1)=1,\"Boat 1\",IF(COUNTIF(Général!C57:C62,$G$1)=1,\"Boat 2\",IF(COUNTIF(Général!D57:D62,$G$1)=1,\"Boat 3\", IF(COUNTIF(Général!E57:E62,$G$1)=1,\"Boat 4\", IF(COUNTIF(Général!F57:F62,$G$1)=1,\"Boat 5\", IF(COUNTIF(Général!G57:G62,$G$1)=1,\"Boat 6\", IF(COUNTIF(Général!H57:H62,$G$1)=1,\"Boat 7\",IF(COUNTIF(Général!I33:I38,$G$1)=1,\"Boat 8\",\"Boat 9\"))))))))","v":"Boat 1"},{"$f":"IF(COUNTIF(Général!B65:B70,$G$1)=1,\"Boat 1\",IF(COUNTIF(Général!C65:C70,$G$1)=1,\"Boat 2\",IF(COUNTIF(Général!D65:D70,$G$1)=1,\"Boat 3\", IF(COUNTIF(Général!E65:E70,$G$1)=1,\"Boat 4\", IF(COUNTIF(Général!F65:F70,$G$1)=1,\"Boat 5\", IF(COUNTIF(Général!G65:G70,$G$1)=1,\"Boat 6\", IF(COUNTIF(Général!H65:H70,$G$1)=1,\"Boat 7\",IF(COUNTIF(Général!I33:I38,$G$1)=1,\"Boat 8\",\"Boat 9\"))))))))","v":"Boat 7"},{"$f":"IF(COUNTIF(Général!B73:B78,$G$1)=1,\"Boat 1\",IF(COUNTIF(Général!C73:C78,$G$1)=1,\"Boat 2\",IF(COUNTIF(Général!D73:D78,$G$1)=1,\"Boat 3\", IF(COUNTIF(Général!E73:E78,$G$1)=1,\"Boat 4\", IF(COUNTIF(Général!F73:F78,$G$1)=1,\"Boat 5\", IF(COUNTIF(Général!G73:G78,$G$1)=1,\"Boat 6\", IF(COUNTIF(Général!H73:H78,$G$1)=1,\"Boat 7\",IF(COUNTIF(Général!I33:I38,$G$1)=1,\"Boat 8\",\"Boat 9\"))))))))","v":"Boat 7"},{"$f":"IF(COUNTIF(Général!B81:B86,$G$1)=1,\"Boat 1\",IF(COUNTIF(Général!C81:C86,$G$1)=1,\"Boat 2\",IF(COUNTIF(Général!D81:D86,$G$1)=1,\"Boat 3\", IF(COUNTIF(Général!E81:E86,$G$1)=1,\"Boat 4\", IF(COUNTIF(Général!F81:F86,$G$1)=1,\"Boat 5\", IF(COUNTIF(Général!G81:G86,$G$1)=1,\"Boat 6\", IF(COUNTIF(Général!H81:H86,$G$1)=1,\"Boat 7\",IF(COUNTIF(Général!I33:I38,$G$1)=1,\"Boat 8\",\"Boat 9\"))))))))","v":"Boat 6"},{"$f":"IF(COUNTIF(Général!B89:B94,$G$1)=1,\"Boat 1\",IF(COUNTIF(Général!C89:C94,$G$1)=1,\"Boat 2\",IF(COUNTIF(Général!D89:D94,$G$1)=1,\"Boat 3\", IF(COUNTIF(Général!E89:E94,$G$1)=1,\"Boat 4\", IF(COUNTIF(Général!F89:F94,$G$1)=1,\"Boat 5\", IF(COUNTIF(Général!G89:G94,$G$1)=1,\"Boat 6\", IF(COUNTIF(Général!H89:H94,$G$1)=1,\"Boat 7\",IF(COUNTIF(Général!I33:I38,$G$1)=1,\"Boat 8\",\"Boat 9\"))))))))","v":"Boat 6"},{"$f":"IF(COUNTIF(Général!B97:B102,$G$1)=1,\"Boat 1\",IF(COUNTIF(Général!C97:C102,$G$1)=1,\"Boat 2\",IF(COUNTIF(Général!D97:D102,$G$1)=1,\"Boat 3\", IF(COUNTIF(Général!E97:E102,$G$1)=1,\"Boat 4\", IF(COUNTIF(Général!F97:F102,$G$1)=1,\"Boat 5\", IF(COUNTIF(Général!G97:G102,$G$1)=1,\"Boat 6\", IF(COUNTIF(Général!H97:H102,$G$1)=1,\"Boat 7\",IF(COUNTIF(Général!I33:I38,$G$1)=1,\"Boat 8\",\"Boat 9\"))))))))","v":"Boat 5"},{"$f":"IF(COUNTIF(Général!B105:B110,$G$1)=1,\"Boat 1\",IF(COUNTIF(Général!C105:C110,$G$1)=1,\"Boat 2\",IF(COUNTIF(Général!D105:D110,$G$1)=1,\"Boat 3\", IF(COUNTIF(Général!E105:E110,$G$1)=1,\"Boat 4\", IF(COUNTIF(Général!F105:F110,$G$1)=1,\"Boat 5\", IF(COUNTIF(Général!G105:G110,$G$1)=1,\"Boat 6\", IF(COUNTIF(Général!H105:H110,$G$1)=1,\"Boat 7\",IF(COUNTIF(Général!I33:I38,$G$1)=1,\"Boat 8\",\"Boat 9\"))))))))","v":"Boat 5"},{"$f":"IF(COUNTIF(Général!B113:B118,$G$1)=1,\"Boat 1\",IF(COUNTIF(Général!C113:C118,$G$1)=1,\"Boat 2\",IF(COUNTIF(Général!C113:D118,$G$1)=1,\"Boat 3\", IF(COUNTIF(Général!C113:E118,$G$1)=1,\"Boat 4\", IF(COUNTIF(Général!F113:F118,$G$1)=1,\"Boat 5\", IF(COUNTIF(Général!G113:G118,$G$1)=1,\"Boat 6\", IF(COUNTIF(Général!H113:H118,$G$1)=1,\"Boat 7\",IF(COUNTIF(Général!I33:I38,$G$1)=1,\"Boat 8\",\"Boat 9\"))))))))","v":"Boat 9"},{"$f":"IF(COUNTIF(Général!B121:B126,$G$1)=1,\"Boat 1\",IF(COUNTIF(Général!C121:C126,$G$1)=1,\"Boat 2\",IF(COUNTIF(Général!D121:D126,$G$1)=1,\"Boat 3\", IF(COUNTIF(Général!E121:E126,$G$1)=1,\"Boat 4\", IF(COUNTIF(Général!F121:F126,$G$1)=1,\"Boat 5\", IF(COUNTIF(Général!G121:G126,$G$1)=1,\"Boat 6\", IF(COUNTIF(Général!H121:H126,$G$1)=1,\"Boat 7\",IF(COUNTIF(Général!I33:I38,$G$1)=1,\"Boat 8\",\"Boat 9\"))))))))","v":"Boat 4"},{"$f":"IF(COUNTIF(Général!B129:B134,$G$1)=1,\"Boat 1\",IF(COUNTIF(Général!C129:C134,$G$1)=1,\"Boat 2\",IF(COUNTIF(Général!D131:D134,$G$1)=1,\"Boat 3\", IF(COUNTIF(Général!E129:E134,$G$1)=1,\"Boat 4\", IF(COUNTIF(Général!F129:F134,$G$1)=1,\"Boat 5\", IF(COUNTIF(Général!G129:G134,$G$1)=1,\"Boat 6\", IF(COUNTIF(Général!H129:H134,$G$1)=1,\"Boat 7\",IF(COUNTIF(Général!I33:I38,$G$1)=1,\"Boat 8\",\"Boat 9\"))))))))","v":"Boat 4"},{"$f":"IF(COUNTIF(Général!B137:B142,$G$1)=1,\"Boat 1\",IF(COUNTIF(Général!C137:C142,$G$1)=1,\"Boat 2\",IF(COUNTIF(Général!D137:D142,$G$1)=1,\"Boat 3\", IF(COUNTIF(Général!E137:E142,$G$1)=1,\"Boat 4\", IF(COUNTIF(Général!F145:F150,$G$1)=1,\"Boat 5\", IF(COUNTIF(Général!G145:G150,$G$1)=1,\"Boat 6\", IF(COUNTIF(Général!H145:H150,$G$1)=1,\"Boat 7\",IF(COUNTIF(Général!I33:I38,$G$1)=1,\"Boat 8\",\"Boat 9\"))))))))","v":"Boat 9"},{"$f":"IF(COUNTIF(Général!B145:B150,$G$1)=1,\"Boat 1\",IF(COUNTIF(Général!C145:C150,$G$1)=1,\"Boat 2\",IF(COUNTIF(Général!D145:D150,$G$1)=1,\"Boat 3\", IF(COUNTIF(Général!E145:E150,$G$1)=1,\"Boat 4\", IF(COUNTIF(Général!F145:F150,$G$1)=1,\"Boat 5\", IF(COUNTIF(Général!G145:G150,$G$1)=1,\"Boat 6\", IF(COUNTIF(Général!H145:H150,$G$1)=1,\"Boat 7\",IF(COUNTIF(Général!I33:I38,$G$1)=1,\"Boat 8\",\"Boat 9\"))))))))","v":"Boat 3"},{"$f":"IF(COUNTIF(Général!B153:B158,$G$1)=1,\"Boat 1\",IF(COUNTIF(Général!C153:C158,$G$1)=1,\"Boat 2\",IF(COUNTIF(Général!D153:D158,$G$1)=1,\"Boat 3\", IF(COUNTIF(Général!E153:E158,$G$1)=1,\"Boat 4\", IF(COUNTIF(Général!F153:F158,$G$1)=1,\"Boat 5\", IF(COUNTIF(Général!G153:G158,$G$1)=1,\"Boat 6\", IF(COUNTIF(Général!H153:H158,$G$1)=1,\"Boat 7\",IF(COUNTIF(Général!I33:I38,$G$1)=1,\"Boat 8\",\"Boat 9\"))))))))","v":"Boat 2"},{"$f":"IF(COUNTIF(Général!B161:B166,$G$1)=1,\"Boat 1\",IF(COUNTIF(Général!C161:C166,$G$1)=1,\"Boat 2\",IF(COUNTIF(Général!D161:D166,$G$1)=1,\"Boat 3\", IF(COUNTIF(Général!E161:E166,$G$1)=1,\"Boat 4\", IF(COUNTIF(Général!F161:F166,$G$1)=1,\"Boat 5\", IF(COUNTIF(Général!G161:G166,$G$1)=1,\"Boat 6\", IF(COUNTIF(Général!H161:H166,$G$1)=1,\"Boat 7\",IF(COUNTIF(Général!I33:I38,$G$1)=1,\"Boat 8\",\"Boat 9\"))))))))","v":"Boat 9"},{"$f":"IF(COUNTIF(Général!B169:B174,$G$1)=1,\"Boat 1\",IF(COUNTIF(Général!C169:C174,$G$1)=1,\"Boat 2\",IF(COUNTIF(Général!D169:D174,$G$1)=1,\"Boat 3\", IF(COUNTIF(Général!E169:E174,$G$1)=1,\"Boat 4\", IF(COUNTIF(Général!F169:F174,$G$1)=1,\"Boat 5\", IF(COUNTIF(Général!G169:G174,$G$1)=1,\"Boat 6\", IF(COUNTIF(Général!H169:H174,$G$1)=1,\"Boat 7\",IF(COUNTIF(Général!I33:I38,$G$1)=1,\"Boat 8\",\"Boat 9\"))))))))","v":"Boat 1"},null,{"$f":"Général!B8","v":"IMT Atlantique Nantes 2"},18]
[null,null,null,null,null,null,null,null,null,null,null,null,null,null,null,null,null,null,null,null,null,{"$f":"Général!B9","v":"Hambourg"},6]
["1er Equipage",null,{"$f":"IF($C$5=\"Course 1\",Général!B33,IF($C$5=\"Course 2\",Général!B35,IF($C$5=\"Course 3\",Général!B37,Général!#REF!)))","v":"UBS Lorient 2"},{"$f":"IF($D$5=\"Course 1\",Général!B41,IF($D$5=\"Course 2\",Général!B43,IF($D$5=\"Course 3\",Général!B45,Général!#REF!)))","v":"Univ. Nantes 2"},{"$f":"IF($E$5=\"Course 1\",Général!B49,IF($E$5=\"Course 2\",Général!B51,IF($E$5=\"Course 3\",Général!B53,Général!#REF!)))","v":"IMT Atlantique Nantes 2"},{"$f":"IF($F$5=\"Course 1\",Général!B$57,IF($F$5=\"Course 2\",Général!B$59,IF($F$5=\"Course 3\",Général!B$61,Général!#REF!)))","v":"IMT Atlantique Nantes 2"},{"$f":"IF($G$5=\"Course 1\",Général!B$65,IF($G$5=\"Course 2\",Général!B$67,IF($G$5=\"Course 3\",Général!B$69,Général!#REF!)))","v":"IMT Atlantique Brest"},{"$f":"IF($H$5=\"Course 1\",Général!B$73,IF($H$5=\"Course 2\",Général!B$75,IF($H$5=\"Course 3\",Général!B$77,Général!#REF!)))","v":"ENSTA Bretagne 1"},{"$f":"IF($I$5=\"Course 1\",Général!B$81,IF($I$5=\"Course 2\",Général!B$83,IF($I$5=\"Course 3\",Général!B$85,Général!#REF!)))","v":"Univ. Nantes 3"},{"$f":"IF($J$5=\"Course 1\",Général!B$89,IF($J$5=\"Course 2\",Général!B$91,IF($J$5=\"Course 3\",Général!B$93,Général!#REF!)))","v":"AS Paris 1 Panthéon Sorbonne"},{"$f":"IF($K$5=\"Course 1\",Général!B$97,IF($K$5=\"Course 2\",Général!B$99,IF($K$5=\"Course 3\",Général!B$101,Général!#REF!)))","v":"Hambourg"},{"$f":"IF($L$5=\"Course 1\",Général!B$105,IF($L$5=\"Course 2\",Général!B$107,IF($L$5=\"Course 3\",Général!B$109,Général!#REF!)))","v":"Centrales Nantes"},{"$f":"IF($M$5=\"Course 1\",Général!B$113,IF($M$5=\"Course 2\",Général!B$115,IF($M$5=\"Course 3\",Général!B$117,Général!#REF!)))","v":"Hambourg"},{"$f":"IF($N$5=\"Course 1\",Général!B$121,IF($N$5=\"Course 2\",Général!B$123,IF($N$5=\"Course 3\",Général!B$125,Général!#REF!)))","v":"UBO 1"},{"$f":"IF($O$5=\"Course 1\",Général!B$129,IF($O$5=\"Course 2\",Général!B$131,IF($O$5=\"Course 3\",Général!B$133,Général!#REF!)))","v":"Hannovre"},{"$f":"IF($P$5=\"Course 1\",Général!B$137,IF($P$5=\"Course 2\",Général!B$139,IF($P$5=\"Course 3\",Général!B$141,Général!#REF!)))","v":"Southampton"},{"$f":"IF($Q$5=\"Course 1\",Général!B$145,IF($Q$5=\"Course 2\",Général!B$147,IF($Q$5=\"Course 3\",Général!B$149,Général!#REF!)))","v":"Univ. Nantes 1"},{"$f":"IF($R$5=\"Course 1\",Général!B$153,IF($R$5=\"Course 2\",Général!B$155,IF($R$5=\"Course 3\",Général!B$157,Général!#REF!)))","v":"ASUL Lannion"},{"$f":"IF($S$5=\"Course 1\",Général!B$161,IF($S$5=\"Course 2\",Général!B$163,IF($S$5=\"Course 3\",Général!B$165,Général!#REF!)))","v":"UBS Lorient 2"},{"$f":"IF($T$5=\"Course 1\",Général!B$169,IF($T$5=\"Course 2\",Général!B$171,IF($T$5=\"Course 3\",Général!B$173,Général!#REF!)))","v":"IMT Atlantique Nantes 2"},null,{"$f":"Général!B10","v":"EGSI La Rochelle"},5]
["2nd Equipage",null,{"$f":"IF($C$5=\"Course 1\",Général!C33,IF($C$5=\"Course 2\",Général!C35,IF($C$5=\"Course 3\",Général!C37,Général!#REF!)))","v":"IMT Atlantique Nantes 2"},{"$f":"IF($D$5=\"Course 1\",Général!C41,IF($D$5=\"Course 2\",Général!C43,IF($D$5=\"Course 3\",Général!C45,Général!#REF!)))","v":"IMT Atlantique Nantes 2"},{"$f":"IF($E$5=\"Course 1\",Général!C49,IF($E$5=\"Course 2\",Général!C51,IF($E$5=\"Course 3\",Général!C53,Général!#REF!)))","v":"Karlsruhe"},{"$f":"IF($F$5=\"Course 1\",Général!C$57,IF($F$5=\"Course 2\",Général!C$59,IF($F$5=\"Course 3\",Général!C$61,Général!#REF!)))","v":"IMT Atlantique Nantes 1"},{"$f":"IF($G$5=\"Course 1\",Général!C$65,IF($G$5=\"Course 2\",Général!C$67,IF($G$5=\"Course 3\",Général!C$69,Général!#REF!)))","v":"Dublin"},{"$f":"IF($H$5=\"Course 1\",Général!C$73,IF($H$5=\"Course 2\",Général!C$75,IF($H$5=\"Course 3\",Général!C$77,Général!#REF!)))","v":"UBS Lorient 2"},{"$f":"IF($I$5=\"Course 1\",Général!C$81,IF($I$5=\"Course 2\",Général!C$83,IF($I$5=\"Course 3\",Général!C$85,Général!#REF!)))","v":"Southampton"},{"$f":"IF($J$5=\"Course 1\",Général!C$89,IF($J$5=\"Course 2\",Général!C$91,IF($J$5=\"Course 3\",Général!C$93,Général!#REF!)))","v":"UBO 1"},{"$f":"IF($K$5=\"Course 1\",Général!C$97,IF($K$5=\"Course 2\",Général!C$99,IF($K$5=\"Course 3\",Général!C$101,Général!#REF!)))","v":"EGSI La Rochelle"},{"$f":"IF($L$5=\"Course 1\",Général!C$105,IF($L$5=\"Course 2\",Général!C$107,IF($L$5=\"Course 3\",Général!C$109,Général!#REF!)))","v":"AS UB St Brieuc"},{"$f":"IF($M$5=\"Course 1\",Général!C$113,IF($M$5=\"Course 2\",Général!C$115,IF($M$5=\"Course 3\",Général!C$117,Général!#REF!)))","v":"Univ. Nantes 3"},{"$f":"IF($N$5=\"Course 1\",Général!C$121,IF($N$5=\"Course 2\",Général!C$123,IF($N$5=\"Course 3\",Général!C$125,Général!#REF!)))","v":"IMT Atlantique Brest"},{"$f":"IF($O$5=\"Course 1\",Général!C$129,IF($O$5=\"Course 2\",Général!C$131,IF($O$5=\"Course 3\",Général!C$133,Général!#REF!)))","v":"Univ. Nantes 3"},{"$f":"IF($P$5=\"Course 1\",Général!C$137,IF($P$5=\"Course 2\",Général!C$139,IF($P$5=\"Course 3\",Général!C$141,Général!#REF!)))","v":"Centrales Nantes"},{"$f":"IF($Q$5=\"Course 1\",Général!C$145,IF($Q$5=\"Course 2\",Général!C$147,IF($Q$5=\"Course 3\",Général!C$149,Général!#REF!)))","v":"AS UB St Brieuc"},{"$f":"IF($R$5=\"Course 1\",Général!C$153,IF($R$5=\"Course 2\",Général!C$155,IF($R$5=\"Course 3\",Général!C$157,Général!#REF!)))","v":"IMT Atlantique Nantes 2"},{"$f":"IF($S$5=\"Course 1\",Général!C$161,IF($S$5=\"Course 2\",Général!C$163,IF($S$5=\"Course 3\",Général!C$165,Général!#REF!)))","v":"Hambourg"},{"$f":"IF($T$5=\"Course 1\",Général!C$169,IF($T$5=\"Course 2\",Général!C$171,IF($T$5=\"Course 3\",Général!C$173,Général!#REF!)))","v":"ENSTA Bretagne 2"},null,{"$f":"Général!B11","v":"HYDRO Sailing Team Le Havre"},5]
["3ème Equipage",null,{"$f":"IF($C$5=\"Course 1\",Général!D33,IF($C$5=\"Course 2\",Général!D35,IF($C$5=\"Course 3\",Général!D37,Général!#REF!)))","v":"UBS Lorient 1"},{"$f":"IF($D$5=\"Course 1\",Général!D41,IF($D$5=\"Course 2\",Général!D43,IF($D$5=\"Course 3\",Général!D45,Général!#REF!)))","v":"HYDRO Sailing Team Le Havre"},{"$f":"IF($E$5=\"Course 1\",Général!D49,IF($E$5=\"Course 2\",Général!D51,IF($E$5=\"Course 3\",Général!D53,Général!#REF!)))","v":"Dublin"},{"$f":"IF($F$5=\"Course 1\",Général!D$57,IF($F$5=\"Course 2\",Général!D$59,IF($F$5=\"Course 3\",Général!D$61,Général!#REF!)))","v":"Univ. Nantes 2"},{"$f":"IF($G$5=\"Course 1\",Général!D$65,IF($G$5=\"Course 2\",Général!D$67,IF($G$5=\"Course 3\",Général!D$69,Général!#REF!)))","v":"UBO 1"},{"$f":"IF($H$5=\"Course 1\",Général!D$73,IF($H$5=\"Course 2\",Général!D$75,IF($H$5=\"Course 3\",Général!D$77,Général!#REF!)))","v":"Univ. La Rochelle"},{"$f":"IF($I$5=\"Course 1\",Général!D$81,IF($I$5=\"Course 2\",Général!D$83,IF($I$5=\"Course 3\",Général!D$85,Général!#REF!)))","v":"ASUL Lannion"},{"$f":"IF($J$5=\"Course 1\",Général!D$89,IF($J$5=\"Course 2\",Général!D$91,IF($J$5=\"Course 3\",Général!D$93,Général!#REF!)))","v":"ENSTA Paris"},{"$f":"IF($K$5=\"Course 1\",Général!D$97,IF($K$5=\"Course 2\",Général!D$99,IF($K$5=\"Course 3\",Général!D$101,Général!#REF!)))","v":"Southampton"},{"$f":"IF($L$5=\"Course 1\",Général!D$105,IF($L$5=\"Course 2\",Général!D$107,IF($L$5=\"Course 3\",Général!D$109,Général!#REF!)))","v":"Southampton"},{"$f":"IF($M$5=\"Course 1\",Général!D$113,IF($M$5=\"Course 2\",Général!D$115,IF($M$5=\"Course 3\",Général!D$117,Général!#REF!)))","v":"AS UB St Brieuc"},{"$f":"IF($N$5=\"Course 1\",Général!D$121,IF($N$5=\"Course 2\",Général!D$123,IF($N$5=\"Course 3\",Général!D$125,Général!#REF!)))","v":"AS Paris 1 Panthéon Sorbonne"},{"$f":"IF($O$5=\"Course 1\",Général!D$129,IF($O$5=\"Course 2\",Général!D$131,IF($O$5=\"Course 3\",Général!D$133,Général!#REF!)))","v":"AS Paris 1 Panthéon Sorbonne"},{"$f":"IF($P$5=\"Course 1\",Général!D$137,IF($P$5=\"Course 2\",Général!D$139,IF($P$5=\"Course 3\",Général!D$141,Général!#REF!)))","v":"ENSTA Bretagne 1"},{"$f":"IF($Q$5=\"Course 1\",Général!D$145,IF($Q$5=\"Course 2\",Général!D$147,IF($Q$5=\"Course 3\",Général!D$149,Général!#REF!)))","v":"IMT Atlantique Nantes 2"},{"$f":"IF($R$5=\"Course 1\",Général!D$153,IF($R$5=\"Course 2\",Général!D$155,IF($R$5=\"Course 3\",Général!D$157,Général!#REF!)))","v":"Centrales Nantes"},{"$f":"IF($S$5=\"Course 1\",Général!D$161,IF($S$5=\"Course 2\",Général!D$163,IF($S$5=\"Course 3\",Général!D$165,Général!#REF!)))","v":"UBO 1"},{"$f":"IF($T$5=\"Course 1\",Général!D$169,IF($T$5=\"Course 2\",Général!D$171,IF($T$5=\"Course 3\",Général!D$173,Général!#REF!)))","v":"AS UB St Brieuc"},null,{"$f":"Général!B12","v":"UNICAEN - ASSUCherbourg"},7]
["4ème Equipage",null,{"$f":"IF($C$5=\"Course 1\",Général!E33,IF($C$5=\"Course 2\",Général!E35,IF($C$5=\"Course 3\",Général!E37,Général!#REF!)))","v":"Dublin"},{"$f":"IF($D$5=\"Course 1\",Général!E41,IF($D$5=\"Course 2\",Général!E43,IF($D$5=\"Course 3\",Général!E45,Général!#REF!)))","v":"AS Paris 1 Panthéon Sorbonne"},{"$f":"IF($E$5=\"Course 1\",Général!E49,IF($E$5=\"Course 2\",Général!E51,IF($E$5=\"Course 3\",Général!E53,Général!#REF!)))","v":"UBO 2"},{"$f":"IF($F$5=\"Course 1\",Général!E$57,IF($F$5=\"Course 2\",Général!E$59,IF($F$5=\"Course 3\",Général!E$61,Général!#REF!)))","v":"UBS Lorient 1"},{"$f":"IF($G$5=\"Course 1\",Général!E$65,IF($G$5=\"Course 2\",Général!E$67,IF($G$5=\"Course 3\",Général!E$69,Général!#REF!)))","v":"UBS Lorient 1"},{"$f":"IF($H$5=\"Course 1\",Général!E$73,IF($H$5=\"Course 2\",Général!E$75,IF($H$5=\"Course 3\",Général!E$77,Général!#REF!)))","v":"HYDRO Sailing Team Le Havre"},{"$f":"IF($I$5=\"Course 1\",Général!E$81,IF($I$5=\"Course 2\",Général!E$83,IF($I$5=\"Course 3\",Général!E$85,Général!#REF!)))","v":"ENSTA Bretagne 1"},{"$f":"IF($J$5=\"Course 1\",Général!E$89,IF($J$5=\"Course 2\",Général!E$91,IF($J$5=\"Course 3\",Général!E$93,Général!#REF!)))","v":"Karlsruhe"},{"$f":"IF($K$5=\"Course 1\",Général!E$97,IF($K$5=\"Course 2\",Général!E$99,IF($K$5=\"Course 3\",Général!E$101,Général!#REF!)))","v":"Univ.Orléans"},{"$f":"IF($L$5=\"Course 1\",Général!E$105,IF($L$5=\"Course 2\",Général!E$107,IF($L$5=\"Course 3\",Général!E$109,Général!#REF!)))","v":"Univ. Nantes 1"},{"$f":"IF($M$5=\"Course 1\",Général!E$113,IF($M$5=\"Course 2\",Général!E$115,IF($M$5=\"Course 3\",Général!E$117,Général!#REF!)))","v":"ENSTA Paris"},{"$f":"IF($N$5=\"Course 1\",Général!E$121,IF($N$5=\"Course 2\",Général!E$123,IF($N$5=\"Course 3\",Général!E$125,Général!#REF!)))","v":"IMT Atlantique Nantes 2"},{"$f":"IF($O$5=\"Course 1\",Général!E$129,IF($O$5=\"Course 2\",Général!E$131,IF($O$5=\"Course 3\",Général!E$133,Général!#REF!)))","v":"IMT Atlantique Nantes 2"},{"$f":"IF($P$5=\"Course 1\",Général!E$137,IF($P$5=\"Course 2\",Général!E$139,IF($P$5=\"Course 3\",Général!E$141,Général!#REF!)))","v":"Hambourg"},{"$f":"IF($Q$5=\"Course 1\",Général!E$145,IF($Q$5=\"Course 2\",Général!E$147,IF($Q$5=\"Course 3\",Général!E$149,Général!#REF!)))","v":"UNICAEN - ASSUCherbourg"},{"$f":"IF($R$5=\"Course 1\",Général!E$153,IF($R$5=\"Course 2\",Général!E$155,IF($R$5=\"Course 3\",Général!E$157,Général!#REF!)))","v":"Univ. Nantes 2"},{"$f":"IF($S$5=\"Course 1\",Général!E$161,IF($S$5=\"Course 2\",Général!E$163,IF($S$5=\"Course 3\",Général!E$165,Général!#REF!)))","v":"Univ. Nantes 3"},{"$f":"IF($T$5=\"Course 1\",Général!E$169,IF($T$5=\"Course 2\",Général!E$171,IF($T$5=\"Course 3\",Général!E$173,Général!#REF!)))","v":"ASUL Lannion"},null,{"$f":"Général!B13","v":"UBO 1"},6]
["5ème Equipage",null,{"$f":"IF($C$5=\"Course 1\",Général!F33,IF($C$5=\"Course 2\",Général!F35,IF($C$5=\"Course 3\",Général!F37,Général!#REF!)))","v":"ENSTA Bretagne 2"},{"$f":"IF($D$5=\"Course 1\",Général!F41,IF($D$5=\"Course 2\",Général!F43,IF($D$5=\"Course 3\",Général!F45,Général!#REF!)))","v":"IMT Atlantique Brest"},{"$f":"IF($E$5=\"Course 1\",Général!F49,IF($E$5=\"Course 2\",Général!F51,IF($E$5=\"Course 3\",Général!F53,Général!#REF!)))","v":"IMT Atlantique Nantes 1"},{"$f":"IF($F$5=\"Course 1\",Général!F$57,IF($F$5=\"Course 2\",Général!F$59,IF($F$5=\"Course 3\",Général!F$61,Général!#REF!)))","v":"UNICAEN - ASSUCherbourg"},{"$f":"IF($G$5=\"Course 1\",Général!F$65,IF($G$5=\"Course 2\",Général!F$67,IF($G$5=\"Course 3\",Général!F$69,Général!#REF!)))","v":"Univ.Orléans"},{"$f":"IF($H$5=\"Course 1\",Général!F$73,IF($H$5=\"Course 2\",Général!F$75,IF($H$5=\"Course 3\",Général!F$77,Général!#REF!)))","v":"Univ. Nantes 3"},{"$f":"IF($I$5=\"Course 1\",Général!F$81,IF($I$5=\"Course 2\",Général!F$83,IF($I$5=\"Course 3\",Général!F$85,Général!#REF!)))","v":"ENSTA Paris"},{"$f":"IF($J$5=\"Course 1\",Général!F$89,IF($J$5=\"Course 2\",Général!F$91,IF($J$5=\"Course 3\",Général!F$93,Général!#REF!)))","v":"Univ. La Rochelle"},{"$f":"IF($K$5=\"Course 1\",Général!F$97,IF($K$5=\"Course 2\",Général!F$99,IF($K$5=\"Course 3\",Général!F$101,Général!#REF!)))","v":"IMT Atlantique Nantes 2"},{"$f":"IF($L$5=\"Course 1\",Général!F$105,IF($L$5=\"Course 2\",Général!$F107,IF($L$5=\"Course 3\",Général!F$109,Général!#REF!)))","v":"IMT Atlantique Nantes 2"},{"$f":"IF($M$5=\"Course 1\",Général!F$113,IF($M$5=\"Course 2\",Général!F$115,IF($M$5=\"Course 3\",Général!F$117,Général!#REF!)))","v":"UBS Lorient 1"},{"$f":"IF($N$5=\"Course 1\",Général!F$121,IF($N$5=\"Course 2\",Général!F$123,IF($N$5=\"Course 3\",Général!F$125,Général!#REF!)))","v":"ASUL Lannion"},{"$f":"IF($O$5=\"Course 1\",Général!F$129,IF($O$5=\"Course 2\",Général!F$131,IF($O$5=\"Course 3\",Général!F$133,Général!#REF!)))","v":"ASUL Lannion"},{"$f":"IF($P$5=\"Course 1\",Général!F$137,IF($P$5=\"Course 2\",Général!F$139,IF($P$5=\"Course 3\",Général!F$141,Général!#REF!)))","v":"UBO 1"},{"$f":"IF($Q$5=\"Course 1\",Général!F$145,IF($Q$5=\"Course 2\",Général!F$147,IF($Q$5=\"Course 3\",Général!F$149,Général!#REF!)))","v":"Univ.Orléans"},{"$f":"IF($R$5=\"Course 1\",Général!F$153,IF($R$5=\"Course 2\",Général!F$155,IF($R$5=\"Course 3\",Général!F$157,Général!#REF!)))","v":"ENSTA Paris"},{"$f":"IF($S$5=\"Course 1\",Général!F$161,IF($S$5=\"Course 2\",Général!F$163,IF($S$5=\"Course 3\",Général!F$165,Général!#REF!)))","v":"Univ. Nantes 1"},{"$f":"IF($T$5=\"Course 1\",Général!F$169,IF($T$5=\"Course 2\",Général!F$171,IF($T$5=\"Course 3\",Général!F$173,Général!#REF!)))","v":"Centrales Nantes"},null,{"$f":"Général!B14","v":"ENSTA Bretagne 1"},5]
["6ème Equipage",null,{"$f":"IF($C$5=\"Course 1\",Général!G33,IF($C$5=\"Course 2\",Général!G35,IF($C$5=\"Course 3\",Général!G37,Général!#REF!)))","v":"HYDRO Sailing Team Le Havre"},{"$f":"IF($D$5=\"Course 1\",Général!G41,IF($D$5=\"Course 2\",Général!G43,IF($D$5=\"Course 3\",Général!G45,Général!#REF!)))","v":"UBS Lorient 2"},{"$f":"IF($E$5=\"Course 1\",Général!G49,IF($E$5=\"Course 2\",Général!G51,IF($E$5=\"Course 3\",Général!G53,Général!#REF!)))","v":"Univ. Nantes 2"},{"$f":"IF($F$5=\"Course 1\",Général!G$57,IF($F$5=\"Course 2\",Général!G$59,IF($F$5=\"Course 3\",Général!G$61,Général!#REF!)))","v":"AS UB St Brieuc"},{"$f":"IF($G$5=\"Course 1\",Général!G$65,IF($G$5=\"Course 2\",Général!G$67,IF($G$5=\"Course 3\",Général!G$69,Général!#REF!)))","v":"Hannovre"},{"$f":"IF($H$5=\"Course 1\",Général!G$73,IF($H$5=\"Course 2\",Général!G$75,IF($H$5=\"Course 3\",Général!G$77,Général!#REF!)))","v":"AS UB St Brieuc"},{"$f":"IF($I$5=\"Course 1\",Général!G$81,IF($I$5=\"Course 2\",Général!G$83,IF($I$5=\"Course 3\",Général!G$85,Général!#REF!)))","v":"IMT Atlantique Nantes 2"},{"$f":"IF($J$5=\"Course 1\",Général!G$89,IF($J$5=\"Course 2\",Général!G$91,IF($J$5=\"Course 3\",Général!G$93,Général!#REF!)))","v":"IMT Atlantique Nantes 2"},{"$f":"IF($K$5=\"Course 1\",Général!G$97,IF($K$5=\"Course 2\",Général!G$99,IF($K$5=\"Course 3\",Général!G$101,Général!#REF!)))","v":"Karlsruhe"},{"$f":"IF($L$5=\"Course 1\",Général!G$105,IF($L$5=\"Course 2\",Général!G$107,IF($L$5=\"Course 3\",Général!G$109,Général!#REF!)))","v":"Univ. La Rochelle"},{"$f":"IF($M$5=\"Course 1\",Général!G$113,IF($M$5=\"Course 2\",Général!G$115,IF($M$5=\"Course 3\",Général!G$117,Général!#REF!)))","v":"Centrales Nantes"},{"$f":"IF($N$5=\"Course 1\",Général!G$121,IF($N$5=\"Course 2\",Général!G$123,IF($N$5=\"Course 3\",Général!G$125,Général!#REF!)))","v":"EGSI La Rochelle"},{"$f":"IF($O$5=\"Course 1\",Général!G$129,IF($O$5=\"Course 2\",Général!G$131,IF($O$5=\"Course 3\",Général!G$133,Général!#REF!)))","v":"IMT Atlantique Nantes 1"},{"$f":"IF($P$5=\"Course 1\",Général!G$137,IF($P$5=\"Course 2\",Général!G$139,IF($P$5=\"Course 3\",Général!G$141,Général!#REF!)))","v":"Univ. Nantes 3"},{"$f":"IF($Q$5=\"Course 1\",Général!G$145,IF($Q$5=\"Course 2\",Général!G$147,IF($Q$5=\"Course 3\",Général!G$149,Général!#REF!)))","v":"IMT Atlantique Nantes 1"},{"$f":"IF($R$5=\"Course 1\",Général!G$153,IF($R$5=\"Course 2\",Général!G$155,IF($R$5=\"Course 3\",Général!G$157,Général!#REF!)))","v":"Univ. La Rochelle"},{"$f":"IF($S$5=\"Course 1\",Général!G$161,IF($S$5=\"Course 2\",Général!G$163,IF($S$5=\"Course 3\",Général!G$165,Général!#REF!)))","v":"UBO 2"},{"$f":"IF($T$5=\"Course 1\",Général!G$169,IF($T$5=\"Course 2\",Général!G$171,IF($T$5=\"Course 3\",Général!G$173,Général!#REF!)))","v":"ENSTA Paris"},null,{"$f":"Général!B15","v":"ASUL Lannion"},6]
["7ème Equipage",null,{"$f":"IF($C$5=\"Course 1\",Général!H33,IF($C$5=\"Course 2\",Général!H35,IF($C$5=\"Course 3\",Général!H37,Général!#REF!)))","v":"UBO 2"},{"$f":"IF($D$5=\"Course 1\",Général!H41,IF($D$5=\"Course 2\",Général!H43,IF($D$5=\"Course 3\",Général!H45,Général!#REF!)))","v":"Hannovre"},{"$f":"IF($E$5=\"Course 1\",Général!H49,IF($E$5=\"Course 2\",Général!H51,IF($E$5=\"Course 3\",Général!H53,Général!#REF!)))","v":"UBO 1"},{"$f":"IF($F$5=\"Course 1\",Général!H$57,IF($F$5=\"Course 2\",Général!H$59,IF($F$5=\"Course 3\",Général!H$61,Général!#REF!)))","v":"Univ. Nantes 3"},{"$f":"IF($G$5=\"Course 1\",Général!H$65,IF($G$5=\"Course 2\",Général!H$67,IF($G$5=\"Course 3\",Général!H$69,Général!#REF!)))","v":"IMT Atlantique Nantes 2"},{"$f":"IF($H$5=\"Course 1\",Général!H$73,IF($H$5=\"Course 2\",Général!H$75,IF($H$5=\"Course 3\",Général!H$77,Général!#REF!)))","v":"IMT Atlantique Nantes 2"},{"$f":"IF($I$5=\"Course 1\",Général!H$81,IF($I$5=\"Course 2\",Général!H$83,IF($I$5=\"Course 3\",Général!H$85,Général!#REF!)))","v":"Univ. Nantes 1"},{"$f":"IF($J$5=\"Course 1\",Général!H$89,IF($J$5=\"Course 2\",Général!H$91,IF($J$5=\"Course 3\",Général!H$93,Général!#REF!)))","v":"IMT Atlantique Nantes 1"},{"$f":"IF($K$5=\"Course 1\",Général!H$97,IF($K$5=\"Course 2\",Général!H$99,IF($K$5=\"Course 3\",Général!H$101,Général!#REF!)))","v":"ENSTA Bretagne 2"},{"$f":"IF($L$5=\"Course 1\",Général!H$105,IF($L$5=\"Course 2\",Général!H$107,IF($L$5=\"Course 3\",Général!H$109,Général!#REF!)))","v":"ENSTA Bretagne 2"},{"$f":"IF($M$5=\"Course 1\",Général!H$113,IF($M$5=\"Course 2\",Général!H$115,IF($M$5=\"Course 3\",Général!H$117,Général!#REF!)))","v":"EGSI La Rochelle"},{"$f":"IF($N$5=\"Course 1\",Général!H$121,IF($N$5=\"Course 2\",Général!H$123,IF($N$5=\"Course 3\",Général!H$125,Général!#REF!)))","v":"UNICAEN - ASSUCherbourg"},{"$f":"IF($O$5=\"Course 1\",Général!H$129,IF($O$5=\"Course 2\",Général!H$131,IF($O$5=\"Course 3\",Général!H$133,Général!#REF!)))","v":"UBS Lorient 1"},{"$f":"IF($P$5=\"Course 1\",Général!H$137,IF($P$5=\"Course 2\",Général!H$139,IF($P$5=\"Course 3\",Général!H$141,Général!#REF!)))","v":"Univ.Orléans"},{"$f":"IF($Q$5=\"Course 1\",Général!H$145,IF($Q$5=\"Course 2\",Général!H$147,IF($Q$5=\"Course 3\",Général!H$149,Général!#REF!)))","v":"HYDRO Sailing Team Le Havre"},{"$f":"IF($R$5=\"Course 1\",Général!H$153,IF($R$5=\"Course 2\",Général!H$155,IF($R$5=\"Course 3\",Général!H$157,Général!#REF!)))","v":"Hannovre"},{"$f":"IF($S$5=\"Course 1\",Général!H$161,IF($S$5=\"Course 2\",Général!H$163,IF($S$5=\"Course 3\",Général!H$165,Général!#REF!)))","v":"UNICAEN - ASSUCherbourg"},{"$f":"IF($T$5=\"Course 1\",Général!H$169,IF($T$5=\"Course 2\",Général!H$171,IF($T$5=\"Course 3\",Général!H$173,Général!#REF!)))","v":"UNICAEN - ASSUCherbourg"},null,{"$f":"Général!B16","v":"ENSTA Paris"},7]
["8ème Equipage",null,{"$f":"IF($C$5=\"Course 1\",Général!I33,IF($C$5=\"Course 2\",Général!I35,IF($C$5=\"Course 3\",Général!I37,Général!#REF!)))","v":"ASUL Lannion"},{"$f":"IF($D$5=\"Course 1\",Général!I41,IF($D$5=\"Course 2\",Général!I43,IF($D$5=\"Course 3\",Général!I45,Général!#REF!)))","v":"Univ. Nantes 1"},{"$f":"IF($E$5=\"Course 1\",Général!I49,IF($E$5=\"Course 2\",Général!I51,IF($E$5=\"Course 3\",Général!I53,Général!#REF!)))","v":"EGSI La Rochelle"},{"$f":"IF($F$5=\"Course 1\",Général!I$57,IF($F$5=\"Course 2\",Général!I$59,IF($F$5=\"Course 3\",Général!I$61,Général!#REF!)))","v":"Southampton"},{"$f":"IF($G$5=\"Course 1\",Général!I$65,IF($G$5=\"Course 2\",Général!I$67,IF($G$5=\"Course 3\",Général!I$69,Général!#REF!)))","v":"Centrales Nantes"},{"$f":"IF($H$5=\"Course 1\",Général!I$73,IF($H$5=\"Course 2\",Général!I$75,IF($H$5=\"Course 3\",Général!I$77,Général!#REF!)))","v":"UNICAEN - ASSUCherbourg"},{"$f":"IF($I$5=\"Course 1\",Général!I$81,IF($I$5=\"Course 2\",Général!I$83,IF($I$5=\"Course 3\",Général!I$85,Général!#REF!)))","v":"Karlsruhe"},{"$f":"IF($J$5=\"Course 1\",Général!I$89,IF($J$5=\"Course 2\",Général!I$91,IF($J$5=\"Course 3\",Général!I$93,Général!#REF!)))","v":"UBS Lorient 1"},{"$f":"IF($K$5=\"Course 1\",Général!I$97,IF($K$5=\"Course 2\",Général!I$99,IF($K$5=\"Course 3\",Général!I$101,Général!#REF!)))","v":"Hannovre"},{"$f":"IF($L$5=\"Course 1\",Général!I$105,IF($L$5=\"Course 2\",Général!I$107,IF($L$5=\"Course 3\",Général!I$109,Général!#REF!)))","v":"IMT Atlantique Nantes 1"},{"$f":"IF($M$5=\"Course 1\",Général!I$113,IF($M$5=\"Course 2\",Général!I$115,IF($M$5=\"Course 3\",Général!I$117,Général!#REF!)))","v":"IMT Atlantique Nantes 2"},{"$f":"IF($N$5=\"Course 1\",Général!I$121,IF($N$5=\"Course 2\",Général!I$123,IF($N$5=\"Course 3\",Général!I$125,Général!#REF!)))","v":"UBO 2"},{"$f":"IF($O$5=\"Course 1\",Général!I$129,IF($O$5=\"Course 2\",Général!I$131,IF($O$5=\"Course 3\",Général!I$133,Général!#REF!)))","v":"UBO 2"},{"$f":"IF($P$5=\"Course 1\",Général!I$137,IF($P$5=\"Course 2\",Général!I$139,IF($P$5=\"Course 3\",Général!I$141,Général!#REF!)))","v":"AS Paris 1 Panthéon Sorbonne"},{"$f":"IF($Q$5=\"Course 1\",Général!I$145,IF($Q$5=\"Course 2\",Général!I$147,IF($Q$5=\"Course 3\",Général!I$149,Général!#REF!)))","v":"ENSTA Paris"},{"$f":"IF($R$5=\"Course 1\",Général!I$153,IF($R$5=\"Course 2\",Général!I$155,IF($R$5=\"Course 3\",Général!I$157,Général!#REF!)))","v":"ENSTA Bretagne 2"},{"$f":"IF($S$5=\"Course 1\",Général!I$161,IF($S$5=\"Course 2\",Général!I$163,IF($S$5=\"Course 3\",Général!I$165,Général!#REF!)))","v":"ENSTA Bretagne 1"},{"$f":"IF($T$5=\"Course 1\",Général!I$169,IF($T$5=\"Course 2\",Général!I$171,IF($T$5=\"Course 3\",Général!I$173,Général!#REF!)))","v":"UBS Lorient 2"},null,{"$f":"Général!B17","v":"IMT Atlantique Brest"},4]
["9ème Equipage",null,{"$f":"IF($C$5=\"Course 1\",Général!J33,IF($C$5=\"Course 2\",Général!J35,IF($C$5=\"Course 3\",Général!J37,Général!#REF!)))","v":"Southampton"},{"$f":"IF($D$5=\"Course 1\",Général!J41,IF($D$5=\"Course 2\",Général!J43,IF($D$5=\"Course 3\",Général!J45,Général!#REF!)))","v":"Hambourg"},{"$f":"IF($E$5=\"Course 1\",Général!J49,IF($E$5=\"Course 2\",Général!J51,IF($E$5=\"Course 3\",Général!J53,Général!#REF!)))","v":"Hambourg"},{"$f":"IF($F$5=\"Course 1\",Général!J$57,IF($F$5=\"Course 2\",Général!J$59,IF($F$5=\"Course 3\",Général!J$61,Général!#REF!)))","v":"IMT Atlantique Brest"},{"$f":"IF($G$5=\"Course 1\",Général!J$65,IF($G$5=\"Course 2\",Général!J$67,IF($G$5=\"Course 3\",Général!J$69,Général!#REF!)))","v":"ENSTA Paris"},{"$f":"IF($H$5=\"Course 1\",Général!J$73,IF($H$5=\"Course 2\",Général!J$75,IF($H$5=\"Course 3\",Général!$J77,Général!#REF!)))","v":"Dublin"},{"$f":"IF($I$5=\"Course 1\",Général!J$81,IF($I$5=\"Course 2\",Général!J$83,IF($I$5=\"Course 3\",Général!J$85,Général!#REF!)))","v":"Univ. Nantes 2"},{"$f":"IF($J$5=\"Course 1\",Général!J$89,IF($J$5=\"Course 2\",Général!J$91,IF($J$5=\"Course 3\",Général!J$93,Général!#REF!)))","v":"HYDRO Sailing Team Le Havre"},{"$f":"IF($K$5=\"Course 1\",Général!J$97,IF($K$5=\"Course 2\",Général!J$99,IF($K$5=\"Course 3\",Général!J$101,Général!#REF!)))","v":"UNICAEN - ASSUCherbourg"},{"$f":"IF($L$5=\"Course 1\",Général!J$105,IF($L$5=\"Course 2\",Général!J$107,IF($L$5=\"Course 3\",Général!J$109,Général!#REF!)))","v":"Dublin"},{"$f":"IF($M$5=\"Course 1\",Général!J$113,IF($M$5=\"Course 2\",Général!J$115,IF($M$5=\"Course 3\",Général!J$117,Général!#REF!)))","v":"UBS Lorient 2"},{"$f":"IF($N$5=\"Course 1\",Général!J$121,IF($N$5=\"Course 2\",Général!J$123,IF($N$5=\"Course 3\",Général!J$125,Général!#REF!)))","v":"ENSTA Bretagne 1"},{"$f":"IF($O$5=\"Course 1\",Général!J$129,IF($O$5=\"Course 2\",Général!J$131,IF($O$5=\"Course 3\",Général!J$133,Général!#REF!)))","v":"ENSTA Bretagne 2"},{"$f":"IF($P$5=\"Course 1\",Général!J$137,IF($P$5=\"Course 2\",Général!J$139,IF($P$5=\"Course 3\",Général!J$141,Général!#REF!)))","v":"IMT Atlantique Nantes 2"},{"$f":"IF($Q$5=\"Course 1\",Général!J$145,IF($Q$5=\"Course 2\",Général!J$147,IF($Q$5=\"Course 3\",Général!J$149,Général!#REF!)))","v":"UBO 2"},{"$f":"IF($R$5=\"Course 1\",Général!J$153,IF($R$5=\"Course 2\",Général!J$155,IF($R$5=\"Course 3\",Général!J$157,Général!#REF!)))","v":"EGSI La Rochelle"},{"$f":"IF($S$5=\"Course 1\",Général!J$161,IF($S$5=\"Course 2\",Général!J$163,IF($S$5=\"Course 3\",Général!J$165,Général!#REF!)))","v":"IMT Atlantique Nantes 2"},{"$f":"IF($T$5=\"Course 1\",Général!J$169,IF($T$5=\"Course 2\",Général!J$171,IF($T$5=\"Course 3\",Général!J$173,Général!#REF!)))","v":"Univ. La Rochelle"},null,{"$f":"Général!B18","v":"UBO 2"},6]
[null,null,null,null,null,null,null,null,null,null,null,null,null,null,null,null,null,null,null,null,null,{"$f":"Général!B19","v":"Dublin"},5]
[null,null,null,null,null,null,null,null,null,null,null,null,null,null,null,null,null,null,null,null,null,{"$f":"Général!B20","v":"Univ. Nantes 2"},5]
[null,null,null,null,null,null,null,null,null,null,null,null,null,null,null,null,null,null,null,null,null,{"$f":"Général!B21","v":"UBS Lorient 1"},6]
[null,null,null,null,null,null,null,null,null,null,null,null,null,null,null,null,null,null,null,null,null,{"$f":"Général!B22","v":"UBS Lorient 2"},6]
[null,null,null,null,null,null,null,null,null,null,null,null,null,null,null,null,null,null,null,null,null,{"$f":"Général!B23","v":"Univ.Orléans"},4]
[null,null,null,null,null,null,null,null,null,null,null,null,null,null,null,null,null,null,null,null,null,{"$f":"Général!B24","v":"Univ. La Rochelle"},5]
[null,null,null,null,null,null,null,null,null,null,null,null,null,null,null,null,null,null,null,null,null,{"$f":"Général!B25","v":"AS UB St Brieuc"},6]
[null,null,null,null,null,null,null,null,null,null,null,null,null,null,null,null,null,null,null,null,null,{"$f":"Général!B26","v":"Karlsruhe"},4]
[null,null,null,null,null,null,null,null,null,null,null,null,null,null,null,null,null,null,null,null,null,{"$f":"Général!B27","v":"Univ. Nantes 3"},7]
[null,null,null,null,null,null,null,null,null,null,null,null,null,null,null,null,null,null,null,null,null,{"$f":"Général!B28","v":"Centrales Nantes"},6]
[null,null,null,null,null,null,null,null,null,null,null,null,null,null,null,null,null,null,null,null,null,{"$f":"Général!B29","v":"Southampton"},6]
[null,null,null,null,null,null,null,null,null,null,null,null,null,null,null,null,null,null,null,null,null,{"$f":"Général!#REF!","v":{"$error":"#REF!"}},0]
[null,null,null,null,null,null,null,null,null,null,null,null,null,null,null,null,null,null,null,null,null,{"$f":"Général!#REF!","v":{"$error":"#REF!"}},0]
[null,null,null,null,null,null,null,null,null,null,null,null,null,null,null,null,null,null,null,null,null,{"$f":"Général!#REF!","v":{"$error":"#REF!"}},0]
[null,null,null,null,null,null,null,null,null,null,null,null,null,null,null,null,null,null,null,null,null,{"$f":"Général!#REF!","v":{"$error":"#REF!"}},0]
[null,null,null,null,null,null,null,null,null,null,null,null,null,null,null,null,null,null,null,null,null,{"$f":"Général!#REF!","v":{"$error":"#REF!"}},0]

{"sheet":"Eq.7","index":11,"n_rows":32,"n_cols":23,"rows_kept":32,"cut":false,"hidden":false,"merged":[[14,0,14,1],[15,0,15,1],[8,0,8,1],[9,0,9,1],[10,0,10,1],[11,0,11,1],[12,0,12,1],[13,0,13,1],[7,0,7,1],[0,0,1,5],[0,6,1,10],[3,0,3,1],[4,0,4,1],[5,0,5,1]]}
["Equipage ",null,null,null,null,null,{"$f":"Général!B9","v":"Hambourg"},null,null,null,null,null,null,null,null,null,null,null,null,null,null,{"$f":"Général!B3","v":"Univ. Nantes 1"},{"$f":"COUNTIF(C$8:T$16,V1)","v":7}]
[null,null,null,null,null,null,null,null,null,null,null,null,null,null,null,null,null,null,null,null,null,{"$f":"Général!B4","v":"AS Paris 1 Panthéon Sorbonne"},{"$f":"COUNTIF($C$8:$T$16,V2)","v":7}]
[null,null,null,null,null,null,null,null,null,null,null,null,null,null,null,null,null,null,null,null,null,{"$f":"Général!B5","v":"Hannovre"},{"$f":"COUNTIF($C$8:$T$16,V3)","v":6}]
[null,null,"FLIGHT 1","FLIGHT 2","FLIGHT 3","FLIGHT 4","FLIGHT 5","FLIGHT 6","FLIGHT 7","FLIGHT 8","FLIGHT 9","FLIGHT 10","FLIGHT 11","FLIGHT 12","FLIGHT 13","FLIGHT 14","FLIGHT 15","FLIGHT 16","FLIGHT 17","FLIGHT 18",null,{"$f":"Général!B6","v":"IMT Atlantique Nantes 1"},4]
["N° de course",null,{"$f":"IF(COUNTIF(Général!B33:J33,$G$1)=1,\"Course 1\",IF(COUNTIF(Général!B35:J35,$G$1)=1,\"Course 2\",IF(COUNTIF(Général!B37:J37,$G$1)=1,\"Course 3\",\"Course 4\")))","v":"Course 1"},{"$f":"IF(COUNTIF(Général!B41:J41,$G$1)=1,\"Course 1\",IF(COUNTIF(Général!B43:J43,$G$1)=1,\"Course 2\",IF(COUNTIF(Général!B45:J45,$G$1)=1,\"Course 3\",\"Course 4\")))","v":"Course 3"},{"$f":"IF(COUNTIF(Général!B49:J49,$G$1)=1,\"Course 1\",IF(COUNTIF(Général!B51:J51,$G$1)=1,\"Course 2\",IF(COUNTIF(Général!B53:J53,$G$1)=1,\"Course 3\",\"Course 4\")))","v":"Course 2"},{"$f":"IF(COUNTIF(Général!B57:J57,$G$1)=1,\"Course 1\",IF(COUNTIF(Général!B59:J59,$G$1)=1,\"Course 2\",IF(COUNTIF(Général!B61:J61,$G$1)=1,\"Course 3\",\"Course 4\")))","v":"Course 3"},{"$f":"IF(COUNTIF(Général!B65:J65,$G$1)=1,\"Course 1\",IF(COUNTIF(Général!B67:J67,$G$1)=1,\"Course 2\",IF(COUNTIF(Général!B69:J69,$G$1)=1,\"Course 3\",\"Course 4\")))","v":"Course 3"},{"$f":"IF(COUNTIF(Général!B73:J73,$G$1)=1,\"Course 1\",IF(COUNTIF(Général!B75:J75,$G$1)=1,\"Course 2\",IF(COUNTIF(Général!B77:J77,$G$1)=1,\"Course 3\",\"Course 4\")))","v":"Course 2"},{"$f":"IF(COUNTIF(Général!B81:J81,$G$1)=1,\"Course 1\",IF(COUNTIF(Général!B83:J83,$G$1)=1,\"Course 2\",IF(COUNTIF(Général!B85:J85,$G$1)=1,\"Course 3\",\"Course 4\")))","v":"Course 1"},{"$f":"IF(COUNTIF(Général!B89:J89,$G$1)=1,\"Course 1\",IF(COUNTIF(Général!B91:J91,$G$1)=1,\"Course 2\",IF(COUNTIF(Général!B93:J93,$G$1)=1,\"Course 3\",\"Course 4\")))","v":"Course 1"},{"$f":"IF(COUNTIF(Général!B97:J97,$G$1)=1,\"Course 1\",IF(COUNTIF(Général!B99:J99,$G$1)=1,\"Course 2\",IF(COUNTIF(Général!B101:J101,$G$1)=1,\"Course 3\",\"Course 4\")))","v":"Course 3"},{"$f":"IF(COUNTIF(Général!B105:J105,$G$1)=1,\"Course 1\",IF(COUNTIF(Général!B107:J107,$G$1)=1,\"Course 2\",IF(COUNTIF(Général!B109:J109,$G$1)=1,\"Course 3\",\"Course 4\")))","v":"Course 3"},{"$f":"IF(COUNTIF(Général!B113:J113,$G$1)=1,\"Course 1\",IF(COUNTIF(Général!B115:J115,$G$1)=1,\"Course 2\",IF(COUNTIF(Général!B117:J117,$G$1)=1,\"Course 3\",\"Course 4\")))","v":"Course 1"},{"$f":"IF(COUNTIF(Général!B121:J121,$G$1)=1,\"Course 1\",IF(COUNTIF(Général!B123:J123,$G$1)=1,\"Course 2\",IF(COUNTIF(Général!B125:J125,$G$1)=1,\"Course 3\",\"Course 4\")))","v":"Course 1"},{"$f":"IF(COUNTIF(Général!B129:J129,$G$1)=1,\"Course 1\",IF(COUNTIF(Général!B131:J131,$G$1)=1,\"Course 2\",IF(COUNTIF(Général!B133:J133,$G$1)=1,\"Course 3\",\"Course 4\")))","v":"Course 2"},{"$f":"IF(COUNTIF(Général!B137:J137,$G$1)=1,\"Course 1\",IF(COUNTIF(Général!B139:J139,$G$1)=1,\"Course 2\",IF(COUNTIF(Général!B141:J141,$G$1)=1,\"Course 3\",\"Course 4\")))","v":"Course 2"},{"$f":"IF(COUNTIF(Général!B145:J145,$G$1)=1,\"Course 1\",IF(COUNTIF(Général!B147:J147,$G$1)=1,\"Course 2\",IF(COUNTIF(Général!B149:J149,$G$1)=1,\"Course 3\",\"Course 4\")))","v":"Course 2"},{"$f":"IF(COUNTIF(Général!B153:J153,$G$1)=1,\"Course 1\",IF(COUNTIF(Général!B155:J155,$G$1)=1,\"Course 2\",IF(COUNTIF(Général!B157:J157,$G$1)=1,\"Course 3\",\"Course 4\")))","v":"Course 2"},{"$f":"IF(COUNTIF(Général!B161:J161,$G$1)=1,\"Course 1\",IF(COUNTIF(Général!B163:J163,$G$1)=1,\"Course 2\",IF(COUNTIF(Général!B165:J165,$G$1)=1,\"Course 3\",\"Course 4\")))","v":"Course 3"},{"$f":"IF(COUNTIF(Général!B169:J169,$G$1)=1,\"Course 1\",IF(COUNTIF(Général!B171:J171,$G$1)=1,\"Course 2\",IF(COUNTIF(Général!B173:J173,$G$1)=1,\"Course 3\",\"Course 4\")))","v":"Course 1"},null,{"$f":"Général!B7","v":"ENSTA Bretagne 2"},5]
["Bateau",null,{"$f":"IF(COUNTIF(Général!B33:B38,$G$1)=1,\"Boat 1\",IF(COUNTIF(Général!C33:C38,$G$1)=1,\"Boat 2\",IF(COUNTIF(Général!D33:D38,$G$1)=1,\"Boat 3\", IF(COUNTIF(Général!E33:E38,$G$1)=1,\"Boat 4\", IF(COUNTIF(Général!F33:F38,$G$1)=1,\"Boat 5\", IF(COUNTIF(Général!G33:G38,$G$1)=1,\"Boat 6\", IF(COUNTIF(Général!H33:H38,$G$1)=1,\"Boat 7\",IF(COUNTIF(Général!I33:I38,$G$1)=1,\"Boat 8\",\"Boat 9\"))))))))","v":"Boat 5"},{"$f":"IF(COUNTIF(Général!B41:B46,$G$1)=1,\"Boat 1\",IF(COUNTIF(Général!C41:C46,$G$1)=1,\"Boat 2\",IF(COUNTIF(Général!D41:D46,$G$1)=1,\"Boat 3\", IF(COUNTIF(Général!E41:E46,$G$1)=1,\"Boat 4\", IF(COUNTIF(Général!F41:F46,$G$1)=1,\"Boat 5\", IF(COUNTIF(Général!G41:G46,$G$1)=1,\"Boat 6\", IF(COUNTIF(Général!H41:H46,$G$1)=1,\"Boat 7\",IF(COUNTIF(Général!I33:I38,$G$1)=1,\"Boat 8\",\"Boat 9\"))))))))","v":"Boat 9"},{"$f":"IF(COUNTIF(Général!B49:B54,$G$1)=1,\"Boat 1\",IF(COUNTIF(Général!C49:C54,$G$1)=1,\"Boat 2\",IF(COUNTIF(Général!D49:D54,$G$1)=1,\"Boat 3\", IF(COUNTIF(Général!E49:E54,$G$1)=1,\"Boat 4\", IF(COUNTIF(Général!F49:F54,$G$1)=1,\"Boat 5\", IF(COUNTIF(Général!G49:G54,$G$1)=1,\"Boat 6\", IF(COUNTIF(Général!H49:H54,$G$1)=1,\"Boat 7\",IF(COUNTIF(Général!I33:I38,$G$1)=1,\"Boat 8\",\"Boat 9\"))))))))","v":"Boat 9"},{"$f":"IF(COUNTIF(Général!B57:B62,$G$1)=1,\"Boat 1\",IF(COUNTIF(Général!C57:C62,$G$1)=1,\"Boat 2\",IF(COUNTIF(Général!D57:D62,$G$1)=1,\"Boat 3\", IF(COUNTIF(Général!E57:E62,$G$1)=1,\"Boat 4\", IF(COUNTIF(Général!F57:F62,$G$1)=1,\"Boat 5\", IF(COUNTIF(Général!G57:G62,$G$1)=1,\"Boat 6\", IF(COUNTIF(Général!H57:H62,$G$1)=1,\"Boat 7\",IF(COUNTIF(Général!I33:I38,$G$1)=1,\"Boat 8\",\"Boat 9\"))))))))","v":"Boat 7"},{"$f":"IF(COUNTIF(Général!B65:B70,$G$1)=1,\"Boat 1\",IF(COUNTIF(Général!C65:C70,$G$1)=1,\"Boat 2\",IF(COUNTIF(Général!D65:D70,$G$1)=1,\"Boat 3\", IF(COUNTIF(Général!E65:E70,$G$1)=1,\"Boat 4\", IF(COUNTIF(Général!F65:F70,$G$1)=1,\"Boat 5\", IF(COUNTIF(Général!G65:G70,$G$1)=1,\"Boat 6\", IF(COUNTIF(Général!H65:H70,$G$1)=1,\"Boat 7\",IF(COUNTIF(Général!I33:I38,$G$1)=1,\"Boat 8\",\"Boat 9\"))))))))","v":"Boat 6"},{"$f":"IF(COUNTIF(Général!B73:B78,$G$1)=1,\"Boat 1\",IF(COUNTIF(Général!C73:C78,$G$1)=1,\"Boat 2\",IF(COUNTIF(Général!D73:D78,$G$1)=1,\"Boat 3\", IF(COUNTIF(Général!E73:E78,$G$1)=1,\"Boat 4\", IF(COUNTIF(Général!F73:F78,$G$1)=1,\"Boat 5\", IF(COUNTIF(Général!G73:G78,$G$1)=1,\"Boat 6\", IF(COUNTIF(Général!H73:H78,$G$1)=1,\"Boat 7\",IF(COUNTIF(Général!I33:I38,$G$1)=1,\"Boat 8\",\"Boat 9\"))))))))","v":"Boat 6"},{"$f":"IF(COUNTIF(Général!B81:B86,$G$1)=1,\"Boat 1\",IF(COUNTIF(Général!C81:C86,$G$1)=1,\"Boat 2\",IF(COUNTIF(Général!D81:D86,$G$1)=1,\"Boat 3\", IF(COUNTIF(Général!E81:E86,$G$1)=1,\"Boat 4\", IF(COUNTIF(Général!F81:F86,$G$1)=1,\"Boat 5\", IF(COUNTIF(Général!G81:G86,$G$1)=1,\"Boat 6\", IF(COUNTIF(Général!H81:H86,$G$1)=1,\"Boat 7\",IF(COUNTIF(Général!I33:I38,$G$1)=1,\"Boat 8\",\"Boat 9\"))))))))","v":"Boat 2"},{"$f":"IF(COUNTIF(Général!B89:B94,$G$1)=1,\"Boat 1\",IF(COUNTIF(Général!C89:C94,$G$1)=1,\"Boat 2\",IF(COUNTIF(Général!D89:D94,$G$1)=1,\"Boat 3\", IF(COUNTIF(Général!E89:E94,$G$1)=1,\"Boat 4\", IF(COUNTIF(Général!F89:F94,$G$1)=1,\"Boat 5\", IF(COUNTIF(Général!G89:G94,$G$1)=1,\"Boat 6\", IF(COUNTIF(Général!H89:H94,$G$1)=1,\"Boat 7\",IF(COUNTIF(Général!I33:I38,$G$1)=1,\"Boat 8\",\"Boat 9\"))))))))","v":"Boat 9"},{"$f":"IF(COUNTIF(Général!B97:B102,$G$1)=1,\"Boat 1\",IF(COUNTIF(Général!C97:C102,$G$1)=1,\"Boat 2\",IF(COUNTIF(Général!D97:D102,$G$1)=1,\"Boat 3\", IF(COUNTIF(Général!E97:E102,$G$1)=1,\"Boat 4\", IF(COUNTIF(Général!F97:F102,$G$1)=1,\"Boat 5\", IF(COUNTIF(Général!G97:G102,$G$1)=1,\"Boat 6\", IF(COUNTIF(Général!H97:H102,$G$1)=1,\"Boat 7\",IF(COUNTIF(Général!I33:I38,$G$1)=1,\"Boat 8\",\"Boat 9\"))))))))","v":"Boat 1"},{"$f":"IF(COUNTIF(Général!B105:B110,$G$1)=1,\"Boat 1\",IF(COUNTIF(Général!C105:C110,$G$1)=1,\"Boat 2\",IF(COUNTIF(Général!D105:D110,$G$1)=1,\"Boat 3\", IF(COUNTIF(Général!E105:E110,$G$1)=1,\"Boat 4\", IF(COUNTIF(Général!F105:F110,$G$1)=1,\"Boat 5\", IF(COUNTIF(Général!G105:G110,$G$1)=1,\"Boat 6\", IF(COUNTIF(Général!H105:H110,$G$1)=1,\"Boat 7\",IF(COUNTIF(Général!I33:I38,$G$1)=1,\"Boat 8\",\"Boat 9\"))))))))","v":"Boat 1"},{"$f":"IF(COUNTIF(Général!B113:B118,$G$1)=1,\"Boat 1\",IF(COUNTIF(Général!C113:C118,$G$1)=1,\"Boat 2\",IF(COUNTIF(Général!C113:D118,$G$1)=1,\"Boat 3\", IF(COUNTIF(Général!C113:E118,$G$1)=1,\"Boat 4\", IF(COUNTIF(Général!F113:F118,$G$1)=1,\"Boat 5\", IF(COUNTIF(Général!G113:G118,$G$1)=1,\"Boat 6\", IF(COUNTIF(Général!H113:H118,$G$1)=1,\"Boat 7\",IF(COUNTIF(Général!I33:I38,$G$1)=1,\"Boat 8\",\"Boat 9\"))))))))","v":"Boat 1"},{"$f":"IF(COUNTIF(Général!B121:B126,$G$1)=1,\"Boat 1\",IF(COUNTIF(Général!C121:C126,$G$1)=1,\"Boat 2\",IF(COUNTIF(Général!D121:D126,$G$1)=1,\"Boat 3\", IF(COUNTIF(Général!E121:E126,$G$1)=1,\"Boat 4\", IF(COUNTIF(Général!F121:F126,$G$1)=1,\"Boat 5\", IF(COUNTIF(Général!G121:G126,$G$1)=1,\"Boat 6\", IF(COUNTIF(Général!H121:H126,$G$1)=1,\"Boat 7\",IF(COUNTIF(Général!I33:I38,$G$1)=1,\"Boat 8\",\"Boat 9\"))))))))","v":"Boat 7"},{"$f":"IF(COUNTIF(Général!B129:B134,$G$1)=1,\"Boat 1\",IF(COUNTIF(Général!C129:C134,$G$1)=1,\"Boat 2\",IF(COUNTIF(Général!D131:D134,$G$1)=1,\"Boat 3\", IF(COUNTIF(Général!E129:E134,$G$1)=1,\"Boat 4\", IF(COUNTIF(Général!F129:F134,$G$1)=1,\"Boat 5\", IF(COUNTIF(Général!G129:G134,$G$1)=1,\"Boat 6\", IF(COUNTIF(Général!H129:H134,$G$1)=1,\"Boat 7\",IF(COUNTIF(Général!I33:I38,$G$1)=1,\"Boat 8\",\"Boat 9\"))))))))","v":"Boat 4"},{"$f":"IF(COUNTIF(Général!B137:B142,$G$1)=1,\"Boat 1\",IF(COUNTIF(Général!C137:C142,$G$1)=1,\"Boat 2\",IF(COUNTIF(Général!D137:D142,$G$1)=1,\"Boat 3\", IF(COUNTIF(Général!E137:E142,$G$1)=1,\"Boat 4\", IF(COUNTIF(Général!F145:F150,$G$1)=1,\"Boat 5\", IF(COUNTIF(Général!G145:G150,$G$1)=1,\"Boat 6\", IF(COUNTIF(Général!H145:H150,$G$1)=1,\"Boat 7\",IF(COUNTIF(Général!I33:I38,$G$1)=1,\"Boat 8\",\"Boat 9\"))))))))","v":"Boat 4"},{"$f":"IF(COUNTIF(Général!B145:B150,$G$1)=1,\"Boat 1\",IF(COUNTIF(Général!C145:C150,$G$1)=1,\"Boat 2\",IF(COUNTIF(Général!D145:D150,$G$1)=1,\"Boat 3\", IF(COUNTIF(Général!E145:E150,$G$1)=1,\"Boat 4\", IF(COUNTIF(Général!F145:F150,$G$1)=1,\"Boat 5\", IF(COUNTIF(Général!G145:G150,$G$1)=1,\"Boat 6\", IF(COUNTIF(Général!H145:H150,$G$1)=1,\"Boat 7\",IF(COUNTIF(Général!I33:I38,$G$1)=1,\"Boat 8\",\"Boat 9\"))))))))","v":"Boat 3"},{"$f":"IF(COUNTIF(Général!B153:B158,$G$1)=1,\"Boat 1\",IF(COUNTIF(Général!C153:C158,$G$1)=1,\"Boat 2\",IF(COUNTIF(Général!D153:D158,$G$1)=1,\"Boat 3\", IF(COUNTIF(Général!E153:E158,$G$1)=1,\"Boat 4\", IF(COUNTIF(Général!F153:F158,$G$1)=1,\"Boat 5\", IF(COUNTIF(Général!G153:G158,$G$1)=1,\"Boat 6\", IF(COUNTIF(Général!H153:H158,$G$1)=1,\"Boat 7\",IF(COUNTIF(Général!I33:I38,$G$1)=1,\"Boat 8\",\"Boat 9\"))))))))","v":"Boat 9"},{"$f":"IF(COUNTIF(Général!B161:B166,$G$1)=1,\"Boat 1\",IF(COUNTIF(Général!C161:C166,$G$1)=1,\"Boat 2\",IF(COUNTIF(Général!D161:D166,$G$1)=1,\"Boat 3\", IF(COUNTIF(Général!E161:E166,$G$1)=1,\"Boat 4\", IF(COUNTIF(Général!F161:F166,$G$1)=1,\"Boat 5\", IF(COUNTIF(Général!G161:G166,$G$1)=1,\"Boat 6\", IF(COUNTIF(Général!H161:H166,$G$1)=1,\"Boat 7\",IF(COUNTIF(Général!I33:I38,$G$1)=1,\"Boat 8\",\"Boat 9\"))))))))","v":"Boat 2"},{"$f":"IF(COUNTIF(Général!B169:B174,$G$1)=1,\"Boat 1\",IF(COUNTIF(Général!C169:C174,$G$1)=1,\"Boat 2\",IF(COUNTIF(Général!D169:D174,$G$1)=1,\"Boat 3\", IF(COUNTIF(Général!E169:E174,$G$1)=1,\"Boat 4\", IF(COUNTIF(Général!F169:F174,$G$1)=1,\"Boat 5\", IF(COUNTIF(Général!G169:G174,$G$1)=1,\"Boat 6\", IF(COUNTIF(Général!H169:H174,$G$1)=1,\"Boat 7\",IF(COUNTIF(Général!I33:I38,$G$1)=1,\"Boat 8\",\"Boat 9\"))))))))","v":"Boat 2"},null,{"$f":"Général!B8","v":"IMT Atlantique Nantes 2"},6]
[null,null,null,null,null,null,null,null,null,null,null,null,null,null,null,null,null,null,null,null,null,{"$f":"Général!B9","v":"Hambourg"},18]
["1er Equipage",null,{"$f":"IF($C$5=\"Course 1\",Général!B33,IF($C$5=\"Course 2\",Général!B35,IF($C$5=\"Course 3\",Général!B37,Général!#REF!)))","v":"ENSTA Paris"},{"$f":"IF($D$5=\"Course 1\",Général!B41,IF($D$5=\"Course 2\",Général!B43,IF($D$5=\"Course 3\",Général!B45,Général!#REF!)))","v":"Univ. Nantes 2"},{"$f":"IF($E$5=\"Course 1\",Général!B49,IF($E$5=\"Course 2\",Général!B51,IF($E$5=\"Course 3\",Général!B53,Général!#REF!)))","v":"IMT Atlantique Nantes 2"},{"$f":"IF($F$5=\"Course 1\",Général!B$57,IF($F$5=\"Course 2\",Général!B$59,IF($F$5=\"Course 3\",Général!B$61,Général!#REF!)))","v":"Univ. La Rochelle"},{"$f":"IF($G$5=\"Course 1\",Général!B$65,IF($G$5=\"Course 2\",Général!B$67,IF($G$5=\"Course 3\",Général!B$69,Général!#REF!)))","v":"ENSTA Bretagne 2"},{"$f":"IF($H$5=\"Course 1\",Général!B$73,IF($H$5=\"Course 2\",Général!B$75,IF($H$5=\"Course 3\",Général!B$77,Général!#REF!)))","v":"IMT Atlantique Brest"},{"$f":"IF($I$5=\"Course 1\",Général!B$81,IF($I$5=\"Course 2\",Général!B$83,IF($I$5=\"Course 3\",Général!B$85,Général!#REF!)))","v":"Dublin"},{"$f":"IF($J$5=\"Course 1\",Général!B$89,IF($J$5=\"Course 2\",Général!B$91,IF($J$5=\"Course 3\",Général!B$93,Général!#REF!)))","v":"Dublin"},{"$f":"IF($K$5=\"Course 1\",Général!B$97,IF($K$5=\"Course 2\",Général!B$99,IF($K$5=\"Course 3\",Général!B$101,Général!#REF!)))","v":"Hambourg"},{"$f":"IF($L$5=\"Course 1\",Général!B$105,IF($L$5=\"Course 2\",Général!B$107,IF($L$5=\"Course 3\",Général!B$109,Général!#REF!)))","v":"Hambourg"},{"$f":"IF($M$5=\"Course 1\",Général!B$113,IF($M$5=\"Course 2\",Général!B$115,IF($M$5=\"Course 3\",Général!B$117,Général!#REF!)))","v":"Hambourg"},{"$f":"IF($N$5=\"Course 1\",Général!B$121,IF($N$5=\"Course 2\",Général!B$123,IF($N$5=\"Course 3\",Général!B$125,Général!#REF!)))","v":"Karlsruhe"},{"$f":"IF($O$5=\"Course 1\",Général!B$129,IF($O$5=\"Course 2\",Général!B$131,IF($O$5=\"Course 3\",Général!B$133,Général!#REF!)))","v":"Southampton"},{"$f":"IF($P$5=\"Course 1\",Général!B$137,IF($P$5=\"Course 2\",Général!B$139,IF($P$5=\"Course 3\",Général!B$141,Général!#REF!)))","v":"Southampton"},{"$f":"IF($Q$5=\"Course 1\",Général!B$145,IF($Q$5=\"Course 2\",Général!B$147,IF($Q$5=\"Course 3\",Général!B$149,Général!#REF!)))","v":"EGSI La Rochelle"},{"$f":"IF($R$5=\"Course 1\",Général!B$153,IF($R$5=\"Course 2\",Général!B$155,IF($R$5=\"Course 3\",Général!B$157,Général!#REF!)))","v":"Dublin"},{"$f":"IF($S$5=\"Course 1\",Général!B$161,IF($S$5=\"Course 2\",Général!B$163,IF($S$5=\"Course 3\",Général!B$165,Général!#REF!)))","v":"UBS Lorient 2"},{"$f":"IF($T$5=\"Course 1\",Général!B$169,IF($T$5=\"Course 2\",Général!B$171,IF($T$5=\"Course 3\",Général!B$173,Général!#REF!)))","v":"HYDRO Sailing Team Le Havre"},null,{"$f":"Général!B10","v":"EGSI La Rochelle"},5]
["2nd Equipage",null,{"$f":"IF($C$5=\"Course 1\",Général!C33,IF($C$5=\"Course 2\",Général!C35,IF($C$5=\"Course 3\",Général!C37,Général!#REF!)))","v":"Univ. Nantes 2"},{"$f":"IF($D$5=\"Course 1\",Général!C41,IF($D$5=\"Course 2\",Général!C43,IF($D$5=\"Course 3\",Général!C45,Général!#REF!)))","v":"IMT Atlantique Nantes 2"},{"$f":"IF($E$5=\"Course 1\",Général!C49,IF($E$5=\"Course 2\",Général!C51,IF($E$5=\"Course 3\",Général!C53,Général!#REF!)))","v":"Karlsruhe"},{"$f":"IF($F$5=\"Course 1\",Général!C$57,IF($F$5=\"Course 2\",Général!C$59,IF($F$5=\"Course 3\",Général!C$61,Général!#REF!)))","v":"ENSTA Bretagne 2"},{"$f":"IF($G$5=\"Course 1\",Général!C$65,IF($G$5=\"Course 2\",Général!C$67,IF($G$5=\"Course 3\",Général!C$69,Général!#REF!)))","v":"IMT Atlantique Nantes 1"},{"$f":"IF($H$5=\"Course 1\",Général!C$73,IF($H$5=\"Course 2\",Général!C$75,IF($H$5=\"Course 3\",Général!C$77,Général!#REF!)))","v":"ASUL Lannion"},{"$f":"IF($I$5=\"Course 1\",Général!C$81,IF($I$5=\"Course 2\",Général!C$83,IF($I$5=\"Course 3\",Général!C$85,Général!#REF!)))","v":"Hambourg"},{"$f":"IF($J$5=\"Course 1\",Général!C$89,IF($J$5=\"Course 2\",Général!C$91,IF($J$5=\"Course 3\",Général!C$93,Général!#REF!)))","v":"Univ.Orléans"},{"$f":"IF($K$5=\"Course 1\",Général!C$97,IF($K$5=\"Course 2\",Général!C$99,IF($K$5=\"Course 3\",Général!C$101,Général!#REF!)))","v":"EGSI La Rochelle"},{"$f":"IF($L$5=\"Course 1\",Général!C$105,IF($L$5=\"Course 2\",Général!C$107,IF($L$5=\"Course 3\",Général!C$109,Général!#REF!)))","v":"UBO 1"},{"$f":"IF($M$5=\"Course 1\",Général!C$113,IF($M$5=\"Course 2\",Général!C$115,IF($M$5=\"Course 3\",Général!C$117,Général!#REF!)))","v":"Univ. Nantes 3"},{"$f":"IF($N$5=\"Course 1\",Général!C$121,IF($N$5=\"Course 2\",Général!C$123,IF($N$5=\"Course 3\",Général!C$125,Général!#REF!)))","v":"HYDRO Sailing Team Le Havre"},{"$f":"IF($O$5=\"Course 1\",Général!C$129,IF($O$5=\"Course 2\",Général!C$131,IF($O$5=\"Course 3\",Général!C$133,Général!#REF!)))","v":"HYDRO Sailing Team Le Havre"},{"$f":"IF($P$5=\"Course 1\",Général!C$137,IF($P$5=\"Course 2\",Général!C$139,IF($P$5=\"Course 3\",Général!C$141,Général!#REF!)))","v":"Centrales Nantes"},{"$f":"IF($Q$5=\"Course 1\",Général!C$145,IF($Q$5=\"Course 2\",Général!C$147,IF($Q$5=\"Course 3\",Général!C$149,Général!#REF!)))","v":"IMT Atlantique Brest"},{"$f":"IF($R$5=\"Course 1\",Général!C$153,IF($R$5=\"Course 2\",Général!C$155,IF($R$5=\"Course 3\",Général!C$157,Général!#REF!)))","v":"Univ. Nantes 1"},{"$f":"IF($S$5=\"Course 1\",Général!C$161,IF($S$5=\"Course 2\",Général!C$163,IF($S$5=\"Course 3\",Général!C$165,Général!#REF!)))","v":"Hambourg"},{"$f":"IF($T$5=\"Course 1\",Général!C$169,IF($T$5=\"Course 2\",Général!C$171,IF($T$5=\"Course 3\",Général!C$173,Général!#REF!)))","v":"Hambourg"},null,{"$f":"Général!B11","v":"HYDRO Sailing Team Le Havre"},5]
["3ème Equipage",null,{"$f":"IF($C$5=\"Course 1\",Général!D33,IF($C$5=\"Course 2\",Général!D35,IF($C$5=\"Course 3\",Général!D37,Général!#REF!)))","v":"IMT Atlantique Nantes 1"},{"$f":"IF($D$5=\"Course 1\",Général!D41,IF($D$5=\"Course 2\",Général!D43,IF($D$5=\"Course 3\",Général!D45,Général!#REF!)))","v":"HYDRO Sailing Team Le Havre"},{"$f":"IF($E$5=\"Course 1\",Général!D49,IF($E$5=\"Course 2\",Général!D51,IF($E$5=\"Course 3\",Général!D53,Général!#REF!)))","v":"Dublin"},{"$f":"IF($F$5=\"Course 1\",Général!D$57,IF($F$5=\"Course 2\",Général!D$59,IF($F$5=\"Course 3\",Général!D$61,Général!#REF!)))","v":"UBO 1"},{"$f":"IF($G$5=\"Course 1\",Général!D$65,IF($G$5=\"Course 2\",Général!D$67,IF($G$5=\"Course 3\",Général!D$69,Général!#REF!)))","v":"Univ. La Rochelle"},{"$f":"IF($H$5=\"Course 1\",Général!D$73,IF($H$5=\"Course 2\",Général!D$75,IF($H$5=\"Course 3\",Général!D$77,Général!#REF!)))","v":"Centrales Nantes"},{"$f":"IF($I$5=\"Course 1\",Général!D$81,IF($I$5=\"Course 2\",Général!D$83,IF($I$5=\"Course 3\",Général!D$85,Général!#REF!)))","v":"Univ.Orléans"},{"$f":"IF($J$5=\"Course 1\",Général!D$89,IF($J$5=\"Course 2\",Général!D$91,IF($J$5=\"Course 3\",Général!D$93,Général!#REF!)))","v":"ASUL Lannion"},{"$f":"IF($K$5=\"Course 1\",Général!D$97,IF($K$5=\"Course 2\",Général!D$99,IF($K$5=\"Course 3\",Général!D$101,Général!#REF!)))","v":"Southampton"},{"$f":"IF($L$5=\"Course 1\",Général!D$105,IF($L$5=\"Course 2\",Général!D$107,IF($L$5=\"Course 3\",Général!D$109,Général!#REF!)))","v":"UNICAEN - ASSUCherbourg"},{"$f":"IF($M$5=\"Course 1\",Général!D$113,IF($M$5=\"Course 2\",Général!D$115,IF($M$5=\"Course 3\",Général!D$117,Général!#REF!)))","v":"AS UB St Brieuc"},{"$f":"IF($N$5=\"Course 1\",Général!D$121,IF($N$5=\"Course 2\",Général!D$123,IF($N$5=\"Course 3\",Général!D$125,Général!#REF!)))","v":"AS UB St Brieuc"},{"$f":"IF($O$5=\"Course 1\",Général!D$129,IF($O$5=\"Course 2\",Général!D$131,IF($O$5=\"Course 3\",Général!D$133,Général!#REF!)))","v":"EGSI La Rochelle"},{"$f":"IF($P$5=\"Course 1\",Général!D$137,IF($P$5=\"Course 2\",Général!D$139,IF($P$5=\"Course 3\",Général!D$141,Général!#REF!)))","v":"ENSTA Bretagne 1"},{"$f":"IF($Q$5=\"Course 1\",Général!D$145,IF($Q$5=\"Course 2\",Général!D$147,IF($Q$5=\"Course 3\",Général!D$149,Général!#REF!)))","v":"Hambourg"},{"$f":"IF($R$5=\"Course 1\",Général!D$153,IF($R$5=\"Course 2\",Général!D$155,IF($R$5=\"Course 3\",Général!D$157,Général!#REF!)))","v":"UBO 2"},{"$f":"IF($S$5=\"Course 1\",Général!D$161,IF($S$5=\"Course 2\",Général!D$163,IF($S$5=\"Course 3\",Général!D$165,Général!#REF!)))","v":"UBO 1"},{"$f":"IF($T$5=\"Course 1\",Général!D$169,IF($T$5=\"Course 2\",Général!D$171,IF($T$5=\"Course 3\",Général!D$173,Général!#REF!)))","v":"AS Paris 1 Panthéon Sorbonne"},null,{"$f":"Général!B12","v":"UNICAEN - ASSUCherbourg"},6]
["4ème Equipage",null,{"$f":"IF($C$5=\"Course 1\",Général!E33,IF($C$5=\"Course 2\",Général!E35,IF($C$5=\"Course 3\",Général!E37,Général!#REF!)))","v":"AS Paris 1 Panthéon Sorbonne"},{"$f":"IF($D$5=\"Course 1\",Général!E41,IF($D$5=\"Course 2\",Général!E43,IF($D$5=\"Course 3\",Général!E45,Général!#REF!)))","v":"AS Paris 1 Panthéon Sorbonne"},{"$f":"IF($E$5=\"Course 1\",Général!E49,IF($E$5=\"Course 2\",Général!E51,IF($E$5=\"Course 3\",Général!E53,Général!#REF!)))","v":"UBO 2"},{"$f":"IF($F$5=\"Course 1\",Général!E$57,IF($F$5=\"Course 2\",Général!E$59,IF($F$5=\"Course 3\",Général!E$61,Général!#REF!)))","v":"UBO 2"},{"$f":"IF($G$5=\"Course 1\",Général!E$65,IF($G$5=\"Course 2\",Général!E$67,IF($G$5=\"Course 3\",Général!E$69,Général!#REF!)))","v":"ASUL Lannion"},{"$f":"IF($H$5=\"Course 1\",Général!E$73,IF($H$5=\"Course 2\",Général!E$75,IF($H$5=\"Course 3\",Général!E$77,Général!#REF!)))","v":"Hannovre"},{"$f":"IF($I$5=\"Course 1\",Général!E$81,IF($I$5=\"Course 2\",Général!E$83,IF($I$5=\"Course 3\",Général!E$85,Général!#REF!)))","v":"Hannovre"},{"$f":"IF($J$5=\"Course 1\",Général!E$89,IF($J$5=\"Course 2\",Général!E$91,IF($J$5=\"Course 3\",Général!E$93,Général!#REF!)))","v":"ENSTA Bretagne 1"},{"$f":"IF($K$5=\"Course 1\",Général!E$97,IF($K$5=\"Course 2\",Général!E$99,IF($K$5=\"Course 3\",Général!E$101,Général!#REF!)))","v":"Univ.Orléans"},{"$f":"IF($L$5=\"Course 1\",Général!E$105,IF($L$5=\"Course 2\",Général!E$107,IF($L$5=\"Course 3\",Général!E$109,Général!#REF!)))","v":"ENSTA Paris"},{"$f":"IF($M$5=\"Course 1\",Général!E$113,IF($M$5=\"Course 2\",Général!E$115,IF($M$5=\"Course 3\",Général!E$117,Général!#REF!)))","v":"ENSTA Paris"},{"$f":"IF($N$5=\"Course 1\",Général!E$121,IF($N$5=\"Course 2\",Général!E$123,IF($N$5=\"Course 3\",Général!E$125,Général!#REF!)))","v":"ENSTA Bretagne 2"},{"$f":"IF($O$5=\"Course 1\",Général!E$129,IF($O$5=\"Course 2\",Général!E$131,IF($O$5=\"Course 3\",Général!E$133,Général!#REF!)))","v":"Hambourg"},{"$f":"IF($P$5=\"Course 1\",Général!E$137,IF($P$5=\"Course 2\",Général!E$139,IF($P$5=\"Course 3\",Général!E$141,Général!#REF!)))","v":"Hambourg"},{"$f":"IF($Q$5=\"Course 1\",Général!E$145,IF($Q$5=\"Course 2\",Général!E$147,IF($Q$5=\"Course 3\",Général!E$149,Général!#REF!)))","v":"Centrales Nantes"},{"$f":"IF($R$5=\"Course 1\",Général!E$153,IF($R$5=\"Course 2\",Général!E$155,IF($R$5=\"Course 3\",Général!E$157,Général!#REF!)))","v":"UNICAEN - ASSUCherbourg"},{"$f":"IF($S$5=\"Course 1\",Général!E$161,IF($S$5=\"Course 2\",Général!E$163,IF($S$5=\"Course 3\",Général!E$165,Général!#REF!)))","v":"Univ. Nantes 3"},{"$f":"IF($T$5=\"Course 1\",Général!E$169,IF($T$5=\"Course 2\",Général!E$171,IF($T$5=\"Course 3\",Général!E$173,Général!#REF!)))","v":"IMT Atlantique Brest"},null,{"$f":"Général!B13","v":"UBO 1"},7]
["5ème Equipage",null,{"$f":"IF($C$5=\"Course 1\",Général!F33,IF($C$5=\"Course 2\",Général!F35,IF($C$5=\"Course 3\",Général!F37,Général!#REF!)))","v":"Hambourg"},{"$f":"IF($D$5=\"Course 1\",Général!F41,IF($D$5=\"Course 2\",Général!F43,IF($D$5=\"Course 3\",Général!F45,Général!#REF!)))","v":"IMT Atlantique Brest"},{"$f":"IF($E$5=\"Course 1\",Général!F49,IF($E$5=\"Course 2\",Général!F51,IF($E$5=\"Course 3\",Général!F53,Général!#REF!)))","v":"IMT Atlantique Nantes 1"},{"$f":"IF($F$5=\"Course 1\",Général!F$57,IF($F$5=\"Course 2\",Général!F$59,IF($F$5=\"Course 3\",Général!F$61,Général!#REF!)))","v":"ENSTA Bretagne 1"},{"$f":"IF($G$5=\"Course 1\",Général!F$65,IF($G$5=\"Course 2\",Général!F$67,IF($G$5=\"Course 3\",Général!F$69,Général!#REF!)))","v":"Univ. Nantes 3"},{"$f":"IF($H$5=\"Course 1\",Général!F$73,IF($H$5=\"Course 2\",Général!F$75,IF($H$5=\"Course 3\",Général!F$77,Général!#REF!)))","v":"UBO 2"},{"$f":"IF($I$5=\"Course 1\",Général!F$81,IF($I$5=\"Course 2\",Général!F$83,IF($I$5=\"Course 3\",Général!F$85,Général!#REF!)))","v":"UBO 2"},{"$f":"IF($J$5=\"Course 1\",Général!F$89,IF($J$5=\"Course 2\",Général!F$91,IF($J$5=\"Course 3\",Général!F$93,Général!#REF!)))","v":"AS UB St Brieuc"},{"$f":"IF($K$5=\"Course 1\",Général!F$97,IF($K$5=\"Course 2\",Général!F$99,IF($K$5=\"Course 3\",Général!F$101,Général!#REF!)))","v":"IMT Atlantique Nantes 2"},{"$f":"IF($L$5=\"Course 1\",Général!F$105,IF($L$5=\"Course 2\",Général!$F107,IF($L$5=\"Course 3\",Général!F$109,Général!#REF!)))","v":"UBS Lorient 1"},{"$f":"IF($M$5=\"Course 1\",Général!F$113,IF($M$5=\"Course 2\",Général!F$115,IF($M$5=\"Course 3\",Général!F$117,Général!#REF!)))","v":"UBS Lorient 1"},{"$f":"IF($N$5=\"Course 1\",Général!F$121,IF($N$5=\"Course 2\",Général!F$123,IF($N$5=\"Course 3\",Général!F$125,Général!#REF!)))","v":"Univ. Nantes 3"},{"$f":"IF($O$5=\"Course 1\",Général!F$129,IF($O$5=\"Course 2\",Général!F$131,IF($O$5=\"Course 3\",Général!F$133,Général!#REF!)))","v":"Univ. Nantes 1"},{"$f":"IF($P$5=\"Course 1\",Général!F$137,IF($P$5=\"Course 2\",Général!F$139,IF($P$5=\"Course 3\",Général!F$141,Général!#REF!)))","v":"UBO 1"},{"$f":"IF($Q$5=\"Course 1\",Général!F$145,IF($Q$5=\"Course 2\",Général!F$147,IF($Q$5=\"Course 3\",Général!F$149,Général!#REF!)))","v":"Univ. La Rochelle"},{"$f":"IF($R$5=\"Course 1\",Général!F$153,IF($R$5=\"Course 2\",Général!F$155,IF($R$5=\"Course 3\",Général!F$157,Général!#REF!)))","v":"UBO 1"},{"$f":"IF($S$5=\"Course 1\",Général!F$161,IF($S$5=\"Course 2\",Général!F$163,IF($S$5=\"Course 3\",Général!F$165,Général!#REF!)))","v":"Univ. Nantes 1"},{"$f":"IF($T$5=\"Course 1\",Général!F$169,IF($T$5=\"Course 2\",Général!F$171,IF($T$5=\"Course 3\",Général!F$173,Général!#REF!)))","v":"Univ. Nantes 1"},null,{"$f":"Général!B14","v":"ENSTA Bretagne 1"},6]
["6ème Equipage",null,{"$f":"IF($C$5=\"Course 1\",Général!G33,IF($C$5=\"Course 2\",Général!G35,IF($C$5=\"Course 3\",Général!G37,Général!#REF!)))","v":"UNICAEN - ASSUCherbourg"},{"$f":"IF($D$5=\"Course 1\",Général!G41,IF($D$5=\"Course 2\",Général!G43,IF($D$5=\"Course 3\",Général!G45,Général!#REF!)))","v":"UBS Lorient 2"},{"$f":"IF($E$5=\"Course 1\",Général!G49,IF($E$5=\"Course 2\",Général!G51,IF($E$5=\"Course 3\",Général!G53,Général!#REF!)))","v":"Univ. Nantes 2"},{"$f":"IF($F$5=\"Course 1\",Général!G$57,IF($F$5=\"Course 2\",Général!G$59,IF($F$5=\"Course 3\",Général!G$61,Général!#REF!)))","v":"Hannovre"},{"$f":"IF($G$5=\"Course 1\",Général!G$65,IF($G$5=\"Course 2\",Général!G$67,IF($G$5=\"Course 3\",Général!G$69,Général!#REF!)))","v":"Hambourg"},{"$f":"IF($H$5=\"Course 1\",Général!G$73,IF($H$5=\"Course 2\",Général!G$75,IF($H$5=\"Course 3\",Général!G$77,Général!#REF!)))","v":"Hambourg"},{"$f":"IF($I$5=\"Course 1\",Général!G$81,IF($I$5=\"Course 2\",Général!G$83,IF($I$5=\"Course 3\",Général!G$85,Général!#REF!)))","v":"UBS Lorient 1"},{"$f":"IF($J$5=\"Course 1\",Général!G$89,IF($J$5=\"Course 2\",Général!G$91,IF($J$5=\"Course 3\",Général!G$93,Général!#REF!)))","v":"ENSTA Bretagne 2"},{"$f":"IF($K$5=\"Course 1\",Général!G$97,IF($K$5=\"Course 2\",Général!G$99,IF($K$5=\"Course 3\",Général!G$101,Général!#REF!)))","v":"Karlsruhe"},{"$f":"IF($L$5=\"Course 1\",Général!G$105,IF($L$5=\"Course 2\",Général!G$107,IF($L$5=\"Course 3\",Général!G$109,Général!#REF!)))","v":"ASUL Lannion"},{"$f":"IF($M$5=\"Course 1\",Général!G$113,IF($M$5=\"Course 2\",Général!G$115,IF($M$5=\"Course 3\",Général!G$117,Général!#REF!)))","v":"Centrales Nantes"},{"$f":"IF($N$5=\"Course 1\",Général!G$121,IF($N$5=\"Course 2\",Général!G$123,IF($N$5=\"Course 3\",Général!G$125,Général!#REF!)))","v":"Univ. Nantes 1"},{"$f":"IF($O$5=\"Course 1\",Général!G$129,IF($O$5=\"Course 2\",Général!G$131,IF($O$5=\"Course 3\",Général!G$133,Général!#REF!)))","v":"IMT Atlantique Brest"},{"$f":"IF($P$5=\"Course 1\",Général!G$137,IF($P$5=\"Course 2\",Général!G$139,IF($P$5=\"Course 3\",Général!G$141,Général!#REF!)))","v":"Univ. Nantes 3"},{"$f":"IF($Q$5=\"Course 1\",Général!G$145,IF($Q$5=\"Course 2\",Général!G$147,IF($Q$5=\"Course 3\",Général!G$149,Général!#REF!)))","v":"Dublin"},{"$f":"IF($R$5=\"Course 1\",Général!G$153,IF($R$5=\"Course 2\",Général!G$155,IF($R$5=\"Course 3\",Général!G$157,Général!#REF!)))","v":"UBS Lorient 1"},{"$f":"IF($S$5=\"Course 1\",Général!G$161,IF($S$5=\"Course 2\",Général!G$163,IF($S$5=\"Course 3\",Général!G$165,Général!#REF!)))","v":"UBO 2"},{"$f":"IF($T$5=\"Course 1\",Général!G$169,IF($T$5=\"Course 2\",Général!G$171,IF($T$5=\"Course 3\",Général!G$173,Général!#REF!)))","v":"Hannovre"},null,{"$f":"Général!B15","v":"ASUL Lannion"},5]
["7ème Equipage",null,{"$f":"IF($C$5=\"Course 1\",Général!H33,IF($C$5=\"Course 2\",Général!H35,IF($C$5=\"Course 3\",Général!H37,Général!#REF!)))","v":"Centrales Nantes"},{"$f":"IF($D$5=\"Course 1\",Général!H41,IF($D$5=\"Course 2\",Général!H43,IF($D$5=\"Course 3\",Général!H45,Général!#REF!)))","v":"Hannovre"},{"$f":"IF($E$5=\"Course 1\",Général!H49,IF($E$5=\"Course 2\",Général!H51,IF($E$5=\"Course 3\",Général!H53,Général!#REF!)))","v":"UBO 1"},{"$f":"IF($F$5=\"Course 1\",Général!H$57,IF($F$5=\"Course 2\",Général!H$59,IF($F$5=\"Course 3\",Général!H$61,Général!#REF!)))","v":"Hambourg"},{"$f":"IF($G$5=\"Course 1\",Général!H$65,IF($G$5=\"Course 2\",Général!H$67,IF($G$5=\"Course 3\",Général!H$69,Général!#REF!)))","v":"Univ. Nantes 2"},{"$f":"IF($H$5=\"Course 1\",Général!H$73,IF($H$5=\"Course 2\",Général!H$75,IF($H$5=\"Course 3\",Général!H$77,Général!#REF!)))","v":"Southampton"},{"$f":"IF($I$5=\"Course 1\",Général!H$81,IF($I$5=\"Course 2\",Général!H$83,IF($I$5=\"Course 3\",Général!H$85,Général!#REF!)))","v":"AS UB St Brieuc"},{"$f":"IF($J$5=\"Course 1\",Général!H$89,IF($J$5=\"Course 2\",Général!H$91,IF($J$5=\"Course 3\",Général!H$93,Général!#REF!)))","v":"IMT Atlantique Brest"},{"$f":"IF($K$5=\"Course 1\",Général!H$97,IF($K$5=\"Course 2\",Général!H$99,IF($K$5=\"Course 3\",Général!H$101,Général!#REF!)))","v":"ENSTA Bretagne 2"},{"$f":"IF($L$5=\"Course 1\",Général!H$105,IF($L$5=\"Course 2\",Général!H$107,IF($L$5=\"Course 3\",Général!H$109,Général!#REF!)))","v":"Karlsruhe"},{"$f":"IF($M$5=\"Course 1\",Général!H$113,IF($M$5=\"Course 2\",Général!H$115,IF($M$5=\"Course 3\",Général!H$117,Général!#REF!)))","v":"EGSI La Rochelle"},{"$f":"IF($N$5=\"Course 1\",Général!H$121,IF($N$5=\"Course 2\",Général!H$123,IF($N$5=\"Course 3\",Général!H$125,Général!#REF!)))","v":"Hambourg"},{"$f":"IF($O$5=\"Course 1\",Général!H$129,IF($O$5=\"Course 2\",Général!H$131,IF($O$5=\"Course 3\",Général!H$133,Général!#REF!)))","v":"ENSTA Paris"},{"$f":"IF($P$5=\"Course 1\",Général!H$137,IF($P$5=\"Course 2\",Général!H$139,IF($P$5=\"Course 3\",Général!H$141,Général!#REF!)))","v":"Univ.Orléans"},{"$f":"IF($Q$5=\"Course 1\",Général!H$145,IF($Q$5=\"Course 2\",Général!H$147,IF($Q$5=\"Course 3\",Général!H$149,Général!#REF!)))","v":"ASUL Lannion"},{"$f":"IF($R$5=\"Course 1\",Général!H$153,IF($R$5=\"Course 2\",Général!H$155,IF($R$5=\"Course 3\",Général!H$157,Général!#REF!)))","v":"AS Paris 1 Panthéon Sorbonne"},{"$f":"IF($S$5=\"Course 1\",Général!H$161,IF($S$5=\"Course 2\",Général!H$163,IF($S$5=\"Course 3\",Général!H$165,Général!#REF!)))","v":"UNICAEN - ASSUCherbourg"},{"$f":"IF($T$5=\"Course 1\",Général!H$169,IF($T$5=\"Course 2\",Général!H$171,IF($T$5=\"Course 3\",Général!H$173,Général!#REF!)))","v":"Univ. Nantes 2"},null,{"$f":"Général!B16","v":"ENSTA Paris"},5]
["8ème Equipage",null,{"$f":"IF($C$5=\"Course 1\",Général!I33,IF($C$5=\"Course 2\",Général!I35,IF($C$5=\"Course 3\",Général!I37,Général!#REF!)))","v":"ENSTA Bretagne 1"},{"$f":"IF($D$5=\"Course 1\",Général!I41,IF($D$5=\"Course 2\",Général!I43,IF($D$5=\"Course 3\",Général!I45,Général!#REF!)))","v":"Univ. Nantes 1"},{"$f":"IF($E$5=\"Course 1\",Général!I49,IF($E$5=\"Course 2\",Général!I51,IF($E$5=\"Course 3\",Général!I53,Général!#REF!)))","v":"EGSI La Rochelle"},{"$f":"IF($F$5=\"Course 1\",Général!I$57,IF($F$5=\"Course 2\",Général!I$59,IF($F$5=\"Course 3\",Général!I$61,Général!#REF!)))","v":"HYDRO Sailing Team Le Havre"},{"$f":"IF($G$5=\"Course 1\",Général!I$65,IF($G$5=\"Course 2\",Général!I$67,IF($G$5=\"Course 3\",Général!I$69,Général!#REF!)))","v":"UNICAEN - ASSUCherbourg"},{"$f":"IF($H$5=\"Course 1\",Général!I$73,IF($H$5=\"Course 2\",Général!I$75,IF($H$5=\"Course 3\",Général!I$77,Général!#REF!)))","v":"Karlsruhe"},{"$f":"IF($I$5=\"Course 1\",Général!I$81,IF($I$5=\"Course 2\",Général!I$83,IF($I$5=\"Course 3\",Général!I$85,Général!#REF!)))","v":"Univ. La Rochelle"},{"$f":"IF($J$5=\"Course 1\",Général!I$89,IF($J$5=\"Course 2\",Général!I$91,IF($J$5=\"Course 3\",Général!I$93,Général!#REF!)))","v":"Hambourg"},{"$f":"IF($K$5=\"Course 1\",Général!I$97,IF($K$5=\"Course 2\",Général!I$99,IF($K$5=\"Course 3\",Général!I$101,Général!#REF!)))","v":"Hannovre"},{"$f":"IF($L$5=\"Course 1\",Général!I$105,IF($L$5=\"Course 2\",Général!I$107,IF($L$5=\"Course 3\",Général!I$109,Général!#REF!)))","v":"IMT Atlantique Brest"},{"$f":"IF($M$5=\"Course 1\",Général!I$113,IF($M$5=\"Course 2\",Général!I$115,IF($M$5=\"Course 3\",Général!I$117,Général!#REF!)))","v":"IMT Atlantique Nantes 2"},{"$f":"IF($N$5=\"Course 1\",Général!I$121,IF($N$5=\"Course 2\",Général!I$123,IF($N$5=\"Course 3\",Général!I$125,Général!#REF!)))","v":"Centrales Nantes"},{"$f":"IF($O$5=\"Course 1\",Général!I$129,IF($O$5=\"Course 2\",Général!I$131,IF($O$5=\"Course 3\",Général!I$133,Général!#REF!)))","v":"Dublin"},{"$f":"IF($P$5=\"Course 1\",Général!I$137,IF($P$5=\"Course 2\",Général!I$139,IF($P$5=\"Course 3\",Général!I$141,Général!#REF!)))","v":"AS Paris 1 Panthéon Sorbonne"},{"$f":"IF($Q$5=\"Course 1\",Général!I$145,IF($Q$5=\"Course 2\",Général!I$147,IF($Q$5=\"Course 3\",Général!I$149,Général!#REF!)))","v":"AS Paris 1 Panthéon Sorbonne"},{"$f":"IF($R$5=\"Course 1\",Général!I$153,IF($R$5=\"Course 2\",Général!I$155,IF($R$5=\"Course 3\",Général!I$157,Général!#REF!)))","v":"Southampton"},{"$f":"IF($S$5=\"Course 1\",Général!I$161,IF($S$5=\"Course 2\",Général!I$163,IF($S$5=\"Course 3\",Général!I$165,Général!#REF!)))","v":"ENSTA Bretagne 1"},{"$f":"IF($T$5=\"Course 1\",Général!I$169,IF($T$5=\"Course 2\",Général!I$171,IF($T$5=\"Course 3\",Général!I$173,Général!#REF!)))","v":"UBO 1"},null,{"$f":"Général!B17","v":"IMT Atlantique Brest"},7]
["9ème Equipage",null,{"$f":"IF($C$5=\"Course 1\",Général!J33,IF($C$5=\"Course 2\",Général!J35,IF($C$5=\"Course 3\",Général!J37,Général!#REF!)))","v":"Univ.Orléans"},{"$f":"IF($D$5=\"Course 1\",Général!J41,IF($D$5=\"Course 2\",Général!J43,IF($D$5=\"Course 3\",Général!J45,Général!#REF!)))","v":"Hambourg"},{"$f":"IF($E$5=\"Course 1\",Général!J49,IF($E$5=\"Course 2\",Général!J51,IF($E$5=\"Course 3\",Général!J53,Général!#REF!)))","v":"Hambourg"},{"$f":"IF($F$5=\"Course 1\",Général!J$57,IF($F$5=\"Course 2\",Général!J$59,IF($F$5=\"Course 3\",Général!J$61,Général!#REF!)))","v":"ENSTA Paris"},{"$f":"IF($G$5=\"Course 1\",Général!J$65,IF($G$5=\"Course 2\",Général!J$67,IF($G$5=\"Course 3\",Général!J$69,Général!#REF!)))","v":"Univ. Nantes 1"},{"$f":"IF($H$5=\"Course 1\",Général!J$73,IF($H$5=\"Course 2\",Général!J$75,IF($H$5=\"Course 3\",Général!$J77,Général!#REF!)))","v":"IMT Atlantique Nantes 1"},{"$f":"IF($I$5=\"Course 1\",Général!J$81,IF($I$5=\"Course 2\",Général!J$83,IF($I$5=\"Course 3\",Général!J$85,Général!#REF!)))","v":"AS Paris 1 Panthéon Sorbonne"},{"$f":"IF($J$5=\"Course 1\",Général!J$89,IF($J$5=\"Course 2\",Général!J$91,IF($J$5=\"Course 3\",Général!J$93,Général!#REF!)))","v":"Univ. Nantes 2"},{"$f":"IF($K$5=\"Course 1\",Général!J$97,IF($K$5=\"Course 2\",Général!J$99,IF($K$5=\"Course 3\",Général!J$101,Général!#REF!)))","v":"UNICAEN - ASSUCherbourg"},{"$f":"IF($L$5=\"Course 1\",Général!J$105,IF($L$5=\"Course 2\",Général!J$107,IF($L$5=\"Course 3\",Général!J$109,Général!#REF!)))","v":"UBS Lorient 2"},{"$f":"IF($M$5=\"Course 1\",Général!J$113,IF($M$5=\"Course 2\",Général!J$115,IF($M$5=\"Course 3\",Général!J$117,Général!#REF!)))","v":"UBS Lorient 2"},{"$f":"IF($N$5=\"Course 1\",Général!J$121,IF($N$5=\"Course 2\",Général!J$123,IF($N$5=\"Course 3\",Général!J$125,Général!#REF!)))","v":"UBS Lorient 1"},{"$f":"IF($O$5=\"Course 1\",Général!J$129,IF($O$5=\"Course 2\",Général!J$131,IF($O$5=\"Course 3\",Général!J$133,Général!#REF!)))","v":"ENSTA Bretagne 1"},{"$f":"IF($P$5=\"Course 1\",Général!J$137,IF($P$5=\"Course 2\",Général!J$139,IF($P$5=\"Course 3\",Général!J$141,Général!#REF!)))","v":"IMT Atlantique Nantes 2"},{"$f":"IF($Q$5=\"Course 1\",Général!J$145,IF($Q$5=\"Course 2\",Général!J$147,IF($Q$5=\"Course 3\",Général!J$149,Général!#REF!)))","v":"Univ. Nantes 3"},{"$f":"IF($R$5=\"Course 1\",Général!J$153,IF($R$5=\"Course 2\",Général!J$155,IF($R$5=\"Course 3\",Général!J$157,Général!#REF!)))","v":"Hambourg"},{"$f":"IF($S$5=\"Course 1\",Général!J$161,IF($S$5=\"Course 2\",Général!J$163,IF($S$5=\"Course 3\",Général!J$165,Général!#REF!)))","v":"IMT Atlantique Nantes 2"},{"$f":"IF($T$5=\"Course 1\",Général!J$169,IF($T$5=\"Course 2\",Général!J$171,IF($T$5=\"Course 3\",Général!J$173,Général!#REF!)))","v":"Southampton"},null,{"$f":"Général!B18","v":"UBO 2"},6]
[null,null,null,null,null,null,null,null,null,null,null,null,null,null,null,null,null,null,null,null,null,{"$f":"Général!B19","v":"Dublin"},6]
[null,null,null,null,null,null,null,null,null,null,null,null,null,null,null,null,null,null,null,null,null,{"$f":"Général!B20","v":"Univ. Nantes 2"},6]
[null,null,null,null,null,null,null,null,null,null,null,null,null,null,null,null,null,null,null,null,null,{"$f":"Général!B21","v":"UBS Lorient 1"},5]
[null,null,null,null,null,null,null,null,null,null,null,null,null,null,null,null,null,null,null,null,null,{"$f":"Général!B22","v":"UBS Lorient 2"},4]
[null,null,null,null,null,null,null,null,null,null,null,null,null,null,null,null,null,null,null,null,null,{"$f":"Général!B23","v":"Univ.Orléans"},5]
[null,null,null,null,null,null,null,null,null,null,null,null,null,null,null,null,null,null,null,null,null,{"$f":"Général!B24","v":"Univ. La Rochelle"},4]
[null,null,null,null,null,null,null,null,null,null,null,null,null,null,null,null,null,null,null,null,null,{"$f":"Général!B25","v":"AS UB St Brieuc"},4]
[null,null,null,null,null,null,null,null,null,null,null,null,null,null,null,null,null,null,null,null,null,{"$f":"Général!B26","v":"Karlsruhe"},5]
[null,null,null,null,null,null,null,null,null,null,null,null,null,null,null,null,null,null,null,null,null,{"$f":"Général!B27","v":"Univ. Nantes 3"},6]
[null,null,null,null,null,null,null,null,null,null,null,null,null,null,null,null,null,null,null,null,null,{"$f":"Général!B28","v":"Centrales Nantes"},6]
[null,null,null,null,null,null,null,null,null,null,null,null,null,null,null,null,null,null,null,null,null,{"$f":"Général!B29","v":"Southampton"},6]
[null,null,null,null,null,null,null,null,null,null,null,null,null,null,null,null,null,null,null,null,null,{"$f":"Général!#REF!","v":{"$error":"#REF!"}},0]
[null,null,null,null,null,null,null,null,null,null,null,null,null,null,null,null,null,null,null,null,null,{"$f":"Général!#REF!","v":{"$error":"#REF!"}},0]
[null,null,null,null,null,null,null,null,null,null,null,null,null,null,null,null,null,null,null,null,null,{"$f":"Général!#REF!","v":{"$error":"#REF!"}},0]
[null,null,null,null,null,null,null,null,null,null,null,null,null,null,null,null,null,null,null,null,null,{"$f":"Général!#REF!","v":{"$error":"#REF!"}},0]
[null,null,null,null,null,null,null,null,null,null,null,null,null,null,null,null,null,null,null,null,null,{"$f":"Général!#REF!","v":{"$error":"#REF!"}},0]

{"sheet":"Eq.8","index":12,"n_rows":32,"n_cols":23,"rows_kept":32,"cut":false,"hidden":false,"merged":[[14,0,14,1],[15,0,15,1],[8,0,8,1],[9,0,9,1],[10,0,10,1],[11,0,11,1],[12,0,12,1],[13,0,13,1],[7,0,7,1],[0,0,1,5],[0,6,1,10],[3,0,3,1],[4,0,4,1],[5,0,5,1]]}
["Equipage ",null,null,null,null,null,{"$f":"Général!B10","v":"EGSI La Rochelle"},null,null,null,null,null,null,null,null,null,null,null,null,null,null,{"$f":"Général!B3","v":"Univ. Nantes 1"},{"$f":"COUNTIF(C$8:T$16,V1)","v":5}]
[null,null,null,null,null,null,null,null,null,null,null,null,null,null,null,null,null,null,null,null,null,{"$f":"Général!B4","v":"AS Paris 1 Panthéon Sorbonne"},{"$f":"COUNTIF($C$8:$T$16,V2)","v":6}]
[null,null,null,null,null,null,null,null,null,null,null,null,null,null,null,null,null,null,null,null,null,{"$f":"Général!B5","v":"Hannovre"},{"$f":"COUNTIF($C$8:$T$16,V3)","v":6}]
[null,null,"FLIGHT 1","FLIGHT 2","FLIGHT 3","FLIGHT 4","FLIGHT 5","FLIGHT 6","FLIGHT 7","FLIGHT 8","FLIGHT 9","FLIGHT 10","FLIGHT 11","FLIGHT 12","FLIGHT 13","FLIGHT 14","FLIGHT 15","FLIGHT 16","FLIGHT 17","FLIGHT 18",null,{"$f":"Général!B6","v":"IMT Atlantique Nantes 1"},5]
["N° de course",null,{"$f":"IF(COUNTIF(Général!B33:J33,$G$1)=1,\"Course 1\",IF(COUNTIF(Général!B35:J35,$G$1)=1,\"Course 2\",IF(COUNTIF(Général!B37:J37,$G$1)=1,\"Course 3\",\"Course 4\")))","v":"Course 2"},{"$f":"IF(COUNTIF(Général!B41:J41,$G$1)=1,\"Course 1\",IF(COUNTIF(Général!B43:J43,$G$1)=1,\"Course 2\",IF(COUNTIF(Général!B45:J45,$G$1)=1,\"Course 3\",\"Course 4\")))","v":"Course 2"},{"$f":"IF(COUNTIF(Général!B49:J49,$G$1)=1,\"Course 1\",IF(COUNTIF(Général!B51:J51,$G$1)=1,\"Course 2\",IF(COUNTIF(Général!B53:J53,$G$1)=1,\"Course 3\",\"Course 4\")))","v":"Course 2"},{"$f":"IF(COUNTIF(Général!B57:J57,$G$1)=1,\"Course 1\",IF(COUNTIF(Général!B59:J59,$G$1)=1,\"Course 2\",IF(COUNTIF(Général!B61:J61,$G$1)=1,\"Course 3\",\"Course 4\")))","v":"Course 2"},{"$f":"IF(COUNTIF(Général!B65:J65,$G$1)=1,\"Course 1\",IF(COUNTIF(Général!B67:J67,$G$1)=1,\"Course 2\",IF(COUNTIF(Général!B69:J69,$G$1)=1,\"Course 3\",\"Course 4\")))","v":"Course 2"},{"$f":"IF(COUNTIF(Général!B73:J73,$G$1)=1,\"Course 1\",IF(COUNTIF(Général!B75:J75,$G$1)=1,\"Course 2\",IF(COUNTIF(Général!B77:J77,$G$1)=1,\"Course 3\",\"Course 4\")))","v":"Course 3"},{"$f":"IF(COUNTIF(Général!B81:J81,$G$1)=1,\"Course 1\",IF(COUNTIF(Général!B83:J83,$G$1)=1,\"Course 2\",IF(COUNTIF(Général!B85:J85,$G$1)=1,\"Course 3\",\"Course 4\")))","v":"Course 2"},{"$f":"IF(COUNTIF(Général!B89:J89,$G$1)=1,\"Course 1\",IF(COUNTIF(Général!B91:J91,$G$1)=1,\"Course 2\",IF(COUNTIF(Général!B93:J93,$G$1)=1,\"Course 3\",\"Course 4\")))","v":"Course 2"},{"$f":"IF(COUNTIF(Général!B97:J97,$G$1)=1,\"Course 1\",IF(COUNTIF(Général!B99:J99,$G$1)=1,\"Course 2\",IF(COUNTIF(Général!B101:J101,$G$1)=1,\"Course 3\",\"Course 4\")))","v":"Course 3"},{"$f":"IF(COUNTIF(Général!B105:J105,$G$1)=1,\"Course 1\",IF(COUNTIF(Général!B107:J107,$G$1)=1,\"Course 2\",IF(COUNTIF(Général!B109:J109,$G$1)=1,\"Course 3\",\"Course 4\")))","v":"Course 2"},{"$f":"IF(COUNTIF(Général!B113:J113,$G$1)=1,\"Course 1\",IF(COUNTIF(Général!B115:J115,$G$1)=1,\"Course 2\",IF(COUNTIF(Général!B117:J117,$G$1)=1,\"Course 3\",\"Course 4\")))","v":"Course 1"},{"$f":"IF(COUNTIF(Général!B121:J121,$G$1)=1,\"Course 1\",IF(COUNTIF(Général!B123:J123,$G$1)=1,\"Course 2\",IF(COUNTIF(Général!B125:J125,$G$1)=1,\"Course 3\",\"Course 4\")))","v":"Course 3"},{"$f":"IF(COUNTIF(Général!B129:J129,$G$1)=1,\"Course 1\",IF(COUNTIF(Général!B131:J131,$G$1)=1,\"Course 2\",IF(COUNTIF(Général!B133:J133,$G$1)=1,\"Course 3\",\"Course 4\")))","v":"Course 2"},{"$f":"IF(COUNTIF(Général!B137:J137,$G$1)=1,\"Course 1\",IF(COUNTIF(Général!B139:J139,$G$1)=1,\"Course 2\",IF(COUNTIF(Général!B141:J141,$G$1)=1,\"Course 3\",\"Course 4\")))","v":"Course 1"},{"$f":"IF(COUNTIF(Général!B145:J145,$G$1)=1,\"Course 1\",IF(COUNTIF(Général!B147:J147,$G$1)=1,\"Course 2\",IF(COUNTIF(Général!B149:J149,$G$1)=1,\"Course 3\",\"Course 4\")))","v":"Course 2"},{"$f":"IF(COUNTIF(Général!B153:J153,$G$1)=1,\"Course 1\",IF(COUNTIF(Général!B155:J155,$G$1)=1,\"Course 2\",IF(COUNTIF(Général!B157:J157,$G$1)=1,\"Course 3\",\"Course 4\")))","v":"Course 3"},{"$f":"IF(COUNTIF(Général!B161:J161,$G$1)=1,\"Course 1\",IF(COUNTIF(Général!B163:J163,$G$1)=1,\"Course 2\",IF(COUNTIF(Général!B165:J165,$G$1)=1,\"Course 3\",\"Course 4\")))","v":"Course 2"},{"$f":"IF(COUNTIF(Général!B169:J169,$G$1)=1,\"Course 1\",IF(COUNTIF(Général!B171:J171,$G$1)=1,\"Course 2\",IF(COUNTIF(Général!B173:J173,$G$1)=1,\"Course 3\",\"Course 4\")))","v":"Course 2"},null,{"$f":"Général!B7","v":"ENSTA Bretagne 2"},5]
["Bateau",null,{"$f":"IF(COUNTIF(Général!B33:B38,$G$1)=1,\"Boat 1\",IF(COUNTIF(Général!C33:C38,$G$1)=1,\"Boat 2\",IF(COUNTIF(Général!D33:D38,$G$1)=1,\"Boat 3\", IF(COUNTIF(Général!E33:E38,$G$1)=1,\"Boat 4\", IF(COUNTIF(Général!F33:F38,$G$1)=1,\"Boat 5\", IF(COUNTIF(Général!G33:G38,$G$1)=1,\"Boat 6\", IF(COUNTIF(Général!H33:H38,$G$1)=1,\"Boat 7\",IF(COUNTIF(Général!I33:I38,$G$1)=1,\"Boat 8\",\"Boat 9\"))))))))","v":"Boat 5"},{"$f":"IF(COUNTIF(Général!B41:B46,$G$1)=1,\"Boat 1\",IF(COUNTIF(Général!C41:C46,$G$1)=1,\"Boat 2\",IF(COUNTIF(Général!D41:D46,$G$1)=1,\"Boat 3\", IF(COUNTIF(Général!E41:E46,$G$1)=1,\"Boat 4\", IF(COUNTIF(Général!F41:F46,$G$1)=1,\"Boat 5\", IF(COUNTIF(Général!G41:G46,$G$1)=1,\"Boat 6\", IF(COUNTIF(Général!H41:H46,$G$1)=1,\"Boat 7\",IF(COUNTIF(Général!I33:I38,$G$1)=1,\"Boat 8\",\"Boat 9\"))))))))","v":"Boat 7"},{"$f":"IF(COUNTIF(Général!B49:B54,$G$1)=1,\"Boat 1\",IF(COUNTIF(Général!C49:C54,$G$1)=1,\"Boat 2\",IF(COUNTIF(Général!D49:D54,$G$1)=1,\"Boat 3\", IF(COUNTIF(Général!E49:E54,$G$1)=1,\"Boat 4\", IF(COUNTIF(Général!F49:F54,$G$1)=1,\"Boat 5\", IF(COUNTIF(Général!G49:G54,$G$1)=1,\"Boat 6\", IF(COUNTIF(Général!H49:H54,$G$1)=1,\"Boat 7\",IF(COUNTIF(Général!I33:I38,$G$1)=1,\"Boat 8\",\"Boat 9\"))))))))","v":"Boat 9"},{"$f":"IF(COUNTIF(Général!B57:B62,$G$1)=1,\"Boat 1\",IF(COUNTIF(Général!C57:C62,$G$1)=1,\"Boat 2\",IF(COUNTIF(Général!D57:D62,$G$1)=1,\"Boat 3\", IF(COUNTIF(Général!E57:E62,$G$1)=1,\"Boat 4\", IF(COUNTIF(Général!F57:F62,$G$1)=1,\"Boat 5\", IF(COUNTIF(Général!G57:G62,$G$1)=1,\"Boat 6\", IF(COUNTIF(Général!H57:H62,$G$1)=1,\"Boat 7\",IF(COUNTIF(Général!I33:I38,$G$1)=1,\"Boat 8\",\"Boat 9\"))))))))","v":"Boat 9"},{"$f":"IF(COUNTIF(Général!B65:B70,$G$1)=1,\"Boat 1\",IF(COUNTIF(Général!C65:C70,$G$1)=1,\"Boat 2\",IF(COUNTIF(Général!D65:D70,$G$1)=1,\"Boat 3\", IF(COUNTIF(Général!E65:E70,$G$1)=1,\"Boat 4\", IF(COUNTIF(Général!F65:F70,$G$1)=1,\"Boat 5\", IF(COUNTIF(Général!G65:G70,$G$1)=1,\"Boat 6\", IF(COUNTIF(Général!H65:H70,$G$1)=1,\"Boat 7\",IF(COUNTIF(Général!I33:I38,$G$1)=1,\"Boat 8\",\"Boat 9\"))))))))","v":"Boat 4"},{"$f":"IF(COUNTIF(Général!B73:B78,$G$1)=1,\"Boat 1\",IF(COUNTIF(Général!C73:C78,$G$1)=1,\"Boat 2\",IF(COUNTIF(Général!D73:D78,$G$1)=1,\"Boat 3\", IF(COUNTIF(Général!E73:E78,$G$1)=1,\"Boat 4\", IF(COUNTIF(Général!F73:F78,$G$1)=1,\"Boat 5\", IF(COUNTIF(Général!G73:G78,$G$1)=1,\"Boat 6\", IF(COUNTIF(Général!H73:H78,$G$1)=1,\"Boat 7\",IF(COUNTIF(Général!I33:I38,$G$1)=1,\"Boat 8\",\"Boat 9\"))))))))","v":"Boat 4"},{"$f":"IF(COUNTIF(Général!B81:B86,$G$1)=1,\"Boat 1\",IF(COUNTIF(Général!C81:C86,$G$1)=1,\"Boat 2\",IF(COUNTIF(Général!D81:D86,$G$1)=1,\"Boat 3\", IF(COUNTIF(Général!E81:E86,$G$1)=1,\"Boat 4\", IF(COUNTIF(Général!F81:F86,$G$1)=1,\"Boat 5\", IF(COUNTIF(Général!G81:G86,$G$1)=1,\"Boat 6\", IF(COUNTIF(Général!H81:H86,$G$1)=1,\"Boat 7\",IF(COUNTIF(Général!I33:I38,$G$1)=1,\"Boat 8\",\"Boat 9\"))))))))","v":"Boat 5"},{"$f":"IF(COUNTIF(Général!B89:B94,$G$1)=1,\"Boat 1\",IF(COUNTIF(Général!C89:C94,$G$1)=1,\"Boat 2\",IF(COUNTIF(Général!D89:D94,$G$1)=1,\"Boat 3\", IF(COUNTIF(Général!E89:E94,$G$1)=1,\"Boat 4\", IF(COUNTIF(Général!F89:F94,$G$1)=1,\"Boat 5\", IF(COUNTIF(Général!G89:G94,$G$1)=1,\"Boat 6\", IF(COUNTIF(Général!H89:H94,$G$1)=1,\"Boat 7\",IF(COUNTIF(Général!I33:I38,$G$1)=1,\"Boat 8\",\"Boat 9\"))))))))","v":"Boat 3"},{"$f":"IF(COUNTIF(Général!B97:B102,$G$1)=1,\"Boat 1\",IF(COUNTIF(Général!C97:C102,$G$1)=1,\"Boat 2\",IF(COUNTIF(Général!D97:D102,$G$1)=1,\"Boat 3\", IF(COUNTIF(Général!E97:E102,$G$1)=1,\"Boat 4\", IF(COUNTIF(Général!F97:F102,$G$1)=1,\"Boat 5\", IF(COUNTIF(Général!G97:G102,$G$1)=1,\"Boat 6\", IF(COUNTIF(Général!H97:H102,$G$1)=1,\"Boat 7\",IF(COUNTIF(Général!I33:I38,$G$1)=1,\"Boat 8\",\"Boat 9\"))))))))","v":"Boat 2"},{"$f":"IF(COUNTIF(Général!B105:B110,$G$1)=1,\"Boat 1\",IF(COUNTIF(Général!C105:C110,$G$1)=1,\"Boat 2\",IF(COUNTIF(Général!D105:D110,$G$1)=1,\"Boat 3\", IF(COUNTIF(Général!E105:E110,$G$1)=1,\"Boat 4\", IF(COUNTIF(Général!F105:F110,$G$1)=1,\"Boat 5\", IF(COUNTIF(Général!G105:G110,$G$1)=1,\"Boat 6\", IF(COUNTIF(Général!H105:H110,$G$1)=1,\"Boat 7\",IF(COUNTIF(Général!I33:I38,$G$1)=1,\"Boat 8\",\"Boat 9\"))))))))","v":"Boat 9"},{"$f":"IF(COUNTIF(Général!B113:B118,$G$1)=1,\"Boat 1\",IF(COUNTIF(Général!C113:C118,$G$1)=1,\"Boat 2\",IF(COUNTIF(Général!C113:D118,$G$1)=1,\"Boat 3\", IF(COUNTIF(Général!C113:E118,$G$1)=1,\"Boat 4\", IF(COUNTIF(Général!F113:F118,$G$1)=1,\"Boat 5\", IF(COUNTIF(Général!G113:G118,$G$1)=1,\"Boat 6\", IF(COUNTIF(Général!H113:H118,$G$1)=1,\"Boat 7\",IF(COUNTIF(Général!I33:I38,$G$1)=1,\"Boat 8\",\"Boat 9\"))))))))","v":"Boat 7"},{"$f":"IF(COUNTIF(Général!B121:B126,$G$1)=1,\"Boat 1\",IF(COUNTIF(Général!C121:C126,$G$1)=1,\"Boat 2\",IF(COUNTIF(Général!D121:D126,$G$1)=1,\"Boat 3\", IF(COUNTIF(Général!E121:E126,$G$1)=1,\"Boat 4\", IF(COUNTIF(Général!F121:F126,$G$1)=1,\"Boat 5\", IF(COUNTIF(Général!G121:G126,$G$1)=1,\"Boat 6\", IF(COUNTIF(Général!H121:H126,$G$1)=1,\"Boat 7\",IF(COUNTIF(Général!I33:I38,$G$1)=1,\"Boat 8\",\"Boat 9\"))))))))","v":"Boat 6"},{"$f":"IF(COUNTIF(Général!B129:B134,$G$1)=1,\"Boat 1\",IF(COUNTIF(Général!C129:C134,$G$1)=1,\"Boat 2\",IF(COUNTIF(Général!D131:D134,$G$1)=1,\"Boat 3\", IF(COUNTIF(Général!E129:E134,$G$1)=1,\"Boat 4\", IF(COUNTIF(Général!F129:F134,$G$1)=1,\"Boat 5\", IF(COUNTIF(Général!G129:G134,$G$1)=1,\"Boat 6\", IF(COUNTIF(Général!H129:H134,$G$1)=1,\"Boat 7\",IF(COUNTIF(Général!I33:I38,$G$1)=1,\"Boat 8\",\"Boat 9\"))))))))","v":"Boat 3"},{"$f":"IF(COUNTIF(Général!B137:B142,$G$1)=1,\"Boat 1\",IF(COUNTIF(Général!C137:C142,$G$1)=1,\"Boat 2\",IF(COUNTIF(Général!D137:D142,$G$1)=1,\"Boat 3\", IF(COUNTIF(Général!E137:E142,$G$1)=1,\"Boat 4\", IF(COUNTIF(Général!F145:F150,$G$1)=1,\"Boat 5\", IF(COUNTIF(Général!G145:G150,$G$1)=1,\"Boat 6\", IF(COUNTIF(Général!H145:H150,$G$1)=1,\"Boat 7\",IF(COUNTIF(Général!I33:I38,$G$1)=1,\"Boat 8\",\"Boat 9\"))))))))","v":"Boat 4"},{"$f":"IF(COUNTIF(Général!B145:B150,$G$1)=1,\"Boat 1\",IF(COUNTIF(Général!C145:C150,$G$1)=1,\"Boat 2\",IF(COUNTIF(Général!D145:D150,$G$1)=1,\"Boat 3\", IF(COUNTIF(Général!E145:E150,$G$1)=1,\"Boat 4\", IF(COUNTIF(Général!F145:F150,$G$1)=1,\"Boat 5\", IF(COUNTIF(Général!G145:G150,$G$1)=1,\"Boat 6\", IF(COUNTIF(Général!H145:H150,$G$1)=1,\"Boat 7\",IF(COUNTIF(Général!I33:I38,$G$1)=1,\"Boat 8\",\"Boat 9\"))))))))","v":"Boat 1"},{"$f":"IF(COUNTIF(Général!B153:B158,$G$1)=1,\"Boat 1\",IF(COUNTIF(Général!C153:C158,$G$1)=1,\"Boat 2\",IF(COUNTIF(Général!D153:D158,$G$1)=1,\"Boat 3\", IF(COUNTIF(Général!E153:E158,$G$1)=1,\"Boat 4\", IF(COUNTIF(Général!F153:F158,$G$1)=1,\"Boat 5\", IF(COUNTIF(Général!G153:G158,$G$1)=1,\"Boat 6\", IF(COUNTIF(Général!H153:H158,$G$1)=1,\"Boat 7\",IF(COUNTIF(Général!I33:I38,$G$1)=1,\"Boat 8\",\"Boat 9\"))))))))","v":"Boat 9"},{"$f":"IF(COUNTIF(Général!B161:B166,$G$1)=1,\"Boat 1\",IF(COUNTIF(Général!C161:C166,$G$1)=1,\"Boat 2\",IF(COUNTIF(Général!D161:D166,$G$1)=1,\"Boat 3\", IF(COUNTIF(Général!E161:E166,$G$1)=1,\"Boat 4\", IF(COUNTIF(Général!F161:F166,$G$1)=1,\"Boat 5\", IF(COUNTIF(Général!G161:G166,$G$1)=1,\"Boat 6\", IF(COUNTIF(Général!H161:H166,$G$1)=1,\"Boat 7\",IF(COUNTIF(Général!I33:I38,$G$1)=1,\"Boat 8\",\"Boat 9\"))))))))","v":"Boat 6"},{"$f":"IF(COUNTIF(Général!B169:B174,$G$1)=1,\"Boat 1\",IF(COUNTIF(Général!C169:C174,$G$1)=1,\"Boat 2\",IF(COUNTIF(Général!D169:D174,$G$1)=1,\"Boat 3\", IF(COUNTIF(Général!E169:E174,$G$1)=1,\"Boat 4\", IF(COUNTIF(Général!F169:F174,$G$1)=1,\"Boat 5\", IF(COUNTIF(Général!G169:G174,$G$1)=1,\"Boat 6\", IF(COUNTIF(Général!H169:H174,$G$1)=1,\"Boat 7\",IF(COUNTIF(Général!I33:I38,$G$1)=1,\"Boat 8\",\"Boat 9\"))))))))","v":"Boat 6"},null,{"$f":"Général!B8","v":"IMT Atlantique Nantes 2"},5]
[null,null,null,null,null,null,null,null,null,null,null,null,null,null,null,null,null,null,null,null,null,{"$f":"Général!B9","v":"Hambourg"},5]
["1er Equipage",null,{"$f":"IF($C$5=\"Course 1\",Général!B33,IF($C$5=\"Course 2\",Général!B35,IF($C$5=\"Course 3\",Général!B37,Général!#REF!)))","v":"Univ. Nantes 1"},{"$f":"IF($D$5=\"Course 1\",Général!B41,IF($D$5=\"Course 2\",Général!B43,IF($D$5=\"Course 3\",Général!B45,Général!#REF!)))","v":"ASUL Lannion"},{"$f":"IF($E$5=\"Course 1\",Général!B49,IF($E$5=\"Course 2\",Général!B51,IF($E$5=\"Course 3\",Général!B53,Général!#REF!)))","v":"IMT Atlantique Nantes 2"},{"$f":"IF($F$5=\"Course 1\",Général!B$57,IF($F$5=\"Course 2\",Général!B$59,IF($F$5=\"Course 3\",Général!B$61,Général!#REF!)))","v":"Univ.Orléans"},{"$f":"IF($G$5=\"Course 1\",Général!B$65,IF($G$5=\"Course 2\",Général!B$67,IF($G$5=\"Course 3\",Général!B$69,Général!#REF!)))","v":"AS UB St Brieuc"},{"$f":"IF($H$5=\"Course 1\",Général!B$73,IF($H$5=\"Course 2\",Général!B$75,IF($H$5=\"Course 3\",Général!B$77,Général!#REF!)))","v":"ENSTA Bretagne 2"},{"$f":"IF($I$5=\"Course 1\",Général!B$81,IF($I$5=\"Course 2\",Général!B$83,IF($I$5=\"Course 3\",Général!B$85,Général!#REF!)))","v":"IMT Atlantique Nantes 1"},{"$f":"IF($J$5=\"Course 1\",Général!B$89,IF($J$5=\"Course 2\",Général!B$91,IF($J$5=\"Course 3\",Général!B$93,Général!#REF!)))","v":"UNICAEN - ASSUCherbourg"},{"$f":"IF($K$5=\"Course 1\",Général!B$97,IF($K$5=\"Course 2\",Général!B$99,IF($K$5=\"Course 3\",Général!B$101,Général!#REF!)))","v":"Hambourg"},{"$f":"IF($L$5=\"Course 1\",Général!B$105,IF($L$5=\"Course 2\",Général!B$107,IF($L$5=\"Course 3\",Général!B$109,Général!#REF!)))","v":"UBO 2"},{"$f":"IF($M$5=\"Course 1\",Général!B$113,IF($M$5=\"Course 2\",Général!B$115,IF($M$5=\"Course 3\",Général!B$117,Général!#REF!)))","v":"Hambourg"},{"$f":"IF($N$5=\"Course 1\",Général!B$121,IF($N$5=\"Course 2\",Général!B$123,IF($N$5=\"Course 3\",Général!B$125,Général!#REF!)))","v":"UBO 1"},{"$f":"IF($O$5=\"Course 1\",Général!B$129,IF($O$5=\"Course 2\",Général!B$131,IF($O$5=\"Course 3\",Général!B$133,Général!#REF!)))","v":"Southampton"},{"$f":"IF($P$5=\"Course 1\",Général!B$137,IF($P$5=\"Course 2\",Général!B$139,IF($P$5=\"Course 3\",Général!B$141,Général!#REF!)))","v":"UBS Lorient 1"},{"$f":"IF($Q$5=\"Course 1\",Général!B$145,IF($Q$5=\"Course 2\",Général!B$147,IF($Q$5=\"Course 3\",Général!B$149,Général!#REF!)))","v":"EGSI La Rochelle"},{"$f":"IF($R$5=\"Course 1\",Général!B$153,IF($R$5=\"Course 2\",Général!B$155,IF($R$5=\"Course 3\",Général!B$157,Général!#REF!)))","v":"ASUL Lannion"},{"$f":"IF($S$5=\"Course 1\",Général!B$161,IF($S$5=\"Course 2\",Général!B$163,IF($S$5=\"Course 3\",Général!B$165,Général!#REF!)))","v":"IMT Atlantique Nantes 1"},{"$f":"IF($T$5=\"Course 1\",Général!B$169,IF($T$5=\"Course 2\",Général!B$171,IF($T$5=\"Course 3\",Général!B$173,Général!#REF!)))","v":"UBO 2"},null,{"$f":"Général!B10","v":"EGSI La Rochelle"},18]
["2nd Equipage",null,{"$f":"IF($C$5=\"Course 1\",Général!C33,IF($C$5=\"Course 2\",Général!C35,IF($C$5=\"Course 3\",Général!C37,Général!#REF!)))","v":"Hannovre"},{"$f":"IF($D$5=\"Course 1\",Général!C41,IF($D$5=\"Course 2\",Général!C43,IF($D$5=\"Course 3\",Général!C45,Général!#REF!)))","v":"UBS Lorient 1"},{"$f":"IF($E$5=\"Course 1\",Général!C49,IF($E$5=\"Course 2\",Général!C51,IF($E$5=\"Course 3\",Général!C53,Général!#REF!)))","v":"Karlsruhe"},{"$f":"IF($F$5=\"Course 1\",Général!C$57,IF($F$5=\"Course 2\",Général!C$59,IF($F$5=\"Course 3\",Général!C$61,Général!#REF!)))","v":"AS Paris 1 Panthéon Sorbonne"},{"$f":"IF($G$5=\"Course 1\",Général!C$65,IF($G$5=\"Course 2\",Général!C$67,IF($G$5=\"Course 3\",Général!C$69,Général!#REF!)))","v":"AS Paris 1 Panthéon Sorbonne"},{"$f":"IF($H$5=\"Course 1\",Général!C$73,IF($H$5=\"Course 2\",Général!C$75,IF($H$5=\"Course 3\",Général!C$77,Général!#REF!)))","v":"ENSTA Paris"},{"$f":"IF($I$5=\"Course 1\",Général!C$81,IF($I$5=\"Course 2\",Général!C$83,IF($I$5=\"Course 3\",Général!C$85,Général!#REF!)))","v":"Centrales Nantes"},{"$f":"IF($J$5=\"Course 1\",Général!C$89,IF($J$5=\"Course 2\",Général!C$91,IF($J$5=\"Course 3\",Général!C$93,Général!#REF!)))","v":"UBO 2"},{"$f":"IF($K$5=\"Course 1\",Général!C$97,IF($K$5=\"Course 2\",Général!C$99,IF($K$5=\"Course 3\",Général!C$101,Général!#REF!)))","v":"EGSI La Rochelle"},{"$f":"IF($L$5=\"Course 1\",Général!C$105,IF($L$5=\"Course 2\",Général!C$107,IF($L$5=\"Course 3\",Général!C$109,Général!#REF!)))","v":"ENSTA Bretagne 1"},{"$f":"IF($M$5=\"Course 1\",Général!C$113,IF($M$5=\"Course 2\",Général!C$115,IF($M$5=\"Course 3\",Général!C$117,Général!#REF!)))","v":"Univ. Nantes 3"},{"$f":"IF($N$5=\"Course 1\",Général!C$121,IF($N$5=\"Course 2\",Général!C$123,IF($N$5=\"Course 3\",Général!C$125,Général!#REF!)))","v":"IMT Atlantique Brest"},{"$f":"IF($O$5=\"Course 1\",Général!C$129,IF($O$5=\"Course 2\",Général!C$131,IF($O$5=\"Course 3\",Général!C$133,Général!#REF!)))","v":"HYDRO Sailing Team Le Havre"},{"$f":"IF($P$5=\"Course 1\",Général!C$137,IF($P$5=\"Course 2\",Général!C$139,IF($P$5=\"Course 3\",Général!C$141,Général!#REF!)))","v":"Univ. La Rochelle"},{"$f":"IF($Q$5=\"Course 1\",Général!C$145,IF($Q$5=\"Course 2\",Général!C$147,IF($Q$5=\"Course 3\",Général!C$149,Général!#REF!)))","v":"IMT Atlantique Brest"},{"$f":"IF($R$5=\"Course 1\",Général!C$153,IF($R$5=\"Course 2\",Général!C$155,IF($R$5=\"Course 3\",Général!C$157,Général!#REF!)))","v":"IMT Atlantique Nantes 2"},{"$f":"IF($S$5=\"Course 1\",Général!C$161,IF($S$5=\"Course 2\",Général!C$163,IF($S$5=\"Course 3\",Général!C$165,Général!#REF!)))","v":"Univ.Orléans"},{"$f":"IF($T$5=\"Course 1\",Général!C$169,IF($T$5=\"Course 2\",Général!C$171,IF($T$5=\"Course 3\",Général!C$173,Général!#REF!)))","v":"Dublin"},null,{"$f":"Général!B11","v":"HYDRO Sailing Team Le Havre"},6]
["3ème Equipage",null,{"$f":"IF($C$5=\"Course 1\",Général!D33,IF($C$5=\"Course 2\",Général!D35,IF($C$5=\"Course 3\",Général!D37,Général!#REF!)))","v":"IMT Atlantique Brest"},{"$f":"IF($D$5=\"Course 1\",Général!D41,IF($D$5=\"Course 2\",Général!D43,IF($D$5=\"Course 3\",Général!D45,Général!#REF!)))","v":"IMT Atlantique Nantes 1"},{"$f":"IF($E$5=\"Course 1\",Général!D49,IF($E$5=\"Course 2\",Général!D51,IF($E$5=\"Course 3\",Général!D53,Général!#REF!)))","v":"Dublin"},{"$f":"IF($F$5=\"Course 1\",Général!D$57,IF($F$5=\"Course 2\",Général!D$59,IF($F$5=\"Course 3\",Général!D$61,Général!#REF!)))","v":"Karlsruhe"},{"$f":"IF($G$5=\"Course 1\",Général!D$65,IF($G$5=\"Course 2\",Général!D$67,IF($G$5=\"Course 3\",Général!D$69,Général!#REF!)))","v":"Karlsruhe"},{"$f":"IF($H$5=\"Course 1\",Général!D$73,IF($H$5=\"Course 2\",Général!D$75,IF($H$5=\"Course 3\",Général!D$77,Général!#REF!)))","v":"Univ.Orléans"},{"$f":"IF($I$5=\"Course 1\",Général!D$81,IF($I$5=\"Course 2\",Général!D$83,IF($I$5=\"Course 3\",Général!D$85,Général!#REF!)))","v":"UBS Lorient 2"},{"$f":"IF($J$5=\"Course 1\",Général!D$89,IF($J$5=\"Course 2\",Général!D$91,IF($J$5=\"Course 3\",Général!D$93,Général!#REF!)))","v":"EGSI La Rochelle"},{"$f":"IF($K$5=\"Course 1\",Général!D$97,IF($K$5=\"Course 2\",Général!D$99,IF($K$5=\"Course 3\",Général!D$101,Général!#REF!)))","v":"Southampton"},{"$f":"IF($L$5=\"Course 1\",Général!D$105,IF($L$5=\"Course 2\",Général!D$107,IF($L$5=\"Course 3\",Général!D$109,Général!#REF!)))","v":"Univ. Nantes 2"},{"$f":"IF($M$5=\"Course 1\",Général!D$113,IF($M$5=\"Course 2\",Général!D$115,IF($M$5=\"Course 3\",Général!D$117,Général!#REF!)))","v":"AS UB St Brieuc"},{"$f":"IF($N$5=\"Course 1\",Général!D$121,IF($N$5=\"Course 2\",Général!D$123,IF($N$5=\"Course 3\",Général!D$125,Général!#REF!)))","v":"AS Paris 1 Panthéon Sorbonne"},{"$f":"IF($O$5=\"Course 1\",Général!D$129,IF($O$5=\"Course 2\",Général!D$131,IF($O$5=\"Course 3\",Général!D$133,Général!#REF!)))","v":"EGSI La Rochelle"},{"$f":"IF($P$5=\"Course 1\",Général!D$137,IF($P$5=\"Course 2\",Général!D$139,IF($P$5=\"Course 3\",Général!D$141,Général!#REF!)))","v":"ENSTA Bretagne 2"},{"$f":"IF($Q$5=\"Course 1\",Général!D$145,IF($Q$5=\"Course 2\",Général!D$147,IF($Q$5=\"Course 3\",Général!D$149,Général!#REF!)))","v":"Hambourg"},{"$f":"IF($R$5=\"Course 1\",Général!D$153,IF($R$5=\"Course 2\",Général!D$155,IF($R$5=\"Course 3\",Général!D$157,Général!#REF!)))","v":"Centrales Nantes"},{"$f":"IF($S$5=\"Course 1\",Général!D$161,IF($S$5=\"Course 2\",Général!D$163,IF($S$5=\"Course 3\",Général!D$165,Général!#REF!)))","v":"HYDRO Sailing Team Le Havre"},{"$f":"IF($T$5=\"Course 1\",Général!D$169,IF($T$5=\"Course 2\",Général!D$171,IF($T$5=\"Course 3\",Général!D$173,Général!#REF!)))","v":"Univ. Nantes 3"},null,{"$f":"Général!B12","v":"UNICAEN - ASSUCherbourg"},5]
["4ème Equipage",null,{"$f":"IF($C$5=\"Course 1\",Général!E33,IF($C$5=\"Course 2\",Général!E35,IF($C$5=\"Course 3\",Général!E37,Général!#REF!)))","v":"AS UB St Brieuc"},{"$f":"IF($D$5=\"Course 1\",Général!E41,IF($D$5=\"Course 2\",Général!E43,IF($D$5=\"Course 3\",Général!E45,Général!#REF!)))","v":"AS UB St Brieuc"},{"$f":"IF($E$5=\"Course 1\",Général!E49,IF($E$5=\"Course 2\",Général!E51,IF($E$5=\"Course 3\",Général!E53,Général!#REF!)))","v":"UBO 2"},{"$f":"IF($F$5=\"Course 1\",Général!E$57,IF($F$5=\"Course 2\",Général!E$59,IF($F$5=\"Course 3\",Général!E$61,Général!#REF!)))","v":"ASUL Lannion"},{"$f":"IF($G$5=\"Course 1\",Général!E$65,IF($G$5=\"Course 2\",Général!E$67,IF($G$5=\"Course 3\",Général!E$69,Général!#REF!)))","v":"EGSI La Rochelle"},{"$f":"IF($H$5=\"Course 1\",Général!E$73,IF($H$5=\"Course 2\",Général!E$75,IF($H$5=\"Course 3\",Général!E$77,Général!#REF!)))","v":"EGSI La Rochelle"},{"$f":"IF($I$5=\"Course 1\",Général!E$81,IF($I$5=\"Course 2\",Général!E$83,IF($I$5=\"Course 3\",Général!E$85,Général!#REF!)))","v":"IMT Atlantique Brest"},{"$f":"IF($J$5=\"Course 1\",Général!E$89,IF($J$5=\"Course 2\",Général!E$91,IF($J$5=\"Course 3\",Général!E$93,Général!#REF!)))","v":"Univ. Nantes 1"},{"$f":"IF($K$5=\"Course 1\",Général!E$97,IF($K$5=\"Course 2\",Général!E$99,IF($K$5=\"Course 3\",Général!E$101,Général!#REF!)))","v":"Univ.Orléans"},{"$f":"IF($L$5=\"Course 1\",Général!E$105,IF($L$5=\"Course 2\",Général!E$107,IF($L$5=\"Course 3\",Général!E$109,Général!#REF!)))","v":"Univ. Nantes 3"},{"$f":"IF($M$5=\"Course 1\",Général!E$113,IF($M$5=\"Course 2\",Général!E$115,IF($M$5=\"Course 3\",Général!E$117,Général!#REF!)))","v":"ENSTA Paris"},{"$f":"IF($N$5=\"Course 1\",Général!E$121,IF($N$5=\"Course 2\",Général!E$123,IF($N$5=\"Course 3\",Général!E$125,Général!#REF!)))","v":"IMT Atlantique Nantes 2"},{"$f":"IF($O$5=\"Course 1\",Général!E$129,IF($O$5=\"Course 2\",Général!E$131,IF($O$5=\"Course 3\",Général!E$133,Général!#REF!)))","v":"Hambourg"},{"$f":"IF($P$5=\"Course 1\",Général!E$137,IF($P$5=\"Course 2\",Général!E$139,IF($P$5=\"Course 3\",Général!E$141,Général!#REF!)))","v":"EGSI La Rochelle"},{"$f":"IF($Q$5=\"Course 1\",Général!E$145,IF($Q$5=\"Course 2\",Général!E$147,IF($Q$5=\"Course 3\",Général!E$149,Général!#REF!)))","v":"Centrales Nantes"},{"$f":"IF($R$5=\"Course 1\",Général!E$153,IF($R$5=\"Course 2\",Général!E$155,IF($R$5=\"Course 3\",Général!E$157,Général!#REF!)))","v":"Univ. Nantes 2"},{"$f":"IF($S$5=\"Course 1\",Général!E$161,IF($S$5=\"Course 2\",Général!E$163,IF($S$5=\"Course 3\",Général!E$165,Général!#REF!)))","v":"Centrales Nantes"},{"$f":"IF($T$5=\"Course 1\",Général!E$169,IF($T$5=\"Course 2\",Général!E$171,IF($T$5=\"Course 3\",Général!E$173,Général!#REF!)))","v":"Univ.Orléans"},null,{"$f":"Général!B13","v":"UBO 1"},6]
["5ème Equipage",null,{"$f":"IF($C$5=\"Course 1\",Général!F33,IF($C$5=\"Course 2\",Général!F35,IF($C$5=\"Course 3\",Général!F37,Général!#REF!)))","v":"EGSI La Rochelle"},{"$f":"IF($D$5=\"Course 1\",Général!F41,IF($D$5=\"Course 2\",Général!F43,IF($D$5=\"Course 3\",Général!F45,Général!#REF!)))","v":"Southampton"},{"$f":"IF($E$5=\"Course 1\",Général!F49,IF($E$5=\"Course 2\",Général!F51,IF($E$5=\"Course 3\",Général!F53,Général!#REF!)))","v":"IMT Atlantique Nantes 1"},{"$f":"IF($F$5=\"Course 1\",Général!F$57,IF($F$5=\"Course 2\",Général!F$59,IF($F$5=\"Course 3\",Général!F$61,Général!#REF!)))","v":"Centrales Nantes"},{"$f":"IF($G$5=\"Course 1\",Général!F$65,IF($G$5=\"Course 2\",Général!F$67,IF($G$5=\"Course 3\",Général!F$69,Général!#REF!)))","v":"UBS Lorient 2"},{"$f":"IF($H$5=\"Course 1\",Général!F$73,IF($H$5=\"Course 2\",Général!F$75,IF($H$5=\"Course 3\",Général!F$77,Général!#REF!)))","v":"Univ. Nantes 2"},{"$f":"IF($I$5=\"Course 1\",Général!F$81,IF($I$5=\"Course 2\",Général!F$83,IF($I$5=\"Course 3\",Général!F$85,Général!#REF!)))","v":"EGSI La Rochelle"},{"$f":"IF($J$5=\"Course 1\",Général!F$89,IF($J$5=\"Course 2\",Général!F$91,IF($J$5=\"Course 3\",Général!F$93,Général!#REF!)))","v":"Hannovre"},{"$f":"IF($K$5=\"Course 1\",Général!F$97,IF($K$5=\"Course 2\",Général!F$99,IF($K$5=\"Course 3\",Général!F$101,Général!#REF!)))","v":"IMT Atlantique Nantes 2"},{"$f":"IF($L$5=\"Course 1\",Général!F$105,IF($L$5=\"Course 2\",Général!$F107,IF($L$5=\"Course 3\",Général!F$109,Général!#REF!)))","v":"HYDRO Sailing Team Le Havre"},{"$f":"IF($M$5=\"Course 1\",Général!F$113,IF($M$5=\"Course 2\",Général!F$115,IF($M$5=\"Course 3\",Général!F$117,Général!#REF!)))","v":"UBS Lorient 1"},{"$f":"IF($N$5=\"Course 1\",Général!F$121,IF($N$5=\"Course 2\",Général!F$123,IF($N$5=\"Course 3\",Général!F$125,Général!#REF!)))","v":"ASUL Lannion"},{"$f":"IF($O$5=\"Course 1\",Général!F$129,IF($O$5=\"Course 2\",Général!F$131,IF($O$5=\"Course 3\",Général!F$133,Général!#REF!)))","v":"Univ. Nantes 1"},{"$f":"IF($P$5=\"Course 1\",Général!F$137,IF($P$5=\"Course 2\",Général!F$139,IF($P$5=\"Course 3\",Général!F$141,Général!#REF!)))","v":"Karlsruhe"},{"$f":"IF($Q$5=\"Course 1\",Général!F$145,IF($Q$5=\"Course 2\",Général!F$147,IF($Q$5=\"Course 3\",Général!F$149,Général!#REF!)))","v":"Univ. La Rochelle"},{"$f":"IF($R$5=\"Course 1\",Général!F$153,IF($R$5=\"Course 2\",Général!F$155,IF($R$5=\"Course 3\",Général!F$157,Général!#REF!)))","v":"ENSTA Paris"},{"$f":"IF($S$5=\"Course 1\",Général!F$161,IF($S$5=\"Course 2\",Général!F$163,IF($S$5=\"Course 3\",Général!F$165,Général!#REF!)))","v":"ASUL Lannion"},{"$f":"IF($T$5=\"Course 1\",Général!F$169,IF($T$5=\"Course 2\",Général!F$171,IF($T$5=\"Course 3\",Général!F$173,Général!#REF!)))","v":"ENSTA Bretagne 1"},null,{"$f":"Général!B14","v":"ENSTA Bretagne 1"},6]
["6ème Equipage",null,{"$f":"IF($C$5=\"Course 1\",Général!G33,IF($C$5=\"Course 2\",Général!G35,IF($C$5=\"Course 3\",Général!G37,Général!#REF!)))","v":"Karlsruhe"},{"$f":"IF($D$5=\"Course 1\",Général!G41,IF($D$5=\"Course 2\",Général!G43,IF($D$5=\"Course 3\",Général!G45,Général!#REF!)))","v":"UBO 1"},{"$f":"IF($E$5=\"Course 1\",Général!G49,IF($E$5=\"Course 2\",Général!G51,IF($E$5=\"Course 3\",Général!G53,Général!#REF!)))","v":"Univ. Nantes 2"},{"$f":"IF($F$5=\"Course 1\",Général!G$57,IF($F$5=\"Course 2\",Général!G$59,IF($F$5=\"Course 3\",Général!G$61,Général!#REF!)))","v":"Dublin"},{"$f":"IF($G$5=\"Course 1\",Général!G$65,IF($G$5=\"Course 2\",Général!G$67,IF($G$5=\"Course 3\",Général!G$69,Général!#REF!)))","v":"UBO 2"},{"$f":"IF($H$5=\"Course 1\",Général!G$73,IF($H$5=\"Course 2\",Général!G$75,IF($H$5=\"Course 3\",Général!G$77,Général!#REF!)))","v":"UBS Lorient 1"},{"$f":"IF($I$5=\"Course 1\",Général!G$81,IF($I$5=\"Course 2\",Général!G$83,IF($I$5=\"Course 3\",Général!G$85,Général!#REF!)))","v":"UNICAEN - ASSUCherbourg"},{"$f":"IF($J$5=\"Course 1\",Général!G$89,IF($J$5=\"Course 2\",Général!G$91,IF($J$5=\"Course 3\",Général!G$93,Général!#REF!)))","v":"Southampton"},{"$f":"IF($K$5=\"Course 1\",Général!G$97,IF($K$5=\"Course 2\",Général!G$99,IF($K$5=\"Course 3\",Général!G$101,Général!#REF!)))","v":"Karlsruhe"},{"$f":"IF($L$5=\"Course 1\",Général!G$105,IF($L$5=\"Course 2\",Général!G$107,IF($L$5=\"Course 3\",Général!G$109,Général!#REF!)))","v":"AS Paris 1 Panthéon Sorbonne"},{"$f":"IF($M$5=\"Course 1\",Général!G$113,IF($M$5=\"Course 2\",Général!G$115,IF($M$5=\"Course 3\",Général!G$117,Général!#REF!)))","v":"Centrales Nantes"},{"$f":"IF($N$5=\"Course 1\",Général!G$121,IF($N$5=\"Course 2\",Général!G$123,IF($N$5=\"Course 3\",Général!G$125,Général!#REF!)))","v":"EGSI La Rochelle"},{"$f":"IF($O$5=\"Course 1\",Général!G$129,IF($O$5=\"Course 2\",Général!G$131,IF($O$5=\"Course 3\",Général!G$133,Général!#REF!)))","v":"IMT Atlantique Brest"},{"$f":"IF($P$5=\"Course 1\",Général!G$137,IF($P$5=\"Course 2\",Général!G$139,IF($P$5=\"Course 3\",Général!G$141,Général!#REF!)))","v":"HYDRO Sailing Team Le Havre"},{"$f":"IF($Q$5=\"Course 1\",Général!G$145,IF($Q$5=\"Course 2\",Général!G$147,IF($Q$5=\"Course 3\",Général!G$149,Général!#REF!)))","v":"Dublin"},{"$f":"IF($R$5=\"Course 1\",Général!G$153,IF($R$5=\"Course 2\",Général!G$155,IF($R$5=\"Course 3\",Général!G$157,Général!#REF!)))","v":"Univ. La Rochelle"},{"$f":"IF($S$5=\"Course 1\",Général!G$161,IF($S$5=\"Course 2\",Général!G$163,IF($S$5=\"Course 3\",Général!G$165,Général!#REF!)))","v":"EGSI La Rochelle"},{"$f":"IF($T$5=\"Course 1\",Général!G$169,IF($T$5=\"Course 2\",Général!G$171,IF($T$5=\"Course 3\",Général!G$173,Général!#REF!)))","v":"EGSI La Rochelle"},null,{"$f":"Général!B15","v":"ASUL Lannion"},6]
["7ème Equipage",null,{"$f":"IF($C$5=\"Course 1\",Général!H33,IF($C$5=\"Course 2\",Général!H35,IF($C$5=\"Course 3\",Général!H37,Général!#REF!)))","v":"Univ. La Rochelle"},{"$f":"IF($D$5=\"Course 1\",Général!H41,IF($D$5=\"Course 2\",Général!H43,IF($D$5=\"Course 3\",Général!H45,Général!#REF!)))","v":"EGSI La Rochelle"},{"$f":"IF($E$5=\"Course 1\",Général!H49,IF($E$5=\"Course 2\",Général!H51,IF($E$5=\"Course 3\",Général!H53,Général!#REF!)))","v":"UBO 1"},{"$f":"IF($F$5=\"Course 1\",Général!H$57,IF($F$5=\"Course 2\",Général!H$59,IF($F$5=\"Course 3\",Général!H$61,Général!#REF!)))","v":"UBS Lorient 2"},{"$f":"IF($G$5=\"Course 1\",Général!H$65,IF($G$5=\"Course 2\",Général!H$67,IF($G$5=\"Course 3\",Général!H$69,Général!#REF!)))","v":"Southampton"},{"$f":"IF($H$5=\"Course 1\",Général!H$73,IF($H$5=\"Course 2\",Général!H$75,IF($H$5=\"Course 3\",Général!H$77,Général!#REF!)))","v":"Univ. Nantes 1"},{"$f":"IF($I$5=\"Course 1\",Général!H$81,IF($I$5=\"Course 2\",Général!H$83,IF($I$5=\"Course 3\",Général!H$85,Général!#REF!)))","v":"HYDRO Sailing Team Le Havre"},{"$f":"IF($J$5=\"Course 1\",Général!H$89,IF($J$5=\"Course 2\",Général!H$91,IF($J$5=\"Course 3\",Général!H$93,Général!#REF!)))","v":"Centrales Nantes"},{"$f":"IF($K$5=\"Course 1\",Général!H$97,IF($K$5=\"Course 2\",Général!H$99,IF($K$5=\"Course 3\",Général!H$101,Général!#REF!)))","v":"ENSTA Bretagne 2"},{"$f":"IF($L$5=\"Course 1\",Général!H$105,IF($L$5=\"Course 2\",Général!H$107,IF($L$5=\"Course 3\",Général!H$109,Général!#REF!)))","v":"Univ.Orléans"},{"$f":"IF($M$5=\"Course 1\",Général!H$113,IF($M$5=\"Course 2\",Général!H$115,IF($M$5=\"Course 3\",Général!H$117,Général!#REF!)))","v":"EGSI La Rochelle"},{"$f":"IF($N$5=\"Course 1\",Général!H$121,IF($N$5=\"Course 2\",Général!H$123,IF($N$5=\"Course 3\",Général!H$125,Général!#REF!)))","v":"UNICAEN - ASSUCherbourg"},{"$f":"IF($O$5=\"Course 1\",Général!H$129,IF($O$5=\"Course 2\",Général!H$131,IF($O$5=\"Course 3\",Général!H$133,Général!#REF!)))","v":"ENSTA Paris"},{"$f":"IF($P$5=\"Course 1\",Général!H$137,IF($P$5=\"Course 2\",Général!H$139,IF($P$5=\"Course 3\",Général!H$141,Général!#REF!)))","v":"Dublin"},{"$f":"IF($Q$5=\"Course 1\",Général!H$145,IF($Q$5=\"Course 2\",Général!H$147,IF($Q$5=\"Course 3\",Général!H$149,Général!#REF!)))","v":"ASUL Lannion"},{"$f":"IF($R$5=\"Course 1\",Général!H$153,IF($R$5=\"Course 2\",Général!H$155,IF($R$5=\"Course 3\",Général!H$157,Général!#REF!)))","v":"Hannovre"},{"$f":"IF($S$5=\"Course 1\",Général!H$161,IF($S$5=\"Course 2\",Général!H$163,IF($S$5=\"Course 3\",Général!H$165,Général!#REF!)))","v":"UBS Lorient 1"},{"$f":"IF($T$5=\"Course 1\",Général!H$169,IF($T$5=\"Course 2\",Général!H$171,IF($T$5=\"Course 3\",Général!H$173,Général!#REF!)))","v":"UBS Lorient 1"},null,{"$f":"Général!B16","v":"ENSTA Paris"},4]
["8ème Equipage",null,{"$f":"IF($C$5=\"Course 1\",Général!I33,IF($C$5=\"Course 2\",Général!I35,IF($C$5=\"Course 3\",Général!I37,Général!#REF!)))","v":"Univ. Nantes 3"},{"$f":"IF($D$5=\"Course 1\",Général!I41,IF($D$5=\"Course 2\",Général!I43,IF($D$5=\"Course 3\",Général!I45,Général!#REF!)))","v":"ENSTA Bretagne 1"},{"$f":"IF($E$5=\"Course 1\",Général!I49,IF($E$5=\"Course 2\",Général!I51,IF($E$5=\"Course 3\",Général!I53,Général!#REF!)))","v":"EGSI La Rochelle"},{"$f":"IF($F$5=\"Course 1\",Général!I$57,IF($F$5=\"Course 2\",Général!I$59,IF($F$5=\"Course 3\",Général!I$61,Général!#REF!)))","v":"EGSI La Rochelle"},{"$f":"IF($G$5=\"Course 1\",Général!I$65,IF($G$5=\"Course 2\",Général!I$67,IF($G$5=\"Course 3\",Général!I$69,Général!#REF!)))","v":"HYDRO Sailing Team Le Havre"},{"$f":"IF($H$5=\"Course 1\",Général!I$73,IF($H$5=\"Course 2\",Général!I$75,IF($H$5=\"Course 3\",Général!I$77,Général!#REF!)))","v":"UBO 1"},{"$f":"IF($I$5=\"Course 1\",Général!I$81,IF($I$5=\"Course 2\",Général!I$83,IF($I$5=\"Course 3\",Général!I$85,Général!#REF!)))","v":"UBO 1"},{"$f":"IF($J$5=\"Course 1\",Général!I$89,IF($J$5=\"Course 2\",Général!I$91,IF($J$5=\"Course 3\",Général!I$93,Général!#REF!)))","v":"UBS Lorient 2"},{"$f":"IF($K$5=\"Course 1\",Général!I$97,IF($K$5=\"Course 2\",Général!I$99,IF($K$5=\"Course 3\",Général!I$101,Général!#REF!)))","v":"Hannovre"},{"$f":"IF($L$5=\"Course 1\",Général!I$105,IF($L$5=\"Course 2\",Général!I$107,IF($L$5=\"Course 3\",Général!I$109,Général!#REF!)))","v":"EGSI La Rochelle"},{"$f":"IF($M$5=\"Course 1\",Général!I$113,IF($M$5=\"Course 2\",Général!I$115,IF($M$5=\"Course 3\",Général!I$117,Général!#REF!)))","v":"IMT Atlantique Nantes 2"},{"$f":"IF($N$5=\"Course 1\",Général!I$121,IF($N$5=\"Course 2\",Général!I$123,IF($N$5=\"Course 3\",Général!I$125,Général!#REF!)))","v":"UBO 2"},{"$f":"IF($O$5=\"Course 1\",Général!I$129,IF($O$5=\"Course 2\",Général!I$131,IF($O$5=\"Course 3\",Général!I$133,Général!#REF!)))","v":"Dublin"},{"$f":"IF($P$5=\"Course 1\",Général!I$137,IF($P$5=\"Course 2\",Général!I$139,IF($P$5=\"Course 3\",Général!I$141,Général!#REF!)))","v":"Univ. Nantes 2"},{"$f":"IF($Q$5=\"Course 1\",Général!I$145,IF($Q$5=\"Course 2\",Général!I$147,IF($Q$5=\"Course 3\",Général!I$149,Général!#REF!)))","v":"AS Paris 1 Panthéon Sorbonne"},{"$f":"IF($R$5=\"Course 1\",Général!I$153,IF($R$5=\"Course 2\",Général!I$155,IF($R$5=\"Course 3\",Général!I$157,Général!#REF!)))","v":"ENSTA Bretagne 2"},{"$f":"IF($S$5=\"Course 1\",Général!I$161,IF($S$5=\"Course 2\",Général!I$163,IF($S$5=\"Course 3\",Général!I$165,Général!#REF!)))","v":"Hannovre"},{"$f":"IF($T$5=\"Course 1\",Général!I$169,IF($T$5=\"Course 2\",Général!I$171,IF($T$5=\"Course 3\",Général!I$173,Général!#REF!)))","v":"Karlsruhe"},null,{"$f":"Général!B17","v":"IMT Atlantique Brest"},5]
["9ème Equipage",null,{"$f":"IF($C$5=\"Course 1\",Général!J33,IF($C$5=\"Course 2\",Général!J35,IF($C$5=\"Course 3\",Général!J37,Général!#REF!)))","v":"UBO 1"},{"$f":"IF($D$5=\"Course 1\",Général!J41,IF($D$5=\"Course 2\",Général!J43,IF($D$5=\"Course 3\",Général!J45,Général!#REF!)))","v":"Univ. La Rochelle"},{"$f":"IF($E$5=\"Course 1\",Général!J49,IF($E$5=\"Course 2\",Général!J51,IF($E$5=\"Course 3\",Général!J53,Général!#REF!)))","v":"Hambourg"},{"$f":"IF($F$5=\"Course 1\",Général!J$57,IF($F$5=\"Course 2\",Général!J$59,IF($F$5=\"Course 3\",Général!J$61,Général!#REF!)))","v":"Univ. Nantes 1"},{"$f":"IF($G$5=\"Course 1\",Général!J$65,IF($G$5=\"Course 2\",Général!J$67,IF($G$5=\"Course 3\",Général!J$69,Général!#REF!)))","v":"ENSTA Bretagne 1"},{"$f":"IF($H$5=\"Course 1\",Général!J$73,IF($H$5=\"Course 2\",Général!J$75,IF($H$5=\"Course 3\",Général!$J77,Général!#REF!)))","v":"AS Paris 1 Panthéon Sorbonne"},{"$f":"IF($I$5=\"Course 1\",Général!J$81,IF($I$5=\"Course 2\",Général!J$83,IF($I$5=\"Course 3\",Général!J$85,Général!#REF!)))","v":"ENSTA Bretagne 2"},{"$f":"IF($J$5=\"Course 1\",Général!J$89,IF($J$5=\"Course 2\",Général!J$91,IF($J$5=\"Course 3\",Général!J$93,Général!#REF!)))","v":"Univ. Nantes 3"},{"$f":"IF($K$5=\"Course 1\",Général!J$97,IF($K$5=\"Course 2\",Général!J$99,IF($K$5=\"Course 3\",Général!J$101,Général!#REF!)))","v":"UNICAEN - ASSUCherbourg"},{"$f":"IF($L$5=\"Course 1\",Général!J$105,IF($L$5=\"Course 2\",Général!J$107,IF($L$5=\"Course 3\",Général!J$109,Général!#REF!)))","v":"Hannovre"},{"$f":"IF($M$5=\"Course 1\",Général!J$113,IF($M$5=\"Course 2\",Général!J$115,IF($M$5=\"Course 3\",Général!J$117,Général!#REF!)))","v":"UBS Lorient 2"},{"$f":"IF($N$5=\"Course 1\",Général!J$121,IF($N$5=\"Course 2\",Général!J$123,IF($N$5=\"Course 3\",Général!J$125,Général!#REF!)))","v":"ENSTA Bretagne 1"},{"$f":"IF($O$5=\"Course 1\",Général!J$129,IF($O$5=\"Course 2\",Général!J$131,IF($O$5=\"Course 3\",Général!J$133,Général!#REF!)))","v":"ENSTA Bretagne 1"},{"$f":"IF($P$5=\"Course 1\",Général!J$137,IF($P$5=\"Course 2\",Général!J$139,IF($P$5=\"Course 3\",Général!J$141,Général!#REF!)))","v":"UNICAEN - ASSUCherbourg"},{"$f":"IF($Q$5=\"Course 1\",Général!J$145,IF($Q$5=\"Course 2\",Général!J$147,IF($Q$5=\"Course 3\",Général!J$149,Général!#REF!)))","v":"Univ. Nantes 3"},{"$f":"IF($R$5=\"Course 1\",Général!J$153,IF($R$5=\"Course 2\",Général!J$155,IF($R$5=\"Course 3\",Général!J$157,Général!#REF!)))","v":"EGSI La Rochelle"},{"$f":"IF($S$5=\"Course 1\",Général!J$161,IF($S$5=\"Course 2\",Général!J$163,IF($S$5=\"Course 3\",Général!J$165,Général!#REF!)))","v":"Univ. La Rochelle"},{"$f":"IF($T$5=\"Course 1\",Général!J$169,IF($T$5=\"Course 2\",Général!J$171,IF($T$5=\"Course 3\",Général!J$173,Général!#REF!)))","v":"IMT Atlantique Nantes 1"},null,{"$f":"Général!B18","v":"UBO 2"},6]
[null,null,null,null,null,null,null,null,null,null,null,null,null,null,null,null,null,null,null,null,null,{"$f":"Général!B19","v":"Dublin"},6]
[null,null,null,null,null,null,null,null,null,null,null,null,null,null,null,null,null,null,null,null,null,{"$f":"Général!B20","v":"Univ. Nantes 2"},5]
[null,null,null,null,null,null,null,null,null,null,null,null,null,null,null,null,null,null,null,null,null,{"$f":"Général!B21","v":"UBS Lorient 1"},6]
[null,null,null,null,null,null,null,null,null,null,null,null,null,null,null,null,null,null,null,null,null,{"$f":"Général!B22","v":"UBS Lorient 2"},5]
[null,null,null,null,null,null,null,null,null,null,null,null,null,null,null,null,null,null,null,null,null,{"$f":"Général!B23","v":"Univ.Orléans"},6]
[null,null,null,null,null,null,null,null,null,null,null,null,null,null,null,null,null,null,null,null,null,{"$f":"Général!B24","v":"Univ. La Rochelle"},6]
[null,null,null,null,null,null,null,null,null,null,null,null,null,null,null,null,null,null,null,null,null,{"$f":"Général!B25","v":"AS UB St Brieuc"},4]
[null,null,null,null,null,null,null,null,null,null,null,null,null,null,null,null,null,null,null,null,null,{"$f":"Général!B26","v":"Karlsruhe"},7]
[null,null,null,null,null,null,null,null,null,null,null,null,null,null,null,null,null,null,null,null,null,{"$f":"Général!B27","v":"Univ. Nantes 3"},6]
[null,null,null,null,null,null,null,null,null,null,null,null,null,null,null,null,null,null,null,null,null,{"$f":"Général!B28","v":"Centrales Nantes"},7]
[null,null,null,null,null,null,null,null,null,null,null,null,null,null,null,null,null,null,null,null,null,{"$f":"Général!B29","v":"Southampton"},5]
[null,null,null,null,null,null,null,null,null,null,null,null,null,null,null,null,null,null,null,null,null,{"$f":"Général!#REF!","v":{"$error":"#REF!"}},0]
[null,null,null,null,null,null,null,null,null,null,null,null,null,null,null,null,null,null,null,null,null,{"$f":"Général!#REF!","v":{"$error":"#REF!"}},0]
[null,null,null,null,null,null,null,null,null,null,null,null,null,null,null,null,null,null,null,null,null,{"$f":"Général!#REF!","v":{"$error":"#REF!"}},0]
[null,null,null,null,null,null,null,null,null,null,null,null,null,null,null,null,null,null,null,null,null,{"$f":"Général!#REF!","v":{"$error":"#REF!"}},0]
[null,null,null,null,null,null,null,null,null,null,null,null,null,null,null,null,null,null,null,null,null,{"$f":"Général!#REF!","v":{"$error":"#REF!"}},0]

{"sheet":"Eq.9","index":13,"n_rows":32,"n_cols":23,"rows_kept":32,"cut":false,"hidden":false,"merged":[[14,0,14,1],[15,0,15,1],[8,0,8,1],[9,0,9,1],[10,0,10,1],[11,0,11,1],[12,0,12,1],[13,0,13,1],[7,0,7,1],[0,0,1,5],[0,6,1,10],[3,0,3,1],[4,0,4,1],[5,0,5,1]]}
["Equipage ",null,null,null,null,null,{"$f":"Général!B11","v":"HYDRO Sailing Team Le Havre"},null,null,null,null,null,null,null,null,null,null,null,null,null,null,{"$f":"Général!B3","v":"Univ. Nantes 1"},{"$f":"COUNTIF(C$8:T$16,V1)","v":7}]
[null,null,null,null,null,null,null,null,null,null,null,null,null,null,null,null,null,null,null,null,null,{"$f":"Général!B4","v":"AS Paris 1 Panthéon Sorbonne"},{"$f":"COUNTIF($C$8:$T$16,V2)","v":6}]
[null,null,null,null,null,null,null,null,null,null,null,null,null,null,null,null,null,null,null,null,null,{"$f":"Général!B5","v":"Hannovre"},{"$f":"COUNTIF($C$8:$T$16,V3)","v":6}]
[null,null,"FLIGHT 1","FLIGHT 2","FLIGHT 3","FLIGHT 4","FLIGHT 5","FLIGHT 6","FLIGHT 7","FLIGHT 8","FLIGHT 9","FLIGHT 10","FLIGHT 11","FLIGHT 12","FLIGHT 13","FLIGHT 14","FLIGHT 15","FLIGHT 16","FLIGHT 17","FLIGHT 18",null,{"$f":"Général!B6","v":"IMT Atlantique Nantes 1"},6]
["N° de course",null,{"$f":"IF(COUNTIF(Général!B33:J33,$G$1)=1,\"Course 1\",IF(COUNTIF(Général!B35:J35,$G$1)=1,\"Course 2\",IF(COUNTIF(Général!B37:J37,$G$1)=1,\"Course 3\",\"Course 4\")))","v":"Course 3"},{"$f":"IF(COUNTIF(Général!B41:J41,$G$1)=1,\"Course 1\",IF(COUNTIF(Général!B43:J43,$G$1)=1,\"Course 2\",IF(COUNTIF(Général!B45:J45,$G$1)=1,\"Course 3\",\"Course 4\")))","v":"Course 3"},{"$f":"IF(COUNTIF(Général!B49:J49,$G$1)=1,\"Course 1\",IF(COUNTIF(Général!B51:J51,$G$1)=1,\"Course 2\",IF(COUNTIF(Général!B53:J53,$G$1)=1,\"Course 3\",\"Course 4\")))","v":"Course 1"},{"$f":"IF(COUNTIF(Général!B57:J57,$G$1)=1,\"Course 1\",IF(COUNTIF(Général!B59:J59,$G$1)=1,\"Course 2\",IF(COUNTIF(Général!B61:J61,$G$1)=1,\"Course 3\",\"Course 4\")))","v":"Course 3"},{"$f":"IF(COUNTIF(Général!B65:J65,$G$1)=1,\"Course 1\",IF(COUNTIF(Général!B67:J67,$G$1)=1,\"Course 2\",IF(COUNTIF(Général!B69:J69,$G$1)=1,\"Course 3\",\"Course 4\")))","v":"Course 2"},{"$f":"IF(COUNTIF(Général!B73:J73,$G$1)=1,\"Course 1\",IF(COUNTIF(Général!B75:J75,$G$1)=1,\"Course 2\",IF(COUNTIF(Général!B77:J77,$G$1)=1,\"Course 3\",\"Course 4\")))","v":"Course 1"},{"$f":"IF(COUNTIF(Général!B81:J81,$G$1)=1,\"Course 1\",IF(COUNTIF(Général!B83:J83,$G$1)=1,\"Course 2\",IF(COUNTIF(Général!B85:J85,$G$1)=1,\"Course 3\",\"Course 4\")))","v":"Course 2"},{"$f":"IF(COUNTIF(Général!B89:J89,$G$1)=1,\"Course 1\",IF(COUNTIF(Général!B91:J91,$G$1)=1,\"Course 2\",IF(COUNTIF(Général!B93:J93,$G$1)=1,\"Course 3\",\"Course 4\")))","v":"Course 3"},{"$f":"IF(COUNTIF(Général!B97:J97,$G$1)=1,\"Course 1\",IF(COUNTIF(Général!B99:J99,$G$1)=1,\"Course 2\",IF(COUNTIF(Général!B101:J101,$G$1)=1,\"Course 3\",\"Course 4\")))","v":"Course 1"},{"$f":"IF(COUNTIF(Général!B105:J105,$G$1)=1,\"Course 1\",IF(COUNTIF(Général!B107:J107,$G$1)=1,\"Course 2\",IF(COUNTIF(Général!B109:J109,$G$1)=1,\"Course 3\",\"Course 4\")))","v":"Course 2"},{"$f":"IF(COUNTIF(Général!B113:J113,$G$1)=1,\"Course 1\",IF(COUNTIF(Général!B115:J115,$G$1)=1,\"Course 2\",IF(COUNTIF(Général!B117:J117,$G$1)=1,\"Course 3\",\"Course 4\")))","v":"Course 2"},{"$f":"IF(COUNTIF(Général!B121:J121,$G$1)=1,\"Course 1\",IF(COUNTIF(Général!B123:J123,$G$1)=1,\"Course 2\",IF(COUNTIF(Général!B125:J125,$G$1)=1,\"Course 3\",\"Course 4\")))","v":"Course 1"},{"$f":"IF(COUNTIF(Général!B129:J129,$G$1)=1,\"Course 1\",IF(COUNTIF(Général!B131:J131,$G$1)=1,\"Course 2\",IF(COUNTIF(Général!B133:J133,$G$1)=1,\"Course 3\",\"Course 4\")))","v":"Course 2"},{"$f":"IF(COUNTIF(Général!B137:J137,$G$1)=1,\"Course 1\",IF(COUNTIF(Général!B139:J139,$G$1)=1,\"Course 2\",IF(COUNTIF(Général!B141:J141,$G$1)=1,\"Course 3\",\"Course 4\")))","v":"Course 1"},{"$f":"IF(COUNTIF(Général!B145:J145,$G$1)=1,\"Course 1\",IF(COUNTIF(Général!B147:J147,$G$1)=1,\"Course 2\",IF(COUNTIF(Général!B149:J149,$G$1)=1,\"Course 3\",\"Course 4\")))","v":"Course 1"},{"$f":"IF(COUNTIF(Général!B153:J153,$G$1)=1,\"Course 1\",IF(COUNTIF(Général!B155:J155,$G$1)=1,\"Course 2\",IF(COUNTIF(Général!B157:J157,$G$1)=1,\"Course 3\",\"Course 4\")))","v":"Course 1"},{"$f":"IF(COUNTIF(Général!B161:J161,$G$1)=1,\"Course 1\",IF(COUNTIF(Général!B163:J163,$G$1)=1,\"Course 2\",IF(COUNTIF(Général!B165:J165,$G$1)=1,\"Course 3\",\"Course 4\")))","v":"Course 2"},{"$f":"IF(COUNTIF(Général!B169:J169,$G$1)=1,\"Course 1\",IF(COUNTIF(Général!B171:J171,$G$1)=1,\"Course 2\",IF(COUNTIF(Général!B173:J173,$G$1)=1,\"Course 3\",\"Course 4\")))","v":"Course 1"},null,{"$f":"Général!B7","v":"ENSTA Bretagne 2"},5]
["Bateau",null,{"$f":"IF(COUNTIF(Général!B33:B38,$G$1)=1,\"Boat 1\",IF(COUNTIF(Général!C33:C38,$G$1)=1,\"Boat 2\",IF(COUNTIF(Général!D33:D38,$G$1)=1,\"Boat 3\", IF(COUNTIF(Général!E33:E38,$G$1)=1,\"Boat 4\", IF(COUNTIF(Général!F33:F38,$G$1)=1,\"Boat 5\", IF(COUNTIF(Général!G33:G38,$G$1)=1,\"Boat 6\", IF(COUNTIF(Général!H33:H38,$G$1)=1,\"Boat 7\",IF(COUNTIF(Général!I33:I38,$G$1)=1,\"Boat 8\",\"Boat 9\"))))))))","v":"Boat 6"},{"$f":"IF(COUNTIF(Général!B41:B46,$G$1)=1,\"Boat 1\",IF(COUNTIF(Général!C41:C46,$G$1)=1,\"Boat 2\",IF(COUNTIF(Général!D41:D46,$G$1)=1,\"Boat 3\", IF(COUNTIF(Général!E41:E46,$G$1)=1,\"Boat 4\", IF(COUNTIF(Général!F41:F46,$G$1)=1,\"Boat 5\", IF(COUNTIF(Général!G41:G46,$G$1)=1,\"Boat 6\", IF(COUNTIF(Général!H41:H46,$G$1)=1,\"Boat 7\",IF(COUNTIF(Général!I33:I38,$G$1)=1,\"Boat 8\",\"Boat 9\"))))))))","v":"Boat 3"},{"$f":"IF(COUNTIF(Général!B49:B54,$G$1)=1,\"Boat 1\",IF(COUNTIF(Général!C49:C54,$G$1)=1,\"Boat 2\",IF(COUNTIF(Général!D49:D54,$G$1)=1,\"Boat 3\", IF(COUNTIF(Général!E49:E54,$G$1)=1,\"Boat 4\", IF(COUNTIF(Général!F49:F54,$G$1)=1,\"Boat 5\", IF(COUNTIF(Général!G49:G54,$G$1)=1,\"Boat 6\", IF(COUNTIF(Général!H49:H54,$G$1)=1,\"Boat 7\",IF(COUNTIF(Général!I33:I38,$G$1)=1,\"Boat 8\",\"Boat 9\"))))))))","v":"Boat 3"},{"$f":"IF(COUNTIF(Général!B57:B62,$G$1)=1,\"Boat 1\",IF(COUNTIF(Général!C57:C62,$G$1)=1,\"Boat 2\",IF(COUNTIF(Général!D57:D62,$G$1)=1,\"Boat 3\", IF(COUNTIF(Général!E57:E62,$G$1)=1,\"Boat 4\", IF(COUNTIF(Général!F57:F62,$G$1)=1,\"Boat 5\", IF(COUNTIF(Général!G57:G62,$G$1)=1,\"Boat 6\", IF(COUNTIF(Général!H57:H62,$G$1)=1,\"Boat 7\",IF(COUNTIF(Général!I33:I38,$G$1)=1,\"Boat 8\",\"Boat 9\"))))))))","v":"Boat 9"},{"$f":"IF(COUNTIF(Général!B65:B70,$G$1)=1,\"Boat 1\",IF(COUNTIF(Général!C65:C70,$G$1)=1,\"Boat 2\",IF(COUNTIF(Général!D65:D70,$G$1)=1,\"Boat 3\", IF(COUNTIF(Général!E65:E70,$G$1)=1,\"Boat 4\", IF(COUNTIF(Général!F65:F70,$G$1)=1,\"Boat 5\", IF(COUNTIF(Général!G65:G70,$G$1)=1,\"Boat 6\", IF(COUNTIF(Général!H65:H70,$G$1)=1,\"Boat 7\",IF(COUNTIF(Général!I33:I38,$G$1)=1,\"Boat 8\",\"Boat 9\"))))))))","v":"Boat 9"},{"$f":"IF(COUNTIF(Général!B73:B78,$G$1)=1,\"Boat 1\",IF(COUNTIF(Général!C73:C78,$G$1)=1,\"Boat 2\",IF(COUNTIF(Général!D73:D78,$G$1)=1,\"Boat 3\", IF(COUNTIF(Général!E73:E78,$G$1)=1,\"Boat 4\", IF(COUNTIF(Général!F73:F78,$G$1)=1,\"Boat 5\", IF(COUNTIF(Général!G73:G78,$G$1)=1,\"Boat 6\", IF(COUNTIF(Général!H73:H78,$G$1)=1,\"Boat 7\",IF(COUNTIF(Général!I33:I38,$G$1)=1,\"Boat 8\",\"Boat 9\"))))))))","v":"Boat 4"},{"$f":"IF(COUNTIF(Général!B81:B86,$G$1)=1,\"Boat 1\",IF(COUNTIF(Général!C81:C86,$G$1)=1,\"Boat 2\",IF(COUNTIF(Général!D81:D86,$G$1)=1,\"Boat 3\", IF(COUNTIF(Général!E81:E86,$G$1)=1,\"Boat 4\", IF(COUNTIF(Général!F81:F86,$G$1)=1,\"Boat 5\", IF(COUNTIF(Général!G81:G86,$G$1)=1,\"Boat 6\", IF(COUNTIF(Général!H81:H86,$G$1)=1,\"Boat 7\",IF(COUNTIF(Général!I33:I38,$G$1)=1,\"Boat 8\",\"Boat 9\"))))))))","v":"Boat 7"},{"$f":"IF(COUNTIF(Général!B89:B94,$G$1)=1,\"Boat 1\",IF(COUNTIF(Général!C89:C94,$G$1)=1,\"Boat 2\",IF(COUNTIF(Général!D89:D94,$G$1)=1,\"Boat 3\", IF(COUNTIF(Général!E89:E94,$G$1)=1,\"Boat 4\", IF(COUNTIF(Général!F89:F94,$G$1)=1,\"Boat 5\", IF(COUNTIF(Général!G89:G94,$G$1)=1,\"Boat 6\", IF(COUNTIF(Général!H89:H94,$G$1)=1,\"Boat 7\",IF(COUNTIF(Général!I33:I38,$G$1)=1,\"Boat 8\",\"Boat 9\"))))))))","v":"Boat 9"},{"$f":"IF(COUNTIF(Général!B97:B102,$G$1)=1,\"Boat 1\",IF(COUNTIF(Général!C97:C102,$G$1)=1,\"Boat 2\",IF(COUNTIF(Général!D97:D102,$G$1)=1,\"Boat 3\", IF(COUNTIF(Général!E97:E102,$G$1)=1,\"Boat 4\", IF(COUNTIF(Général!F97:F102,$G$1)=1,\"Boat 5\", IF(COUNTIF(Général!G97:G102,$G$1)=1,\"Boat 6\", IF(COUNTIF(Général!H97:H102,$G$1)=1,\"Boat 7\",IF(COUNTIF(Général!I33:I38,$G$1)=1,\"Boat 8\",\"Boat 9\"))))))))","v":"Boat 9"},{"$f":"IF(COUNTIF(Général!B105:B110,$G$1)=1,\"Boat 1\",IF(COUNTIF(Général!C105:C110,$G$1)=1,\"Boat 2\",IF(COUNTIF(Général!D105:D110,$G$1)=1,\"Boat 3\", IF(COUNTIF(Général!E105:E110,$G$1)=1,\"Boat 4\", IF(COUNTIF(Général!F105:F110,$G$1)=1,\"Boat 5\", IF(COUNTIF(Général!G105:G110,$G$1)=1,\"Boat 6\", IF(COUNTIF(Général!H105:H110,$G$1)=1,\"Boat 7\",IF(COUNTIF(Général!I33:I38,$G$1)=1,\"Boat 8\",\"Boat 9\"))))))))","v":"Boat 5"},{"$f":"IF(COUNTIF(Général!B113:B118,$G$1)=1,\"Boat 1\",IF(COUNTIF(Général!C113:C118,$G$1)=1,\"Boat 2\",IF(COUNTIF(Général!C113:D118,$G$1)=1,\"Boat 3\", IF(COUNTIF(Général!C113:E118,$G$1)=1,\"Boat 4\", IF(COUNTIF(Général!F113:F118,$G$1)=1,\"Boat 5\", IF(COUNTIF(Général!G113:G118,$G$1)=1,\"Boat 6\", IF(COUNTIF(Général!H113:H118,$G$1)=1,\"Boat 7\",IF(COUNTIF(Général!I33:I38,$G$1)=1,\"Boat 8\",\"Boat 9\"))))))))","v":"Boat 5"},{"$f":"IF(COUNTIF(Général!B121:B126,$G$1)=1,\"Boat 1\",IF(COUNTIF(Général!C121:C126,$G$1)=1,\"Boat 2\",IF(COUNTIF(Général!D121:D126,$G$1)=1,\"Boat 3\", IF(COUNTIF(Général!E121:E126,$G$1)=1,\"Boat 4\", IF(COUNTIF(Général!F121:F126,$G$1)=1,\"Boat 5\", IF(COUNTIF(Général!G121:G126,$G$1)=1,\"Boat 6\", IF(COUNTIF(Général!H121:H126,$G$1)=1,\"Boat 7\",IF(COUNTIF(Général!I33:I38,$G$1)=1,\"Boat 8\",\"Boat 9\"))))))))","v":"Boat 2"},{"$f":"IF(COUNTIF(Général!B129:B134,$G$1)=1,\"Boat 1\",IF(COUNTIF(Général!C129:C134,$G$1)=1,\"Boat 2\",IF(COUNTIF(Général!D131:D134,$G$1)=1,\"Boat 3\", IF(COUNTIF(Général!E129:E134,$G$1)=1,\"Boat 4\", IF(COUNTIF(Général!F129:F134,$G$1)=1,\"Boat 5\", IF(COUNTIF(Général!G129:G134,$G$1)=1,\"Boat 6\", IF(COUNTIF(Général!H129:H134,$G$1)=1,\"Boat 7\",IF(COUNTIF(Général!I33:I38,$G$1)=1,\"Boat 8\",\"Boat 9\"))))))))","v":"Boat 2"},{"$f":"IF(COUNTIF(Général!B137:B142,$G$1)=1,\"Boat 1\",IF(COUNTIF(Général!C137:C142,$G$1)=1,\"Boat 2\",IF(COUNTIF(Général!D137:D142,$G$1)=1,\"Boat 3\", IF(COUNTIF(Général!E137:E142,$G$1)=1,\"Boat 4\", IF(COUNTIF(Général!F145:F150,$G$1)=1,\"Boat 5\", IF(COUNTIF(Général!G145:G150,$G$1)=1,\"Boat 6\", IF(COUNTIF(Général!H145:H150,$G$1)=1,\"Boat 7\",IF(COUNTIF(Général!I33:I38,$G$1)=1,\"Boat 8\",\"Boat 9\"))))))))","v":"Boat 7"},{"$f":"IF(COUNTIF(Général!B145:B150,$G$1)=1,\"Boat 1\",IF(COUNTIF(Général!C145:C150,$G$1)=1,\"Boat 2\",IF(COUNTIF(Général!D145:D150,$G$1)=1,\"Boat 3\", IF(COUNTIF(Général!E145:E150,$G$1)=1,\"Boat 4\", IF(COUNTIF(Général!F145:F150,$G$1)=1,\"Boat 5\", IF(COUNTIF(Général!G145:G150,$G$1)=1,\"Boat 6\", IF(COUNTIF(Général!H145:H150,$G$1)=1,\"Boat 7\",IF(COUNTIF(Général!I33:I38,$G$1)=1,\"Boat 8\",\"Boat 9\"))))))))","v":"Boat 7"},{"$f":"IF(COUNTIF(Général!B153:B158,$G$1)=1,\"Boat 1\",IF(COUNTIF(Général!C153:C158,$G$1)=1,\"Boat 2\",IF(COUNTIF(Général!D153:D158,$G$1)=1,\"Boat 3\", IF(COUNTIF(Général!E153:E158,$G$1)=1,\"Boat 4\", IF(COUNTIF(Général!F153:F158,$G$1)=1,\"Boat 5\", IF(COUNTIF(Général!G153:G158,$G$1)=1,\"Boat 6\", IF(COUNTIF(Général!H153:H158,$G$1)=1,\"Boat 7\",IF(COUNTIF(Général!I33:I38,$G$1)=1,\"Boat 8\",\"Boat 9\"))))))))","v":"Boat 1"},{"$f":"IF(COUNTIF(Général!B161:B166,$G$1)=1,\"Boat 1\",IF(COUNTIF(Général!C161:C166,$G$1)=1,\"Boat 2\",IF(COUNTIF(Général!D161:D166,$G$1)=1,\"Boat 3\", IF(COUNTIF(Général!E161:E166,$G$1)=1,\"Boat 4\", IF(COUNTIF(Général!F161:F166,$G$1)=1,\"Boat 5\", IF(COUNTIF(Général!G161:G166,$G$1)=1,\"Boat 6\", IF(COUNTIF(Général!H161:H166,$G$1)=1,\"Boat 7\",IF(COUNTIF(Général!I33:I38,$G$1)=1,\"Boat 8\",\"Boat 9\"))))))))","v":"Boat 3"},{"$f":"IF(COUNTIF(Général!B169:B174,$G$1)=1,\"Boat 1\",IF(COUNTIF(Général!C169:C174,$G$1)=1,\"Boat 2\",IF(COUNTIF(Général!D169:D174,$G$1)=1,\"Boat 3\", IF(COUNTIF(Général!E169:E174,$G$1)=1,\"Boat 4\", IF(COUNTIF(Général!F169:F174,$G$1)=1,\"Boat 5\", IF(COUNTIF(Général!G169:G174,$G$1)=1,\"Boat 6\", IF(COUNTIF(Général!H169:H174,$G$1)=1,\"Boat 7\",IF(COUNTIF(Général!I33:I38,$G$1)=1,\"Boat 8\",\"Boat 9\"))))))))","v":"Boat 1"},null,{"$f":"Général!B8","v":"IMT Atlantique Nantes 2"},5]
[null,null,null,null,null,null,null,null,null,null,null,null,null,null,null,null,null,null,null,null,null,{"$f":"Général!B9","v":"Hambourg"},5]
["1er Equipage",null,{"$f":"IF($C$5=\"Course 1\",Général!B33,IF($C$5=\"Course 2\",Général!B35,IF($C$5=\"Course 3\",Général!B37,Général!#REF!)))","v":"UBS Lorient 2"},{"$f":"IF($D$5=\"Course 1\",Général!B41,IF($D$5=\"Course 2\",Général!B43,IF($D$5=\"Course 3\",Général!B45,Général!#REF!)))","v":"Univ. Nantes 2"},{"$f":"IF($E$5=\"Course 1\",Général!B49,IF($E$5=\"Course 2\",Général!B51,IF($E$5=\"Course 3\",Général!B53,Général!#REF!)))","v":"UBS Lorient 1"},{"$f":"IF($F$5=\"Course 1\",Général!B$57,IF($F$5=\"Course 2\",Général!B$59,IF($F$5=\"Course 3\",Général!B$61,Général!#REF!)))","v":"Univ. La Rochelle"},{"$f":"IF($G$5=\"Course 1\",Général!B$65,IF($G$5=\"Course 2\",Général!B$67,IF($G$5=\"Course 3\",Général!B$69,Général!#REF!)))","v":"AS UB St Brieuc"},{"$f":"IF($H$5=\"Course 1\",Général!B$73,IF($H$5=\"Course 2\",Général!B$75,IF($H$5=\"Course 3\",Général!B$77,Général!#REF!)))","v":"ENSTA Bretagne 1"},{"$f":"IF($I$5=\"Course 1\",Général!B$81,IF($I$5=\"Course 2\",Général!B$83,IF($I$5=\"Course 3\",Général!B$85,Général!#REF!)))","v":"IMT Atlantique Nantes 1"},{"$f":"IF($J$5=\"Course 1\",Général!B$89,IF($J$5=\"Course 2\",Général!B$91,IF($J$5=\"Course 3\",Général!B$93,Général!#REF!)))","v":"AS Paris 1 Panthéon Sorbonne"},{"$f":"IF($K$5=\"Course 1\",Général!B$97,IF($K$5=\"Course 2\",Général!B$99,IF($K$5=\"Course 3\",Général!B$101,Général!#REF!)))","v":"AS Paris 1 Panthéon Sorbonne"},{"$f":"IF($L$5=\"Course 1\",Général!B$105,IF($L$5=\"Course 2\",Général!B$107,IF($L$5=\"Course 3\",Général!B$109,Général!#REF!)))","v":"UBO 2"},{"$f":"IF($M$5=\"Course 1\",Général!B$113,IF($M$5=\"Course 2\",Général!B$115,IF($M$5=\"Course 3\",Général!B$117,Général!#REF!)))","v":"UBO 2"},{"$f":"IF($N$5=\"Course 1\",Général!B$121,IF($N$5=\"Course 2\",Général!B$123,IF($N$5=\"Course 3\",Général!B$125,Général!#REF!)))","v":"Karlsruhe"},{"$f":"IF($O$5=\"Course 1\",Général!B$129,IF($O$5=\"Course 2\",Général!B$131,IF($O$5=\"Course 3\",Général!B$133,Général!#REF!)))","v":"Southampton"},{"$f":"IF($P$5=\"Course 1\",Général!B$137,IF($P$5=\"Course 2\",Général!B$139,IF($P$5=\"Course 3\",Général!B$141,Général!#REF!)))","v":"UBS Lorient 1"},{"$f":"IF($Q$5=\"Course 1\",Général!B$145,IF($Q$5=\"Course 2\",Général!B$147,IF($Q$5=\"Course 3\",Général!B$149,Général!#REF!)))","v":"Univ. Nantes 1"},{"$f":"IF($R$5=\"Course 1\",Général!B$153,IF($R$5=\"Course 2\",Général!B$155,IF($R$5=\"Course 3\",Général!B$157,Général!#REF!)))","v":"HYDRO Sailing Team Le Havre"},{"$f":"IF($S$5=\"Course 1\",Général!B$161,IF($S$5=\"Course 2\",Général!B$163,IF($S$5=\"Course 3\",Général!B$165,Général!#REF!)))","v":"IMT Atlantique Nantes 1"},{"$f":"IF($T$5=\"Course 1\",Général!B$169,IF($T$5=\"Course 2\",Général!B$171,IF($T$5=\"Course 3\",Général!B$173,Général!#REF!)))","v":"HYDRO Sailing Team Le Havre"},null,{"$f":"Général!B10","v":"EGSI La Rochelle"},6]
["2nd Equipage",null,{"$f":"IF($C$5=\"Course 1\",Général!C33,IF($C$5=\"Course 2\",Général!C35,IF($C$5=\"Course 3\",Général!C37,Général!#REF!)))","v":"IMT Atlantique Nantes 2"},{"$f":"IF($D$5=\"Course 1\",Général!C41,IF($D$5=\"Course 2\",Général!C43,IF($D$5=\"Course 3\",Général!C45,Général!#REF!)))","v":"IMT Atlantique Nantes 2"},{"$f":"IF($E$5=\"Course 1\",Général!C49,IF($E$5=\"Course 2\",Général!C51,IF($E$5=\"Course 3\",Général!C53,Général!#REF!)))","v":"UNICAEN - ASSUCherbourg"},{"$f":"IF($F$5=\"Course 1\",Général!C$57,IF($F$5=\"Course 2\",Général!C$59,IF($F$5=\"Course 3\",Général!C$61,Général!#REF!)))","v":"ENSTA Bretagne 2"},{"$f":"IF($G$5=\"Course 1\",Général!C$65,IF($G$5=\"Course 2\",Général!C$67,IF($G$5=\"Course 3\",Général!C$69,Général!#REF!)))","v":"AS Paris 1 Panthéon Sorbonne"},{"$f":"IF($H$5=\"Course 1\",Général!C$73,IF($H$5=\"Course 2\",Général!C$75,IF($H$5=\"Course 3\",Général!C$77,Général!#REF!)))","v":"UBS Lorient 2"},{"$f":"IF($I$5=\"Course 1\",Général!C$81,IF($I$5=\"Course 2\",Général!C$83,IF($I$5=\"Course 3\",Général!C$85,Général!#REF!)))","v":"Centrales Nantes"},{"$f":"IF($J$5=\"Course 1\",Général!C$89,IF($J$5=\"Course 2\",Général!C$91,IF($J$5=\"Course 3\",Général!C$93,Général!#REF!)))","v":"UBO 1"},{"$f":"IF($K$5=\"Course 1\",Général!C$97,IF($K$5=\"Course 2\",Général!C$99,IF($K$5=\"Course 3\",Général!C$101,Général!#REF!)))","v":"ASUL Lannion"},{"$f":"IF($L$5=\"Course 1\",Général!C$105,IF($L$5=\"Course 2\",Général!C$107,IF($L$5=\"Course 3\",Général!C$109,Général!#REF!)))","v":"ENSTA Bretagne 1"},{"$f":"IF($M$5=\"Course 1\",Général!C$113,IF($M$5=\"Course 2\",Général!C$115,IF($M$5=\"Course 3\",Général!C$117,Général!#REF!)))","v":"Univ. Nantes 1"},{"$f":"IF($N$5=\"Course 1\",Général!C$121,IF($N$5=\"Course 2\",Général!C$123,IF($N$5=\"Course 3\",Général!C$125,Général!#REF!)))","v":"HYDRO Sailing Team Le Havre"},{"$f":"IF($O$5=\"Course 1\",Général!C$129,IF($O$5=\"Course 2\",Général!C$131,IF($O$5=\"Course 3\",Général!C$133,Général!#REF!)))","v":"HYDRO Sailing Team Le Havre"},{"$f":"IF($P$5=\"Course 1\",Général!C$137,IF($P$5=\"Course 2\",Général!C$139,IF($P$5=\"Course 3\",Général!C$141,Général!#REF!)))","v":"Univ. La Rochelle"},{"$f":"IF($Q$5=\"Course 1\",Général!C$145,IF($Q$5=\"Course 2\",Général!C$147,IF($Q$5=\"Course 3\",Général!C$149,Général!#REF!)))","v":"AS UB St Brieuc"},{"$f":"IF($R$5=\"Course 1\",Général!C$153,IF($R$5=\"Course 2\",Général!C$155,IF($R$5=\"Course 3\",Général!C$157,Général!#REF!)))","v":"Univ. Nantes 3"},{"$f":"IF($S$5=\"Course 1\",Général!C$161,IF($S$5=\"Course 2\",Général!C$163,IF($S$5=\"Course 3\",Général!C$165,Général!#REF!)))","v":"Univ.Orléans"},{"$f":"IF($T$5=\"Course 1\",Général!C$169,IF($T$5=\"Course 2\",Général!C$171,IF($T$5=\"Course 3\",Général!C$173,Général!#REF!)))","v":"Hambourg"},null,{"$f":"Général!B11","v":"HYDRO Sailing Team Le Havre"},18]
["3ème Equipage",null,{"$f":"IF($C$5=\"Course 1\",Général!D33,IF($C$5=\"Course 2\",Général!D35,IF($C$5=\"Course 3\",Général!D37,Général!#REF!)))","v":"UBS Lorient 1"},{"$f":"IF($D$5=\"Course 1\",Général!D41,IF($D$5=\"Course 2\",Général!D43,IF($D$5=\"Course 3\",Général!D45,Général!#REF!)))","v":"HYDRO Sailing Team Le Havre"},{"$f":"IF($E$5=\"Course 1\",Général!D49,IF($E$5=\"Course 2\",Général!D51,IF($E$5=\"Course 3\",Général!D53,Général!#REF!)))","v":"HYDRO Sailing Team Le Havre"},{"$f":"IF($F$5=\"Course 1\",Général!D$57,IF($F$5=\"Course 2\",Général!D$59,IF($F$5=\"Course 3\",Général!D$61,Général!#REF!)))","v":"UBO 1"},{"$f":"IF($G$5=\"Course 1\",Général!D$65,IF($G$5=\"Course 2\",Général!D$67,IF($G$5=\"Course 3\",Général!D$69,Général!#REF!)))","v":"Karlsruhe"},{"$f":"IF($H$5=\"Course 1\",Général!D$73,IF($H$5=\"Course 2\",Général!D$75,IF($H$5=\"Course 3\",Général!D$77,Général!#REF!)))","v":"Univ. La Rochelle"},{"$f":"IF($I$5=\"Course 1\",Général!D$81,IF($I$5=\"Course 2\",Général!D$83,IF($I$5=\"Course 3\",Général!D$85,Général!#REF!)))","v":"UBS Lorient 2"},{"$f":"IF($J$5=\"Course 1\",Général!D$89,IF($J$5=\"Course 2\",Général!D$91,IF($J$5=\"Course 3\",Général!D$93,Général!#REF!)))","v":"ENSTA Paris"},{"$f":"IF($K$5=\"Course 1\",Général!D$97,IF($K$5=\"Course 2\",Général!D$99,IF($K$5=\"Course 3\",Général!D$101,Général!#REF!)))","v":"ENSTA Paris"},{"$f":"IF($L$5=\"Course 1\",Général!D$105,IF($L$5=\"Course 2\",Général!D$107,IF($L$5=\"Course 3\",Général!D$109,Général!#REF!)))","v":"Univ. Nantes 2"},{"$f":"IF($M$5=\"Course 1\",Général!D$113,IF($M$5=\"Course 2\",Général!D$115,IF($M$5=\"Course 3\",Général!D$117,Général!#REF!)))","v":"Univ. Nantes 2"},{"$f":"IF($N$5=\"Course 1\",Général!D$121,IF($N$5=\"Course 2\",Général!D$123,IF($N$5=\"Course 3\",Général!D$125,Général!#REF!)))","v":"AS UB St Brieuc"},{"$f":"IF($O$5=\"Course 1\",Général!D$129,IF($O$5=\"Course 2\",Général!D$131,IF($O$5=\"Course 3\",Général!D$133,Général!#REF!)))","v":"EGSI La Rochelle"},{"$f":"IF($P$5=\"Course 1\",Général!D$137,IF($P$5=\"Course 2\",Général!D$139,IF($P$5=\"Course 3\",Général!D$141,Général!#REF!)))","v":"ENSTA Bretagne 2"},{"$f":"IF($Q$5=\"Course 1\",Général!D$145,IF($Q$5=\"Course 2\",Général!D$147,IF($Q$5=\"Course 3\",Général!D$149,Général!#REF!)))","v":"IMT Atlantique Nantes 2"},{"$f":"IF($R$5=\"Course 1\",Général!D$153,IF($R$5=\"Course 2\",Général!D$155,IF($R$5=\"Course 3\",Général!D$157,Général!#REF!)))","v":"Univ.Orléans"},{"$f":"IF($S$5=\"Course 1\",Général!D$161,IF($S$5=\"Course 2\",Général!D$163,IF($S$5=\"Course 3\",Général!D$165,Général!#REF!)))","v":"HYDRO Sailing Team Le Havre"},{"$f":"IF($T$5=\"Course 1\",Général!D$169,IF($T$5=\"Course 2\",Général!D$171,IF($T$5=\"Course 3\",Général!D$173,Général!#REF!)))","v":"AS Paris 1 Panthéon Sorbonne"},null,{"$f":"Général!B12","v":"UNICAEN - ASSUCherbourg"},5]
["4ème Equipage",null,{"$f":"IF($C$5=\"Course 1\",Général!E33,IF($C$5=\"Course 2\",Général!E35,IF($C$5=\"Course 3\",Général!E37,Général!#REF!)))","v":"Dublin"},{"$f":"IF($D$5=\"Course 1\",Général!E41,IF($D$5=\"Course 2\",Général!E43,IF($D$5=\"Course 3\",Général!E45,Général!#REF!)))","v":"AS Paris 1 Panthéon Sorbonne"},{"$f":"IF($E$5=\"Course 1\",Général!E49,IF($E$5=\"Course 2\",Général!E51,IF($E$5=\"Course 3\",Général!E53,Général!#REF!)))","v":"Centrales Nantes"},{"$f":"IF($F$5=\"Course 1\",Général!E$57,IF($F$5=\"Course 2\",Général!E$59,IF($F$5=\"Course 3\",Général!E$61,Général!#REF!)))","v":"UBO 2"},{"$f":"IF($G$5=\"Course 1\",Général!E$65,IF($G$5=\"Course 2\",Général!E$67,IF($G$5=\"Course 3\",Général!E$69,Général!#REF!)))","v":"EGSI La Rochelle"},{"$f":"IF($H$5=\"Course 1\",Général!E$73,IF($H$5=\"Course 2\",Général!E$75,IF($H$5=\"Course 3\",Général!E$77,Général!#REF!)))","v":"HYDRO Sailing Team Le Havre"},{"$f":"IF($I$5=\"Course 1\",Général!E$81,IF($I$5=\"Course 2\",Général!E$83,IF($I$5=\"Course 3\",Général!E$85,Général!#REF!)))","v":"IMT Atlantique Brest"},{"$f":"IF($J$5=\"Course 1\",Général!E$89,IF($J$5=\"Course 2\",Général!E$91,IF($J$5=\"Course 3\",Général!E$93,Général!#REF!)))","v":"Karlsruhe"},{"$f":"IF($K$5=\"Course 1\",Général!E$97,IF($K$5=\"Course 2\",Général!E$99,IF($K$5=\"Course 3\",Général!E$101,Général!#REF!)))","v":"UBO 1"},{"$f":"IF($L$5=\"Course 1\",Général!E$105,IF($L$5=\"Course 2\",Général!E$107,IF($L$5=\"Course 3\",Général!E$109,Général!#REF!)))","v":"Univ. Nantes 3"},{"$f":"IF($M$5=\"Course 1\",Général!E$113,IF($M$5=\"Course 2\",Général!E$115,IF($M$5=\"Course 3\",Général!E$117,Général!#REF!)))","v":"Southampton"},{"$f":"IF($N$5=\"Course 1\",Général!E$121,IF($N$5=\"Course 2\",Général!E$123,IF($N$5=\"Course 3\",Général!E$125,Général!#REF!)))","v":"ENSTA Bretagne 2"},{"$f":"IF($O$5=\"Course 1\",Général!E$129,IF($O$5=\"Course 2\",Général!E$131,IF($O$5=\"Course 3\",Général!E$133,Général!#REF!)))","v":"Hambourg"},{"$f":"IF($P$5=\"Course 1\",Général!E$137,IF($P$5=\"Course 2\",Général!E$139,IF($P$5=\"Course 3\",Général!E$141,Général!#REF!)))","v":"EGSI La Rochelle"},{"$f":"IF($Q$5=\"Course 1\",Général!E$145,IF($Q$5=\"Course 2\",Général!E$147,IF($Q$5=\"Course 3\",Général!E$149,Général!#REF!)))","v":"UNICAEN - ASSUCherbourg"},{"$f":"IF($R$5=\"Course 1\",Général!E$153,IF($R$5=\"Course 2\",Général!E$155,IF($R$5=\"Course 3\",Général!E$157,Général!#REF!)))","v":"IMT Atlantique Nantes 1"},{"$f":"IF($S$5=\"Course 1\",Général!E$161,IF($S$5=\"Course 2\",Général!E$163,IF($S$5=\"Course 3\",Général!E$165,Général!#REF!)))","v":"Centrales Nantes"},{"$f":"IF($T$5=\"Course 1\",Général!E$169,IF($T$5=\"Course 2\",Général!E$171,IF($T$5=\"Course 3\",Général!E$173,Général!#REF!)))","v":"IMT Atlantique Brest"},null,{"$f":"Général!B13","v":"UBO 1"},6]
["5ème Equipage",null,{"$f":"IF($C$5=\"Course 1\",Général!F33,IF($C$5=\"Course 2\",Général!F35,IF($C$5=\"Course 3\",Général!F37,Général!#REF!)))","v":"ENSTA Bretagne 2"},{"$f":"IF($D$5=\"Course 1\",Général!F41,IF($D$5=\"Course 2\",Général!F43,IF($D$5=\"Course 3\",Général!F45,Général!#REF!)))","v":"IMT Atlantique Brest"},{"$f":"IF($E$5=\"Course 1\",Général!F49,IF($E$5=\"Course 2\",Général!F51,IF($E$5=\"Course 3\",Général!F53,Général!#REF!)))","v":"ENSTA Bretagne 1"},{"$f":"IF($F$5=\"Course 1\",Général!F$57,IF($F$5=\"Course 2\",Général!F$59,IF($F$5=\"Course 3\",Général!F$61,Général!#REF!)))","v":"ENSTA Bretagne 1"},{"$f":"IF($G$5=\"Course 1\",Général!F$65,IF($G$5=\"Course 2\",Général!F$67,IF($G$5=\"Course 3\",Général!F$69,Général!#REF!)))","v":"UBS Lorient 2"},{"$f":"IF($H$5=\"Course 1\",Général!F$73,IF($H$5=\"Course 2\",Général!F$75,IF($H$5=\"Course 3\",Général!F$77,Général!#REF!)))","v":"Univ. Nantes 3"},{"$f":"IF($I$5=\"Course 1\",Général!F$81,IF($I$5=\"Course 2\",Général!F$83,IF($I$5=\"Course 3\",Général!F$85,Général!#REF!)))","v":"EGSI La Rochelle"},{"$f":"IF($J$5=\"Course 1\",Général!F$89,IF($J$5=\"Course 2\",Général!F$91,IF($J$5=\"Course 3\",Général!F$93,Général!#REF!)))","v":"Univ. La Rochelle"},{"$f":"IF($K$5=\"Course 1\",Général!F$97,IF($K$5=\"Course 2\",Général!F$99,IF($K$5=\"Course 3\",Général!F$101,Général!#REF!)))","v":"Dublin"},{"$f":"IF($L$5=\"Course 1\",Général!F$105,IF($L$5=\"Course 2\",Général!$F107,IF($L$5=\"Course 3\",Général!F$109,Général!#REF!)))","v":"HYDRO Sailing Team Le Havre"},{"$f":"IF($M$5=\"Course 1\",Général!F$113,IF($M$5=\"Course 2\",Général!F$115,IF($M$5=\"Course 3\",Général!F$117,Général!#REF!)))","v":"HYDRO Sailing Team Le Havre"},{"$f":"IF($N$5=\"Course 1\",Général!F$121,IF($N$5=\"Course 2\",Général!F$123,IF($N$5=\"Course 3\",Général!F$125,Général!#REF!)))","v":"Univ. Nantes 3"},{"$f":"IF($O$5=\"Course 1\",Général!F$129,IF($O$5=\"Course 2\",Général!F$131,IF($O$5=\"Course 3\",Général!F$133,Général!#REF!)))","v":"Univ. Nantes 1"},{"$f":"IF($P$5=\"Course 1\",Général!F$137,IF($P$5=\"Course 2\",Général!F$139,IF($P$5=\"Course 3\",Général!F$141,Général!#REF!)))","v":"Karlsruhe"},{"$f":"IF($Q$5=\"Course 1\",Général!F$145,IF($Q$5=\"Course 2\",Général!F$147,IF($Q$5=\"Course 3\",Général!F$149,Général!#REF!)))","v":"Univ.Orléans"},{"$f":"IF($R$5=\"Course 1\",Général!F$153,IF($R$5=\"Course 2\",Général!F$155,IF($R$5=\"Course 3\",Général!F$157,Général!#REF!)))","v":"UBS Lorient 2"},{"$f":"IF($S$5=\"Course 1\",Général!F$161,IF($S$5=\"Course 2\",Général!F$163,IF($S$5=\"Course 3\",Général!F$165,Général!#REF!)))","v":"ASUL Lannion"},{"$f":"IF($T$5=\"Course 1\",Général!F$169,IF($T$5=\"Course 2\",Général!F$171,IF($T$5=\"Course 3\",Général!F$173,Général!#REF!)))","v":"Univ. Nantes 1"},null,{"$f":"Général!B14","v":"ENSTA Bretagne 1"},7]
["6ème Equipage",null,{"$f":"IF($C$5=\"Course 1\",Général!G33,IF($C$5=\"Course 2\",Général!G35,IF($C$5=\"Course 3\",Général!G37,Général!#REF!)))","v":"HYDRO Sailing Team Le Havre"},{"$f":"IF($D$5=\"Course 1\",Général!G41,IF($D$5=\"Course 2\",Général!G43,IF($D$5=\"Course 3\",Général!G45,Général!#REF!)))","v":"UBS Lorient 2"},{"$f":"IF($E$5=\"Course 1\",Général!G49,IF($E$5=\"Course 2\",Général!G51,IF($E$5=\"Course 3\",Général!G53,Général!#REF!)))","v":"ASUL Lannion"},{"$f":"IF($F$5=\"Course 1\",Général!G$57,IF($F$5=\"Course 2\",Général!G$59,IF($F$5=\"Course 3\",Général!G$61,Général!#REF!)))","v":"Hannovre"},{"$f":"IF($G$5=\"Course 1\",Général!G$65,IF($G$5=\"Course 2\",Général!G$67,IF($G$5=\"Course 3\",Général!G$69,Général!#REF!)))","v":"UBO 2"},{"$f":"IF($H$5=\"Course 1\",Général!G$73,IF($H$5=\"Course 2\",Général!G$75,IF($H$5=\"Course 3\",Général!G$77,Général!#REF!)))","v":"AS UB St Brieuc"},{"$f":"IF($I$5=\"Course 1\",Général!G$81,IF($I$5=\"Course 2\",Général!G$83,IF($I$5=\"Course 3\",Général!G$85,Général!#REF!)))","v":"UNICAEN - ASSUCherbourg"},{"$f":"IF($J$5=\"Course 1\",Général!G$89,IF($J$5=\"Course 2\",Général!G$91,IF($J$5=\"Course 3\",Général!G$93,Général!#REF!)))","v":"IMT Atlantique Nantes 2"},{"$f":"IF($K$5=\"Course 1\",Général!G$97,IF($K$5=\"Course 2\",Général!G$99,IF($K$5=\"Course 3\",Général!G$101,Général!#REF!)))","v":"Univ. Nantes 3"},{"$f":"IF($L$5=\"Course 1\",Général!G$105,IF($L$5=\"Course 2\",Général!G$107,IF($L$5=\"Course 3\",Général!G$109,Général!#REF!)))","v":"AS Paris 1 Panthéon Sorbonne"},{"$f":"IF($M$5=\"Course 1\",Général!G$113,IF($M$5=\"Course 2\",Général!G$115,IF($M$5=\"Course 3\",Général!G$117,Général!#REF!)))","v":"Univ.Orléans"},{"$f":"IF($N$5=\"Course 1\",Général!G$121,IF($N$5=\"Course 2\",Général!G$123,IF($N$5=\"Course 3\",Général!G$125,Général!#REF!)))","v":"Univ. Nantes 1"},{"$f":"IF($O$5=\"Course 1\",Général!G$129,IF($O$5=\"Course 2\",Général!G$131,IF($O$5=\"Course 3\",Général!G$133,Général!#REF!)))","v":"IMT Atlantique Brest"},{"$f":"IF($P$5=\"Course 1\",Général!G$137,IF($P$5=\"Course 2\",Général!G$139,IF($P$5=\"Course 3\",Général!G$141,Général!#REF!)))","v":"HYDRO Sailing Team Le Havre"},{"$f":"IF($Q$5=\"Course 1\",Général!G$145,IF($Q$5=\"Course 2\",Général!G$147,IF($Q$5=\"Course 3\",Général!G$149,Général!#REF!)))","v":"IMT Atlantique Nantes 1"},{"$f":"IF($R$5=\"Course 1\",Général!G$153,IF($R$5=\"Course 2\",Général!G$155,IF($R$5=\"Course 3\",Général!G$157,Général!#REF!)))","v":"IMT Atlantique Brest"},{"$f":"IF($S$5=\"Course 1\",Général!G$161,IF($S$5=\"Course 2\",Général!G$163,IF($S$5=\"Course 3\",Général!G$165,Général!#REF!)))","v":"EGSI La Rochelle"},{"$f":"IF($T$5=\"Course 1\",Général!G$169,IF($T$5=\"Course 2\",Général!G$171,IF($T$5=\"Course 3\",Général!G$173,Général!#REF!)))","v":"Hannovre"},null,{"$f":"Général!B15","v":"ASUL Lannion"},5]
["7ème Equipage",null,{"$f":"IF($C$5=\"Course 1\",Général!H33,IF($C$5=\"Course 2\",Général!H35,IF($C$5=\"Course 3\",Général!H37,Général!#REF!)))","v":"UBO 2"},{"$f":"IF($D$5=\"Course 1\",Général!H41,IF($D$5=\"Course 2\",Général!H43,IF($D$5=\"Course 3\",Général!H45,Général!#REF!)))","v":"Hannovre"},{"$f":"IF($E$5=\"Course 1\",Général!H49,IF($E$5=\"Course 2\",Général!H51,IF($E$5=\"Course 3\",Général!H53,Général!#REF!)))","v":"Hannovre"},{"$f":"IF($F$5=\"Course 1\",Général!H$57,IF($F$5=\"Course 2\",Général!H$59,IF($F$5=\"Course 3\",Général!H$61,Général!#REF!)))","v":"Hambourg"},{"$f":"IF($G$5=\"Course 1\",Général!H$65,IF($G$5=\"Course 2\",Général!H$67,IF($G$5=\"Course 3\",Général!H$69,Général!#REF!)))","v":"Southampton"},{"$f":"IF($H$5=\"Course 1\",Général!H$73,IF($H$5=\"Course 2\",Général!H$75,IF($H$5=\"Course 3\",Général!H$77,Général!#REF!)))","v":"IMT Atlantique Nantes 2"},{"$f":"IF($I$5=\"Course 1\",Général!H$81,IF($I$5=\"Course 2\",Général!H$83,IF($I$5=\"Course 3\",Général!H$85,Général!#REF!)))","v":"HYDRO Sailing Team Le Havre"},{"$f":"IF($J$5=\"Course 1\",Général!H$89,IF($J$5=\"Course 2\",Général!H$91,IF($J$5=\"Course 3\",Général!H$93,Général!#REF!)))","v":"IMT Atlantique Nantes 1"},{"$f":"IF($K$5=\"Course 1\",Général!H$97,IF($K$5=\"Course 2\",Général!H$99,IF($K$5=\"Course 3\",Général!H$101,Général!#REF!)))","v":"IMT Atlantique Nantes 1"},{"$f":"IF($L$5=\"Course 1\",Général!H$105,IF($L$5=\"Course 2\",Général!H$107,IF($L$5=\"Course 3\",Général!H$109,Général!#REF!)))","v":"Univ.Orléans"},{"$f":"IF($M$5=\"Course 1\",Général!H$113,IF($M$5=\"Course 2\",Général!H$115,IF($M$5=\"Course 3\",Général!H$117,Général!#REF!)))","v":"UBO 1"},{"$f":"IF($N$5=\"Course 1\",Général!H$121,IF($N$5=\"Course 2\",Général!H$123,IF($N$5=\"Course 3\",Général!H$125,Général!#REF!)))","v":"Hambourg"},{"$f":"IF($O$5=\"Course 1\",Général!H$129,IF($O$5=\"Course 2\",Général!H$131,IF($O$5=\"Course 3\",Général!H$133,Général!#REF!)))","v":"ENSTA Paris"},{"$f":"IF($P$5=\"Course 1\",Général!H$137,IF($P$5=\"Course 2\",Général!H$139,IF($P$5=\"Course 3\",Général!H$141,Général!#REF!)))","v":"Dublin"},{"$f":"IF($Q$5=\"Course 1\",Général!H$145,IF($Q$5=\"Course 2\",Général!H$147,IF($Q$5=\"Course 3\",Général!H$149,Général!#REF!)))","v":"HYDRO Sailing Team Le Havre"},{"$f":"IF($R$5=\"Course 1\",Général!H$153,IF($R$5=\"Course 2\",Général!H$155,IF($R$5=\"Course 3\",Général!H$157,Général!#REF!)))","v":"ENSTA Bretagne 1"},{"$f":"IF($S$5=\"Course 1\",Général!H$161,IF($S$5=\"Course 2\",Général!H$163,IF($S$5=\"Course 3\",Général!H$165,Général!#REF!)))","v":"UBS Lorient 1"},{"$f":"IF($T$5=\"Course 1\",Général!H$169,IF($T$5=\"Course 2\",Général!H$171,IF($T$5=\"Course 3\",Général!H$173,Général!#REF!)))","v":"Univ. Nantes 2"},null,{"$f":"Général!B16","v":"ENSTA Paris"},5]
["8ème Equipage",null,{"$f":"IF($C$5=\"Course 1\",Général!I33,IF($C$5=\"Course 2\",Général!I35,IF($C$5=\"Course 3\",Général!I37,Général!#REF!)))","v":"ASUL Lannion"},{"$f":"IF($D$5=\"Course 1\",Général!I41,IF($D$5=\"Course 2\",Général!I43,IF($D$5=\"Course 3\",Général!I45,Général!#REF!)))","v":"Univ. Nantes 1"},{"$f":"IF($E$5=\"Course 1\",Général!I49,IF($E$5=\"Course 2\",Général!I51,IF($E$5=\"Course 3\",Général!I53,Général!#REF!)))","v":"Univ. Nantes 1"},{"$f":"IF($F$5=\"Course 1\",Général!I$57,IF($F$5=\"Course 2\",Général!I$59,IF($F$5=\"Course 3\",Général!I$61,Général!#REF!)))","v":"HYDRO Sailing Team Le Havre"},{"$f":"IF($G$5=\"Course 1\",Général!I$65,IF($G$5=\"Course 2\",Général!I$67,IF($G$5=\"Course 3\",Général!I$69,Général!#REF!)))","v":"HYDRO Sailing Team Le Havre"},{"$f":"IF($H$5=\"Course 1\",Général!I$73,IF($H$5=\"Course 2\",Général!I$75,IF($H$5=\"Course 3\",Général!I$77,Général!#REF!)))","v":"UNICAEN - ASSUCherbourg"},{"$f":"IF($I$5=\"Course 1\",Général!I$81,IF($I$5=\"Course 2\",Général!I$83,IF($I$5=\"Course 3\",Général!I$85,Général!#REF!)))","v":"UBO 1"},{"$f":"IF($J$5=\"Course 1\",Général!I$89,IF($J$5=\"Course 2\",Général!I$91,IF($J$5=\"Course 3\",Général!I$93,Général!#REF!)))","v":"UBS Lorient 1"},{"$f":"IF($K$5=\"Course 1\",Général!I$97,IF($K$5=\"Course 2\",Général!I$99,IF($K$5=\"Course 3\",Général!I$101,Général!#REF!)))","v":"AS UB St Brieuc"},{"$f":"IF($L$5=\"Course 1\",Général!I$105,IF($L$5=\"Course 2\",Général!I$107,IF($L$5=\"Course 3\",Général!I$109,Général!#REF!)))","v":"EGSI La Rochelle"},{"$f":"IF($M$5=\"Course 1\",Général!I$113,IF($M$5=\"Course 2\",Général!I$115,IF($M$5=\"Course 3\",Général!I$117,Général!#REF!)))","v":"Univ. La Rochelle"},{"$f":"IF($N$5=\"Course 1\",Général!I$121,IF($N$5=\"Course 2\",Général!I$123,IF($N$5=\"Course 3\",Général!I$125,Général!#REF!)))","v":"Centrales Nantes"},{"$f":"IF($O$5=\"Course 1\",Général!I$129,IF($O$5=\"Course 2\",Général!I$131,IF($O$5=\"Course 3\",Général!I$133,Général!#REF!)))","v":"Dublin"},{"$f":"IF($P$5=\"Course 1\",Général!I$137,IF($P$5=\"Course 2\",Général!I$139,IF($P$5=\"Course 3\",Général!I$141,Général!#REF!)))","v":"Univ. Nantes 2"},{"$f":"IF($Q$5=\"Course 1\",Général!I$145,IF($Q$5=\"Course 2\",Général!I$147,IF($Q$5=\"Course 3\",Général!I$149,Général!#REF!)))","v":"ENSTA Paris"},{"$f":"IF($R$5=\"Course 1\",Général!I$153,IF($R$5=\"Course 2\",Général!I$155,IF($R$5=\"Course 3\",Général!I$157,Général!#REF!)))","v":"AS UB St Brieuc"},{"$f":"IF($S$5=\"Course 1\",Général!I$161,IF($S$5=\"Course 2\",Général!I$163,IF($S$5=\"Course 3\",Général!I$165,Général!#REF!)))","v":"Hannovre"},{"$f":"IF($T$5=\"Course 1\",Général!I$169,IF($T$5=\"Course 2\",Général!I$171,IF($T$5=\"Course 3\",Général!I$173,Général!#REF!)))","v":"UBO 1"},null,{"$f":"Général!B17","v":"IMT Atlantique Brest"},5]
["9ème Equipage",null,{"$f":"IF($C$5=\"Course 1\",Général!J33,IF($C$5=\"Course 2\",Général!J35,IF($C$5=\"Course 3\",Général!J37,Général!#REF!)))","v":"Southampton"},{"$f":"IF($D$5=\"Course 1\",Général!J41,IF($D$5=\"Course 2\",Général!J43,IF($D$5=\"Course 3\",Général!J45,Général!#REF!)))","v":"Hambourg"},{"$f":"IF($E$5=\"Course 1\",Général!J49,IF($E$5=\"Course 2\",Général!J51,IF($E$5=\"Course 3\",Général!J53,Général!#REF!)))","v":"AS UB St Brieuc"},{"$f":"IF($F$5=\"Course 1\",Général!J$57,IF($F$5=\"Course 2\",Général!J$59,IF($F$5=\"Course 3\",Général!J$61,Général!#REF!)))","v":"ENSTA Paris"},{"$f":"IF($G$5=\"Course 1\",Général!J$65,IF($G$5=\"Course 2\",Général!J$67,IF($G$5=\"Course 3\",Général!J$69,Général!#REF!)))","v":"ENSTA Bretagne 1"},{"$f":"IF($H$5=\"Course 1\",Général!J$73,IF($H$5=\"Course 2\",Général!J$75,IF($H$5=\"Course 3\",Général!$J77,Général!#REF!)))","v":"Dublin"},{"$f":"IF($I$5=\"Course 1\",Général!J$81,IF($I$5=\"Course 2\",Général!J$83,IF($I$5=\"Course 3\",Général!J$85,Général!#REF!)))","v":"ENSTA Bretagne 2"},{"$f":"IF($J$5=\"Course 1\",Général!J$89,IF($J$5=\"Course 2\",Général!J$91,IF($J$5=\"Course 3\",Général!J$93,Général!#REF!)))","v":"HYDRO Sailing Team Le Havre"},{"$f":"IF($K$5=\"Course 1\",Général!J$97,IF($K$5=\"Course 2\",Général!J$99,IF($K$5=\"Course 3\",Général!J$101,Général!#REF!)))","v":"HYDRO Sailing Team Le Havre"},{"$f":"IF($L$5=\"Course 1\",Général!J$105,IF($L$5=\"Course 2\",Général!J$107,IF($L$5=\"Course 3\",Général!J$109,Général!#REF!)))","v":"Hannovre"},{"$f":"IF($M$5=\"Course 1\",Général!J$113,IF($M$5=\"Course 2\",Général!J$115,IF($M$5=\"Course 3\",Général!J$117,Général!#REF!)))","v":"ASUL Lannion"},{"$f":"IF($N$5=\"Course 1\",Général!J$121,IF($N$5=\"Course 2\",Général!J$123,IF($N$5=\"Course 3\",Général!J$125,Général!#REF!)))","v":"UBS Lorient 1"},{"$f":"IF($O$5=\"Course 1\",Général!J$129,IF($O$5=\"Course 2\",Général!J$131,IF($O$5=\"Course 3\",Général!J$133,Général!#REF!)))","v":"ENSTA Bretagne 1"},{"$f":"IF($P$5=\"Course 1\",Général!J$137,IF($P$5=\"Course 2\",Général!J$139,IF($P$5=\"Course 3\",Général!J$141,Général!#REF!)))","v":"UNICAEN - ASSUCherbourg"},{"$f":"IF($Q$5=\"Course 1\",Général!J$145,IF($Q$5=\"Course 2\",Général!J$147,IF($Q$5=\"Course 3\",Général!J$149,Général!#REF!)))","v":"UBO 2"},{"$f":"IF($R$5=\"Course 1\",Général!J$153,IF($R$5=\"Course 2\",Général!J$155,IF($R$5=\"Course 3\",Général!J$157,Général!#REF!)))","v":"Karlsruhe"},{"$f":"IF($S$5=\"Course 1\",Général!J$161,IF($S$5=\"Course 2\",Général!J$163,IF($S$5=\"Course 3\",Général!J$165,Général!#REF!)))","v":"Univ. La Rochelle"},{"$f":"IF($T$5=\"Course 1\",Général!J$169,IF($T$5=\"Course 2\",Général!J$171,IF($T$5=\"Course 3\",Général!J$173,Général!#REF!)))","v":"Southampton"},null,{"$f":"Général!B18","v":"UBO 2"},6]
[null,null,null,null,null,null,null,null,null,null,null,null,null,null,null,null,null,null,null,null,null,{"$f":"Général!B19","v":"Dublin"},5]
[null,null,null,null,null,null,null,null,null,null,null,null,null,null,null,null,null,null,null,null,null,{"$f":"Général!B20","v":"Univ. Nantes 2"},5]
[null,null,null,null,null,null,null,null,null,null,null,null,null,null,null,null,null,null,null,null,null,{"$f":"Général!B21","v":"UBS Lorient 1"},6]
[null,null,null,null,null,null,null,null,null,null,null,null,null,null,null,null,null,null,null,null,null,{"$f":"Général!B22","v":"UBS Lorient 2"},6]
[null,null,null,null,null,null,null,null,null,null,null,null,null,null,null,null,null,null,null,null,null,{"$f":"Général!B23","v":"Univ.Orléans"},5]
[null,null,null,null,null,null,null,null,null,null,null,null,null,null,null,null,null,null,null,null,null,{"$f":"Général!B24","v":"Univ. La Rochelle"},6]
[null,null,null,null,null,null,null,null,null,null,null,null,null,null,null,null,null,null,null,null,null,{"$f":"Général!B25","v":"AS UB St Brieuc"},7]
[null,null,null,null,null,null,null,null,null,null,null,null,null,null,null,null,null,null,null,null,null,{"$f":"Général!B26","v":"Karlsruhe"},5]
[null,null,null,null,null,null,null,null,null,null,null,null,null,null,null,null,null,null,null,null,null,{"$f":"Général!B27","v":"Univ. Nantes 3"},5]
[null,null,null,null,null,null,null,null,null,null,null,null,null,null,null,null,null,null,null,null,null,{"$f":"Général!B28","v":"Centrales Nantes"},4]
[null,null,null,null,null,null,null,null,null,null,null,null,null,null,null,null,null,null,null,null,null,{"$f":"Général!B29","v":"Southampton"},5]
[null,null,null,null,null,null,null,null,null,null,null,null,null,null,null,null,null,null,null,null,null,{"$f":"Général!#REF!","v":{"$error":"#REF!"}},0]
[null,null,null,null,null,null,null,null,null,null,null,null,null,null,null,null,null,null,null,null,null,{"$f":"Général!#REF!","v":{"$error":"#REF!"}},0]
[null,null,null,null,null,null,null,null,null,null,null,null,null,null,null,null,null,null,null,null,null,{"$f":"Général!#REF!","v":{"$error":"#REF!"}},0]
[null,null,null,null,null,null,null,null,null,null,null,null,null,null,null,null,null,null,null,null,null,{"$f":"Général!#REF!","v":{"$error":"#REF!"}},0]
[null,null,null,null,null,null,null,null,null,null,null,null,null,null,null,null,null,null,null,null,null,{"$f":"Général!#REF!","v":{"$error":"#REF!"}},0]

{"sheet":"Eq.10","index":14,"n_rows":32,"n_cols":23,"rows_kept":32,"cut":false,"hidden":false,"merged":[[14,0,14,1],[15,0,15,1],[8,0,8,1],[9,0,9,1],[10,0,10,1],[11,0,11,1],[12,0,12,1],[13,0,13,1],[7,0,7,1],[0,0,1,5],[0,6,1,10],[3,0,3,1],[4,0,4,1],[5,0,5,1]]}
["Equipage ",null,null,null,null,null,{"$f":"Général!B12","v":"UNICAEN - ASSUCherbourg"},null,null,null,null,null,null,null,null,null,null,null,null,null,null,{"$f":"Général!B3","v":"Univ. Nantes 1"},{"$f":"COUNTIF(C$8:T$16,V1)","v":6}]
[null,null,null,null,null,null,null,null,null,null,null,null,null,null,null,null,null,null,null,null,null,{"$f":"Général!B4","v":"AS Paris 1 Panthéon Sorbonne"},{"$f":"COUNTIF($C$8:$T$16,V2)","v":4}]
[null,null,null,null,null,null,null,null,null,null,null,null,null,null,null,null,null,null,null,null,null,{"$f":"Général!B5","v":"Hannovre"},{"$f":"COUNTIF($C$8:$T$16,V3)","v":4}]
[null,null,"FLIGHT 1","FLIGHT 2","FLIGHT 3","FLIGHT 4","FLIGHT 5","FLIGHT 6","FLIGHT 7","FLIGHT 8","FLIGHT 9","FLIGHT 10","FLIGHT 11","FLIGHT 12","FLIGHT 13","FLIGHT 14","FLIGHT 15","FLIGHT 16","FLIGHT 17","FLIGHT 18",null,{"$f":"Général!B6","v":"IMT Atlantique Nantes 1"},6]
["N° de course",null,{"$f":"IF(COUNTIF(Général!B33:J33,$G$1)=1,\"Course 1\",IF(COUNTIF(Général!B35:J35,$G$1)=1,\"Course 2\",IF(COUNTIF(Général!B37:J37,$G$1)=1,\"Course 3\",\"Course 4\")))","v":"Course 1"},{"$f":"IF(COUNTIF(Général!B41:J41,$G$1)=1,\"Course 1\",IF(COUNTIF(Général!B43:J43,$G$1)=1,\"Course 2\",IF(COUNTIF(Général!B45:J45,$G$1)=1,\"Course 3\",\"Course 4\")))","v":"Course 1"},{"$f":"IF(COUNTIF(Général!B49:J49,$G$1)=1,\"Course 1\",IF(COUNTIF(Général!B51:J51,$G$1)=1,\"Course 2\",IF(COUNTIF(Général!B53:J53,$G$1)=1,\"Course 3\",\"Course 4\")))","v":"Course 1"},{"$f":"IF(COUNTIF(Général!B57:J57,$G$1)=1,\"Course 1\",IF(COUNTIF(Général!B59:J59,$G$1)=1,\"Course 2\",IF(COUNTIF(Général!B61:J61,$G$1)=1,\"Course 3\",\"Course 4\")))","v":"Course 1"},{"$f":"IF(COUNTIF(Général!B65:J65,$G$1)=1,\"Course 1\",IF(COUNTIF(Général!B67:J67,$G$1)=1,\"Course 2\",IF(COUNTIF(Général!B69:J69,$G$1)=1,\"Course 3\",\"Course 4\")))","v":"Course 3"},{"$f":"IF(COUNTIF(Général!B73:J73,$G$1)=1,\"Course 1\",IF(COUNTIF(Général!B75:J75,$G$1)=1,\"Course 2\",IF(COUNTIF(Général!B77:J77,$G$1)=1,\"Course 3\",\"Course 4\")))","v":"Course 1"},{"$f":"IF(COUNTIF(Général!B81:J81,$G$1)=1,\"Course 1\",IF(COUNTIF(Général!B83:J83,$G$1)=1,\"Course 2\",IF(COUNTIF(Général!B85:J85,$G$1)=1,\"Course 3\",\"Course 4\")))","v":"Course 2"},{"$f":"IF(COUNTIF(Général!B89:J89,$G$1)=1,\"Course 1\",IF(COUNTIF(Général!B91:J91,$G$1)=1,\"Course 2\",IF(COUNTIF(Général!B93:J93,$G$1)=1,\"Course 3\",\"Course 4\")))","v":"Course 2"},{"$f":"IF(COUNTIF(Général!B97:J97,$G$1)=1,\"Course 1\",IF(COUNTIF(Général!B99:J99,$G$1)=1,\"Course 2\",IF(COUNTIF(Général!B101:J101,$G$1)=1,\"Course 3\",\"Course 4\")))","v":"Course 3"},{"$f":"IF(COUNTIF(Général!B105:J105,$G$1)=1,\"Course 1\",IF(COUNTIF(Général!B107:J107,$G$1)=1,\"Course 2\",IF(COUNTIF(Général!B109:J109,$G$1)=1,\"Course 3\",\"Course 4\")))","v":"Course 3"},{"$f":"IF(COUNTIF(Général!B113:J113,$G$1)=1,\"Course 1\",IF(COUNTIF(Général!B115:J115,$G$1)=1,\"Course 2\",IF(COUNTIF(Général!B117:J117,$G$1)=1,\"Course 3\",\"Course 4\")))","v":"Course 3"},{"$f":"IF(COUNTIF(Général!B121:J121,$G$1)=1,\"Course 1\",IF(COUNTIF(Général!B123:J123,$G$1)=1,\"Course 2\",IF(COUNTIF(Général!B125:J125,$G$1)=1,\"Course 3\",\"Course 4\")))","v":"Course 3"},{"$f":"IF(COUNTIF(Général!B129:J129,$G$1)=1,\"Course 1\",IF(COUNTIF(Général!B131:J131,$G$1)=1,\"Course 2\",IF(COUNTIF(Général!B133:J133,$G$1)=1,\"Course 3\",\"Course 4\")))","v":"Course 3"},{"$f":"IF(COUNTIF(Général!B137:J137,$G$1)=1,\"Course 1\",IF(COUNTIF(Général!B139:J139,$G$1)=1,\"Course 2\",IF(COUNTIF(Général!B141:J141,$G$1)=1,\"Course 3\",\"Course 4\")))","v":"Course 1"},{"$f":"IF(COUNTIF(Général!B145:J145,$G$1)=1,\"Course 1\",IF(COUNTIF(Général!B147:J147,$G$1)=1,\"Course 2\",IF(COUNTIF(Général!B149:J149,$G$1)=1,\"Course 3\",\"Course 4\")))","v":"Course 1"},{"$f":"IF(COUNTIF(Général!B153:J153,$G$1)=1,\"Course 1\",IF(COUNTIF(Général!B155:J155,$G$1)=1,\"Course 2\",IF(COUNTIF(Général!B157:J157,$G$1)=1,\"Course 3\",\"Course 4\")))","v":"Course 2"},{"$f":"IF(COUNTIF(Général!B161:J161,$G$1)=1,\"Course 1\",IF(COUNTIF(Général!B163:J163,$G$1)=1,\"Course 2\",IF(COUNTIF(Général!B165:J165,$G$1)=1,\"Course 3\",\"Course 4\")))","v":"Course 3"},{"$f":"IF(COUNTIF(Général!B169:J169,$G$1)=1,\"Course 1\",IF(COUNTIF(Général!B171:J171,$G$1)=1,\"Course 2\",IF(COUNTIF(Général!B173:J173,$G$1)=1,\"Course 3\",\"Course 4\")))","v":"Course 3"},null,{"$f":"Général!B7","v":"ENSTA Bretagne 2"},7]
["Bateau",null,{"$f":"IF(COUNTIF(Général!B33:B38,$G$1)=1,\"Boat 1\",IF(COUNTIF(Général!C33:C38,$G$1)=1,\"Boat 2\",IF(COUNTIF(Général!D33:D38,$G$1)=1,\"Boat 3\", IF(COUNTIF(Général!E33:E38,$G$1)=1,\"Boat 4\", IF(COUNTIF(Général!F33:F38,$G$1)=1,\"Boat 5\", IF(COUNTIF(Général!G33:G38,$G$1)=1,\"Boat 6\", IF(COUNTIF(Général!H33:H38,$G$1)=1,\"Boat 7\",IF(COUNTIF(Général!I33:I38,$G$1)=1,\"Boat 8\",\"Boat 9\"))))))))","v":"Boat 6"},{"$f":"IF(COUNTIF(Général!B41:B46,$G$1)=1,\"Boat 1\",IF(COUNTIF(Général!C41:C46,$G$1)=1,\"Boat 2\",IF(COUNTIF(Général!D41:D46,$G$1)=1,\"Boat 3\", IF(COUNTIF(Général!E41:E46,$G$1)=1,\"Boat 4\", IF(COUNTIF(Général!F41:F46,$G$1)=1,\"Boat 5\", IF(COUNTIF(Général!G41:G46,$G$1)=1,\"Boat 6\", IF(COUNTIF(Général!H41:H46,$G$1)=1,\"Boat 7\",IF(COUNTIF(Général!I33:I38,$G$1)=1,\"Boat 8\",\"Boat 9\"))))))))","v":"Boat 2"},{"$f":"IF(COUNTIF(Général!B49:B54,$G$1)=1,\"Boat 1\",IF(COUNTIF(Général!C49:C54,$G$1)=1,\"Boat 2\",IF(COUNTIF(Général!D49:D54,$G$1)=1,\"Boat 3\", IF(COUNTIF(Général!E49:E54,$G$1)=1,\"Boat 4\", IF(COUNTIF(Général!F49:F54,$G$1)=1,\"Boat 5\", IF(COUNTIF(Général!G49:G54,$G$1)=1,\"Boat 6\", IF(COUNTIF(Général!H49:H54,$G$1)=1,\"Boat 7\",IF(COUNTIF(Général!I33:I38,$G$1)=1,\"Boat 8\",\"Boat 9\"))))))))","v":"Boat 2"},{"$f":"IF(COUNTIF(Général!B57:B62,$G$1)=1,\"Boat 1\",IF(COUNTIF(Général!C57:C62,$G$1)=1,\"Boat 2\",IF(COUNTIF(Général!D57:D62,$G$1)=1,\"Boat 3\", IF(COUNTIF(Général!E57:E62,$G$1)=1,\"Boat 4\", IF(COUNTIF(Général!F57:F62,$G$1)=1,\"Boat 5\", IF(COUNTIF(Général!G57:G62,$G$1)=1,\"Boat 6\", IF(COUNTIF(Général!H57:H62,$G$1)=1,\"Boat 7\",IF(COUNTIF(Général!I33:I38,$G$1)=1,\"Boat 8\",\"Boat 9\"))))))))","v":"Boat 5"},{"$f":"IF(COUNTIF(Général!B65:B70,$G$1)=1,\"Boat 1\",IF(COUNTIF(Général!C65:C70,$G$1)=1,\"Boat 2\",IF(COUNTIF(Général!D65:D70,$G$1)=1,\"Boat 3\", IF(COUNTIF(Général!E65:E70,$G$1)=1,\"Boat 4\", IF(COUNTIF(Général!F65:F70,$G$1)=1,\"Boat 5\", IF(COUNTIF(Général!G65:G70,$G$1)=1,\"Boat 6\", IF(COUNTIF(Général!H65:H70,$G$1)=1,\"Boat 7\",IF(COUNTIF(Général!I33:I38,$G$1)=1,\"Boat 8\",\"Boat 9\"))))))))","v":"Boat 9"},{"$f":"IF(COUNTIF(Général!B73:B78,$G$1)=1,\"Boat 1\",IF(COUNTIF(Général!C73:C78,$G$1)=1,\"Boat 2\",IF(COUNTIF(Général!D73:D78,$G$1)=1,\"Boat 3\", IF(COUNTIF(Général!E73:E78,$G$1)=1,\"Boat 4\", IF(COUNTIF(Général!F73:F78,$G$1)=1,\"Boat 5\", IF(COUNTIF(Général!G73:G78,$G$1)=1,\"Boat 6\", IF(COUNTIF(Général!H73:H78,$G$1)=1,\"Boat 7\",IF(COUNTIF(Général!I33:I38,$G$1)=1,\"Boat 8\",\"Boat 9\"))))))))","v":"Boat 9"},{"$f":"IF(COUNTIF(Général!B81:B86,$G$1)=1,\"Boat 1\",IF(COUNTIF(Général!C81:C86,$G$1)=1,\"Boat 2\",IF(COUNTIF(Général!D81:D86,$G$1)=1,\"Boat 3\", IF(COUNTIF(Général!E81:E86,$G$1)=1,\"Boat 4\", IF(COUNTIF(Général!F81:F86,$G$1)=1,\"Boat 5\", IF(COUNTIF(Général!G81:G86,$G$1)=1,\"Boat 6\", IF(COUNTIF(Général!H81:H86,$G$1)=1,\"Boat 7\",IF(COUNTIF(Général!I33:I38,$G$1)=1,\"Boat 8\",\"Boat 9\"))))))))","v":"Boat 6"},{"$f":"IF(COUNTIF(Général!B89:B94,$G$1)=1,\"Boat 1\",IF(COUNTIF(Général!C89:C94,$G$1)=1,\"Boat 2\",IF(COUNTIF(Général!D89:D94,$G$1)=1,\"Boat 3\", IF(COUNTIF(Général!E89:E94,$G$1)=1,\"Boat 4\", IF(COUNTIF(Général!F89:F94,$G$1)=1,\"Boat 5\", IF(COUNTIF(Général!G89:G94,$G$1)=1,\"Boat 6\", IF(COUNTIF(Général!H89:H94,$G$1)=1,\"Boat 7\",IF(COUNTIF(Général!I33:I38,$G$1)=1,\"Boat 8\",\"Boat 9\"))))))))","v":"Boat 1"},{"$f":"IF(COUNTIF(Général!B97:B102,$G$1)=1,\"Boat 1\",IF(COUNTIF(Général!C97:C102,$G$1)=1,\"Boat 2\",IF(COUNTIF(Général!D97:D102,$G$1)=1,\"Boat 3\", IF(COUNTIF(Général!E97:E102,$G$1)=1,\"Boat 4\", IF(COUNTIF(Général!F97:F102,$G$1)=1,\"Boat 5\", IF(COUNTIF(Général!G97:G102,$G$1)=1,\"Boat 6\", IF(COUNTIF(Général!H97:H102,$G$1)=1,\"Boat 7\",IF(COUNTIF(Général!I33:I38,$G$1)=1,\"Boat 8\",\"Boat 9\"))))))))","v":"Boat 9"},{"$f":"IF(COUNTIF(Général!B105:B110,$G$1)=1,\"Boat 1\",IF(COUNTIF(Général!C105:C110,$G$1)=1,\"Boat 2\",IF(COUNTIF(Général!D105:D110,$G$1)=1,\"Boat 3\", IF(COUNTIF(Général!E105:E110,$G$1)=1,\"Boat 4\", IF(COUNTIF(Général!F105:F110,$G$1)=1,\"Boat 5\", IF(COUNTIF(Général!G105:G110,$G$1)=1,\"Boat 6\", IF(COUNTIF(Général!H105:H110,$G$1)=1,\"Boat 7\",IF(COUNTIF(Général!I33:I38,$G$1)=1,\"Boat 8\",\"Boat 9\"))))))))","v":"Boat 3"},{"$f":"IF(COUNTIF(Général!B113:B118,$G$1)=1,\"Boat 1\",IF(COUNTIF(Général!C113:C118,$G$1)=1,\"Boat 2\",IF(COUNTIF(Général!C113:D118,$G$1)=1,\"Boat 3\", IF(COUNTIF(Général!C113:E118,$G$1)=1,\"Boat 4\", IF(COUNTIF(Général!F113:F118,$G$1)=1,\"Boat 5\", IF(COUNTIF(Général!G113:G118,$G$1)=1,\"Boat 6\", IF(COUNTIF(Général!H113:H118,$G$1)=1,\"Boat 7\",IF(COUNTIF(Général!I33:I38,$G$1)=1,\"Boat 8\",\"Boat 9\"))))))))","v":"Boat 3"},{"$f":"IF(COUNTIF(Général!B121:B126,$G$1)=1,\"Boat 1\",IF(COUNTIF(Général!C121:C126,$G$1)=1,\"Boat 2\",IF(COUNTIF(Général!D121:D126,$G$1)=1,\"Boat 3\", IF(COUNTIF(Général!E121:E126,$G$1)=1,\"Boat 4\", IF(COUNTIF(Général!F121:F126,$G$1)=1,\"Boat 5\", IF(COUNTIF(Général!G121:G126,$G$1)=1,\"Boat 6\", IF(COUNTIF(Général!H121:H126,$G$1)=1,\"Boat 7\",IF(COUNTIF(Général!I33:I38,$G$1)=1,\"Boat 8\",\"Boat 9\"))))))))","v":"Boat 7"},{"$f":"IF(COUNTIF(Général!B129:B134,$G$1)=1,\"Boat 1\",IF(COUNTIF(Général!C129:C134,$G$1)=1,\"Boat 2\",IF(COUNTIF(Général!D131:D134,$G$1)=1,\"Boat 3\", IF(COUNTIF(Général!E129:E134,$G$1)=1,\"Boat 4\", IF(COUNTIF(Général!F129:F134,$G$1)=1,\"Boat 5\", IF(COUNTIF(Général!G129:G134,$G$1)=1,\"Boat 6\", IF(COUNTIF(Général!H129:H134,$G$1)=1,\"Boat 7\",IF(COUNTIF(Général!I33:I38,$G$1)=1,\"Boat 8\",\"Boat 9\"))))))))","v":"Boat 9"},{"$f":"IF(COUNTIF(Général!B137:B142,$G$1)=1,\"Boat 1\",IF(COUNTIF(Général!C137:C142,$G$1)=1,\"Boat 2\",IF(COUNTIF(Général!D137:D142,$G$1)=1,\"Boat 3\", IF(COUNTIF(Général!E137:E142,$G$1)=1,\"Boat 4\", IF(COUNTIF(Général!F145:F150,$G$1)=1,\"Boat 5\", IF(COUNTIF(Général!G145:G150,$G$1)=1,\"Boat 6\", IF(COUNTIF(Général!H145:H150,$G$1)=1,\"Boat 7\",IF(COUNTIF(Général!I33:I38,$G$1)=1,\"Boat 8\",\"Boat 9\"))))))))","v":"Boat 9"},{"$f":"IF(COUNTIF(Général!B145:B150,$G$1)=1,\"Boat 1\",IF(COUNTIF(Général!C145:C150,$G$1)=1,\"Boat 2\",IF(COUNTIF(Général!D145:D150,$G$1)=1,\"Boat 3\", IF(COUNTIF(Général!E145:E150,$G$1)=1,\"Boat 4\", IF(COUNTIF(Général!F145:F150,$G$1)=1,\"Boat 5\", IF(COUNTIF(Général!G145:G150,$G$1)=1,\"Boat 6\", IF(COUNTIF(Général!H145:H150,$G$1)=1,\"Boat 7\",IF(COUNTIF(Général!I33:I38,$G$1)=1,\"Boat 8\",\"Boat 9\"))))))))","v":"Boat 4"},{"$f":"IF(COUNTIF(Général!B153:B158,$G$1)=1,\"Boat 1\",IF(COUNTIF(Général!C153:C158,$G$1)=1,\"Boat 2\",IF(COUNTIF(Général!D153:D158,$G$1)=1,\"Boat 3\", IF(COUNTIF(Général!E153:E158,$G$1)=1,\"Boat 4\", IF(COUNTIF(Général!F153:F158,$G$1)=1,\"Boat 5\", IF(COUNTIF(Général!G153:G158,$G$1)=1,\"Boat 6\", IF(COUNTIF(Général!H153:H158,$G$1)=1,\"Boat 7\",IF(COUNTIF(Général!I33:I38,$G$1)=1,\"Boat 8\",\"Boat 9\"))))))))","v":"Boat 4"},{"$f":"IF(COUNTIF(Général!B161:B166,$G$1)=1,\"Boat 1\",IF(COUNTIF(Général!C161:C166,$G$1)=1,\"Boat 2\",IF(COUNTIF(Général!D161:D166,$G$1)=1,\"Boat 3\", IF(COUNTIF(Général!E161:E166,$G$1)=1,\"Boat 4\", IF(COUNTIF(Général!F161:F166,$G$1)=1,\"Boat 5\", IF(COUNTIF(Général!G161:G166,$G$1)=1,\"Boat 6\", IF(COUNTIF(Général!H161:H166,$G$1)=1,\"Boat 7\",IF(COUNTIF(Général!I33:I38,$G$1)=1,\"Boat 8\",\"Boat 9\"))))))))","v":"Boat 7"},{"$f":"IF(COUNTIF(Général!B169:B174,$G$1)=1,\"Boat 1\",IF(COUNTIF(Général!C169:C174,$G$1)=1,\"Boat 2\",IF(COUNTIF(Général!D169:D174,$G$1)=1,\"Boat 3\", IF(COUNTIF(Général!E169:E174,$G$1)=1,\"Boat 4\", IF(COUNTIF(Général!F169:F174,$G$1)=1,\"Boat 5\", IF(COUNTIF(Général!G169:G174,$G$1)=1,\"Boat 6\", IF(COUNTIF(Général!H169:H174,$G$1)=1,\"Boat 7\",IF(COUNTIF(Général!I33:I38,$G$1)=1,\"Boat 8\",\"Boat 9\"))))))))","v":"Boat 7"},null,{"$f":"Général!B8","v":"IMT Atlantique Nantes 2"},7]
[null,null,null,null,null,null,null,null,null,null,null,null,null,null,null,null,null,null,null,null,null,{"$f":"Général!B9","v":"Hambourg"},6]
["1er Equipage",null,{"$f":"IF($C$5=\"Course 1\",Général!B33,IF($C$5=\"Course 2\",Général!B35,IF($C$5=\"Course 3\",Général!B37,Général!#REF!)))","v":"ENSTA Paris"},{"$f":"IF($D$5=\"Course 1\",Général!B41,IF($D$5=\"Course 2\",Général!B43,IF($D$5=\"Course 3\",Général!B45,Général!#REF!)))","v":"ENSTA Paris"},{"$f":"IF($E$5=\"Course 1\",Général!B49,IF($E$5=\"Course 2\",Général!B51,IF($E$5=\"Course 3\",Général!B53,Général!#REF!)))","v":"UBS Lorient 1"},{"$f":"IF($F$5=\"Course 1\",Général!B$57,IF($F$5=\"Course 2\",Général!B$59,IF($F$5=\"Course 3\",Général!B$61,Général!#REF!)))","v":"IMT Atlantique Nantes 2"},{"$f":"IF($G$5=\"Course 1\",Général!B$65,IF($G$5=\"Course 2\",Général!B$67,IF($G$5=\"Course 3\",Général!B$69,Général!#REF!)))","v":"ENSTA Bretagne 2"},{"$f":"IF($H$5=\"Course 1\",Général!B$73,IF($H$5=\"Course 2\",Général!B$75,IF($H$5=\"Course 3\",Général!B$77,Général!#REF!)))","v":"ENSTA Bretagne 1"},{"$f":"IF($I$5=\"Course 1\",Général!B$81,IF($I$5=\"Course 2\",Général!B$83,IF($I$5=\"Course 3\",Général!B$85,Général!#REF!)))","v":"IMT Atlantique Nantes 1"},{"$f":"IF($J$5=\"Course 1\",Général!B$89,IF($J$5=\"Course 2\",Général!B$91,IF($J$5=\"Course 3\",Général!B$93,Général!#REF!)))","v":"UNICAEN - ASSUCherbourg"},{"$f":"IF($K$5=\"Course 1\",Général!B$97,IF($K$5=\"Course 2\",Général!B$99,IF($K$5=\"Course 3\",Général!B$101,Général!#REF!)))","v":"Hambourg"},{"$f":"IF($L$5=\"Course 1\",Général!B$105,IF($L$5=\"Course 2\",Général!B$107,IF($L$5=\"Course 3\",Général!B$109,Général!#REF!)))","v":"Hambourg"},{"$f":"IF($M$5=\"Course 1\",Général!B$113,IF($M$5=\"Course 2\",Général!B$115,IF($M$5=\"Course 3\",Général!B$117,Général!#REF!)))","v":"Karlsruhe"},{"$f":"IF($N$5=\"Course 1\",Général!B$121,IF($N$5=\"Course 2\",Général!B$123,IF($N$5=\"Course 3\",Général!B$125,Général!#REF!)))","v":"UBO 1"},{"$f":"IF($O$5=\"Course 1\",Général!B$129,IF($O$5=\"Course 2\",Général!B$131,IF($O$5=\"Course 3\",Général!B$133,Général!#REF!)))","v":"UBO 1"},{"$f":"IF($P$5=\"Course 1\",Général!B$137,IF($P$5=\"Course 2\",Général!B$139,IF($P$5=\"Course 3\",Général!B$141,Général!#REF!)))","v":"UBS Lorient 1"},{"$f":"IF($Q$5=\"Course 1\",Général!B$145,IF($Q$5=\"Course 2\",Général!B$147,IF($Q$5=\"Course 3\",Général!B$149,Général!#REF!)))","v":"Univ. Nantes 1"},{"$f":"IF($R$5=\"Course 1\",Général!B$153,IF($R$5=\"Course 2\",Général!B$155,IF($R$5=\"Course 3\",Général!B$157,Général!#REF!)))","v":"Dublin"},{"$f":"IF($S$5=\"Course 1\",Général!B$161,IF($S$5=\"Course 2\",Général!B$163,IF($S$5=\"Course 3\",Général!B$165,Général!#REF!)))","v":"UBS Lorient 2"},{"$f":"IF($T$5=\"Course 1\",Général!B$169,IF($T$5=\"Course 2\",Général!B$171,IF($T$5=\"Course 3\",Général!B$173,Général!#REF!)))","v":"IMT Atlantique Nantes 2"},null,{"$f":"Général!B10","v":"EGSI La Rochelle"},5]
["2nd Equipage",null,{"$f":"IF($C$5=\"Course 1\",Général!C33,IF($C$5=\"Course 2\",Général!C35,IF($C$5=\"Course 3\",Général!C37,Général!#REF!)))","v":"Univ. Nantes 2"},{"$f":"IF($D$5=\"Course 1\",Général!C41,IF($D$5=\"Course 2\",Général!C43,IF($D$5=\"Course 3\",Général!C45,Général!#REF!)))","v":"UNICAEN - ASSUCherbourg"},{"$f":"IF($E$5=\"Course 1\",Général!C49,IF($E$5=\"Course 2\",Général!C51,IF($E$5=\"Course 3\",Général!C53,Général!#REF!)))","v":"UNICAEN - ASSUCherbourg"},{"$f":"IF($F$5=\"Course 1\",Général!C$57,IF($F$5=\"Course 2\",Général!C$59,IF($F$5=\"Course 3\",Général!C$61,Général!#REF!)))","v":"IMT Atlantique Nantes 1"},{"$f":"IF($G$5=\"Course 1\",Général!C$65,IF($G$5=\"Course 2\",Général!C$67,IF($G$5=\"Course 3\",Général!C$69,Général!#REF!)))","v":"IMT Atlantique Nantes 1"},{"$f":"IF($H$5=\"Course 1\",Général!C$73,IF($H$5=\"Course 2\",Général!C$75,IF($H$5=\"Course 3\",Général!C$77,Général!#REF!)))","v":"UBS Lorient 2"},{"$f":"IF($I$5=\"Course 1\",Général!C$81,IF($I$5=\"Course 2\",Général!C$83,IF($I$5=\"Course 3\",Général!C$85,Général!#REF!)))","v":"Centrales Nantes"},{"$f":"IF($J$5=\"Course 1\",Général!C$89,IF($J$5=\"Course 2\",Général!C$91,IF($J$5=\"Course 3\",Général!C$93,Général!#REF!)))","v":"UBO 2"},{"$f":"IF($K$5=\"Course 1\",Général!C$97,IF($K$5=\"Course 2\",Général!C$99,IF($K$5=\"Course 3\",Général!C$101,Général!#REF!)))","v":"EGSI La Rochelle"},{"$f":"IF($L$5=\"Course 1\",Général!C$105,IF($L$5=\"Course 2\",Général!C$107,IF($L$5=\"Course 3\",Général!C$109,Général!#REF!)))","v":"UBO 1"},{"$f":"IF($M$5=\"Course 1\",Général!C$113,IF($M$5=\"Course 2\",Général!C$115,IF($M$5=\"Course 3\",Général!C$117,Général!#REF!)))","v":"ENSTA Bretagne 1"},{"$f":"IF($N$5=\"Course 1\",Général!C$121,IF($N$5=\"Course 2\",Général!C$123,IF($N$5=\"Course 3\",Général!C$125,Général!#REF!)))","v":"IMT Atlantique Brest"},{"$f":"IF($O$5=\"Course 1\",Général!C$129,IF($O$5=\"Course 2\",Général!C$131,IF($O$5=\"Course 3\",Général!C$133,Général!#REF!)))","v":"Univ. La Rochelle"},{"$f":"IF($P$5=\"Course 1\",Général!C$137,IF($P$5=\"Course 2\",Général!C$139,IF($P$5=\"Course 3\",Général!C$141,Général!#REF!)))","v":"Univ. La Rochelle"},{"$f":"IF($Q$5=\"Course 1\",Général!C$145,IF($Q$5=\"Course 2\",Général!C$147,IF($Q$5=\"Course 3\",Général!C$149,Général!#REF!)))","v":"AS UB St Brieuc"},{"$f":"IF($R$5=\"Course 1\",Général!C$153,IF($R$5=\"Course 2\",Général!C$155,IF($R$5=\"Course 3\",Général!C$157,Général!#REF!)))","v":"Univ. Nantes 1"},{"$f":"IF($S$5=\"Course 1\",Général!C$161,IF($S$5=\"Course 2\",Général!C$163,IF($S$5=\"Course 3\",Général!C$165,Général!#REF!)))","v":"Hambourg"},{"$f":"IF($T$5=\"Course 1\",Général!C$169,IF($T$5=\"Course 2\",Général!C$171,IF($T$5=\"Course 3\",Général!C$173,Général!#REF!)))","v":"ENSTA Bretagne 2"},null,{"$f":"Général!B11","v":"HYDRO Sailing Team Le Havre"},5]
["3ème Equipage",null,{"$f":"IF($C$5=\"Course 1\",Général!D33,IF($C$5=\"Course 2\",Général!D35,IF($C$5=\"Course 3\",Général!D37,Général!#REF!)))","v":"IMT Atlantique Nantes 1"},{"$f":"IF($D$5=\"Course 1\",Général!D41,IF($D$5=\"Course 2\",Général!D43,IF($D$5=\"Course 3\",Général!D45,Général!#REF!)))","v":"Univ. Nantes 3"},{"$f":"IF($E$5=\"Course 1\",Général!D49,IF($E$5=\"Course 2\",Général!D51,IF($E$5=\"Course 3\",Général!D53,Général!#REF!)))","v":"HYDRO Sailing Team Le Havre"},{"$f":"IF($F$5=\"Course 1\",Général!D$57,IF($F$5=\"Course 2\",Général!D$59,IF($F$5=\"Course 3\",Général!D$61,Général!#REF!)))","v":"Univ. Nantes 2"},{"$f":"IF($G$5=\"Course 1\",Général!D$65,IF($G$5=\"Course 2\",Général!D$67,IF($G$5=\"Course 3\",Général!D$69,Général!#REF!)))","v":"Univ. La Rochelle"},{"$f":"IF($H$5=\"Course 1\",Général!D$73,IF($H$5=\"Course 2\",Général!D$75,IF($H$5=\"Course 3\",Général!D$77,Général!#REF!)))","v":"Univ. La Rochelle"},{"$f":"IF($I$5=\"Course 1\",Général!D$81,IF($I$5=\"Course 2\",Général!D$83,IF($I$5=\"Course 3\",Général!D$85,Général!#REF!)))","v":"UBS Lorient 2"},{"$f":"IF($J$5=\"Course 1\",Général!D$89,IF($J$5=\"Course 2\",Général!D$91,IF($J$5=\"Course 3\",Général!D$93,Général!#REF!)))","v":"EGSI La Rochelle"},{"$f":"IF($K$5=\"Course 1\",Général!D$97,IF($K$5=\"Course 2\",Général!D$99,IF($K$5=\"Course 3\",Général!D$101,Général!#REF!)))","v":"Southampton"},{"$f":"IF($L$5=\"Course 1\",Général!D$105,IF($L$5=\"Course 2\",Général!D$107,IF($L$5=\"Course 3\",Général!D$109,Général!#REF!)))","v":"UNICAEN - ASSUCherbourg"},{"$f":"IF($M$5=\"Course 1\",Général!D$113,IF($M$5=\"Course 2\",Général!D$115,IF($M$5=\"Course 3\",Général!D$117,Général!#REF!)))","v":"UNICAEN - ASSUCherbourg"},{"$f":"IF($N$5=\"Course 1\",Général!D$121,IF($N$5=\"Course 2\",Général!D$123,IF($N$5=\"Course 3\",Général!D$125,Général!#REF!)))","v":"AS Paris 1 Panthéon Sorbonne"},{"$f":"IF($O$5=\"Course 1\",Général!D$129,IF($O$5=\"Course 2\",Général!D$131,IF($O$5=\"Course 3\",Général!D$133,Général!#REF!)))","v":"UBS Lorient 2"},{"$f":"IF($P$5=\"Course 1\",Général!D$137,IF($P$5=\"Course 2\",Général!D$139,IF($P$5=\"Course 3\",Général!D$141,Général!#REF!)))","v":"ENSTA Bretagne 2"},{"$f":"IF($Q$5=\"Course 1\",Général!D$145,IF($Q$5=\"Course 2\",Général!D$147,IF($Q$5=\"Course 3\",Général!D$149,Général!#REF!)))","v":"IMT Atlantique Nantes 2"},{"$f":"IF($R$5=\"Course 1\",Général!D$153,IF($R$5=\"Course 2\",Général!D$155,IF($R$5=\"Course 3\",Général!D$157,Général!#REF!)))","v":"UBO 2"},{"$f":"IF($S$5=\"Course 1\",Général!D$161,IF($S$5=\"Course 2\",Général!D$163,IF($S$5=\"Course 3\",Général!D$165,Général!#REF!)))","v":"UBO 1"},{"$f":"IF($T$5=\"Course 1\",Général!D$169,IF($T$5=\"Course 2\",Général!D$171,IF($T$5=\"Course 3\",Général!D$173,Général!#REF!)))","v":"AS UB St Brieuc"},null,{"$f":"Général!B12","v":"UNICAEN - ASSUCherbourg"},18]
["4ème Equipage",null,{"$f":"IF($C$5=\"Course 1\",Général!E33,IF($C$5=\"Course 2\",Général!E35,IF($C$5=\"Course 3\",Général!E37,Général!#REF!)))","v":"AS Paris 1 Panthéon Sorbonne"},{"$f":"IF($D$5=\"Course 1\",Général!E41,IF($D$5=\"Course 2\",Général!E43,IF($D$5=\"Course 3\",Général!E45,Général!#REF!)))","v":"Dublin"},{"$f":"IF($E$5=\"Course 1\",Général!E49,IF($E$5=\"Course 2\",Général!E51,IF($E$5=\"Course 3\",Général!E53,Général!#REF!)))","v":"Centrales Nantes"},{"$f":"IF($F$5=\"Course 1\",Général!E$57,IF($F$5=\"Course 2\",Général!E$59,IF($F$5=\"Course 3\",Général!E$61,Général!#REF!)))","v":"UBS Lorient 1"},{"$f":"IF($G$5=\"Course 1\",Général!E$65,IF($G$5=\"Course 2\",Général!E$67,IF($G$5=\"Course 3\",Général!E$69,Général!#REF!)))","v":"ASUL Lannion"},{"$f":"IF($H$5=\"Course 1\",Général!E$73,IF($H$5=\"Course 2\",Général!E$75,IF($H$5=\"Course 3\",Général!E$77,Général!#REF!)))","v":"HYDRO Sailing Team Le Havre"},{"$f":"IF($I$5=\"Course 1\",Général!E$81,IF($I$5=\"Course 2\",Général!E$83,IF($I$5=\"Course 3\",Général!E$85,Général!#REF!)))","v":"IMT Atlantique Brest"},{"$f":"IF($J$5=\"Course 1\",Général!E$89,IF($J$5=\"Course 2\",Général!E$91,IF($J$5=\"Course 3\",Général!E$93,Général!#REF!)))","v":"Univ. Nantes 1"},{"$f":"IF($K$5=\"Course 1\",Général!E$97,IF($K$5=\"Course 2\",Général!E$99,IF($K$5=\"Course 3\",Général!E$101,Général!#REF!)))","v":"Univ.Orléans"},{"$f":"IF($L$5=\"Course 1\",Général!E$105,IF($L$5=\"Course 2\",Général!E$107,IF($L$5=\"Course 3\",Général!E$109,Général!#REF!)))","v":"ENSTA Paris"},{"$f":"IF($M$5=\"Course 1\",Général!E$113,IF($M$5=\"Course 2\",Général!E$115,IF($M$5=\"Course 3\",Général!E$117,Général!#REF!)))","v":"ENSTA Bretagne 2"},{"$f":"IF($N$5=\"Course 1\",Général!E$121,IF($N$5=\"Course 2\",Général!E$123,IF($N$5=\"Course 3\",Général!E$125,Général!#REF!)))","v":"IMT Atlantique Nantes 2"},{"$f":"IF($O$5=\"Course 1\",Général!E$129,IF($O$5=\"Course 2\",Général!E$131,IF($O$5=\"Course 3\",Général!E$133,Général!#REF!)))","v":"AS UB St Brieuc"},{"$f":"IF($P$5=\"Course 1\",Général!E$137,IF($P$5=\"Course 2\",Général!E$139,IF($P$5=\"Course 3\",Général!E$141,Général!#REF!)))","v":"EGSI La Rochelle"},{"$f":"IF($Q$5=\"Course 1\",Général!E$145,IF($Q$5=\"Course 2\",Général!E$147,IF($Q$5=\"Course 3\",Général!E$149,Général!#REF!)))","v":"UNICAEN - ASSUCherbourg"},{"$f":"IF($R$5=\"Course 1\",Général!E$153,IF($R$5=\"Course 2\",Général!E$155,IF($R$5=\"Course 3\",Général!E$157,Général!#REF!)))","v":"UNICAEN - ASSUCherbourg"},{"$f":"IF($S$5=\"Course 1\",Général!E$161,IF($S$5=\"Course 2\",Général!E$163,IF($S$5=\"Course 3\",Général!E$165,Général!#REF!)))","v":"Univ. Nantes 3"},{"$f":"IF($T$5=\"Course 1\",Général!E$169,IF($T$5=\"Course 2\",Général!E$171,IF($T$5=\"Course 3\",Général!E$173,Général!#REF!)))","v":"ASUL Lannion"},null,{"$f":"Général!B13","v":"UBO 1"},6]
["5ème Equipage",null,{"$f":"IF($C$5=\"Course 1\",Général!F33,IF($C$5=\"Course 2\",Général!F35,IF($C$5=\"Course 3\",Général!F37,Général!#REF!)))","v":"Hambourg"},{"$f":"IF($D$5=\"Course 1\",Général!F41,IF($D$5=\"Course 2\",Général!F43,IF($D$5=\"Course 3\",Général!F45,Général!#REF!)))","v":"ENSTA Bretagne 2"},{"$f":"IF($E$5=\"Course 1\",Général!F49,IF($E$5=\"Course 2\",Général!F51,IF($E$5=\"Course 3\",Général!F53,Général!#REF!)))","v":"ENSTA Bretagne 1"},{"$f":"IF($F$5=\"Course 1\",Général!F$57,IF($F$5=\"Course 2\",Général!F$59,IF($F$5=\"Course 3\",Général!F$61,Général!#REF!)))","v":"UNICAEN - ASSUCherbourg"},{"$f":"IF($G$5=\"Course 1\",Général!F$65,IF($G$5=\"Course 2\",Général!F$67,IF($G$5=\"Course 3\",Général!F$69,Général!#REF!)))","v":"Univ. Nantes 3"},{"$f":"IF($H$5=\"Course 1\",Général!F$73,IF($H$5=\"Course 2\",Général!F$75,IF($H$5=\"Course 3\",Général!F$77,Général!#REF!)))","v":"Univ. Nantes 3"},{"$f":"IF($I$5=\"Course 1\",Général!F$81,IF($I$5=\"Course 2\",Général!F$83,IF($I$5=\"Course 3\",Général!F$85,Général!#REF!)))","v":"EGSI La Rochelle"},{"$f":"IF($J$5=\"Course 1\",Général!F$89,IF($J$5=\"Course 2\",Général!F$91,IF($J$5=\"Course 3\",Général!F$93,Général!#REF!)))","v":"Hannovre"},{"$f":"IF($K$5=\"Course 1\",Général!F$97,IF($K$5=\"Course 2\",Général!F$99,IF($K$5=\"Course 3\",Général!F$101,Général!#REF!)))","v":"IMT Atlantique Nantes 2"},{"$f":"IF($L$5=\"Course 1\",Général!F$105,IF($L$5=\"Course 2\",Général!$F107,IF($L$5=\"Course 3\",Général!F$109,Général!#REF!)))","v":"UBS Lorient 1"},{"$f":"IF($M$5=\"Course 1\",Général!F$113,IF($M$5=\"Course 2\",Général!F$115,IF($M$5=\"Course 3\",Général!F$117,Général!#REF!)))","v":"IMT Atlantique Nantes 1"},{"$f":"IF($N$5=\"Course 1\",Général!F$121,IF($N$5=\"Course 2\",Général!F$123,IF($N$5=\"Course 3\",Général!F$125,Général!#REF!)))","v":"ASUL Lannion"},{"$f":"IF($O$5=\"Course 1\",Général!F$129,IF($O$5=\"Course 2\",Général!F$131,IF($O$5=\"Course 3\",Général!F$133,Général!#REF!)))","v":"Karlsruhe"},{"$f":"IF($P$5=\"Course 1\",Général!F$137,IF($P$5=\"Course 2\",Général!F$139,IF($P$5=\"Course 3\",Général!F$141,Général!#REF!)))","v":"Karlsruhe"},{"$f":"IF($Q$5=\"Course 1\",Général!F$145,IF($Q$5=\"Course 2\",Général!F$147,IF($Q$5=\"Course 3\",Général!F$149,Général!#REF!)))","v":"Univ.Orléans"},{"$f":"IF($R$5=\"Course 1\",Général!F$153,IF($R$5=\"Course 2\",Général!F$155,IF($R$5=\"Course 3\",Général!F$157,Général!#REF!)))","v":"UBO 1"},{"$f":"IF($S$5=\"Course 1\",Général!F$161,IF($S$5=\"Course 2\",Général!F$163,IF($S$5=\"Course 3\",Général!F$165,Général!#REF!)))","v":"Univ. Nantes 1"},{"$f":"IF($T$5=\"Course 1\",Général!F$169,IF($T$5=\"Course 2\",Général!F$171,IF($T$5=\"Course 3\",Général!F$173,Général!#REF!)))","v":"Centrales Nantes"},null,{"$f":"Général!B14","v":"ENSTA Bretagne 1"},6]
["6ème Equipage",null,{"$f":"IF($C$5=\"Course 1\",Général!G33,IF($C$5=\"Course 2\",Général!G35,IF($C$5=\"Course 3\",Général!G37,Général!#REF!)))","v":"UNICAEN - ASSUCherbourg"},{"$f":"IF($D$5=\"Course 1\",Général!G41,IF($D$5=\"Course 2\",Général!G43,IF($D$5=\"Course 3\",Général!G45,Général!#REF!)))","v":"Karlsruhe"},{"$f":"IF($E$5=\"Course 1\",Général!G49,IF($E$5=\"Course 2\",Général!G51,IF($E$5=\"Course 3\",Général!G53,Général!#REF!)))","v":"ASUL Lannion"},{"$f":"IF($F$5=\"Course 1\",Général!G$57,IF($F$5=\"Course 2\",Général!G$59,IF($F$5=\"Course 3\",Général!G$61,Général!#REF!)))","v":"AS UB St Brieuc"},{"$f":"IF($G$5=\"Course 1\",Général!G$65,IF($G$5=\"Course 2\",Général!G$67,IF($G$5=\"Course 3\",Général!G$69,Général!#REF!)))","v":"Hambourg"},{"$f":"IF($H$5=\"Course 1\",Général!G$73,IF($H$5=\"Course 2\",Général!G$75,IF($H$5=\"Course 3\",Général!G$77,Général!#REF!)))","v":"AS UB St Brieuc"},{"$f":"IF($I$5=\"Course 1\",Général!G$81,IF($I$5=\"Course 2\",Général!G$83,IF($I$5=\"Course 3\",Général!G$85,Général!#REF!)))","v":"UNICAEN - ASSUCherbourg"},{"$f":"IF($J$5=\"Course 1\",Général!G$89,IF($J$5=\"Course 2\",Général!G$91,IF($J$5=\"Course 3\",Général!G$93,Général!#REF!)))","v":"Southampton"},{"$f":"IF($K$5=\"Course 1\",Général!G$97,IF($K$5=\"Course 2\",Général!G$99,IF($K$5=\"Course 3\",Général!G$101,Général!#REF!)))","v":"Karlsruhe"},{"$f":"IF($L$5=\"Course 1\",Général!G$105,IF($L$5=\"Course 2\",Général!G$107,IF($L$5=\"Course 3\",Général!G$109,Général!#REF!)))","v":"ASUL Lannion"},{"$f":"IF($M$5=\"Course 1\",Général!G$113,IF($M$5=\"Course 2\",Général!G$115,IF($M$5=\"Course 3\",Général!G$117,Général!#REF!)))","v":"AS Paris 1 Panthéon Sorbonne"},{"$f":"IF($N$5=\"Course 1\",Général!G$121,IF($N$5=\"Course 2\",Général!G$123,IF($N$5=\"Course 3\",Général!G$125,Général!#REF!)))","v":"EGSI La Rochelle"},{"$f":"IF($O$5=\"Course 1\",Général!G$129,IF($O$5=\"Course 2\",Général!G$131,IF($O$5=\"Course 3\",Général!G$133,Général!#REF!)))","v":"Centrales Nantes"},{"$f":"IF($P$5=\"Course 1\",Général!G$137,IF($P$5=\"Course 2\",Général!G$139,IF($P$5=\"Course 3\",Général!G$141,Général!#REF!)))","v":"HYDRO Sailing Team Le Havre"},{"$f":"IF($Q$5=\"Course 1\",Général!G$145,IF($Q$5=\"Course 2\",Général!G$147,IF($Q$5=\"Course 3\",Général!G$149,Général!#REF!)))","v":"IMT Atlantique Nantes 1"},{"$f":"IF($R$5=\"Course 1\",Général!G$153,IF($R$5=\"Course 2\",Général!G$155,IF($R$5=\"Course 3\",Général!G$157,Général!#REF!)))","v":"UBS Lorient 1"},{"$f":"IF($S$5=\"Course 1\",Général!G$161,IF($S$5=\"Course 2\",Général!G$163,IF($S$5=\"Course 3\",Général!G$165,Général!#REF!)))","v":"UBO 2"},{"$f":"IF($T$5=\"Course 1\",Général!G$169,IF($T$5=\"Course 2\",Général!G$171,IF($T$5=\"Course 3\",Général!G$173,Général!#REF!)))","v":"ENSTA Paris"},null,{"$f":"Général!B15","v":"ASUL Lannion"},5]
["7ème Equipage",null,{"$f":"IF($C$5=\"Course 1\",Général!H33,IF($C$5=\"Course 2\",Général!H35,IF($C$5=\"Course 3\",Général!H37,Général!#REF!)))","v":"Centrales Nantes"},{"$f":"IF($D$5=\"Course 1\",Général!H41,IF($D$5=\"Course 2\",Général!H43,IF($D$5=\"Course 3\",Général!H45,Général!#REF!)))","v":"UBO 2"},{"$f":"IF($E$5=\"Course 1\",Général!H49,IF($E$5=\"Course 2\",Général!H51,IF($E$5=\"Course 3\",Général!H53,Général!#REF!)))","v":"Hannovre"},{"$f":"IF($F$5=\"Course 1\",Général!H$57,IF($F$5=\"Course 2\",Général!H$59,IF($F$5=\"Course 3\",Général!H$61,Général!#REF!)))","v":"Univ. Nantes 3"},{"$f":"IF($G$5=\"Course 1\",Général!H$65,IF($G$5=\"Course 2\",Général!H$67,IF($G$5=\"Course 3\",Général!H$69,Général!#REF!)))","v":"Univ. Nantes 2"},{"$f":"IF($H$5=\"Course 1\",Général!H$73,IF($H$5=\"Course 2\",Général!H$75,IF($H$5=\"Course 3\",Général!H$77,Général!#REF!)))","v":"IMT Atlantique Nantes 2"},{"$f":"IF($I$5=\"Course 1\",Général!H$81,IF($I$5=\"Course 2\",Général!H$83,IF($I$5=\"Course 3\",Général!H$85,Général!#REF!)))","v":"HYDRO Sailing Team Le Havre"},{"$f":"IF($J$5=\"Course 1\",Général!H$89,IF($J$5=\"Course 2\",Général!H$91,IF($J$5=\"Course 3\",Général!H$93,Général!#REF!)))","v":"Centrales Nantes"},{"$f":"IF($K$5=\"Course 1\",Général!H$97,IF($K$5=\"Course 2\",Général!H$99,IF($K$5=\"Course 3\",Général!H$101,Général!#REF!)))","v":"ENSTA Bretagne 2"},{"$f":"IF($L$5=\"Course 1\",Général!H$105,IF($L$5=\"Course 2\",Général!H$107,IF($L$5=\"Course 3\",Général!H$109,Général!#REF!)))","v":"Karlsruhe"},{"$f":"IF($M$5=\"Course 1\",Général!H$113,IF($M$5=\"Course 2\",Général!H$115,IF($M$5=\"Course 3\",Général!H$117,Général!#REF!)))","v":"Dublin"},{"$f":"IF($N$5=\"Course 1\",Général!H$121,IF($N$5=\"Course 2\",Général!H$123,IF($N$5=\"Course 3\",Général!H$125,Général!#REF!)))","v":"UNICAEN - ASSUCherbourg"},{"$f":"IF($O$5=\"Course 1\",Général!H$129,IF($O$5=\"Course 2\",Général!H$131,IF($O$5=\"Course 3\",Général!H$133,Général!#REF!)))","v":"Univ.Orléans"},{"$f":"IF($P$5=\"Course 1\",Général!H$137,IF($P$5=\"Course 2\",Général!H$139,IF($P$5=\"Course 3\",Général!H$141,Général!#REF!)))","v":"Dublin"},{"$f":"IF($Q$5=\"Course 1\",Général!H$145,IF($Q$5=\"Course 2\",Général!H$147,IF($Q$5=\"Course 3\",Général!H$149,Général!#REF!)))","v":"HYDRO Sailing Team Le Havre"},{"$f":"IF($R$5=\"Course 1\",Général!H$153,IF($R$5=\"Course 2\",Général!H$155,IF($R$5=\"Course 3\",Général!H$157,Général!#REF!)))","v":"AS Paris 1 Panthéon Sorbonne"},{"$f":"IF($S$5=\"Course 1\",Général!H$161,IF($S$5=\"Course 2\",Général!H$163,IF($S$5=\"Course 3\",Général!H$165,Général!#REF!)))","v":"UNICAEN - ASSUCherbourg"},{"$f":"IF($T$5=\"Course 1\",Général!H$169,IF($T$5=\"Course 2\",Général!H$171,IF($T$5=\"Course 3\",Général!H$173,Général!#REF!)))","v":"UNICAEN - ASSUCherbourg"},null,{"$f":"Général!B16","v":"ENSTA Paris"},5]
["8ème Equipage",null,{"$f":"IF($C$5=\"Course 1\",Général!I33,IF($C$5=\"Course 2\",Général!I35,IF($C$5=\"Course 3\",Général!I37,Général!#REF!)))","v":"ENSTA Bretagne 1"},{"$f":"IF($D$5=\"Course 1\",Général!I41,IF($D$5=\"Course 2\",Général!I43,IF($D$5=\"Course 3\",Général!I45,Général!#REF!)))","v":"Univ.Orléans"},{"$f":"IF($E$5=\"Course 1\",Général!I49,IF($E$5=\"Course 2\",Général!I51,IF($E$5=\"Course 3\",Général!I53,Général!#REF!)))","v":"Univ. Nantes 1"},{"$f":"IF($F$5=\"Course 1\",Général!I$57,IF($F$5=\"Course 2\",Général!I$59,IF($F$5=\"Course 3\",Général!I$61,Général!#REF!)))","v":"Southampton"},{"$f":"IF($G$5=\"Course 1\",Général!I$65,IF($G$5=\"Course 2\",Général!I$67,IF($G$5=\"Course 3\",Général!I$69,Général!#REF!)))","v":"UNICAEN - ASSUCherbourg"},{"$f":"IF($H$5=\"Course 1\",Général!I$73,IF($H$5=\"Course 2\",Général!I$75,IF($H$5=\"Course 3\",Général!I$77,Général!#REF!)))","v":"UNICAEN - ASSUCherbourg"},{"$f":"IF($I$5=\"Course 1\",Général!I$81,IF($I$5=\"Course 2\",Général!I$83,IF($I$5=\"Course 3\",Général!I$85,Général!#REF!)))","v":"UBO 1"},{"$f":"IF($J$5=\"Course 1\",Général!I$89,IF($J$5=\"Course 2\",Général!I$91,IF($J$5=\"Course 3\",Général!I$93,Général!#REF!)))","v":"UBS Lorient 2"},{"$f":"IF($K$5=\"Course 1\",Général!I$97,IF($K$5=\"Course 2\",Général!I$99,IF($K$5=\"Course 3\",Général!I$101,Général!#REF!)))","v":"Hannovre"},{"$f":"IF($L$5=\"Course 1\",Général!I$105,IF($L$5=\"Course 2\",Général!I$107,IF($L$5=\"Course 3\",Général!I$109,Général!#REF!)))","v":"IMT Atlantique Brest"},{"$f":"IF($M$5=\"Course 1\",Général!I$113,IF($M$5=\"Course 2\",Général!I$115,IF($M$5=\"Course 3\",Général!I$117,Général!#REF!)))","v":"IMT Atlantique Brest"},{"$f":"IF($N$5=\"Course 1\",Général!I$121,IF($N$5=\"Course 2\",Général!I$123,IF($N$5=\"Course 3\",Général!I$125,Général!#REF!)))","v":"UBO 2"},{"$f":"IF($O$5=\"Course 1\",Général!I$129,IF($O$5=\"Course 2\",Général!I$131,IF($O$5=\"Course 3\",Général!I$133,Général!#REF!)))","v":"Univ. Nantes 2"},{"$f":"IF($P$5=\"Course 1\",Général!I$137,IF($P$5=\"Course 2\",Général!I$139,IF($P$5=\"Course 3\",Général!I$141,Général!#REF!)))","v":"Univ. Nantes 2"},{"$f":"IF($Q$5=\"Course 1\",Général!I$145,IF($Q$5=\"Course 2\",Général!I$147,IF($Q$5=\"Course 3\",Général!I$149,Général!#REF!)))","v":"ENSTA Paris"},{"$f":"IF($R$5=\"Course 1\",Général!I$153,IF($R$5=\"Course 2\",Général!I$155,IF($R$5=\"Course 3\",Général!I$157,Général!#REF!)))","v":"Southampton"},{"$f":"IF($S$5=\"Course 1\",Général!I$161,IF($S$5=\"Course 2\",Général!I$163,IF($S$5=\"Course 3\",Général!I$165,Général!#REF!)))","v":"ENSTA Bretagne 1"},{"$f":"IF($T$5=\"Course 1\",Général!I$169,IF($T$5=\"Course 2\",Général!I$171,IF($T$5=\"Course 3\",Général!I$173,Général!#REF!)))","v":"UBS Lorient 2"},null,{"$f":"Général!B17","v":"IMT Atlantique Brest"},5]
["9ème Equipage",null,{"$f":"IF($C$5=\"Course 1\",Général!J33,IF($C$5=\"Course 2\",Général!J35,IF($C$5=\"Course 3\",Général!J37,Général!#REF!)))","v":"Univ.Orléans"},{"$f":"IF($D$5=\"Course 1\",Général!J41,IF($D$5=\"Course 2\",Général!J43,IF($D$5=\"Course 3\",Général!J45,Général!#REF!)))","v":"Centrales Nantes"},{"$f":"IF($E$5=\"Course 1\",Général!J49,IF($E$5=\"Course 2\",Général!J51,IF($E$5=\"Course 3\",Général!J53,Général!#REF!)))","v":"AS UB St Brieuc"},{"$f":"IF($F$5=\"Course 1\",Général!J$57,IF($F$5=\"Course 2\",Général!J$59,IF($F$5=\"Course 3\",Général!J$61,Général!#REF!)))","v":"IMT Atlantique Brest"},{"$f":"IF($G$5=\"Course 1\",Général!J$65,IF($G$5=\"Course 2\",Général!J$67,IF($G$5=\"Course 3\",Général!J$69,Général!#REF!)))","v":"Univ. Nantes 1"},{"$f":"IF($H$5=\"Course 1\",Général!J$73,IF($H$5=\"Course 2\",Général!J$75,IF($H$5=\"Course 3\",Général!$J77,Général!#REF!)))","v":"Dublin"},{"$f":"IF($I$5=\"Course 1\",Général!J$81,IF($I$5=\"Course 2\",Général!J$83,IF($I$5=\"Course 3\",Général!J$85,Général!#REF!)))","v":"ENSTA Bretagne 2"},{"$f":"IF($J$5=\"Course 1\",Général!J$89,IF($J$5=\"Course 2\",Général!J$91,IF($J$5=\"Course 3\",Général!J$93,Général!#REF!)))","v":"Univ. Nantes 3"},{"$f":"IF($K$5=\"Course 1\",Général!J$97,IF($K$5=\"Course 2\",Général!J$99,IF($K$5=\"Course 3\",Général!J$101,Général!#REF!)))","v":"UNICAEN - ASSUCherbourg"},{"$f":"IF($L$5=\"Course 1\",Général!J$105,IF($L$5=\"Course 2\",Général!J$107,IF($L$5=\"Course 3\",Général!J$109,Général!#REF!)))","v":"UBS Lorient 2"},{"$f":"IF($M$5=\"Course 1\",Général!J$113,IF($M$5=\"Course 2\",Général!J$115,IF($M$5=\"Course 3\",Général!J$117,Général!#REF!)))","v":"Hannovre"},{"$f":"IF($N$5=\"Course 1\",Général!J$121,IF($N$5=\"Course 2\",Général!J$123,IF($N$5=\"Course 3\",Général!J$125,Général!#REF!)))","v":"ENSTA Bretagne 1"},{"$f":"IF($O$5=\"Course 1\",Général!J$129,IF($O$5=\"Course 2\",Général!J$131,IF($O$5=\"Course 3\",Général!J$133,Général!#REF!)))","v":"UNICAEN - ASSUCherbourg"},{"$f":"IF($P$5=\"Course 1\",Général!J$137,IF($P$5=\"Course 2\",Général!J$139,IF($P$5=\"Course 3\",Général!J$141,Général!#REF!)))","v":"UNICAEN - ASSUCherbourg"},{"$f":"IF($Q$5=\"Course 1\",Général!J$145,IF($Q$5=\"Course 2\",Général!J$147,IF($Q$5=\"Course 3\",Général!J$149,Général!#REF!)))","v":"UBO 2"},{"$f":"IF($R$5=\"Course 1\",Général!J$153,IF($R$5=\"Course 2\",Général!J$155,IF($R$5=\"Course 3\",Général!J$157,Général!#REF!)))","v":"Hambourg"},{"$f":"IF($S$5=\"Course 1\",Général!J$161,IF($S$5=\"Course 2\",Général!J$163,IF($S$5=\"Course 3\",Général!J$165,Général!#REF!)))","v":"IMT Atlantique Nantes 2"},{"$f":"IF($T$5=\"Course 1\",Général!J$169,IF($T$5=\"Course 2\",Général!J$171,IF($T$5=\"Course 3\",Général!J$173,Général!#REF!)))","v":"Univ. La Rochelle"},null,{"$f":"Général!B18","v":"UBO 2"},6]
[null,null,null,null,null,null,null,null,null,null,null,null,null,null,null,null,null,null,null,null,null,{"$f":"Général!B19","v":"Dublin"},5]
[null,null,null,null,null,null,null,null,null,null,null,null,null,null,null,null,null,null,null,null,null,{"$f":"Général!B20","v":"Univ. Nantes 2"},5]
[null,null,null,null,null,null,null,null,null,null,null,null,null,null,null,null,null,null,null,null,null,{"$f":"Général!B21","v":"UBS Lorient 1"},5]
[null,null,null,null,null,null,null,null,null,null,null,null,null,null,null,null,null,null,null,null,null,{"$f":"Général!B22","v":"UBS Lorient 2"},7]
[null,null,null,null,null,null,null,null,null,null,null,null,null,null,null,null,null,null,null,null,null,{"$f":"Général!B23","v":"Univ.Orléans"},5]
[null,null,null,null,null,null,null,null,null,null,null,null,null,null,null,null,null,null,null,null,null,{"$f":"Général!B24","v":"Univ. La Rochelle"},5]
[null,null,null,null,null,null,null,null,null,null,null,null,null,null,null,null,null,null,null,null,null,{"$f":"Général!B25","v":"AS UB St Brieuc"},6]
[null,null,null,null,null,null,null,null,null,null,null,null,null,null,null,null,null,null,null,null,null,{"$f":"Général!B26","v":"Karlsruhe"},6]
[null,null,null,null,null,null,null,null,null,null,null,null,null,null,null,null,null,null,null,null,null,{"$f":"Général!B27","v":"Univ. Nantes 3"},6]
[null,null,null,null,null,null,null,null,null,null,null,null,null,null,null,null,null,null,null,null,null,{"$f":"Général!B28","v":"Centrales Nantes"},7]
[null,null,null,null,null,null,null,null,null,null,null,null,null,null,null,null,null,null,null,null,null,{"$f":"Général!B29","v":"Southampton"},4]
[null,null,null,null,null,null,null,null,null,null,null,null,null,null,null,null,null,null,null,null,null,{"$f":"Général!#REF!","v":{"$error":"#REF!"}},0]
[null,null,null,null,null,null,null,null,null,null,null,null,null,null,null,null,null,null,null,null,null,{"$f":"Général!#REF!","v":{"$error":"#REF!"}},0]
[null,null,null,null,null,null,null,null,null,null,null,null,null,null,null,null,null,null,null,null,null,{"$f":"Général!#REF!","v":{"$error":"#REF!"}},0]
[null,null,null,null,null,null,null,null,null,null,null,null,null,null,null,null,null,null,null,null,null,{"$f":"Général!#REF!","v":{"$error":"#REF!"}},0]
[null,null,null,null,null,null,null,null,null,null,null,null,null,null,null,null,null,null,null,null,null,{"$f":"Général!#REF!","v":{"$error":"#REF!"}},0]

{"sheet":"Eq.11","index":15,"n_rows":32,"n_cols":23,"rows_kept":32,"cut":false,"hidden":false,"merged":[[14,0,14,1],[15,0,15,1],[8,0,8,1],[9,0,9,1],[10,0,10,1],[11,0,11,1],[12,0,12,1],[13,0,13,1],[7,0,7,1],[0,0,1,5],[0,6,1,10],[3,0,3,1],[4,0,4,1],[5,0,5,1]]}
["Equipage ",null,null,null,null,null,{"$f":"Général!B13","v":"UBO 1"},null,null,null,null,null,null,null,null,null,null,null,null,null,null,{"$f":"Général!B3","v":"Univ. Nantes 1"},{"$f":"COUNTIF(C$8:T$16,V1)","v":6}]
[null,null,null,null,null,null,null,null,null,null,null,null,null,null,null,null,null,null,null,null,null,{"$f":"Général!B4","v":"AS Paris 1 Panthéon Sorbonne"},{"$f":"COUNTIF($C$8:$T$16,V2)","v":7}]
[null,null,null,null,null,null,null,null,null,null,null,null,null,null,null,null,null,null,null,null,null,{"$f":"Général!B5","v":"Hannovre"},{"$f":"COUNTIF($C$8:$T$16,V3)","v":5}]
[null,null,"FLIGHT 1","FLIGHT 2","FLIGHT 3","FLIGHT 4","FLIGHT 5","FLIGHT 6","FLIGHT 7","FLIGHT 8","FLIGHT 9","FLIGHT 10","FLIGHT 11","FLIGHT 12","FLIGHT 13","FLIGHT 14","FLIGHT 15","FLIGHT 16","FLIGHT 17","FLIGHT 18",null,{"$f":"Général!B6","v":"IMT Atlantique Nantes 1"},5]
["N° de course",null,{"$f":"IF(COUNTIF(Général!B33:J33,$G$1)=1,\"Course 1\",IF(COUNTIF(Général!B35:J35,$G$1)=1,\"Course 2\",IF(COUNTIF(Général!B37:J37,$G$1)=1,\"Course 3\",\"Course 4\")))","v":"Course 2"},{"$f":"IF(COUNTIF(Général!B41:J41,$G$1)=1,\"Course 1\",IF(COUNTIF(Général!B43:J43,$G$1)=1,\"Course 2\",IF(COUNTIF(Général!B45:J45,$G$1)=1,\"Course 3\",\"Course 4\")))","v":"Course 2"},{"$f":"IF(COUNTIF(Général!B49:J49,$G$1)=1,\"Course 1\",IF(COUNTIF(Général!B51:J51,$G$1)=1,\"Course 2\",IF(COUNTIF(Général!B53:J53,$G$1)=1,\"Course 3\",\"Course 4\")))","v":"Course 2"},{"$f":"IF(COUNTIF(Général!B57:J57,$G$1)=1,\"Course 1\",IF(COUNTIF(Général!B59:J59,$G$1)=1,\"Course 2\",IF(COUNTIF(Général!B61:J61,$G$1)=1,\"Course 3\",\"Course 4\")))","v":"Course 3"},{"$f":"IF(COUNTIF(Général!B65:J65,$G$1)=1,\"Course 1\",IF(COUNTIF(Général!B67:J67,$G$1)=1,\"Course 2\",IF(COUNTIF(Général!B69:J69,$G$1)=1,\"Course 3\",\"Course 4\")))","v":"Course 1"},{"$f":"IF(COUNTIF(Général!B73:J73,$G$1)=1,\"Course 1\",IF(COUNTIF(Général!B75:J75,$G$1)=1,\"Course 2\",IF(COUNTIF(Général!B77:J77,$G$1)=1,\"Course 3\",\"Course 4\")))","v":"Course 3"},{"$f":"IF(COUNTIF(Général!B81:J81,$G$1)=1,\"Course 1\",IF(COUNTIF(Général!B83:J83,$G$1)=1,\"Course 2\",IF(COUNTIF(Général!B85:J85,$G$1)=1,\"Course 3\",\"Course 4\")))","v":"Course 2"},{"$f":"IF(COUNTIF(Général!B89:J89,$G$1)=1,\"Course 1\",IF(COUNTIF(Général!B91:J91,$G$1)=1,\"Course 2\",IF(COUNTIF(Général!B93:J93,$G$1)=1,\"Course 3\",\"Course 4\")))","v":"Course 3"},{"$f":"IF(COUNTIF(Général!B97:J97,$G$1)=1,\"Course 1\",IF(COUNTIF(Général!B99:J99,$G$1)=1,\"Course 2\",IF(COUNTIF(Général!B101:J101,$G$1)=1,\"Course 3\",\"Course 4\")))","v":"Course 1"},{"$f":"IF(COUNTIF(Général!B105:J105,$G$1)=1,\"Course 1\",IF(COUNTIF(Général!B107:J107,$G$1)=1,\"Course 2\",IF(COUNTIF(Général!B109:J109,$G$1)=1,\"Course 3\",\"Course 4\")))","v":"Course 3"},{"$f":"IF(COUNTIF(Général!B113:J113,$G$1)=1,\"Course 1\",IF(COUNTIF(Général!B115:J115,$G$1)=1,\"Course 2\",IF(COUNTIF(Général!B117:J117,$G$1)=1,\"Course 3\",\"Course 4\")))","v":"Course 2"},{"$f":"IF(COUNTIF(Général!B121:J121,$G$1)=1,\"Course 1\",IF(COUNTIF(Général!B123:J123,$G$1)=1,\"Course 2\",IF(COUNTIF(Général!B125:J125,$G$1)=1,\"Course 3\",\"Course 4\")))","v":"Course 3"},{"$f":"IF(COUNTIF(Général!B129:J129,$G$1)=1,\"Course 1\",IF(COUNTIF(Général!B131:J131,$G$1)=1,\"Course 2\",IF(COUNTIF(Général!B133:J133,$G$1)=1,\"Course 3\",\"Course 4\")))","v":"Course 3"},{"$f":"IF(COUNTIF(Général!B137:J137,$G$1)=1,\"Course 1\",IF(COUNTIF(Général!B139:J139,$G$1)=1,\"Course 2\",IF(COUNTIF(Général!B141:J141,$G$1)=1,\"Course 3\",\"Course 4\")))","v":"Course 2"},{"$f":"IF(COUNTIF(Général!B145:J145,$G$1)=1,\"Course 1\",IF(COUNTIF(Général!B147:J147,$G$1)=1,\"Course 2\",IF(COUNTIF(Général!B149:J149,$G$1)=1,\"Course 3\",\"Course 4\")))","v":"Course 3"},{"$f":"IF(COUNTIF(Général!B153:J153,$G$1)=1,\"Course 1\",IF(COUNTIF(Général!B155:J155,$G$1)=1,\"Course 2\",IF(COUNTIF(Général!B157:J157,$G$1)=1,\"Course 3\",\"Course 4\")))","v":"Course 2"},{"$f":"IF(COUNTIF(Général!B161:J161,$G$1)=1,\"Course 1\",IF(COUNTIF(Général!B163:J163,$G$1)=1,\"Course 2\",IF(COUNTIF(Général!B165:J165,$G$1)=1,\"Course 3\",\"Course 4\")))","v":"Course 3"},{"$f":"IF(COUNTIF(Général!B169:J169,$G$1)=1,\"Course 1\",IF(COUNTIF(Général!B171:J171,$G$1)=1,\"Course 2\",IF(COUNTIF(Général!B173:J173,$G$1)=1,\"Course 3\",\"Course 4\")))","v":"Course 1"},null,{"$f":"Général!B7","v":"ENSTA Bretagne 2"},4]
["Bateau",null,{"$f":"IF(COUNTIF(Général!B33:B38,$G$1)=1,\"Boat 1\",IF(COUNTIF(Général!C33:C38,$G$1)=1,\"Boat 2\",IF(COUNTIF(Général!D33:D38,$G$1)=1,\"Boat 3\", IF(COUNTIF(Général!E33:E38,$G$1)=1,\"Boat 4\", IF(COUNTIF(Général!F33:F38,$G$1)=1,\"Boat 5\", IF(COUNTIF(Général!G33:G38,$G$1)=1,\"Boat 6\", IF(COUNTIF(Général!H33:H38,$G$1)=1,\"Boat 7\",IF(COUNTIF(Général!I33:I38,$G$1)=1,\"Boat 8\",\"Boat 9\"))))))))","v":"Boat 9"},{"$f":"IF(COUNTIF(Général!B41:B46,$G$1)=1,\"Boat 1\",IF(COUNTIF(Général!C41:C46,$G$1)=1,\"Boat 2\",IF(COUNTIF(Général!D41:D46,$G$1)=1,\"Boat 3\", IF(COUNTIF(Général!E41:E46,$G$1)=1,\"Boat 4\", IF(COUNTIF(Général!F41:F46,$G$1)=1,\"Boat 5\", IF(COUNTIF(Général!G41:G46,$G$1)=1,\"Boat 6\", IF(COUNTIF(Général!H41:H46,$G$1)=1,\"Boat 7\",IF(COUNTIF(Général!I33:I38,$G$1)=1,\"Boat 8\",\"Boat 9\"))))))))","v":"Boat 6"},{"$f":"IF(COUNTIF(Général!B49:B54,$G$1)=1,\"Boat 1\",IF(COUNTIF(Général!C49:C54,$G$1)=1,\"Boat 2\",IF(COUNTIF(Général!D49:D54,$G$1)=1,\"Boat 3\", IF(COUNTIF(Général!E49:E54,$G$1)=1,\"Boat 4\", IF(COUNTIF(Général!F49:F54,$G$1)=1,\"Boat 5\", IF(COUNTIF(Général!G49:G54,$G$1)=1,\"Boat 6\", IF(COUNTIF(Général!H49:H54,$G$1)=1,\"Boat 7\",IF(COUNTIF(Général!I33:I38,$G$1)=1,\"Boat 8\",\"Boat 9\"))))))))","v":"Boat 7"},{"$f":"IF(COUNTIF(Général!B57:B62,$G$1)=1,\"Boat 1\",IF(COUNTIF(Général!C57:C62,$G$1)=1,\"Boat 2\",IF(COUNTIF(Général!D57:D62,$G$1)=1,\"Boat 3\", IF(COUNTIF(Général!E57:E62,$G$1)=1,\"Boat 4\", IF(COUNTIF(Général!F57:F62,$G$1)=1,\"Boat 5\", IF(COUNTIF(Général!G57:G62,$G$1)=1,\"Boat 6\", IF(COUNTIF(Général!H57:H62,$G$1)=1,\"Boat 7\",IF(COUNTIF(Général!I33:I38,$G$1)=1,\"Boat 8\",\"Boat 9\"))))))))","v":"Boat 3"},{"$f":"IF(COUNTIF(Général!B65:B70,$G$1)=1,\"Boat 1\",IF(COUNTIF(Général!C65:C70,$G$1)=1,\"Boat 2\",IF(COUNTIF(Général!D65:D70,$G$1)=1,\"Boat 3\", IF(COUNTIF(Général!E65:E70,$G$1)=1,\"Boat 4\", IF(COUNTIF(Général!F65:F70,$G$1)=1,\"Boat 5\", IF(COUNTIF(Général!G65:G70,$G$1)=1,\"Boat 6\", IF(COUNTIF(Général!H65:H70,$G$1)=1,\"Boat 7\",IF(COUNTIF(Général!I33:I38,$G$1)=1,\"Boat 8\",\"Boat 9\"))))))))","v":"Boat 3"},{"$f":"IF(COUNTIF(Général!B73:B78,$G$1)=1,\"Boat 1\",IF(COUNTIF(Général!C73:C78,$G$1)=1,\"Boat 2\",IF(COUNTIF(Général!D73:D78,$G$1)=1,\"Boat 3\", IF(COUNTIF(Général!E73:E78,$G$1)=1,\"Boat 4\", IF(COUNTIF(Général!F73:F78,$G$1)=1,\"Boat 5\", IF(COUNTIF(Général!G73:G78,$G$1)=1,\"Boat 6\", IF(COUNTIF(Général!H73:H78,$G$1)=1,\"Boat 7\",IF(COUNTIF(Général!I33:I38,$G$1)=1,\"Boat 8\",\"Boat 9\"))))))))","v":"Boat 9"},{"$f":"IF(COUNTIF(Général!B81:B86,$G$1)=1,\"Boat 1\",IF(COUNTIF(Général!C81:C86,$G$1)=1,\"Boat 2\",IF(COUNTIF(Général!D81:D86,$G$1)=1,\"Boat 3\", IF(COUNTIF(Général!E81:E86,$G$1)=1,\"Boat 4\", IF(COUNTIF(Général!F81:F86,$G$1)=1,\"Boat 5\", IF(COUNTIF(Général!G81:G86,$G$1)=1,\"Boat 6\", IF(COUNTIF(Général!H81:H86,$G$1)=1,\"Boat 7\",IF(COUNTIF(Général!I33:I38,$G$1)=1,\"Boat 8\",\"Boat 9\"))))))))","v":"Boat 9"},{"$f":"IF(COUNTIF(Général!B89:B94,$G$1)=1,\"Boat 1\",IF(COUNTIF(Général!C89:C94,$G$1)=1,\"Boat 2\",IF(COUNTIF(Général!D89:D94,$G$1)=1,\"Boat 3\", IF(COUNTIF(Général!E89:E94,$G$1)=1,\"Boat 4\", IF(COUNTIF(Général!F89:F94,$G$1)=1,\"Boat 5\", IF(COUNTIF(Général!G89:G94,$G$1)=1,\"Boat 6\", IF(COUNTIF(Général!H89:H94,$G$1)=1,\"Boat 7\",IF(COUNTIF(Général!I33:I38,$G$1)=1,\"Boat 8\",\"Boat 9\"))))))))","v":"Boat 2"},{"$f":"IF(COUNTIF(Général!B97:B102,$G$1)=1,\"Boat 1\",IF(COUNTIF(Général!C97:C102,$G$1)=1,\"Boat 2\",IF(COUNTIF(Général!D97:D102,$G$1)=1,\"Boat 3\", IF(COUNTIF(Général!E97:E102,$G$1)=1,\"Boat 4\", IF(COUNTIF(Général!F97:F102,$G$1)=1,\"Boat 5\", IF(COUNTIF(Général!G97:G102,$G$1)=1,\"Boat 6\", IF(COUNTIF(Général!H97:H102,$G$1)=1,\"Boat 7\",IF(COUNTIF(Général!I33:I38,$G$1)=1,\"Boat 8\",\"Boat 9\"))))))))","v":"Boat 4"},{"$f":"IF(COUNTIF(Général!B105:B110,$G$1)=1,\"Boat 1\",IF(COUNTIF(Général!C105:C110,$G$1)=1,\"Boat 2\",IF(COUNTIF(Général!D105:D110,$G$1)=1,\"Boat 3\", IF(COUNTIF(Général!E105:E110,$G$1)=1,\"Boat 4\", IF(COUNTIF(Général!F105:F110,$G$1)=1,\"Boat 5\", IF(COUNTIF(Général!G105:G110,$G$1)=1,\"Boat 6\", IF(COUNTIF(Général!H105:H110,$G$1)=1,\"Boat 7\",IF(COUNTIF(Général!I33:I38,$G$1)=1,\"Boat 8\",\"Boat 9\"))))))))","v":"Boat 2"},{"$f":"IF(COUNTIF(Général!B113:B118,$G$1)=1,\"Boat 1\",IF(COUNTIF(Général!C113:C118,$G$1)=1,\"Boat 2\",IF(COUNTIF(Général!C113:D118,$G$1)=1,\"Boat 3\", IF(COUNTIF(Général!C113:E118,$G$1)=1,\"Boat 4\", IF(COUNTIF(Général!F113:F118,$G$1)=1,\"Boat 5\", IF(COUNTIF(Général!G113:G118,$G$1)=1,\"Boat 6\", IF(COUNTIF(Général!H113:H118,$G$1)=1,\"Boat 7\",IF(COUNTIF(Général!I33:I38,$G$1)=1,\"Boat 8\",\"Boat 9\"))))))))","v":"Boat 7"},{"$f":"IF(COUNTIF(Général!B121:B126,$G$1)=1,\"Boat 1\",IF(COUNTIF(Général!C121:C126,$G$1)=1,\"Boat 2\",IF(COUNTIF(Général!D121:D126,$G$1)=1,\"Boat 3\", IF(COUNTIF(Général!E121:E126,$G$1)=1,\"Boat 4\", IF(COUNTIF(Général!F121:F126,$G$1)=1,\"Boat 5\", IF(COUNTIF(Général!G121:G126,$G$1)=1,\"Boat 6\", IF(COUNTIF(Général!H121:H126,$G$1)=1,\"Boat 7\",IF(COUNTIF(Général!I33:I38,$G$1)=1,\"Boat 8\",\"Boat 9\"))))))))","v":"Boat 1"},{"$f":"IF(COUNTIF(Général!B129:B134,$G$1)=1,\"Boat 1\",IF(COUNTIF(Général!C129:C134,$G$1)=1,\"Boat 2\",IF(COUNTIF(Général!D131:D134,$G$1)=1,\"Boat 3\", IF(COUNTIF(Général!E129:E134,$G$1)=1,\"Boat 4\", IF(COUNTIF(Général!F129:F134,$G$1)=1,\"Boat 5\", IF(COUNTIF(Général!G129:G134,$G$1)=1,\"Boat 6\", IF(COUNTIF(Général!H129:H134,$G$1)=1,\"Boat 7\",IF(COUNTIF(Général!I33:I38,$G$1)=1,\"Boat 8\",\"Boat 9\"))))))))","v":"Boat 1"},{"$f":"IF(COUNTIF(Général!B137:B142,$G$1)=1,\"Boat 1\",IF(COUNTIF(Général!C137:C142,$G$1)=1,\"Boat 2\",IF(COUNTIF(Général!D137:D142,$G$1)=1,\"Boat 3\", IF(COUNTIF(Général!E137:E142,$G$1)=1,\"Boat 4\", IF(COUNTIF(Général!F145:F150,$G$1)=1,\"Boat 5\", IF(COUNTIF(Général!G145:G150,$G$1)=1,\"Boat 6\", IF(COUNTIF(Général!H145:H150,$G$1)=1,\"Boat 7\",IF(COUNTIF(Général!I33:I38,$G$1)=1,\"Boat 8\",\"Boat 9\"))))))))","v":"Boat 9"},{"$f":"IF(COUNTIF(Général!B145:B150,$G$1)=1,\"Boat 1\",IF(COUNTIF(Général!C145:C150,$G$1)=1,\"Boat 2\",IF(COUNTIF(Général!D145:D150,$G$1)=1,\"Boat 3\", IF(COUNTIF(Général!E145:E150,$G$1)=1,\"Boat 4\", IF(COUNTIF(Général!F145:F150,$G$1)=1,\"Boat 5\", IF(COUNTIF(Général!G145:G150,$G$1)=1,\"Boat 6\", IF(COUNTIF(Général!H145:H150,$G$1)=1,\"Boat 7\",IF(COUNTIF(Général!I33:I38,$G$1)=1,\"Boat 8\",\"Boat 9\"))))))))","v":"Boat 4"},{"$f":"IF(COUNTIF(Général!B153:B158,$G$1)=1,\"Boat 1\",IF(COUNTIF(Général!C153:C158,$G$1)=1,\"Boat 2\",IF(COUNTIF(Général!D153:D158,$G$1)=1,\"Boat 3\", IF(COUNTIF(Général!E153:E158,$G$1)=1,\"Boat 4\", IF(COUNTIF(Général!F153:F158,$G$1)=1,\"Boat 5\", IF(COUNTIF(Général!G153:G158,$G$1)=1,\"Boat 6\", IF(COUNTIF(Général!H153:H158,$G$1)=1,\"Boat 7\",IF(COUNTIF(Général!I33:I38,$G$1)=1,\"Boat 8\",\"Boat 9\"))))))))","v":"Boat 5"},{"$f":"IF(COUNTIF(Général!B161:B166,$G$1)=1,\"Boat 1\",IF(COUNTIF(Général!C161:C166,$G$1)=1,\"Boat 2\",IF(COUNTIF(Général!D161:D166,$G$1)=1,\"Boat 3\", IF(COUNTIF(Général!E161:E166,$G$1)=1,\"Boat 4\", IF(COUNTIF(Général!F161:F166,$G$1)=1,\"Boat 5\", IF(COUNTIF(Général!G161:G166,$G$1)=1,\"Boat 6\", IF(COUNTIF(Général!H161:H166,$G$1)=1,\"Boat 7\",IF(COUNTIF(Général!I33:I38,$G$1)=1,\"Boat 8\",\"Boat 9\"))))))))","v":"Boat 3"},{"$f":"IF(COUNTIF(Général!B169:B174,$G$1)=1,\"Boat 1\",IF(COUNTIF(Général!C169:C174,$G$1)=1,\"Boat 2\",IF(COUNTIF(Général!D169:D174,$G$1)=1,\"Boat 3\", IF(COUNTIF(Général!E169:E174,$G$1)=1,\"Boat 4\", IF(COUNTIF(Général!F169:F174,$G$1)=1,\"Boat 5\", IF(COUNTIF(Général!G169:G174,$G$1)=1,\"Boat 6\", IF(COUNTIF(Général!H169:H174,$G$1)=1,\"Boat 7\",IF(COUNTIF(Général!I33:I38,$G$1)=1,\"Boat 8\",\"Boat 9\"))))))))","v":"Boat 9"},null,{"$f":"Général!B8","v":"IMT Atlantique Nantes 2"},6]
[null,null,null,null,null,null,null,null,null,null,null,null,null,null,null,null,null,null,null,null,null,{"$f":"Général!B9","v":"Hambourg"},7]
["1er Equipage",null,{"$f":"IF($C$5=\"Course 1\",Général!B33,IF($C$5=\"Course 2\",Général!B35,IF($C$5=\"Course 3\",Général!B37,Général!#REF!)))","v":"Univ. Nantes 1"},{"$f":"IF($D$5=\"Course 1\",Général!B41,IF($D$5=\"Course 2\",Général!B43,IF($D$5=\"Course 3\",Général!B45,Général!#REF!)))","v":"ASUL Lannion"},{"$f":"IF($E$5=\"Course 1\",Général!B49,IF($E$5=\"Course 2\",Général!B51,IF($E$5=\"Course 3\",Général!B53,Général!#REF!)))","v":"IMT Atlantique Nantes 2"},{"$f":"IF($F$5=\"Course 1\",Général!B$57,IF($F$5=\"Course 2\",Général!B$59,IF($F$5=\"Course 3\",Général!B$61,Général!#REF!)))","v":"Univ. La Rochelle"},{"$f":"IF($G$5=\"Course 1\",Général!B$65,IF($G$5=\"Course 2\",Général!B$67,IF($G$5=\"Course 3\",Général!B$69,Général!#REF!)))","v":"IMT Atlantique Brest"},{"$f":"IF($H$5=\"Course 1\",Général!B$73,IF($H$5=\"Course 2\",Général!B$75,IF($H$5=\"Course 3\",Général!B$77,Général!#REF!)))","v":"ENSTA Bretagne 2"},{"$f":"IF($I$5=\"Course 1\",Général!B$81,IF($I$5=\"Course 2\",Général!B$83,IF($I$5=\"Course 3\",Général!B$85,Général!#REF!)))","v":"IMT Atlantique Nantes 1"},{"$f":"IF($J$5=\"Course 1\",Général!B$89,IF($J$5=\"Course 2\",Général!B$91,IF($J$5=\"Course 3\",Général!B$93,Général!#REF!)))","v":"AS Paris 1 Panthéon Sorbonne"},{"$f":"IF($K$5=\"Course 1\",Général!B$97,IF($K$5=\"Course 2\",Général!B$99,IF($K$5=\"Course 3\",Général!B$101,Général!#REF!)))","v":"AS Paris 1 Panthéon Sorbonne"},{"$f":"IF($L$5=\"Course 1\",Général!B$105,IF($L$5=\"Course 2\",Général!B$107,IF($L$5=\"Course 3\",Général!B$109,Général!#REF!)))","v":"Hambourg"},{"$f":"IF($M$5=\"Course 1\",Général!B$113,IF($M$5=\"Course 2\",Général!B$115,IF($M$5=\"Course 3\",Général!B$117,Général!#REF!)))","v":"UBO 2"},{"$f":"IF($N$5=\"Course 1\",Général!B$121,IF($N$5=\"Course 2\",Général!B$123,IF($N$5=\"Course 3\",Général!B$125,Général!#REF!)))","v":"UBO 1"},{"$f":"IF($O$5=\"Course 1\",Général!B$129,IF($O$5=\"Course 2\",Général!B$131,IF($O$5=\"Course 3\",Général!B$133,Général!#REF!)))","v":"UBO 1"},{"$f":"IF($P$5=\"Course 1\",Général!B$137,IF($P$5=\"Course 2\",Général!B$139,IF($P$5=\"Course 3\",Général!B$141,Général!#REF!)))","v":"Southampton"},{"$f":"IF($Q$5=\"Course 1\",Général!B$145,IF($Q$5=\"Course 2\",Général!B$147,IF($Q$5=\"Course 3\",Général!B$149,Général!#REF!)))","v":"Hannovre"},{"$f":"IF($R$5=\"Course 1\",Général!B$153,IF($R$5=\"Course 2\",Général!B$155,IF($R$5=\"Course 3\",Général!B$157,Général!#REF!)))","v":"Dublin"},{"$f":"IF($S$5=\"Course 1\",Général!B$161,IF($S$5=\"Course 2\",Général!B$163,IF($S$5=\"Course 3\",Général!B$165,Général!#REF!)))","v":"UBS Lorient 2"},{"$f":"IF($T$5=\"Course 1\",Général!B$169,IF($T$5=\"Course 2\",Général!B$171,IF($T$5=\"Course 3\",Général!B$173,Général!#REF!)))","v":"HYDRO Sailing Team Le Havre"},null,{"$f":"Général!B10","v":"EGSI La Rochelle"},6]
["2nd Equipage",null,{"$f":"IF($C$5=\"Course 1\",Général!C33,IF($C$5=\"Course 2\",Général!C35,IF($C$5=\"Course 3\",Général!C37,Général!#REF!)))","v":"Hannovre"},{"$f":"IF($D$5=\"Course 1\",Général!C41,IF($D$5=\"Course 2\",Général!C43,IF($D$5=\"Course 3\",Général!C45,Général!#REF!)))","v":"UBS Lorient 1"},{"$f":"IF($E$5=\"Course 1\",Général!C49,IF($E$5=\"Course 2\",Général!C51,IF($E$5=\"Course 3\",Général!C53,Général!#REF!)))","v":"Karlsruhe"},{"$f":"IF($F$5=\"Course 1\",Général!C$57,IF($F$5=\"Course 2\",Général!C$59,IF($F$5=\"Course 3\",Général!C$61,Général!#REF!)))","v":"ENSTA Bretagne 2"},{"$f":"IF($G$5=\"Course 1\",Général!C$65,IF($G$5=\"Course 2\",Général!C$67,IF($G$5=\"Course 3\",Général!C$69,Général!#REF!)))","v":"Dublin"},{"$f":"IF($H$5=\"Course 1\",Général!C$73,IF($H$5=\"Course 2\",Général!C$75,IF($H$5=\"Course 3\",Général!C$77,Général!#REF!)))","v":"ENSTA Paris"},{"$f":"IF($I$5=\"Course 1\",Général!C$81,IF($I$5=\"Course 2\",Général!C$83,IF($I$5=\"Course 3\",Général!C$85,Général!#REF!)))","v":"Centrales Nantes"},{"$f":"IF($J$5=\"Course 1\",Général!C$89,IF($J$5=\"Course 2\",Général!C$91,IF($J$5=\"Course 3\",Général!C$93,Général!#REF!)))","v":"UBO 1"},{"$f":"IF($K$5=\"Course 1\",Général!C$97,IF($K$5=\"Course 2\",Général!C$99,IF($K$5=\"Course 3\",Général!C$101,Général!#REF!)))","v":"ASUL Lannion"},{"$f":"IF($L$5=\"Course 1\",Général!C$105,IF($L$5=\"Course 2\",Général!C$107,IF($L$5=\"Course 3\",Général!C$109,Général!#REF!)))","v":"UBO 1"},{"$f":"IF($M$5=\"Course 1\",Général!C$113,IF($M$5=\"Course 2\",Général!C$115,IF($M$5=\"Course 3\",Général!C$117,Général!#REF!)))","v":"Univ. Nantes 1"},{"$f":"IF($N$5=\"Course 1\",Général!C$121,IF($N$5=\"Course 2\",Général!C$123,IF($N$5=\"Course 3\",Général!C$125,Général!#REF!)))","v":"IMT Atlantique Brest"},{"$f":"IF($O$5=\"Course 1\",Général!C$129,IF($O$5=\"Course 2\",Général!C$131,IF($O$5=\"Course 3\",Général!C$133,Général!#REF!)))","v":"Univ. La Rochelle"},{"$f":"IF($P$5=\"Course 1\",Général!C$137,IF($P$5=\"Course 2\",Général!C$139,IF($P$5=\"Course 3\",Général!C$141,Général!#REF!)))","v":"Centrales Nantes"},{"$f":"IF($Q$5=\"Course 1\",Général!C$145,IF($Q$5=\"Course 2\",Général!C$147,IF($Q$5=\"Course 3\",Général!C$149,Général!#REF!)))","v":"UBS Lorient 1"},{"$f":"IF($R$5=\"Course 1\",Général!C$153,IF($R$5=\"Course 2\",Général!C$155,IF($R$5=\"Course 3\",Général!C$157,Général!#REF!)))","v":"Univ. Nantes 1"},{"$f":"IF($S$5=\"Course 1\",Général!C$161,IF($S$5=\"Course 2\",Général!C$163,IF($S$5=\"Course 3\",Général!C$165,Général!#REF!)))","v":"Hambourg"},{"$f":"IF($T$5=\"Course 1\",Général!C$169,IF($T$5=\"Course 2\",Général!C$171,IF($T$5=\"Course 3\",Général!C$173,Général!#REF!)))","v":"Hambourg"},null,{"$f":"Général!B11","v":"HYDRO Sailing Team Le Havre"},6]
["3ème Equipage",null,{"$f":"IF($C$5=\"Course 1\",Général!D33,IF($C$5=\"Course 2\",Général!D35,IF($C$5=\"Course 3\",Général!D37,Général!#REF!)))","v":"IMT Atlantique Brest"},{"$f":"IF($D$5=\"Course 1\",Général!D41,IF($D$5=\"Course 2\",Général!D43,IF($D$5=\"Course 3\",Général!D45,Général!#REF!)))","v":"IMT Atlantique Nantes 1"},{"$f":"IF($E$5=\"Course 1\",Général!D49,IF($E$5=\"Course 2\",Général!D51,IF($E$5=\"Course 3\",Général!D53,Général!#REF!)))","v":"Dublin"},{"$f":"IF($F$5=\"Course 1\",Général!D$57,IF($F$5=\"Course 2\",Général!D$59,IF($F$5=\"Course 3\",Général!D$61,Général!#REF!)))","v":"UBO 1"},{"$f":"IF($G$5=\"Course 1\",Général!D$65,IF($G$5=\"Course 2\",Général!D$67,IF($G$5=\"Course 3\",Général!D$69,Général!#REF!)))","v":"UBO 1"},{"$f":"IF($H$5=\"Course 1\",Général!D$73,IF($H$5=\"Course 2\",Général!D$75,IF($H$5=\"Course 3\",Général!D$77,Général!#REF!)))","v":"Univ.Orléans"},{"$f":"IF($I$5=\"Course 1\",Général!D$81,IF($I$5=\"Course 2\",Général!D$83,IF($I$5=\"Course 3\",Général!D$85,Général!#REF!)))","v":"UBS Lorient 2"},{"$f":"IF($J$5=\"Course 1\",Général!D$89,IF($J$5=\"Course 2\",Général!D$91,IF($J$5=\"Course 3\",Général!D$93,Général!#REF!)))","v":"ENSTA Paris"},{"$f":"IF($K$5=\"Course 1\",Général!D$97,IF($K$5=\"Course 2\",Général!D$99,IF($K$5=\"Course 3\",Général!D$101,Général!#REF!)))","v":"ENSTA Paris"},{"$f":"IF($L$5=\"Course 1\",Général!D$105,IF($L$5=\"Course 2\",Général!D$107,IF($L$5=\"Course 3\",Général!D$109,Général!#REF!)))","v":"UNICAEN - ASSUCherbourg"},{"$f":"IF($M$5=\"Course 1\",Général!D$113,IF($M$5=\"Course 2\",Général!D$115,IF($M$5=\"Course 3\",Général!D$117,Général!#REF!)))","v":"Univ. Nantes 2"},{"$f":"IF($N$5=\"Course 1\",Général!D$121,IF($N$5=\"Course 2\",Général!D$123,IF($N$5=\"Course 3\",Général!D$125,Général!#REF!)))","v":"AS Paris 1 Panthéon Sorbonne"},{"$f":"IF($O$5=\"Course 1\",Général!D$129,IF($O$5=\"Course 2\",Général!D$131,IF($O$5=\"Course 3\",Général!D$133,Général!#REF!)))","v":"UBS Lorient 2"},{"$f":"IF($P$5=\"Course 1\",Général!D$137,IF($P$5=\"Course 2\",Général!D$139,IF($P$5=\"Course 3\",Général!D$141,Général!#REF!)))","v":"ENSTA Bretagne 1"},{"$f":"IF($Q$5=\"Course 1\",Général!D$145,IF($Q$5=\"Course 2\",Général!D$147,IF($Q$5=\"Course 3\",Général!D$149,Général!#REF!)))","v":"ENSTA Bretagne 2"},{"$f":"IF($R$5=\"Course 1\",Général!D$153,IF($R$5=\"Course 2\",Général!D$155,IF($R$5=\"Course 3\",Général!D$157,Général!#REF!)))","v":"UBO 2"},{"$f":"IF($S$5=\"Course 1\",Général!D$161,IF($S$5=\"Course 2\",Général!D$163,IF($S$5=\"Course 3\",Général!D$165,Général!#REF!)))","v":"UBO 1"},{"$f":"IF($T$5=\"Course 1\",Général!D$169,IF($T$5=\"Course 2\",Général!D$171,IF($T$5=\"Course 3\",Général!D$173,Général!#REF!)))","v":"AS Paris 1 Panthéon Sorbonne"},null,{"$f":"Général!B12","v":"UNICAEN - ASSUCherbourg"},6]
["4ème Equipage",null,{"$f":"IF($C$5=\"Course 1\",Général!E33,IF($C$5=\"Course 2\",Général!E35,IF($C$5=\"Course 3\",Général!E37,Général!#REF!)))","v":"AS UB St Brieuc"},{"$f":"IF($D$5=\"Course 1\",Général!E41,IF($D$5=\"Course 2\",Général!E43,IF($D$5=\"Course 3\",Général!E45,Général!#REF!)))","v":"AS UB St Brieuc"},{"$f":"IF($E$5=\"Course 1\",Général!E49,IF($E$5=\"Course 2\",Général!E51,IF($E$5=\"Course 3\",Général!E53,Général!#REF!)))","v":"UBO 2"},{"$f":"IF($F$5=\"Course 1\",Général!E$57,IF($F$5=\"Course 2\",Général!E$59,IF($F$5=\"Course 3\",Général!E$61,Général!#REF!)))","v":"UBO 2"},{"$f":"IF($G$5=\"Course 1\",Général!E$65,IF($G$5=\"Course 2\",Général!E$67,IF($G$5=\"Course 3\",Général!E$69,Général!#REF!)))","v":"UBS Lorient 1"},{"$f":"IF($H$5=\"Course 1\",Général!E$73,IF($H$5=\"Course 2\",Général!E$75,IF($H$5=\"Course 3\",Général!E$77,Général!#REF!)))","v":"EGSI La Rochelle"},{"$f":"IF($I$5=\"Course 1\",Général!E$81,IF($I$5=\"Course 2\",Général!E$83,IF($I$5=\"Course 3\",Général!E$85,Général!#REF!)))","v":"IMT Atlantique Brest"},{"$f":"IF($J$5=\"Course 1\",Général!E$89,IF($J$5=\"Course 2\",Général!E$91,IF($J$5=\"Course 3\",Général!E$93,Général!#REF!)))","v":"Karlsruhe"},{"$f":"IF($K$5=\"Course 1\",Général!E$97,IF($K$5=\"Course 2\",Général!E$99,IF($K$5=\"Course 3\",Général!E$101,Général!#REF!)))","v":"UBO 1"},{"$f":"IF($L$5=\"Course 1\",Général!E$105,IF($L$5=\"Course 2\",Général!E$107,IF($L$5=\"Course 3\",Général!E$109,Général!#REF!)))","v":"ENSTA Paris"},{"$f":"IF($M$5=\"Course 1\",Général!E$113,IF($M$5=\"Course 2\",Général!E$115,IF($M$5=\"Course 3\",Général!E$117,Général!#REF!)))","v":"Southampton"},{"$f":"IF($N$5=\"Course 1\",Général!E$121,IF($N$5=\"Course 2\",Général!E$123,IF($N$5=\"Course 3\",Général!E$125,Général!#REF!)))","v":"IMT Atlantique Nantes 2"},{"$f":"IF($O$5=\"Course 1\",Général!E$129,IF($O$5=\"Course 2\",Général!E$131,IF($O$5=\"Course 3\",Général!E$133,Général!#REF!)))","v":"AS UB St Brieuc"},{"$f":"IF($P$5=\"Course 1\",Général!E$137,IF($P$5=\"Course 2\",Général!E$139,IF($P$5=\"Course 3\",Général!E$141,Général!#REF!)))","v":"Hambourg"},{"$f":"IF($Q$5=\"Course 1\",Général!E$145,IF($Q$5=\"Course 2\",Général!E$147,IF($Q$5=\"Course 3\",Général!E$149,Général!#REF!)))","v":"UBO 1"},{"$f":"IF($R$5=\"Course 1\",Général!E$153,IF($R$5=\"Course 2\",Général!E$155,IF($R$5=\"Course 3\",Général!E$157,Général!#REF!)))","v":"UNICAEN - ASSUCherbourg"},{"$f":"IF($S$5=\"Course 1\",Général!E$161,IF($S$5=\"Course 2\",Général!E$163,IF($S$5=\"Course 3\",Général!E$165,Général!#REF!)))","v":"Univ. Nantes 3"},{"$f":"IF($T$5=\"Course 1\",Général!E$169,IF($T$5=\"Course 2\",Général!E$171,IF($T$5=\"Course 3\",Général!E$173,Général!#REF!)))","v":"IMT Atlantique Brest"},null,{"$f":"Général!B13","v":"UBO 1"},18]
["5ème Equipage",null,{"$f":"IF($C$5=\"Course 1\",Général!F33,IF($C$5=\"Course 2\",Général!F35,IF($C$5=\"Course 3\",Général!F37,Général!#REF!)))","v":"EGSI La Rochelle"},{"$f":"IF($D$5=\"Course 1\",Général!F41,IF($D$5=\"Course 2\",Général!F43,IF($D$5=\"Course 3\",Général!F45,Général!#REF!)))","v":"Southampton"},{"$f":"IF($E$5=\"Course 1\",Général!F49,IF($E$5=\"Course 2\",Général!F51,IF($E$5=\"Course 3\",Général!F53,Général!#REF!)))","v":"IMT Atlantique Nantes 1"},{"$f":"IF($F$5=\"Course 1\",Général!F$57,IF($F$5=\"Course 2\",Général!F$59,IF($F$5=\"Course 3\",Général!F$61,Général!#REF!)))","v":"ENSTA Bretagne 1"},{"$f":"IF($G$5=\"Course 1\",Général!F$65,IF($G$5=\"Course 2\",Général!F$67,IF($G$5=\"Course 3\",Général!F$69,Général!#REF!)))","v":"Univ.Orléans"},{"$f":"IF($H$5=\"Course 1\",Général!F$73,IF($H$5=\"Course 2\",Général!F$75,IF($H$5=\"Course 3\",Général!F$77,Général!#REF!)))","v":"Univ. Nantes 2"},{"$f":"IF($I$5=\"Course 1\",Général!F$81,IF($I$5=\"Course 2\",Général!F$83,IF($I$5=\"Course 3\",Général!F$85,Général!#REF!)))","v":"EGSI La Rochelle"},{"$f":"IF($J$5=\"Course 1\",Général!F$89,IF($J$5=\"Course 2\",Général!F$91,IF($J$5=\"Course 3\",Général!F$93,Général!#REF!)))","v":"Univ. La Rochelle"},{"$f":"IF($K$5=\"Course 1\",Général!F$97,IF($K$5=\"Course 2\",Général!F$99,IF($K$5=\"Course 3\",Général!F$101,Général!#REF!)))","v":"Dublin"},{"$f":"IF($L$5=\"Course 1\",Général!F$105,IF($L$5=\"Course 2\",Général!$F107,IF($L$5=\"Course 3\",Général!F$109,Général!#REF!)))","v":"UBS Lorient 1"},{"$f":"IF($M$5=\"Course 1\",Général!F$113,IF($M$5=\"Course 2\",Général!F$115,IF($M$5=\"Course 3\",Général!F$117,Général!#REF!)))","v":"HYDRO Sailing Team Le Havre"},{"$f":"IF($N$5=\"Course 1\",Général!F$121,IF($N$5=\"Course 2\",Général!F$123,IF($N$5=\"Course 3\",Général!F$125,Général!#REF!)))","v":"ASUL Lannion"},{"$f":"IF($O$5=\"Course 1\",Général!F$129,IF($O$5=\"Course 2\",Général!F$131,IF($O$5=\"Course 3\",Général!F$133,Général!#REF!)))","v":"Karlsruhe"},{"$f":"IF($P$5=\"Course 1\",Général!F$137,IF($P$5=\"Course 2\",Général!F$139,IF($P$5=\"Course 3\",Général!F$141,Général!#REF!)))","v":"UBO 1"},{"$f":"IF($Q$5=\"Course 1\",Général!F$145,IF($Q$5=\"Course 2\",Général!F$147,IF($Q$5=\"Course 3\",Général!F$149,Général!#REF!)))","v":"UBS Lorient 2"},{"$f":"IF($R$5=\"Course 1\",Général!F$153,IF($R$5=\"Course 2\",Général!F$155,IF($R$5=\"Course 3\",Général!F$157,Général!#REF!)))","v":"UBO 1"},{"$f":"IF($S$5=\"Course 1\",Général!F$161,IF($S$5=\"Course 2\",Général!F$163,IF($S$5=\"Course 3\",Général!F$165,Général!#REF!)))","v":"Univ. Nantes 1"},{"$f":"IF($T$5=\"Course 1\",Général!F$169,IF($T$5=\"Course 2\",Général!F$171,IF($T$5=\"Course 3\",Général!F$173,Général!#REF!)))","v":"Univ. Nantes 1"},null,{"$f":"Général!B14","v":"ENSTA Bretagne 1"},6]
["6ème Equipage",null,{"$f":"IF($C$5=\"Course 1\",Général!G33,IF($C$5=\"Course 2\",Général!G35,IF($C$5=\"Course 3\",Général!G37,Général!#REF!)))","v":"Karlsruhe"},{"$f":"IF($D$5=\"Course 1\",Général!G41,IF($D$5=\"Course 2\",Général!G43,IF($D$5=\"Course 3\",Général!G45,Général!#REF!)))","v":"UBO 1"},{"$f":"IF($E$5=\"Course 1\",Général!G49,IF($E$5=\"Course 2\",Général!G51,IF($E$5=\"Course 3\",Général!G53,Général!#REF!)))","v":"Univ. Nantes 2"},{"$f":"IF($F$5=\"Course 1\",Général!G$57,IF($F$5=\"Course 2\",Général!G$59,IF($F$5=\"Course 3\",Général!G$61,Général!#REF!)))","v":"Hannovre"},{"$f":"IF($G$5=\"Course 1\",Général!G$65,IF($G$5=\"Course 2\",Général!G$67,IF($G$5=\"Course 3\",Général!G$69,Général!#REF!)))","v":"Hannovre"},{"$f":"IF($H$5=\"Course 1\",Général!G$73,IF($H$5=\"Course 2\",Général!G$75,IF($H$5=\"Course 3\",Général!G$77,Général!#REF!)))","v":"UBS Lorient 1"},{"$f":"IF($I$5=\"Course 1\",Général!G$81,IF($I$5=\"Course 2\",Général!G$83,IF($I$5=\"Course 3\",Général!G$85,Général!#REF!)))","v":"UNICAEN - ASSUCherbourg"},{"$f":"IF($J$5=\"Course 1\",Général!G$89,IF($J$5=\"Course 2\",Général!G$91,IF($J$5=\"Course 3\",Général!G$93,Général!#REF!)))","v":"IMT Atlantique Nantes 2"},{"$f":"IF($K$5=\"Course 1\",Général!G$97,IF($K$5=\"Course 2\",Général!G$99,IF($K$5=\"Course 3\",Général!G$101,Général!#REF!)))","v":"Univ. Nantes 3"},{"$f":"IF($L$5=\"Course 1\",Général!G$105,IF($L$5=\"Course 2\",Général!G$107,IF($L$5=\"Course 3\",Général!G$109,Général!#REF!)))","v":"ASUL Lannion"},{"$f":"IF($M$5=\"Course 1\",Général!G$113,IF($M$5=\"Course 2\",Général!G$115,IF($M$5=\"Course 3\",Général!G$117,Général!#REF!)))","v":"Univ.Orléans"},{"$f":"IF($N$5=\"Course 1\",Général!G$121,IF($N$5=\"Course 2\",Général!G$123,IF($N$5=\"Course 3\",Général!G$125,Général!#REF!)))","v":"EGSI La Rochelle"},{"$f":"IF($O$5=\"Course 1\",Général!G$129,IF($O$5=\"Course 2\",Général!G$131,IF($O$5=\"Course 3\",Général!G$133,Général!#REF!)))","v":"Centrales Nantes"},{"$f":"IF($P$5=\"Course 1\",Général!G$137,IF($P$5=\"Course 2\",Général!G$139,IF($P$5=\"Course 3\",Général!G$141,Général!#REF!)))","v":"Univ. Nantes 3"},{"$f":"IF($Q$5=\"Course 1\",Général!G$145,IF($Q$5=\"Course 2\",Général!G$147,IF($Q$5=\"Course 3\",Général!G$149,Général!#REF!)))","v":"Southampton"},{"$f":"IF($R$5=\"Course 1\",Général!G$153,IF($R$5=\"Course 2\",Général!G$155,IF($R$5=\"Course 3\",Général!G$157,Général!#REF!)))","v":"UBS Lorient 1"},{"$f":"IF($S$5=\"Course 1\",Général!G$161,IF($S$5=\"Course 2\",Général!G$163,IF($S$5=\"Course 3\",Général!G$165,Général!#REF!)))","v":"UBO 2"},{"$f":"IF($T$5=\"Course 1\",Général!G$169,IF($T$5=\"Course 2\",Général!G$171,IF($T$5=\"Course 3\",Général!G$173,Général!#REF!)))","v":"Hannovre"},null,{"$f":"Général!B15","v":"ASUL Lannion"},5]
["7ème Equipage",null,{"$f":"IF($C$5=\"Course 1\",Général!H33,IF($C$5=\"Course 2\",Général!H35,IF($C$5=\"Course 3\",Général!H37,Général!#REF!)))","v":"Univ. La Rochelle"},{"$f":"IF($D$5=\"Course 1\",Général!H41,IF($D$5=\"Course 2\",Général!H43,IF($D$5=\"Course 3\",Général!H45,Général!#REF!)))","v":"EGSI La Rochelle"},{"$f":"IF($E$5=\"Course 1\",Général!H49,IF($E$5=\"Course 2\",Général!H51,IF($E$5=\"Course 3\",Général!H53,Général!#REF!)))","v":"UBO 1"},{"$f":"IF($F$5=\"Course 1\",Général!H$57,IF($F$5=\"Course 2\",Général!H$59,IF($F$5=\"Course 3\",Général!H$61,Général!#REF!)))","v":"Hambourg"},{"$f":"IF($G$5=\"Course 1\",Général!H$65,IF($G$5=\"Course 2\",Général!H$67,IF($G$5=\"Course 3\",Général!H$69,Général!#REF!)))","v":"IMT Atlantique Nantes 2"},{"$f":"IF($H$5=\"Course 1\",Général!H$73,IF($H$5=\"Course 2\",Général!H$75,IF($H$5=\"Course 3\",Général!H$77,Général!#REF!)))","v":"Univ. Nantes 1"},{"$f":"IF($I$5=\"Course 1\",Général!H$81,IF($I$5=\"Course 2\",Général!H$83,IF($I$5=\"Course 3\",Général!H$85,Général!#REF!)))","v":"HYDRO Sailing Team Le Havre"},{"$f":"IF($J$5=\"Course 1\",Général!H$89,IF($J$5=\"Course 2\",Général!H$91,IF($J$5=\"Course 3\",Général!H$93,Général!#REF!)))","v":"IMT Atlantique Nantes 1"},{"$f":"IF($K$5=\"Course 1\",Général!H$97,IF($K$5=\"Course 2\",Général!H$99,IF($K$5=\"Course 3\",Général!H$101,Général!#REF!)))","v":"IMT Atlantique Nantes 1"},{"$f":"IF($L$5=\"Course 1\",Général!H$105,IF($L$5=\"Course 2\",Général!H$107,IF($L$5=\"Course 3\",Général!H$109,Général!#REF!)))","v":"Karlsruhe"},{"$f":"IF($M$5=\"Course 1\",Général!H$113,IF($M$5=\"Course 2\",Général!H$115,IF($M$5=\"Course 3\",Général!H$117,Général!#REF!)))","v":"UBO 1"},{"$f":"IF($N$5=\"Course 1\",Général!H$121,IF($N$5=\"Course 2\",Général!H$123,IF($N$5=\"Course 3\",Général!H$125,Général!#REF!)))","v":"UNICAEN - ASSUCherbourg"},{"$f":"IF($O$5=\"Course 1\",Général!H$129,IF($O$5=\"Course 2\",Général!H$131,IF($O$5=\"Course 3\",Général!H$133,Général!#REF!)))","v":"Univ.Orléans"},{"$f":"IF($P$5=\"Course 1\",Général!H$137,IF($P$5=\"Course 2\",Général!H$139,IF($P$5=\"Course 3\",Général!H$141,Général!#REF!)))","v":"Univ.Orléans"},{"$f":"IF($Q$5=\"Course 1\",Général!H$145,IF($Q$5=\"Course 2\",Général!H$147,IF($Q$5=\"Course 3\",Général!H$149,Général!#REF!)))","v":"ENSTA Bretagne 1"},{"$f":"IF($R$5=\"Course 1\",Général!H$153,IF($R$5=\"Course 2\",Général!H$155,IF($R$5=\"Course 3\",Général!H$157,Général!#REF!)))","v":"AS Paris 1 Panthéon Sorbonne"},{"$f":"IF($S$5=\"Course 1\",Général!H$161,IF($S$5=\"Course 2\",Général!H$163,IF($S$5=\"Course 3\",Général!H$165,Général!#REF!)))","v":"UNICAEN - ASSUCherbourg"},{"$f":"IF($T$5=\"Course 1\",Général!H$169,IF($T$5=\"Course 2\",Général!H$171,IF($T$5=\"Course 3\",Général!H$173,Général!#REF!)))","v":"Univ. Nantes 2"},null,{"$f":"Général!B16","v":"ENSTA Paris"},6]
["8ème Equipage",null,{"$f":"IF($C$5=\"Course 1\",Général!I33,IF($C$5=\"Course 2\",Général!I35,IF($C$5=\"Course 3\",Général!I37,Général!#REF!)))","v":"Univ. Nantes 3"},{"$f":"IF($D$5=\"Course 1\",Général!I41,IF($D$5=\"Course 2\",Général!I43,IF($D$5=\"Course 3\",Général!I45,Général!#REF!)))","v":"ENSTA Bretagne 1"},{"$f":"IF($E$5=\"Course 1\",Général!I49,IF($E$5=\"Course 2\",Général!I51,IF($E$5=\"Course 3\",Général!I53,Général!#REF!)))","v":"EGSI La Rochelle"},{"$f":"IF($F$5=\"Course 1\",Général!I$57,IF($F$5=\"Course 2\",Général!I$59,IF($F$5=\"Course 3\",Général!I$61,Général!#REF!)))","v":"HYDRO Sailing Team Le Havre"},{"$f":"IF($G$5=\"Course 1\",Général!I$65,IF($G$5=\"Course 2\",Général!I$67,IF($G$5=\"Course 3\",Général!I$69,Général!#REF!)))","v":"Centrales Nantes"},{"$f":"IF($H$5=\"Course 1\",Général!I$73,IF($H$5=\"Course 2\",Général!I$75,IF($H$5=\"Course 3\",Général!I$77,Général!#REF!)))","v":"UBO 1"},{"$f":"IF($I$5=\"Course 1\",Général!I$81,IF($I$5=\"Course 2\",Général!I$83,IF($I$5=\"Course 3\",Général!I$85,Général!#REF!)))","v":"UBO 1"},{"$f":"IF($J$5=\"Course 1\",Général!I$89,IF($J$5=\"Course 2\",Général!I$91,IF($J$5=\"Course 3\",Général!I$93,Général!#REF!)))","v":"UBS Lorient 1"},{"$f":"IF($K$5=\"Course 1\",Général!I$97,IF($K$5=\"Course 2\",Général!I$99,IF($K$5=\"Course 3\",Général!I$101,Général!#REF!)))","v":"AS UB St Brieuc"},{"$f":"IF($L$5=\"Course 1\",Général!I$105,IF($L$5=\"Course 2\",Général!I$107,IF($L$5=\"Course 3\",Général!I$109,Général!#REF!)))","v":"IMT Atlantique Brest"},{"$f":"IF($M$5=\"Course 1\",Général!I$113,IF($M$5=\"Course 2\",Général!I$115,IF($M$5=\"Course 3\",Général!I$117,Général!#REF!)))","v":"Univ. La Rochelle"},{"$f":"IF($N$5=\"Course 1\",Général!I$121,IF($N$5=\"Course 2\",Général!I$123,IF($N$5=\"Course 3\",Général!I$125,Général!#REF!)))","v":"UBO 2"},{"$f":"IF($O$5=\"Course 1\",Général!I$129,IF($O$5=\"Course 2\",Général!I$131,IF($O$5=\"Course 3\",Général!I$133,Général!#REF!)))","v":"Univ. Nantes 2"},{"$f":"IF($P$5=\"Course 1\",Général!I$137,IF($P$5=\"Course 2\",Général!I$139,IF($P$5=\"Course 3\",Général!I$141,Général!#REF!)))","v":"AS Paris 1 Panthéon Sorbonne"},{"$f":"IF($Q$5=\"Course 1\",Général!I$145,IF($Q$5=\"Course 2\",Général!I$147,IF($Q$5=\"Course 3\",Général!I$149,Général!#REF!)))","v":"Univ. Nantes 2"},{"$f":"IF($R$5=\"Course 1\",Général!I$153,IF($R$5=\"Course 2\",Général!I$155,IF($R$5=\"Course 3\",Général!I$157,Général!#REF!)))","v":"Southampton"},{"$f":"IF($S$5=\"Course 1\",Général!I$161,IF($S$5=\"Course 2\",Général!I$163,IF($S$5=\"Course 3\",Général!I$165,Général!#REF!)))","v":"ENSTA Bretagne 1"},{"$f":"IF($T$5=\"Course 1\",Général!I$169,IF($T$5=\"Course 2\",Général!I$171,IF($T$5=\"Course 3\",Général!I$173,Général!#REF!)))","v":"UBO 1"},null,{"$f":"Général!B17","v":"IMT Atlantique Brest"},6]
["9ème Equipage",null,{"$f":"IF($C$5=\"Course 1\",Général!J33,IF($C$5=\"Course 2\",Général!J35,IF($C$5=\"Course 3\",Général!J37,Général!#REF!)))","v":"UBO 1"},{"$f":"IF($D$5=\"Course 1\",Général!J41,IF($D$5=\"Course 2\",Général!J43,IF($D$5=\"Course 3\",Général!J45,Général!#REF!)))","v":"Univ. La Rochelle"},{"$f":"IF($E$5=\"Course 1\",Général!J49,IF($E$5=\"Course 2\",Général!J51,IF($E$5=\"Course 3\",Général!J53,Général!#REF!)))","v":"Hambourg"},{"$f":"IF($F$5=\"Course 1\",Général!J$57,IF($F$5=\"Course 2\",Général!J$59,IF($F$5=\"Course 3\",Général!J$61,Général!#REF!)))","v":"ENSTA Paris"},{"$f":"IF($G$5=\"Course 1\",Général!J$65,IF($G$5=\"Course 2\",Général!J$67,IF($G$5=\"Course 3\",Général!J$69,Général!#REF!)))","v":"ENSTA Paris"},{"$f":"IF($H$5=\"Course 1\",Général!J$73,IF($H$5=\"Course 2\",Général!J$75,IF($H$5=\"Course 3\",Général!$J77,Général!#REF!)))","v":"AS Paris 1 Panthéon Sorbonne"},{"$f":"IF($I$5=\"Course 1\",Général!J$81,IF($I$5=\"Course 2\",Général!J$83,IF($I$5=\"Course 3\",Général!J$85,Général!#REF!)))","v":"ENSTA Bretagne 2"},{"$f":"IF($J$5=\"Course 1\",Général!J$89,IF($J$5=\"Course 2\",Général!J$91,IF($J$5=\"Course 3\",Général!J$93,Général!#REF!)))","v":"HYDRO Sailing Team Le Havre"},{"$f":"IF($K$5=\"Course 1\",Général!J$97,IF($K$5=\"Course 2\",Général!J$99,IF($K$5=\"Course 3\",Général!J$101,Général!#REF!)))","v":"HYDRO Sailing Team Le Havre"},{"$f":"IF($L$5=\"Course 1\",Général!J$105,IF($L$5=\"Course 2\",Général!J$107,IF($L$5=\"Course 3\",Général!J$109,Général!#REF!)))","v":"UBS Lorient 2"},{"$f":"IF($M$5=\"Course 1\",Général!J$113,IF($M$5=\"Course 2\",Général!J$115,IF($M$5=\"Course 3\",Général!J$117,Général!#REF!)))","v":"ASUL Lannion"},{"$f":"IF($N$5=\"Course 1\",Général!J$121,IF($N$5=\"Course 2\",Général!J$123,IF($N$5=\"Course 3\",Général!J$125,Général!#REF!)))","v":"ENSTA Bretagne 1"},{"$f":"IF($O$5=\"Course 1\",Général!J$129,IF($O$5=\"Course 2\",Général!J$131,IF($O$5=\"Course 3\",Général!J$133,Général!#REF!)))","v":"UNICAEN - ASSUCherbourg"},{"$f":"IF($P$5=\"Course 1\",Général!J$137,IF($P$5=\"Course 2\",Général!J$139,IF($P$5=\"Course 3\",Général!J$141,Général!#REF!)))","v":"IMT Atlantique Nantes 2"},{"$f":"IF($Q$5=\"Course 1\",Général!J$145,IF($Q$5=\"Course 2\",Général!J$147,IF($Q$5=\"Course 3\",Général!J$149,Général!#REF!)))","v":"Karlsruhe"},{"$f":"IF($R$5=\"Course 1\",Général!J$153,IF($R$5=\"Course 2\",Général!J$155,IF($R$5=\"Course 3\",Général!J$157,Général!#REF!)))","v":"Hambourg"},{"$f":"IF($S$5=\"Course 1\",Général!J$161,IF($S$5=\"Course 2\",Général!J$163,IF($S$5=\"Course 3\",Général!J$165,Général!#REF!)))","v":"IMT Atlantique Nantes 2"},{"$f":"IF($T$5=\"Course 1\",Général!J$169,IF($T$5=\"Course 2\",Général!J$171,IF($T$5=\"Course 3\",Général!J$173,Général!#REF!)))","v":"Southampton"},null,{"$f":"Général!B18","v":"UBO 2"},6]
[null,null,null,null,null,null,null,null,null,null,null,null,null,null,null,null,null,null,null,null,null,{"$f":"Général!B19","v":"Dublin"},4]
[null,null,null,null,null,null,null,null,null,null,null,null,null,null,null,null,null,null,null,null,null,{"$f":"Général!B20","v":"Univ. Nantes 2"},6]
[null,null,null,null,null,null,null,null,null,null,null,null,null,null,null,null,null,null,null,null,null,{"$f":"Général!B21","v":"UBS Lorient 1"},7]
[null,null,null,null,null,null,null,null,null,null,null,null,null,null,null,null,null,null,null,null,null,{"$f":"Général!B22","v":"UBS Lorient 2"},5]
[null,null,null,null,null,null,null,null,null,null,null,null,null,null,null,null,null,null,null,null,null,{"$f":"Général!B23","v":"Univ.Orléans"},5]
[null,null,null,null,null,null,null,null,null,null,null,null,null,null,null,null,null,null,null,null,null,{"$f":"Général!B24","v":"Univ. La Rochelle"},6]
[null,null,null,null,null,null,null,null,null,null,null,null,null,null,null,null,null,null,null,null,null,{"$f":"Général!B25","v":"AS UB St Brieuc"},4]
[null,null,null,null,null,null,null,null,null,null,null,null,null,null,null,null,null,null,null,null,null,{"$f":"Général!B26","v":"Karlsruhe"},6]
[null,null,null,null,null,null,null,null,null,null,null,null,null,null,null,null,null,null,null,null,null,{"$f":"Général!B27","v":"Univ. Nantes 3"},4]
[null,null,null,null,null,null,null,null,null,null,null,null,null,null,null,null,null,null,null,null,null,{"$f":"Général!B28","v":"Centrales Nantes"},4]
[null,null,null,null,null,null,null,null,null,null,null,null,null,null,null,null,null,null,null,null,null,{"$f":"Général!B29","v":"Southampton"},6]
[null,null,null,null,null,null,null,null,null,null,null,null,null,null,null,null,null,null,null,null,null,{"$f":"Général!#REF!","v":{"$error":"#REF!"}},0]
[null,null,null,null,null,null,null,null,null,null,null,null,null,null,null,null,null,null,null,null,null,{"$f":"Général!#REF!","v":{"$error":"#REF!"}},0]
[null,null,null,null,null,null,null,null,null,null,null,null,null,null,null,null,null,null,null,null,null,{"$f":"Général!#REF!","v":{"$error":"#REF!"}},0]
[null,null,null,null,null,null,null,null,null,null,null,null,null,null,null,null,null,null,null,null,null,{"$f":"Général!#REF!","v":{"$error":"#REF!"}},0]
[null,null,null,null,null,null,null,null,null,null,null,null,null,null,null,null,null,null,null,null,null,{"$f":"Général!#REF!","v":{"$error":"#REF!"}},0]

{"sheet":"Eq.12","index":16,"n_rows":32,"n_cols":23,"rows_kept":32,"cut":false,"hidden":false,"merged":[[14,0,14,1],[15,0,15,1],[8,0,8,1],[9,0,9,1],[10,0,10,1],[11,0,11,1],[12,0,12,1],[13,0,13,1],[7,0,7,1],[0,0,1,5],[0,6,1,10],[3,0,3,1],[4,0,4,1],[5,0,5,1]]}
["Equipage ",null,null,null,null,null,{"$f":"Général!B14","v":"ENSTA Bretagne 1"},null,null,null,null,null,null,null,null,null,null,null,null,null,null,{"$f":"Général!B3","v":"Univ. Nantes 1"},{"$f":"COUNTIF(C$8:T$16,V1)","v":5}]
[null,null,null,null,null,null,null,null,null,null,null,null,null,null,null,null,null,null,null,null,null,{"$f":"Général!B4","v":"AS Paris 1 Panthéon Sorbonne"},{"$f":"COUNTIF($C$8:$T$16,V2)","v":6}]
[null,null,null,null,null,null,null,null,null,null,null,null,null,null,null,null,null,null,null,null,null,{"$f":"Général!B5","v":"Hannovre"},{"$f":"COUNTIF($C$8:$T$16,V3)","v":5}]
[null,null,"FLIGHT 1","FLIGHT 2","FLIGHT 3","FLIGHT 4","FLIGHT 5","FLIGHT 6","FLIGHT 7","FLIGHT 8","FLIGHT 9","FLIGHT 10","FLIGHT 11","FLIGHT 12","FLIGHT 13","FLIGHT 14","FLIGHT 15","FLIGHT 16","FLIGHT 17","FLIGHT 18",null,{"$f":"Général!B6","v":"IMT Atlantique Nantes 1"},5]
["N° de course",null,{"$f":"IF(COUNTIF(Général!B33:J33,$G$1)=1,\"Course 1\",IF(COUNTIF(Général!B35:J35,$G$1)=1,\"Course 2\",IF(COUNTIF(Général!B37:J37,$G$1)=1,\"Course 3\",\"Course 4\")))","v":"Course 1"},{"$f":"IF(COUNTIF(Général!B41:J41,$G$1)=1,\"Course 1\",IF(COUNTIF(Général!B43:J43,$G$1)=1,\"Course 2\",IF(COUNTIF(Général!B45:J45,$G$1)=1,\"Course 3\",\"Course 4\")))","v":"Course 2"},{"$f":"IF(COUNTIF(Général!B49:J49,$G$1)=1,\"Course 1\",IF(COUNTIF(Général!B51:J51,$G$1)=1,\"Course 2\",IF(COUNTIF(Général!B53:J53,$G$1)=1,\"Course 3\",\"Course 4\")))","v":"Course 1"},{"$f":"IF(COUNTIF(Général!B57:J57,$G$1)=1,\"Course 1\",IF(COUNTIF(Général!B59:J59,$G$1)=1,\"Course 2\",IF(COUNTIF(Général!B61:J61,$G$1)=1,\"Course 3\",\"Course 4\")))","v":"Course 3"},{"$f":"IF(COUNTIF(Général!B65:J65,$G$1)=1,\"Course 1\",IF(COUNTIF(Général!B67:J67,$G$1)=1,\"Course 2\",IF(COUNTIF(Général!B69:J69,$G$1)=1,\"Course 3\",\"Course 4\")))","v":"Course 2"},{"$f":"IF(COUNTIF(Général!B73:J73,$G$1)=1,\"Course 1\",IF(COUNTIF(Général!B75:J75,$G$1)=1,\"Course 2\",IF(COUNTIF(Général!B77:J77,$G$1)=1,\"Course 3\",\"Course 4\")))","v":"Course 1"},{"$f":"IF(COUNTIF(Général!B81:J81,$G$1)=1,\"Course 1\",IF(COUNTIF(Général!B83:J83,$G$1)=1,\"Course 2\",IF(COUNTIF(Général!B85:J85,$G$1)=1,\"Course 3\",\"Course 4\")))","v":"Course 3"},{"$f":"IF(COUNTIF(Général!B89:J89,$G$1)=1,\"Course 1\",IF(COUNTIF(Général!B91:J91,$G$1)=1,\"Course 2\",IF(COUNTIF(Général!B93:J93,$G$1)=1,\"Course 3\",\"Course 4\")))","v":"Course 1"},{"$f":"IF(COUNTIF(Général!B97:J97,$G$1)=1,\"Course 1\",IF(COUNTIF(Général!B99:J99,$G$1)=1,\"Course 2\",IF(COUNTIF(Général!B101:J101,$G$1)=1,\"Course 3\",\"Course 4\")))","v":"Course 2"},{"$f":"IF(COUNTIF(Général!B105:J105,$G$1)=1,\"Course 1\",IF(COUNTIF(Général!B107:J107,$G$1)=1,\"Course 2\",IF(COUNTIF(Général!B109:J109,$G$1)=1,\"Course 3\",\"Course 4\")))","v":"Course 2"},{"$f":"IF(COUNTIF(Général!B113:J113,$G$1)=1,\"Course 1\",IF(COUNTIF(Général!B115:J115,$G$1)=1,\"Course 2\",IF(COUNTIF(Général!B117:J117,$G$1)=1,\"Course 3\",\"Course 4\")))","v":"Course 3"},{"$f":"IF(COUNTIF(Général!B121:J121,$G$1)=1,\"Course 1\",IF(COUNTIF(Général!B123:J123,$G$1)=1,\"Course 2\",IF(COUNTIF(Général!B125:J125,$G$1)=1,\"Course 3\",\"Course 4\")))","v":"Course 3"},{"$f":"IF(COUNTIF(Général!B129:J129,$G$1)=1,\"Course 1\",IF(COUNTIF(Général!B131:J131,$G$1)=1,\"Course 2\",IF(COUNTIF(Général!B133:J133,$G$1)=1,\"Course 3\",\"Course 4\")))","v":"Course 2"},{"$f":"IF(COUNTIF(Général!B137:J137,$G$1)=1,\"Course 1\",IF(COUNTIF(Général!B139:J139,$G$1)=1,\"Course 2\",IF(COUNTIF(Général!B141:J141,$G$1)=1,\"Course 3\",\"Course 4\")))","v":"Course 2"},{"$f":"IF(COUNTIF(Général!B145:J145,$G$1)=1,\"Course 1\",IF(COUNTIF(Général!B147:J147,$G$1)=1,\"Course 2\",IF(COUNTIF(Général!B149:J149,$G$1)=1,\"Course 3\",\"Course 4\")))","v":"Course 3"},{"$f":"IF(COUNTIF(Général!B153:J153,$G$1)=1,\"Course 1\",IF(COUNTIF(Général!B155:J155,$G$1)=1,\"Course 2\",IF(COUNTIF(Général!B157:J157,$G$1)=1,\"Course 3\",\"Course 4\")))","v":"Course 1"},{"$f":"IF(COUNTIF(Général!B161:J161,$G$1)=1,\"Course 1\",IF(COUNTIF(Général!B163:J163,$G$1)=1,\"Course 2\",IF(COUNTIF(Général!B165:J165,$G$1)=1,\"Course 3\",\"Course 4\")))","v":"Course 3"},{"$f":"IF(COUNTIF(Général!B169:J169,$G$1)=1,\"Course 1\",IF(COUNTIF(Général!B171:J171,$G$1)=1,\"Course 2\",IF(COUNTIF(Général!B173:J173,$G$1)=1,\"Course 3\",\"Course 4\")))","v":"Course 2"},null,{"$f":"Général!B7","v":"ENSTA Bretagne 2"},4]
["Bateau",null,{"$f":"IF(COUNTIF(Général!B33:B38,$G$1)=1,\"Boat 1\",IF(COUNTIF(Général!C33:C38,$G$1)=1,\"Boat 2\",IF(COUNTIF(Général!D33:D38,$G$1)=1,\"Boat 3\", IF(COUNTIF(Général!E33:E38,$G$1)=1,\"Boat 4\", IF(COUNTIF(Général!F33:F38,$G$1)=1,\"Boat 5\", IF(COUNTIF(Général!G33:G38,$G$1)=1,\"Boat 6\", IF(COUNTIF(Général!H33:H38,$G$1)=1,\"Boat 7\",IF(COUNTIF(Général!I33:I38,$G$1)=1,\"Boat 8\",\"Boat 9\"))))))))","v":"Boat 8"},{"$f":"IF(COUNTIF(Général!B41:B46,$G$1)=1,\"Boat 1\",IF(COUNTIF(Général!C41:C46,$G$1)=1,\"Boat 2\",IF(COUNTIF(Général!D41:D46,$G$1)=1,\"Boat 3\", IF(COUNTIF(Général!E41:E46,$G$1)=1,\"Boat 4\", IF(COUNTIF(Général!F41:F46,$G$1)=1,\"Boat 5\", IF(COUNTIF(Général!G41:G46,$G$1)=1,\"Boat 6\", IF(COUNTIF(Général!H41:H46,$G$1)=1,\"Boat 7\",IF(COUNTIF(Général!I33:I38,$G$1)=1,\"Boat 8\",\"Boat 9\"))))))))","v":"Boat 8"},{"$f":"IF(COUNTIF(Général!B49:B54,$G$1)=1,\"Boat 1\",IF(COUNTIF(Général!C49:C54,$G$1)=1,\"Boat 2\",IF(COUNTIF(Général!D49:D54,$G$1)=1,\"Boat 3\", IF(COUNTIF(Général!E49:E54,$G$1)=1,\"Boat 4\", IF(COUNTIF(Général!F49:F54,$G$1)=1,\"Boat 5\", IF(COUNTIF(Général!G49:G54,$G$1)=1,\"Boat 6\", IF(COUNTIF(Général!H49:H54,$G$1)=1,\"Boat 7\",IF(COUNTIF(Général!I33:I38,$G$1)=1,\"Boat 8\",\"Boat 9\"))))))))","v":"Boat 5"},{"$f":"IF(COUNTIF(Général!B57:B62,$G$1)=1,\"Boat 1\",IF(COUNTIF(Général!C57:C62,$G$1)=1,\"Boat 2\",IF(COUNTIF(Général!D57:D62,$G$1)=1,\"Boat 3\", IF(COUNTIF(Général!E57:E62,$G$1)=1,\"Boat 4\", IF(COUNTIF(Général!F57:F62,$G$1)=1,\"Boat 5\", IF(COUNTIF(Général!G57:G62,$G$1)=1,\"Boat 6\", IF(COUNTIF(Général!H57:H62,$G$1)=1,\"Boat 7\",IF(COUNTIF(Général!I33:I38,$G$1)=1,\"Boat 8\",\"Boat 9\"))))))))","v":"Boat 5"},{"$f":"IF(COUNTIF(Général!B65:B70,$G$1)=1,\"Boat 1\",IF(COUNTIF(Général!C65:C70,$G$1)=1,\"Boat 2\",IF(COUNTIF(Général!D65:D70,$G$1)=1,\"Boat 3\", IF(COUNTIF(Général!E65:E70,$G$1)=1,\"Boat 4\", IF(COUNTIF(Général!F65:F70,$G$1)=1,\"Boat 5\", IF(COUNTIF(Général!G65:G70,$G$1)=1,\"Boat 6\", IF(COUNTIF(Général!H65:H70,$G$1)=1,\"Boat 7\",IF(COUNTIF(Général!I33:I38,$G$1)=1,\"Boat 8\",\"Boat 9\"))))))))","v":"Boat 8"},{"$f":"IF(COUNTIF(Général!B73:B78,$G$1)=1,\"Boat 1\",IF(COUNTIF(Général!C73:C78,$G$1)=1,\"Boat 2\",IF(COUNTIF(Général!D73:D78,$G$1)=1,\"Boat 3\", IF(COUNTIF(Général!E73:E78,$G$1)=1,\"Boat 4\", IF(COUNTIF(Général!F73:F78,$G$1)=1,\"Boat 5\", IF(COUNTIF(Général!G73:G78,$G$1)=1,\"Boat 6\", IF(COUNTIF(Général!H73:H78,$G$1)=1,\"Boat 7\",IF(COUNTIF(Général!I33:I38,$G$1)=1,\"Boat 8\",\"Boat 9\"))))))))","v":"Boat 1"},{"$f":"IF(COUNTIF(Général!B81:B86,$G$1)=1,\"Boat 1\",IF(COUNTIF(Général!C81:C86,$G$1)=1,\"Boat 2\",IF(COUNTIF(Général!D81:D86,$G$1)=1,\"Boat 3\", IF(COUNTIF(Général!E81:E86,$G$1)=1,\"Boat 4\", IF(COUNTIF(Général!F81:F86,$G$1)=1,\"Boat 5\", IF(COUNTIF(Général!G81:G86,$G$1)=1,\"Boat 6\", IF(COUNTIF(Général!H81:H86,$G$1)=1,\"Boat 7\",IF(COUNTIF(Général!I33:I38,$G$1)=1,\"Boat 8\",\"Boat 9\"))))))))","v":"Boat 4"},{"$f":"IF(COUNTIF(Général!B89:B94,$G$1)=1,\"Boat 1\",IF(COUNTIF(Général!C89:C94,$G$1)=1,\"Boat 2\",IF(COUNTIF(Général!D89:D94,$G$1)=1,\"Boat 3\", IF(COUNTIF(Général!E89:E94,$G$1)=1,\"Boat 4\", IF(COUNTIF(Général!F89:F94,$G$1)=1,\"Boat 5\", IF(COUNTIF(Général!G89:G94,$G$1)=1,\"Boat 6\", IF(COUNTIF(Général!H89:H94,$G$1)=1,\"Boat 7\",IF(COUNTIF(Général!I33:I38,$G$1)=1,\"Boat 8\",\"Boat 9\"))))))))","v":"Boat 4"},{"$f":"IF(COUNTIF(Général!B97:B102,$G$1)=1,\"Boat 1\",IF(COUNTIF(Général!C97:C102,$G$1)=1,\"Boat 2\",IF(COUNTIF(Général!D97:D102,$G$1)=1,\"Boat 3\", IF(COUNTIF(Général!E97:E102,$G$1)=1,\"Boat 4\", IF(COUNTIF(Général!F97:F102,$G$1)=1,\"Boat 5\", IF(COUNTIF(Général!G97:G102,$G$1)=1,\"Boat 6\", IF(COUNTIF(Général!H97:H102,$G$1)=1,\"Boat 7\",IF(COUNTIF(Général!I33:I38,$G$1)=1,\"Boat 8\",\"Boat 9\"))))))))","v":"Boat 6"},{"$f":"IF(COUNTIF(Général!B105:B110,$G$1)=1,\"Boat 1\",IF(COUNTIF(Général!C105:C110,$G$1)=1,\"Boat 2\",IF(COUNTIF(Général!D105:D110,$G$1)=1,\"Boat 3\", IF(COUNTIF(Général!E105:E110,$G$1)=1,\"Boat 4\", IF(COUNTIF(Général!F105:F110,$G$1)=1,\"Boat 5\", IF(COUNTIF(Général!G105:G110,$G$1)=1,\"Boat 6\", IF(COUNTIF(Général!H105:H110,$G$1)=1,\"Boat 7\",IF(COUNTIF(Général!I33:I38,$G$1)=1,\"Boat 8\",\"Boat 9\"))))))))","v":"Boat 2"},{"$f":"IF(COUNTIF(Général!B113:B118,$G$1)=1,\"Boat 1\",IF(COUNTIF(Général!C113:C118,$G$1)=1,\"Boat 2\",IF(COUNTIF(Général!C113:D118,$G$1)=1,\"Boat 3\", IF(COUNTIF(Général!C113:E118,$G$1)=1,\"Boat 4\", IF(COUNTIF(Général!F113:F118,$G$1)=1,\"Boat 5\", IF(COUNTIF(Général!G113:G118,$G$1)=1,\"Boat 6\", IF(COUNTIF(Général!H113:H118,$G$1)=1,\"Boat 7\",IF(COUNTIF(Général!I33:I38,$G$1)=1,\"Boat 8\",\"Boat 9\"))))))))","v":"Boat 2"},{"$f":"IF(COUNTIF(Général!B121:B126,$G$1)=1,\"Boat 1\",IF(COUNTIF(Général!C121:C126,$G$1)=1,\"Boat 2\",IF(COUNTIF(Général!D121:D126,$G$1)=1,\"Boat 3\", IF(COUNTIF(Général!E121:E126,$G$1)=1,\"Boat 4\", IF(COUNTIF(Général!F121:F126,$G$1)=1,\"Boat 5\", IF(COUNTIF(Général!G121:G126,$G$1)=1,\"Boat 6\", IF(COUNTIF(Général!H121:H126,$G$1)=1,\"Boat 7\",IF(COUNTIF(Général!I33:I38,$G$1)=1,\"Boat 8\",\"Boat 9\"))))))))","v":"Boat 8"},{"$f":"IF(COUNTIF(Général!B129:B134,$G$1)=1,\"Boat 1\",IF(COUNTIF(Général!C129:C134,$G$1)=1,\"Boat 2\",IF(COUNTIF(Général!D131:D134,$G$1)=1,\"Boat 3\", IF(COUNTIF(Général!E129:E134,$G$1)=1,\"Boat 4\", IF(COUNTIF(Général!F129:F134,$G$1)=1,\"Boat 5\", IF(COUNTIF(Général!G129:G134,$G$1)=1,\"Boat 6\", IF(COUNTIF(Général!H129:H134,$G$1)=1,\"Boat 7\",IF(COUNTIF(Général!I33:I38,$G$1)=1,\"Boat 8\",\"Boat 9\"))))))))","v":"Boat 8"},{"$f":"IF(COUNTIF(Général!B137:B142,$G$1)=1,\"Boat 1\",IF(COUNTIF(Général!C137:C142,$G$1)=1,\"Boat 2\",IF(COUNTIF(Général!D137:D142,$G$1)=1,\"Boat 3\", IF(COUNTIF(Général!E137:E142,$G$1)=1,\"Boat 4\", IF(COUNTIF(Général!F145:F150,$G$1)=1,\"Boat 5\", IF(COUNTIF(Général!G145:G150,$G$1)=1,\"Boat 6\", IF(COUNTIF(Général!H145:H150,$G$1)=1,\"Boat 7\",IF(COUNTIF(Général!I33:I38,$G$1)=1,\"Boat 8\",\"Boat 9\"))))))))","v":"Boat 3"},{"$f":"IF(COUNTIF(Général!B145:B150,$G$1)=1,\"Boat 1\",IF(COUNTIF(Général!C145:C150,$G$1)=1,\"Boat 2\",IF(COUNTIF(Général!D145:D150,$G$1)=1,\"Boat 3\", IF(COUNTIF(Général!E145:E150,$G$1)=1,\"Boat 4\", IF(COUNTIF(Général!F145:F150,$G$1)=1,\"Boat 5\", IF(COUNTIF(Général!G145:G150,$G$1)=1,\"Boat 6\", IF(COUNTIF(Général!H145:H150,$G$1)=1,\"Boat 7\",IF(COUNTIF(Général!I33:I38,$G$1)=1,\"Boat 8\",\"Boat 9\"))))))))","v":"Boat 7"},{"$f":"IF(COUNTIF(Général!B153:B158,$G$1)=1,\"Boat 1\",IF(COUNTIF(Général!C153:C158,$G$1)=1,\"Boat 2\",IF(COUNTIF(Général!D153:D158,$G$1)=1,\"Boat 3\", IF(COUNTIF(Général!E153:E158,$G$1)=1,\"Boat 4\", IF(COUNTIF(Général!F153:F158,$G$1)=1,\"Boat 5\", IF(COUNTIF(Général!G153:G158,$G$1)=1,\"Boat 6\", IF(COUNTIF(Général!H153:H158,$G$1)=1,\"Boat 7\",IF(COUNTIF(Général!I33:I38,$G$1)=1,\"Boat 8\",\"Boat 9\"))))))))","v":"Boat 7"},{"$f":"IF(COUNTIF(Général!B161:B166,$G$1)=1,\"Boat 1\",IF(COUNTIF(Général!C161:C166,$G$1)=1,\"Boat 2\",IF(COUNTIF(Général!D161:D166,$G$1)=1,\"Boat 3\", IF(COUNTIF(Général!E161:E166,$G$1)=1,\"Boat 4\", IF(COUNTIF(Général!F161:F166,$G$1)=1,\"Boat 5\", IF(COUNTIF(Général!G161:G166,$G$1)=1,\"Boat 6\", IF(COUNTIF(Général!H161:H166,$G$1)=1,\"Boat 7\",IF(COUNTIF(Général!I33:I38,$G$1)=1,\"Boat 8\",\"Boat 9\"))))))))","v":"Boat 8"},{"$f":"IF(COUNTIF(Général!B169:B174,$G$1)=1,\"Boat 1\",IF(COUNTIF(Général!C169:C174,$G$1)=1,\"Boat 2\",IF(COUNTIF(Général!D169:D174,$G$1)=1,\"Boat 3\", IF(COUNTIF(Général!E169:E174,$G$1)=1,\"Boat 4\", IF(COUNTIF(Général!F169:F174,$G$1)=1,\"Boat 5\", IF(COUNTIF(Général!G169:G174,$G$1)=1,\"Boat 6\", IF(COUNTIF(Général!H169:H174,$G$1)=1,\"Boat 7\",IF(COUNTIF(Général!I33:I38,$G$1)=1,\"Boat 8\",\"Boat 9\"))))))))","v":"Boat 5"},null,{"$f":"Général!B8","v":"IMT Atlantique Nantes 2"},5]
[null,null,null,null,null,null,null,null,null,null,null,null,null,null,null,null,null,null,null,null,null,{"$f":"Général!B9","v":"Hambourg"},6]
["1er Equipage",null,{"$f":"IF($C$5=\"Course 1\",Général!B33,IF($C$5=\"Course 2\",Général!B35,IF($C$5=\"Course 3\",Général!B37,Général!#REF!)))","v":"ENSTA Paris"},{"$f":"IF($D$5=\"Course 1\",Général!B41,IF($D$5=\"Course 2\",Général!B43,IF($D$5=\"Course 3\",Général!B45,Général!#REF!)))","v":"ASUL Lannion"},{"$f":"IF($E$5=\"Course 1\",Général!B49,IF($E$5=\"Course 2\",Général!B51,IF($E$5=\"Course 3\",Général!B53,Général!#REF!)))","v":"UBS Lorient 1"},{"$f":"IF($F$5=\"Course 1\",Général!B$57,IF($F$5=\"Course 2\",Général!B$59,IF($F$5=\"Course 3\",Général!B$61,Général!#REF!)))","v":"Univ. La Rochelle"},{"$f":"IF($G$5=\"Course 1\",Général!B$65,IF($G$5=\"Course 2\",Général!B$67,IF($G$5=\"Course 3\",Général!B$69,Général!#REF!)))","v":"AS UB St Brieuc"},{"$f":"IF($H$5=\"Course 1\",Général!B$73,IF($H$5=\"Course 2\",Général!B$75,IF($H$5=\"Course 3\",Général!B$77,Général!#REF!)))","v":"ENSTA Bretagne 1"},{"$f":"IF($I$5=\"Course 1\",Général!B$81,IF($I$5=\"Course 2\",Général!B$83,IF($I$5=\"Course 3\",Général!B$85,Général!#REF!)))","v":"Univ. Nantes 3"},{"$f":"IF($J$5=\"Course 1\",Général!B$89,IF($J$5=\"Course 2\",Général!B$91,IF($J$5=\"Course 3\",Général!B$93,Général!#REF!)))","v":"Dublin"},{"$f":"IF($K$5=\"Course 1\",Général!B$97,IF($K$5=\"Course 2\",Général!B$99,IF($K$5=\"Course 3\",Général!B$101,Général!#REF!)))","v":"Univ. La Rochelle"},{"$f":"IF($L$5=\"Course 1\",Général!B$105,IF($L$5=\"Course 2\",Général!B$107,IF($L$5=\"Course 3\",Général!B$109,Général!#REF!)))","v":"UBO 2"},{"$f":"IF($M$5=\"Course 1\",Général!B$113,IF($M$5=\"Course 2\",Général!B$115,IF($M$5=\"Course 3\",Général!B$117,Général!#REF!)))","v":"Karlsruhe"},{"$f":"IF($N$5=\"Course 1\",Général!B$121,IF($N$5=\"Course 2\",Général!B$123,IF($N$5=\"Course 3\",Général!B$125,Général!#REF!)))","v":"UBO 1"},{"$f":"IF($O$5=\"Course 1\",Général!B$129,IF($O$5=\"Course 2\",Général!B$131,IF($O$5=\"Course 3\",Général!B$133,Général!#REF!)))","v":"Southampton"},{"$f":"IF($P$5=\"Course 1\",Général!B$137,IF($P$5=\"Course 2\",Général!B$139,IF($P$5=\"Course 3\",Général!B$141,Général!#REF!)))","v":"Southampton"},{"$f":"IF($Q$5=\"Course 1\",Général!B$145,IF($Q$5=\"Course 2\",Général!B$147,IF($Q$5=\"Course 3\",Général!B$149,Général!#REF!)))","v":"Hannovre"},{"$f":"IF($R$5=\"Course 1\",Général!B$153,IF($R$5=\"Course 2\",Général!B$155,IF($R$5=\"Course 3\",Général!B$157,Général!#REF!)))","v":"HYDRO Sailing Team Le Havre"},{"$f":"IF($S$5=\"Course 1\",Général!B$161,IF($S$5=\"Course 2\",Général!B$163,IF($S$5=\"Course 3\",Général!B$165,Général!#REF!)))","v":"UBS Lorient 2"},{"$f":"IF($T$5=\"Course 1\",Général!B$169,IF($T$5=\"Course 2\",Général!B$171,IF($T$5=\"Course 3\",Général!B$173,Général!#REF!)))","v":"UBO 2"},null,{"$f":"Général!B10","v":"EGSI La Rochelle"},6]
["2nd Equipage",null,{"$f":"IF($C$5=\"Course 1\",Général!C33,IF($C$5=\"Course 2\",Général!C35,IF($C$5=\"Course 3\",Général!C37,Général!#REF!)))","v":"Univ. Nantes 2"},{"$f":"IF($D$5=\"Course 1\",Général!C41,IF($D$5=\"Course 2\",Général!C43,IF($D$5=\"Course 3\",Général!C45,Général!#REF!)))","v":"UBS Lorient 1"},{"$f":"IF($E$5=\"Course 1\",Général!C49,IF($E$5=\"Course 2\",Général!C51,IF($E$5=\"Course 3\",Général!C53,Général!#REF!)))","v":"UNICAEN - ASSUCherbourg"},{"$f":"IF($F$5=\"Course 1\",Général!C$57,IF($F$5=\"Course 2\",Général!C$59,IF($F$5=\"Course 3\",Général!C$61,Général!#REF!)))","v":"ENSTA Bretagne 2"},{"$f":"IF($G$5=\"Course 1\",Général!C$65,IF($G$5=\"Course 2\",Général!C$67,IF($G$5=\"Course 3\",Général!C$69,Général!#REF!)))","v":"AS Paris 1 Panthéon Sorbonne"},{"$f":"IF($H$5=\"Course 1\",Général!C$73,IF($H$5=\"Course 2\",Général!C$75,IF($H$5=\"Course 3\",Général!C$77,Général!#REF!)))","v":"UBS Lorient 2"},{"$f":"IF($I$5=\"Course 1\",Général!C$81,IF($I$5=\"Course 2\",Général!C$83,IF($I$5=\"Course 3\",Général!C$85,Général!#REF!)))","v":"Southampton"},{"$f":"IF($J$5=\"Course 1\",Général!C$89,IF($J$5=\"Course 2\",Général!C$91,IF($J$5=\"Course 3\",Général!C$93,Général!#REF!)))","v":"Univ.Orléans"},{"$f":"IF($K$5=\"Course 1\",Général!C$97,IF($K$5=\"Course 2\",Général!C$99,IF($K$5=\"Course 3\",Général!C$101,Général!#REF!)))","v":"UBO 2"},{"$f":"IF($L$5=\"Course 1\",Général!C$105,IF($L$5=\"Course 2\",Général!C$107,IF($L$5=\"Course 3\",Général!C$109,Général!#REF!)))","v":"ENSTA Bretagne 1"},{"$f":"IF($M$5=\"Course 1\",Général!C$113,IF($M$5=\"Course 2\",Général!C$115,IF($M$5=\"Course 3\",Général!C$117,Général!#REF!)))","v":"ENSTA Bretagne 1"},{"$f":"IF($N$5=\"Course 1\",Général!C$121,IF($N$5=\"Course 2\",Général!C$123,IF($N$5=\"Course 3\",Général!C$125,Général!#REF!)))","v":"IMT Atlantique Brest"},{"$f":"IF($O$5=\"Course 1\",Général!C$129,IF($O$5=\"Course 2\",Général!C$131,IF($O$5=\"Course 3\",Général!C$133,Général!#REF!)))","v":"HYDRO Sailing Team Le Havre"},{"$f":"IF($P$5=\"Course 1\",Général!C$137,IF($P$5=\"Course 2\",Général!C$139,IF($P$5=\"Course 3\",Général!C$141,Général!#REF!)))","v":"Centrales Nantes"},{"$f":"IF($Q$5=\"Course 1\",Général!C$145,IF($Q$5=\"Course 2\",Général!C$147,IF($Q$5=\"Course 3\",Général!C$149,Général!#REF!)))","v":"UBS Lorient 1"},{"$f":"IF($R$5=\"Course 1\",Général!C$153,IF($R$5=\"Course 2\",Général!C$155,IF($R$5=\"Course 3\",Général!C$157,Général!#REF!)))","v":"Univ. Nantes 3"},{"$f":"IF($S$5=\"Course 1\",Général!C$161,IF($S$5=\"Course 2\",Général!C$163,IF($S$5=\"Course 3\",Général!C$165,Général!#REF!)))","v":"Hambourg"},{"$f":"IF($T$5=\"Course 1\",Général!C$169,IF($T$5=\"Course 2\",Général!C$171,IF($T$5=\"Course 3\",Général!C$173,Général!#REF!)))","v":"Dublin"},null,{"$f":"Général!B11","v":"HYDRO Sailing Team Le Havre"},7]
["3ème Equipage",null,{"$f":"IF($C$5=\"Course 1\",Général!D33,IF($C$5=\"Course 2\",Général!D35,IF($C$5=\"Course 3\",Général!D37,Général!#REF!)))","v":"IMT Atlantique Nantes 1"},{"$f":"IF($D$5=\"Course 1\",Général!D41,IF($D$5=\"Course 2\",Général!D43,IF($D$5=\"Course 3\",Général!D45,Général!#REF!)))","v":"IMT Atlantique Nantes 1"},{"$f":"IF($E$5=\"Course 1\",Général!D49,IF($E$5=\"Course 2\",Général!D51,IF($E$5=\"Course 3\",Général!D53,Général!#REF!)))","v":"HYDRO Sailing Team Le Havre"},{"$f":"IF($F$5=\"Course 1\",Général!D$57,IF($F$5=\"Course 2\",Général!D$59,IF($F$5=\"Course 3\",Général!D$61,Général!#REF!)))","v":"UBO 1"},{"$f":"IF($G$5=\"Course 1\",Général!D$65,IF($G$5=\"Course 2\",Général!D$67,IF($G$5=\"Course 3\",Général!D$69,Général!#REF!)))","v":"Karlsruhe"},{"$f":"IF($H$5=\"Course 1\",Général!D$73,IF($H$5=\"Course 2\",Général!D$75,IF($H$5=\"Course 3\",Général!D$77,Général!#REF!)))","v":"Univ. La Rochelle"},{"$f":"IF($I$5=\"Course 1\",Général!D$81,IF($I$5=\"Course 2\",Général!D$83,IF($I$5=\"Course 3\",Général!D$85,Général!#REF!)))","v":"ASUL Lannion"},{"$f":"IF($J$5=\"Course 1\",Général!D$89,IF($J$5=\"Course 2\",Général!D$91,IF($J$5=\"Course 3\",Général!D$93,Général!#REF!)))","v":"ASUL Lannion"},{"$f":"IF($K$5=\"Course 1\",Général!D$97,IF($K$5=\"Course 2\",Général!D$99,IF($K$5=\"Course 3\",Général!D$101,Général!#REF!)))","v":"Univ. Nantes 1"},{"$f":"IF($L$5=\"Course 1\",Général!D$105,IF($L$5=\"Course 2\",Général!D$107,IF($L$5=\"Course 3\",Général!D$109,Général!#REF!)))","v":"Univ. Nantes 2"},{"$f":"IF($M$5=\"Course 1\",Général!D$113,IF($M$5=\"Course 2\",Général!D$115,IF($M$5=\"Course 3\",Général!D$117,Général!#REF!)))","v":"UNICAEN - ASSUCherbourg"},{"$f":"IF($N$5=\"Course 1\",Général!D$121,IF($N$5=\"Course 2\",Général!D$123,IF($N$5=\"Course 3\",Général!D$125,Général!#REF!)))","v":"AS Paris 1 Panthéon Sorbonne"},{"$f":"IF($O$5=\"Course 1\",Général!D$129,IF($O$5=\"Course 2\",Général!D$131,IF($O$5=\"Course 3\",Général!D$133,Général!#REF!)))","v":"EGSI La Rochelle"},{"$f":"IF($P$5=\"Course 1\",Général!D$137,IF($P$5=\"Course 2\",Général!D$139,IF($P$5=\"Course 3\",Général!D$141,Général!#REF!)))","v":"ENSTA Bretagne 1"},{"$f":"IF($Q$5=\"Course 1\",Général!D$145,IF($Q$5=\"Course 2\",Général!D$147,IF($Q$5=\"Course 3\",Général!D$149,Général!#REF!)))","v":"ENSTA Bretagne 2"},{"$f":"IF($R$5=\"Course 1\",Général!D$153,IF($R$5=\"Course 2\",Général!D$155,IF($R$5=\"Course 3\",Général!D$157,Général!#REF!)))","v":"Univ.Orléans"},{"$f":"IF($S$5=\"Course 1\",Général!D$161,IF($S$5=\"Course 2\",Général!D$163,IF($S$5=\"Course 3\",Général!D$165,Général!#REF!)))","v":"UBO 1"},{"$f":"IF($T$5=\"Course 1\",Général!D$169,IF($T$5=\"Course 2\",Général!D$171,IF($T$5=\"Course 3\",Général!D$173,Général!#REF!)))","v":"Univ. Nantes 3"},null,{"$f":"Général!B12","v":"UNICAEN - ASSUCherbourg"},6]
["4ème Equipage",null,{"$f":"IF($C$5=\"Course 1\",Général!E33,IF($C$5=\"Course 2\",Général!E35,IF($C$5=\"Course 3\",Général!E37,Général!#REF!)))","v":"AS Paris 1 Panthéon Sorbonne"},{"$f":"IF($D$5=\"Course 1\",Général!E41,IF($D$5=\"Course 2\",Général!E43,IF($D$5=\"Course 3\",Général!E45,Général!#REF!)))","v":"AS UB St Brieuc"},{"$f":"IF($E$5=\"Course 1\",Général!E49,IF($E$5=\"Course 2\",Général!E51,IF($E$5=\"Course 3\",Général!E53,Général!#REF!)))","v":"Centrales Nantes"},{"$f":"IF($F$5=\"Course 1\",Général!E$57,IF($F$5=\"Course 2\",Général!E$59,IF($F$5=\"Course 3\",Général!E$61,Général!#REF!)))","v":"UBO 2"},{"$f":"IF($G$5=\"Course 1\",Général!E$65,IF($G$5=\"Course 2\",Général!E$67,IF($G$5=\"Course 3\",Général!E$69,Général!#REF!)))","v":"EGSI La Rochelle"},{"$f":"IF($H$5=\"Course 1\",Général!E$73,IF($H$5=\"Course 2\",Général!E$75,IF($H$5=\"Course 3\",Général!E$77,Général!#REF!)))","v":"HYDRO Sailing Team Le Havre"},{"$f":"IF($I$5=\"Course 1\",Général!E$81,IF($I$5=\"Course 2\",Général!E$83,IF($I$5=\"Course 3\",Général!E$85,Général!#REF!)))","v":"ENSTA Bretagne 1"},{"$f":"IF($J$5=\"Course 1\",Général!E$89,IF($J$5=\"Course 2\",Général!E$91,IF($J$5=\"Course 3\",Général!E$93,Général!#REF!)))","v":"ENSTA Bretagne 1"},{"$f":"IF($K$5=\"Course 1\",Général!E$97,IF($K$5=\"Course 2\",Général!E$99,IF($K$5=\"Course 3\",Général!E$101,Général!#REF!)))","v":"Univ. Nantes 2"},{"$f":"IF($L$5=\"Course 1\",Général!E$105,IF($L$5=\"Course 2\",Général!E$107,IF($L$5=\"Course 3\",Général!E$109,Général!#REF!)))","v":"Univ. Nantes 3"},{"$f":"IF($M$5=\"Course 1\",Général!E$113,IF($M$5=\"Course 2\",Général!E$115,IF($M$5=\"Course 3\",Général!E$117,Général!#REF!)))","v":"ENSTA Bretagne 2"},{"$f":"IF($N$5=\"Course 1\",Général!E$121,IF($N$5=\"Course 2\",Général!E$123,IF($N$5=\"Course 3\",Général!E$125,Général!#REF!)))","v":"IMT Atlantique Nantes 2"},{"$f":"IF($O$5=\"Course 1\",Général!E$129,IF($O$5=\"Course 2\",Général!E$131,IF($O$5=\"Course 3\",Général!E$133,Général!#REF!)))","v":"Hambourg"},{"$f":"IF($P$5=\"Course 1\",Général!E$137,IF($P$5=\"Course 2\",Général!E$139,IF($P$5=\"Course 3\",Général!E$141,Général!#REF!)))","v":"Hambourg"},{"$f":"IF($Q$5=\"Course 1\",Général!E$145,IF($Q$5=\"Course 2\",Général!E$147,IF($Q$5=\"Course 3\",Général!E$149,Général!#REF!)))","v":"UBO 1"},{"$f":"IF($R$5=\"Course 1\",Général!E$153,IF($R$5=\"Course 2\",Général!E$155,IF($R$5=\"Course 3\",Général!E$157,Général!#REF!)))","v":"IMT Atlantique Nantes 1"},{"$f":"IF($S$5=\"Course 1\",Général!E$161,IF($S$5=\"Course 2\",Général!E$163,IF($S$5=\"Course 3\",Général!E$165,Général!#REF!)))","v":"Univ. Nantes 3"},{"$f":"IF($T$5=\"Course 1\",Général!E$169,IF($T$5=\"Course 2\",Général!E$171,IF($T$5=\"Course 3\",Général!E$173,Général!#REF!)))","v":"Univ.Orléans"},null,{"$f":"Général!B13","v":"UBO 1"},6]
["5ème Equipage",null,{"$f":"IF($C$5=\"Course 1\",Général!F33,IF($C$5=\"Course 2\",Général!F35,IF($C$5=\"Course 3\",Général!F37,Général!#REF!)))","v":"Hambourg"},{"$f":"IF($D$5=\"Course 1\",Général!F41,IF($D$5=\"Course 2\",Général!F43,IF($D$5=\"Course 3\",Général!F45,Général!#REF!)))","v":"Southampton"},{"$f":"IF($E$5=\"Course 1\",Général!F49,IF($E$5=\"Course 2\",Général!F51,IF($E$5=\"Course 3\",Général!F53,Général!#REF!)))","v":"ENSTA Bretagne 1"},{"$f":"IF($F$5=\"Course 1\",Général!F$57,IF($F$5=\"Course 2\",Général!F$59,IF($F$5=\"Course 3\",Général!F$61,Général!#REF!)))","v":"ENSTA Bretagne 1"},{"$f":"IF($G$5=\"Course 1\",Général!F$65,IF($G$5=\"Course 2\",Général!F$67,IF($G$5=\"Course 3\",Général!F$69,Général!#REF!)))","v":"UBS Lorient 2"},{"$f":"IF($H$5=\"Course 1\",Général!F$73,IF($H$5=\"Course 2\",Général!F$75,IF($H$5=\"Course 3\",Général!F$77,Général!#REF!)))","v":"Univ. Nantes 3"},{"$f":"IF($I$5=\"Course 1\",Général!F$81,IF($I$5=\"Course 2\",Général!F$83,IF($I$5=\"Course 3\",Général!F$85,Général!#REF!)))","v":"ENSTA Paris"},{"$f":"IF($J$5=\"Course 1\",Général!F$89,IF($J$5=\"Course 2\",Général!F$91,IF($J$5=\"Course 3\",Général!F$93,Général!#REF!)))","v":"AS UB St Brieuc"},{"$f":"IF($K$5=\"Course 1\",Général!F$97,IF($K$5=\"Course 2\",Général!F$99,IF($K$5=\"Course 3\",Général!F$101,Général!#REF!)))","v":"Centrales Nantes"},{"$f":"IF($L$5=\"Course 1\",Général!F$105,IF($L$5=\"Course 2\",Général!$F107,IF($L$5=\"Course 3\",Général!F$109,Général!#REF!)))","v":"HYDRO Sailing Team Le Havre"},{"$f":"IF($M$5=\"Course 1\",Général!F$113,IF($M$5=\"Course 2\",Général!F$115,IF($M$5=\"Course 3\",Général!F$117,Général!#REF!)))","v":"IMT Atlantique Nantes 1"},{"$f":"IF($N$5=\"Course 1\",Général!F$121,IF($N$5=\"Course 2\",Général!F$123,IF($N$5=\"Course 3\",Général!F$125,Général!#REF!)))","v":"ASUL Lannion"},{"$f":"IF($O$5=\"Course 1\",Général!F$129,IF($O$5=\"Course 2\",Général!F$131,IF($O$5=\"Course 3\",Général!F$133,Général!#REF!)))","v":"Univ. Nantes 1"},{"$f":"IF($P$5=\"Course 1\",Général!F$137,IF($P$5=\"Course 2\",Général!F$139,IF($P$5=\"Course 3\",Général!F$141,Général!#REF!)))","v":"UBO 1"},{"$f":"IF($Q$5=\"Course 1\",Général!F$145,IF($Q$5=\"Course 2\",Général!F$147,IF($Q$5=\"Course 3\",Général!F$149,Général!#REF!)))","v":"UBS Lorient 2"},{"$f":"IF($R$5=\"Course 1\",Général!F$153,IF($R$5=\"Course 2\",Général!F$155,IF($R$5=\"Course 3\",Général!F$157,Général!#REF!)))","v":"UBS Lorient 2"},{"$f":"IF($S$5=\"Course 1\",Général!F$161,IF($S$5=\"Course 2\",Général!F$163,IF($S$5=\"Course 3\",Général!F$165,Général!#REF!)))","v":"Univ. Nantes 1"},{"$f":"IF($T$5=\"Course 1\",Général!F$169,IF($T$5=\"Course 2\",Général!F$171,IF($T$5=\"Course 3\",Général!F$173,Général!#REF!)))","v":"ENSTA Bretagne 1"},null,{"$f":"Général!B14","v":"ENSTA Bretagne 1"},18]
["6ème Equipage",null,{"$f":"IF($C$5=\"Course 1\",Général!G33,IF($C$5=\"Course 2\",Général!G35,IF($C$5=\"Course 3\",Général!G37,Général!#REF!)))","v":"UNICAEN - ASSUCherbourg"},{"$f":"IF($D$5=\"Course 1\",Général!G41,IF($D$5=\"Course 2\",Général!G43,IF($D$5=\"Course 3\",Général!G45,Général!#REF!)))","v":"UBO 1"},{"$f":"IF($E$5=\"Course 1\",Général!G49,IF($E$5=\"Course 2\",Général!G51,IF($E$5=\"Course 3\",Général!G53,Général!#REF!)))","v":"ASUL Lannion"},{"$f":"IF($F$5=\"Course 1\",Général!G$57,IF($F$5=\"Course 2\",Général!G$59,IF($F$5=\"Course 3\",Général!G$61,Général!#REF!)))","v":"Hannovre"},{"$f":"IF($G$5=\"Course 1\",Général!G$65,IF($G$5=\"Course 2\",Général!G$67,IF($G$5=\"Course 3\",Général!G$69,Général!#REF!)))","v":"UBO 2"},{"$f":"IF($H$5=\"Course 1\",Général!G$73,IF($H$5=\"Course 2\",Général!G$75,IF($H$5=\"Course 3\",Général!G$77,Général!#REF!)))","v":"AS UB St Brieuc"},{"$f":"IF($I$5=\"Course 1\",Général!G$81,IF($I$5=\"Course 2\",Général!G$83,IF($I$5=\"Course 3\",Général!G$85,Général!#REF!)))","v":"IMT Atlantique Nantes 2"},{"$f":"IF($J$5=\"Course 1\",Général!G$89,IF($J$5=\"Course 2\",Général!G$91,IF($J$5=\"Course 3\",Général!G$93,Général!#REF!)))","v":"ENSTA Bretagne 2"},{"$f":"IF($K$5=\"Course 1\",Général!G$97,IF($K$5=\"Course 2\",Général!G$99,IF($K$5=\"Course 3\",Général!G$101,Général!#REF!)))","v":"ENSTA Bretagne 1"},{"$f":"IF($L$5=\"Course 1\",Général!G$105,IF($L$5=\"Course 2\",Général!G$107,IF($L$5=\"Course 3\",Général!G$109,Général!#REF!)))","v":"AS Paris 1 Panthéon Sorbonne"},{"$f":"IF($M$5=\"Course 1\",Général!G$113,IF($M$5=\"Course 2\",Général!G$115,IF($M$5=\"Course 3\",Général!G$117,Général!#REF!)))","v":"AS Paris 1 Panthéon Sorbonne"},{"$f":"IF($N$5=\"Course 1\",Général!G$121,IF($N$5=\"Course 2\",Général!G$123,IF($N$5=\"Course 3\",Général!G$125,Général!#REF!)))","v":"EGSI La Rochelle"},{"$f":"IF($O$5=\"Course 1\",Général!G$129,IF($O$5=\"Course 2\",Général!G$131,IF($O$5=\"Course 3\",Général!G$133,Général!#REF!)))","v":"IMT Atlantique Brest"},{"$f":"IF($P$5=\"Course 1\",Général!G$137,IF($P$5=\"Course 2\",Général!G$139,IF($P$5=\"Course 3\",Général!G$141,Général!#REF!)))","v":"Univ. Nantes 3"},{"$f":"IF($Q$5=\"Course 1\",Général!G$145,IF($Q$5=\"Course 2\",Général!G$147,IF($Q$5=\"Course 3\",Général!G$149,Général!#REF!)))","v":"Southampton"},{"$f":"IF($R$5=\"Course 1\",Général!G$153,IF($R$5=\"Course 2\",Général!G$155,IF($R$5=\"Course 3\",Général!G$157,Général!#REF!)))","v":"IMT Atlantique Brest"},{"$f":"IF($S$5=\"Course 1\",Général!G$161,IF($S$5=\"Course 2\",Général!G$163,IF($S$5=\"Course 3\",Général!G$165,Général!#REF!)))","v":"UBO 2"},{"$f":"IF($T$5=\"Course 1\",Général!G$169,IF($T$5=\"Course 2\",Général!G$171,IF($T$5=\"Course 3\",Général!G$173,Général!#REF!)))","v":"EGSI La Rochelle"},null,{"$f":"Général!B15","v":"ASUL Lannion"},5]
["7ème Equipage",null,{"$f":"IF($C$5=\"Course 1\",Général!H33,IF($C$5=\"Course 2\",Général!H35,IF($C$5=\"Course 3\",Général!H37,Général!#REF!)))","v":"Centrales Nantes"},{"$f":"IF($D$5=\"Course 1\",Général!H41,IF($D$5=\"Course 2\",Général!H43,IF($D$5=\"Course 3\",Général!H45,Général!#REF!)))","v":"EGSI La Rochelle"},{"$f":"IF($E$5=\"Course 1\",Général!H49,IF($E$5=\"Course 2\",Général!H51,IF($E$5=\"Course 3\",Général!H53,Général!#REF!)))","v":"Hannovre"},{"$f":"IF($F$5=\"Course 1\",Général!H$57,IF($F$5=\"Course 2\",Général!H$59,IF($F$5=\"Course 3\",Général!H$61,Général!#REF!)))","v":"Hambourg"},{"$f":"IF($G$5=\"Course 1\",Général!H$65,IF($G$5=\"Course 2\",Général!H$67,IF($G$5=\"Course 3\",Général!H$69,Général!#REF!)))","v":"Southampton"},{"$f":"IF($H$5=\"Course 1\",Général!H$73,IF($H$5=\"Course 2\",Général!H$75,IF($H$5=\"Course 3\",Général!H$77,Général!#REF!)))","v":"IMT Atlantique Nantes 2"},{"$f":"IF($I$5=\"Course 1\",Général!H$81,IF($I$5=\"Course 2\",Général!H$83,IF($I$5=\"Course 3\",Général!H$85,Général!#REF!)))","v":"Univ. Nantes 1"},{"$f":"IF($J$5=\"Course 1\",Général!H$89,IF($J$5=\"Course 2\",Général!H$91,IF($J$5=\"Course 3\",Général!H$93,Général!#REF!)))","v":"IMT Atlantique Brest"},{"$f":"IF($K$5=\"Course 1\",Général!H$97,IF($K$5=\"Course 2\",Général!H$99,IF($K$5=\"Course 3\",Général!H$101,Général!#REF!)))","v":"IMT Atlantique Brest"},{"$f":"IF($L$5=\"Course 1\",Général!H$105,IF($L$5=\"Course 2\",Général!H$107,IF($L$5=\"Course 3\",Général!H$109,Général!#REF!)))","v":"Univ.Orléans"},{"$f":"IF($M$5=\"Course 1\",Général!H$113,IF($M$5=\"Course 2\",Général!H$115,IF($M$5=\"Course 3\",Général!H$117,Général!#REF!)))","v":"Dublin"},{"$f":"IF($N$5=\"Course 1\",Général!H$121,IF($N$5=\"Course 2\",Général!H$123,IF($N$5=\"Course 3\",Général!H$125,Général!#REF!)))","v":"UNICAEN - ASSUCherbourg"},{"$f":"IF($O$5=\"Course 1\",Général!H$129,IF($O$5=\"Course 2\",Général!H$131,IF($O$5=\"Course 3\",Général!H$133,Général!#REF!)))","v":"ENSTA Paris"},{"$f":"IF($P$5=\"Course 1\",Général!H$137,IF($P$5=\"Course 2\",Général!H$139,IF($P$5=\"Course 3\",Général!H$141,Général!#REF!)))","v":"Univ.Orléans"},{"$f":"IF($Q$5=\"Course 1\",Général!H$145,IF($Q$5=\"Course 2\",Général!H$147,IF($Q$5=\"Course 3\",Général!H$149,Général!#REF!)))","v":"ENSTA Bretagne 1"},{"$f":"IF($R$5=\"Course 1\",Général!H$153,IF($R$5=\"Course 2\",Général!H$155,IF($R$5=\"Course 3\",Général!H$157,Général!#REF!)))","v":"ENSTA Bretagne 1"},{"$f":"IF($S$5=\"Course 1\",Général!H$161,IF($S$5=\"Course 2\",Général!H$163,IF($S$5=\"Course 3\",Général!H$165,Général!#REF!)))","v":"UNICAEN - ASSUCherbourg"},{"$f":"IF($T$5=\"Course 1\",Général!H$169,IF($T$5=\"Course 2\",Général!H$171,IF($T$5=\"Course 3\",Général!H$173,Général!#REF!)))","v":"UBS Lorient 1"},null,{"$f":"Général!B16","v":"ENSTA Paris"},4]
["8ème Equipage",null,{"$f":"IF($C$5=\"Course 1\",Général!I33,IF($C$5=\"Course 2\",Général!I35,IF($C$5=\"Course 3\",Général!I37,Général!#REF!)))","v":"ENSTA Bretagne 1"},{"$f":"IF($D$5=\"Course 1\",Général!I41,IF($D$5=\"Course 2\",Général!I43,IF($D$5=\"Course 3\",Général!I45,Général!#REF!)))","v":"ENSTA Bretagne 1"},{"$f":"IF($E$5=\"Course 1\",Général!I49,IF($E$5=\"Course 2\",Général!I51,IF($E$5=\"Course 3\",Général!I53,Général!#REF!)))","v":"Univ. Nantes 1"},{"$f":"IF($F$5=\"Course 1\",Général!I$57,IF($F$5=\"Course 2\",Général!I$59,IF($F$5=\"Course 3\",Général!I$61,Général!#REF!)))","v":"HYDRO Sailing Team Le Havre"},{"$f":"IF($G$5=\"Course 1\",Général!I$65,IF($G$5=\"Course 2\",Général!I$67,IF($G$5=\"Course 3\",Général!I$69,Général!#REF!)))","v":"HYDRO Sailing Team Le Havre"},{"$f":"IF($H$5=\"Course 1\",Général!I$73,IF($H$5=\"Course 2\",Général!I$75,IF($H$5=\"Course 3\",Général!I$77,Général!#REF!)))","v":"UNICAEN - ASSUCherbourg"},{"$f":"IF($I$5=\"Course 1\",Général!I$81,IF($I$5=\"Course 2\",Général!I$83,IF($I$5=\"Course 3\",Général!I$85,Général!#REF!)))","v":"Karlsruhe"},{"$f":"IF($J$5=\"Course 1\",Général!I$89,IF($J$5=\"Course 2\",Général!I$91,IF($J$5=\"Course 3\",Général!I$93,Général!#REF!)))","v":"Hambourg"},{"$f":"IF($K$5=\"Course 1\",Général!I$97,IF($K$5=\"Course 2\",Général!I$99,IF($K$5=\"Course 3\",Général!I$101,Général!#REF!)))","v":"UBS Lorient 1"},{"$f":"IF($L$5=\"Course 1\",Général!I$105,IF($L$5=\"Course 2\",Général!I$107,IF($L$5=\"Course 3\",Général!I$109,Général!#REF!)))","v":"EGSI La Rochelle"},{"$f":"IF($M$5=\"Course 1\",Général!I$113,IF($M$5=\"Course 2\",Général!I$115,IF($M$5=\"Course 3\",Général!I$117,Général!#REF!)))","v":"IMT Atlantique Brest"},{"$f":"IF($N$5=\"Course 1\",Général!I$121,IF($N$5=\"Course 2\",Général!I$123,IF($N$5=\"Course 3\",Général!I$125,Général!#REF!)))","v":"UBO 2"},{"$f":"IF($O$5=\"Course 1\",Général!I$129,IF($O$5=\"Course 2\",Général!I$131,IF($O$5=\"Course 3\",Général!I$133,Général!#REF!)))","v":"Dublin"},{"$f":"IF($P$5=\"Course 1\",Général!I$137,IF($P$5=\"Course 2\",Général!I$139,IF($P$5=\"Course 3\",Général!I$141,Général!#REF!)))","v":"AS Paris 1 Panthéon Sorbonne"},{"$f":"IF($Q$5=\"Course 1\",Général!I$145,IF($Q$5=\"Course 2\",Général!I$147,IF($Q$5=\"Course 3\",Général!I$149,Général!#REF!)))","v":"Univ. Nantes 2"},{"$f":"IF($R$5=\"Course 1\",Général!I$153,IF($R$5=\"Course 2\",Général!I$155,IF($R$5=\"Course 3\",Général!I$157,Général!#REF!)))","v":"AS UB St Brieuc"},{"$f":"IF($S$5=\"Course 1\",Général!I$161,IF($S$5=\"Course 2\",Général!I$163,IF($S$5=\"Course 3\",Général!I$165,Général!#REF!)))","v":"ENSTA Bretagne 1"},{"$f":"IF($T$5=\"Course 1\",Général!I$169,IF($T$5=\"Course 2\",Général!I$171,IF($T$5=\"Course 3\",Général!I$173,Général!#REF!)))","v":"Karlsruhe"},null,{"$f":"Général!B17","v":"IMT Atlantique Brest"},6]
["9ème Equipage",null,{"$f":"IF($C$5=\"Course 1\",Général!J33,IF($C$5=\"Course 2\",Général!J35,IF($C$5=\"Course 3\",Général!J37,Général!#REF!)))","v":"Univ.Orléans"},{"$f":"IF($D$5=\"Course 1\",Général!J41,IF($D$5=\"Course 2\",Général!J43,IF($D$5=\"Course 3\",Général!J45,Général!#REF!)))","v":"Univ. La Rochelle"},{"$f":"IF($E$5=\"Course 1\",Général!J49,IF($E$5=\"Course 2\",Général!J51,IF($E$5=\"Course 3\",Général!J53,Général!#REF!)))","v":"AS UB St Brieuc"},{"$f":"IF($F$5=\"Course 1\",Général!J$57,IF($F$5=\"Course 2\",Général!J$59,IF($F$5=\"Course 3\",Général!J$61,Général!#REF!)))","v":"ENSTA Paris"},{"$f":"IF($G$5=\"Course 1\",Général!J$65,IF($G$5=\"Course 2\",Général!J$67,IF($G$5=\"Course 3\",Général!J$69,Général!#REF!)))","v":"ENSTA Bretagne 1"},{"$f":"IF($H$5=\"Course 1\",Général!J$73,IF($H$5=\"Course 2\",Général!J$75,IF($H$5=\"Course 3\",Général!$J77,Général!#REF!)))","v":"Dublin"},{"$f":"IF($I$5=\"Course 1\",Général!J$81,IF($I$5=\"Course 2\",Général!J$83,IF($I$5=\"Course 3\",Général!J$85,Général!#REF!)))","v":"Univ. Nantes 2"},{"$f":"IF($J$5=\"Course 1\",Général!J$89,IF($J$5=\"Course 2\",Général!J$91,IF($J$5=\"Course 3\",Général!J$93,Général!#REF!)))","v":"Univ. Nantes 2"},{"$f":"IF($K$5=\"Course 1\",Général!J$97,IF($K$5=\"Course 2\",Général!J$99,IF($K$5=\"Course 3\",Général!J$101,Général!#REF!)))","v":"UBS Lorient 2"},{"$f":"IF($L$5=\"Course 1\",Général!J$105,IF($L$5=\"Course 2\",Général!J$107,IF($L$5=\"Course 3\",Général!J$109,Général!#REF!)))","v":"Hannovre"},{"$f":"IF($M$5=\"Course 1\",Général!J$113,IF($M$5=\"Course 2\",Général!J$115,IF($M$5=\"Course 3\",Général!J$117,Général!#REF!)))","v":"Hannovre"},{"$f":"IF($N$5=\"Course 1\",Général!J$121,IF($N$5=\"Course 2\",Général!J$123,IF($N$5=\"Course 3\",Général!J$125,Général!#REF!)))","v":"ENSTA Bretagne 1"},{"$f":"IF($O$5=\"Course 1\",Général!J$129,IF($O$5=\"Course 2\",Général!J$131,IF($O$5=\"Course 3\",Général!J$133,Général!#REF!)))","v":"ENSTA Bretagne 1"},{"$f":"IF($P$5=\"Course 1\",Général!J$137,IF($P$5=\"Course 2\",Général!J$139,IF($P$5=\"Course 3\",Général!J$141,Général!#REF!)))","v":"IMT Atlantique Nantes 2"},{"$f":"IF($Q$5=\"Course 1\",Général!J$145,IF($Q$5=\"Course 2\",Général!J$147,IF($Q$5=\"Course 3\",Général!J$149,Général!#REF!)))","v":"Karlsruhe"},{"$f":"IF($R$5=\"Course 1\",Général!J$153,IF($R$5=\"Course 2\",Général!J$155,IF($R$5=\"Course 3\",Général!J$157,Général!#REF!)))","v":"Karlsruhe"},{"$f":"IF($S$5=\"Course 1\",Général!J$161,IF($S$5=\"Course 2\",Général!J$163,IF($S$5=\"Course 3\",Général!J$165,Général!#REF!)))","v":"IMT Atlantique Nantes 2"},{"$f":"IF($T$5=\"Course 1\",Général!J$169,IF($T$5=\"Course 2\",Général!J$171,IF($T$5=\"Course 3\",Général!J$173,Général!#REF!)))","v":"IMT Atlantique Nantes 1"},null,{"$f":"Général!B18","v":"UBO 2"},7]
[null,null,null,null,null,null,null,null,null,null,null,null,null,null,null,null,null,null,null,null,null,{"$f":"Général!B19","v":"Dublin"},5]
[null,null,null,null,null,null,null,null,null,null,null,null,null,null,null,null,null,null,null,null,null,{"$f":"Général!B20","v":"Univ. Nantes 2"},6]
[null,null,null,null,null,null,null,null,null,null,null,null,null,null,null,null,null,null,null,null,null,{"$f":"Général!B21","v":"UBS Lorient 1"},5]
[null,null,null,null,null,null,null,null,null,null,null,null,null,null,null,null,null,null,null,null,null,{"$f":"Général!B22","v":"UBS Lorient 2"},6]
[null,null,null,null,null,null,null,null,null,null,null,null,null,null,null,null,null,null,null,null,null,{"$f":"Général!B23","v":"Univ.Orléans"},6]
[null,null,null,null,null,null,null,null,null,null,null,null,null,null,null,null,null,null,null,null,null,{"$f":"Général!B24","v":"Univ. La Rochelle"},4]
[null,null,null,null,null,null,null,null,null,null,null,null,null,null,null,null,null,null,null,null,null,{"$f":"Général!B25","v":"AS UB St Brieuc"},6]
[null,null,null,null,null,null,null,null,null,null,null,null,null,null,null,null,null,null,null,null,null,{"$f":"Général!B26","v":"Karlsruhe"},6]
[null,null,null,null,null,null,null,null,null,null,null,null,null,null,null,null,null,null,null,null,null,{"$f":"Général!B27","v":"Univ. Nantes 3"},7]
[null,null,null,null,null,null,null,null,null,null,null,null,null,null,null,null,null,null,null,null,null,{"$f":"Général!B28","v":"Centrales Nantes"},4]
[null,null,null,null,null,null,null,null,null,null,null,null,null,null,null,null,null,null,null,null,null,{"$f":"Général!B29","v":"Southampton"},6]
[null,null,null,null,null,null,null,null,null,null,null,null,null,null,null,null,null,null,null,null,null,{"$f":"Général!#REF!","v":{"$error":"#REF!"}},0]
[null,null,null,null,null,null,null,null,null,null,null,null,null,null,null,null,null,null,null,null,null,{"$f":"Général!#REF!","v":{"$error":"#REF!"}},0]
[null,null,null,null,null,null,null,null,null,null,null,null,null,null,null,null,null,null,null,null,null,{"$f":"Général!#REF!","v":{"$error":"#REF!"}},0]
[null,null,null,null,null,null,null,null,null,null,null,null,null,null,null,null,null,null,null,null,null,{"$f":"Général!#REF!","v":{"$error":"#REF!"}},0]
[null,null,null,null,null,null,null,null,null,null,null,null,null,null,null,null,null,null,null,null,null,{"$f":"Général!#REF!","v":{"$error":"#REF!"}},0]

{"sheet":"Eq.13","index":17,"n_rows":32,"n_cols":23,"rows_kept":32,"cut":false,"hidden":false,"merged":[[14,0,14,1],[15,0,15,1],[8,0,8,1],[9,0,9,1],[10,0,10,1],[11,0,11,1],[12,0,12,1],[13,0,13,1],[7,0,7,1],[0,0,1,5],[0,6,1,10],[3,0,3,1],[4,0,4,1],[5,0,5,1]]}
["Equipage ",null,null,null,null,null,{"$f":"Général!B15","v":"ASUL Lannion"},null,null,null,null,null,null,null,null,null,null,null,null,null,null,{"$f":"Général!B3","v":"Univ. Nantes 1"},{"$f":"COUNTIF(C$8:T$16,V1)","v":6}]
[null,null,null,null,null,null,null,null,null,null,null,null,null,null,null,null,null,null,null,null,null,{"$f":"Général!B4","v":"AS Paris 1 Panthéon Sorbonne"},{"$f":"COUNTIF($C$8:$T$16,V2)","v":5}]
[null,null,null,null,null,null,null,null,null,null,null,null,null,null,null,null,null,null,null,null,null,{"$f":"Général!B5","v":"Hannovre"},{"$f":"COUNTIF($C$8:$T$16,V3)","v":6}]
[null,null,"FLIGHT 1","FLIGHT 2","FLIGHT 3","FLIGHT 4","FLIGHT 5","FLIGHT 6","FLIGHT 7","FLIGHT 8","FLIGHT 9","FLIGHT 10","FLIGHT 11","FLIGHT 12","FLIGHT 13","FLIGHT 14","FLIGHT 15","FLIGHT 16","FLIGHT 17","FLIGHT 18",null,{"$f":"Général!B6","v":"IMT Atlantique Nantes 1"},7]
["N° de course",null,{"$f":"IF(COUNTIF(Général!B33:J33,$G$1)=1,\"Course 1\",IF(COUNTIF(Général!B35:J35,$G$1)=1,\"Course 2\",IF(COUNTIF(Général!B37:J37,$G$1)=1,\"Course 3\",\"Course 4\")))","v":"Course 3"},{"$f":"IF(COUNTIF(Général!B41:J41,$G$1)=1,\"Course 1\",IF(COUNTIF(Général!B43:J43,$G$1)=1,\"Course 2\",IF(COUNTIF(Général!B45:J45,$G$1)=1,\"Course 3\",\"Course 4\")))","v":"Course 2"},{"$f":"IF(COUNTIF(Général!B49:J49,$G$1)=1,\"Course 1\",IF(COUNTIF(Général!B51:J51,$G$1)=1,\"Course 2\",IF(COUNTIF(Général!B53:J53,$G$1)=1,\"Course 3\",\"Course 4\")))","v":"Course 1"},{"$f":"IF(COUNTIF(Général!B57:J57,$G$1)=1,\"Course 1\",IF(COUNTIF(Général!B59:J59,$G$1)=1,\"Course 2\",IF(COUNTIF(Général!B61:J61,$G$1)=1,\"Course 3\",\"Course 4\")))","v":"Course 2"},{"$f":"IF(COUNTIF(Général!B65:J65,$G$1)=1,\"Course 1\",IF(COUNTIF(Général!B67:J67,$G$1)=1,\"Course 2\",IF(COUNTIF(Général!B69:J69,$G$1)=1,\"Course 3\",\"Course 4\")))","v":"Course 3"},{"$f":"IF(COUNTIF(Général!B73:J73,$G$1)=1,\"Course 1\",IF(COUNTIF(Général!B75:J75,$G$1)=1,\"Course 2\",IF(COUNTIF(Général!B77:J77,$G$1)=1,\"Course 3\",\"Course 4\")))","v":"Course 2"},{"$f":"IF(COUNTIF(Général!B81:J81,$G$1)=1,\"Course 1\",IF(COUNTIF(Général!B83:J83,$G$1)=1,\"Course 2\",IF(COUNTIF(Général!B85:J85,$G$1)=1,\"Course 3\",\"Course 4\")))","v":"Course 3"},{"$f":"IF(COUNTIF(Général!B89:J89,$G$1)=1,\"Course 1\",IF(COUNTIF(Général!B91:J91,$G$1)=1,\"Course 2\",IF(COUNTIF(Général!B93:J93,$G$1)=1,\"Course 3\",\"Course 4\")))","v":"Course 1"},{"$f":"IF(COUNTIF(Général!B97:J97,$G$1)=1,\"Course 1\",IF(COUNTIF(Général!B99:J99,$G$1)=1,\"Course 2\",IF(COUNTIF(Général!B101:J101,$G$1)=1,\"Course 3\",\"Course 4\")))","v":"Course 1"},{"$f":"IF(COUNTIF(Général!B105:J105,$G$1)=1,\"Course 1\",IF(COUNTIF(Général!B107:J107,$G$1)=1,\"Course 2\",IF(COUNTIF(Général!B109:J109,$G$1)=1,\"Course 3\",\"Course 4\")))","v":"Course 3"},{"$f":"IF(COUNTIF(Général!B113:J113,$G$1)=1,\"Course 1\",IF(COUNTIF(Général!B115:J115,$G$1)=1,\"Course 2\",IF(COUNTIF(Général!B117:J117,$G$1)=1,\"Course 3\",\"Course 4\")))","v":"Course 2"},{"$f":"IF(COUNTIF(Général!B121:J121,$G$1)=1,\"Course 1\",IF(COUNTIF(Général!B123:J123,$G$1)=1,\"Course 2\",IF(COUNTIF(Général!B125:J125,$G$1)=1,\"Course 3\",\"Course 4\")))","v":"Course 3"},{"$f":"IF(COUNTIF(Général!B129:J129,$G$1)=1,\"Course 1\",IF(COUNTIF(Général!B131:J131,$G$1)=1,\"Course 2\",IF(COUNTIF(Général!B133:J133,$G$1)=1,\"Course 3\",\"Course 4\")))","v":"Course 1"},{"$f":"IF(COUNTIF(Général!B137:J137,$G$1)=1,\"Course 1\",IF(COUNTIF(Général!B139:J139,$G$1)=1,\"Course 2\",IF(COUNTIF(Général!B141:J141,$G$1)=1,\"Course 3\",\"Course 4\")))","v":"Course 3"},{"$f":"IF(COUNTIF(Général!B145:J145,$G$1)=1,\"Course 1\",IF(COUNTIF(Général!B147:J147,$G$1)=1,\"Course 2\",IF(COUNTIF(Général!B149:J149,$G$1)=1,\"Course 3\",\"Course 4\")))","v":"Course 2"},{"$f":"IF(COUNTIF(Général!B153:J153,$G$1)=1,\"Course 1\",IF(COUNTIF(Général!B155:J155,$G$1)=1,\"Course 2\",IF(COUNTIF(Général!B157:J157,$G$1)=1,\"Course 3\",\"Course 4\")))","v":"Course 3"},{"$f":"IF(COUNTIF(Général!B161:J161,$G$1)=1,\"Course 1\",IF(COUNTIF(Général!B163:J163,$G$1)=1,\"Course 2\",IF(COUNTIF(Général!B165:J165,$G$1)=1,\"Course 3\",\"Course 4\")))","v":"Course 2"},{"$f":"IF(COUNTIF(Général!B169:J169,$G$1)=1,\"Course 1\",IF(COUNTIF(Général!B171:J171,$G$1)=1,\"Course 2\",IF(COUNTIF(Général!B173:J173,$G$1)=1,\"Course 3\",\"Course 4\")))","v":"Course 3"},null,{"$f":"Général!B7","v":"ENSTA Bretagne 2"},6]
["Bateau",null,{"$f":"IF(COUNTIF(Général!B33:B38,$G$1)=1,\"Boat 1\",IF(COUNTIF(Général!C33:C38,$G$1)=1,\"Boat 2\",IF(COUNTIF(Général!D33:D38,$G$1)=1,\"Boat 3\", IF(COUNTIF(Général!E33:E38,$G$1)=1,\"Boat 4\", IF(COUNTIF(Général!F33:F38,$G$1)=1,\"Boat 5\", IF(COUNTIF(Général!G33:G38,$G$1)=1,\"Boat 6\", IF(COUNTIF(Général!H33:H38,$G$1)=1,\"Boat 7\",IF(COUNTIF(Général!I33:I38,$G$1)=1,\"Boat 8\",\"Boat 9\"))))))))","v":"Boat 8"},{"$f":"IF(COUNTIF(Général!B41:B46,$G$1)=1,\"Boat 1\",IF(COUNTIF(Général!C41:C46,$G$1)=1,\"Boat 2\",IF(COUNTIF(Général!D41:D46,$G$1)=1,\"Boat 3\", IF(COUNTIF(Général!E41:E46,$G$1)=1,\"Boat 4\", IF(COUNTIF(Général!F41:F46,$G$1)=1,\"Boat 5\", IF(COUNTIF(Général!G41:G46,$G$1)=1,\"Boat 6\", IF(COUNTIF(Général!H41:H46,$G$1)=1,\"Boat 7\",IF(COUNTIF(Général!I33:I38,$G$1)=1,\"Boat 8\",\"Boat 9\"))))))))","v":"Boat 1"},{"$f":"IF(COUNTIF(Général!B49:B54,$G$1)=1,\"Boat 1\",IF(COUNTIF(Général!C49:C54,$G$1)=1,\"Boat 2\",IF(COUNTIF(Général!D49:D54,$G$1)=1,\"Boat 3\", IF(COUNTIF(Général!E49:E54,$G$1)=1,\"Boat 4\", IF(COUNTIF(Général!F49:F54,$G$1)=1,\"Boat 5\", IF(COUNTIF(Général!G49:G54,$G$1)=1,\"Boat 6\", IF(COUNTIF(Général!H49:H54,$G$1)=1,\"Boat 7\",IF(COUNTIF(Général!I33:I38,$G$1)=1,\"Boat 8\",\"Boat 9\"))))))))","v":"Boat 6"},{"$f":"IF(COUNTIF(Général!B57:B62,$G$1)=1,\"Boat 1\",IF(COUNTIF(Général!C57:C62,$G$1)=1,\"Boat 2\",IF(COUNTIF(Général!D57:D62,$G$1)=1,\"Boat 3\", IF(COUNTIF(Général!E57:E62,$G$1)=1,\"Boat 4\", IF(COUNTIF(Général!F57:F62,$G$1)=1,\"Boat 5\", IF(COUNTIF(Général!G57:G62,$G$1)=1,\"Boat 6\", IF(COUNTIF(Général!H57:H62,$G$1)=1,\"Boat 7\",IF(COUNTIF(Général!I33:I38,$G$1)=1,\"Boat 8\",\"Boat 9\"))))))))","v":"Boat 4"},{"$f":"IF(COUNTIF(Général!B65:B70,$G$1)=1,\"Boat 1\",IF(COUNTIF(Général!C65:C70,$G$1)=1,\"Boat 2\",IF(COUNTIF(Général!D65:D70,$G$1)=1,\"Boat 3\", IF(COUNTIF(Général!E65:E70,$G$1)=1,\"Boat 4\", IF(COUNTIF(Général!F65:F70,$G$1)=1,\"Boat 5\", IF(COUNTIF(Général!G65:G70,$G$1)=1,\"Boat 6\", IF(COUNTIF(Général!H65:H70,$G$1)=1,\"Boat 7\",IF(COUNTIF(Général!I33:I38,$G$1)=1,\"Boat 8\",\"Boat 9\"))))))))","v":"Boat 4"},{"$f":"IF(COUNTIF(Général!B73:B78,$G$1)=1,\"Boat 1\",IF(COUNTIF(Général!C73:C78,$G$1)=1,\"Boat 2\",IF(COUNTIF(Général!D73:D78,$G$1)=1,\"Boat 3\", IF(COUNTIF(Général!E73:E78,$G$1)=1,\"Boat 4\", IF(COUNTIF(Général!F73:F78,$G$1)=1,\"Boat 5\", IF(COUNTIF(Général!G73:G78,$G$1)=1,\"Boat 6\", IF(COUNTIF(Général!H73:H78,$G$1)=1,\"Boat 7\",IF(COUNTIF(Général!I33:I38,$G$1)=1,\"Boat 8\",\"Boat 9\"))))))))","v":"Boat 2"},{"$f":"IF(COUNTIF(Général!B81:B86,$G$1)=1,\"Boat 1\",IF(COUNTIF(Général!C81:C86,$G$1)=1,\"Boat 2\",IF(COUNTIF(Général!D81:D86,$G$1)=1,\"Boat 3\", IF(COUNTIF(Général!E81:E86,$G$1)=1,\"Boat 4\", IF(COUNTIF(Général!F81:F86,$G$1)=1,\"Boat 5\", IF(COUNTIF(Général!G81:G86,$G$1)=1,\"Boat 6\", IF(COUNTIF(Général!H81:H86,$G$1)=1,\"Boat 7\",IF(COUNTIF(Général!I33:I38,$G$1)=1,\"Boat 8\",\"Boat 9\"))))))))","v":"Boat 3"},{"$f":"IF(COUNTIF(Général!B89:B94,$G$1)=1,\"Boat 1\",IF(COUNTIF(Général!C89:C94,$G$1)=1,\"Boat 2\",IF(COUNTIF(Général!D89:D94,$G$1)=1,\"Boat 3\", IF(COUNTIF(Général!E89:E94,$G$1)=1,\"Boat 4\", IF(COUNTIF(Général!F89:F94,$G$1)=1,\"Boat 5\", IF(COUNTIF(Général!G89:G94,$G$1)=1,\"Boat 6\", IF(COUNTIF(Général!H89:H94,$G$1)=1,\"Boat 7\",IF(COUNTIF(Général!I33:I38,$G$1)=1,\"Boat 8\",\"Boat 9\"))))))))","v":"Boat 3"},{"$f":"IF(COUNTIF(Général!B97:B102,$G$1)=1,\"Boat 1\",IF(COUNTIF(Général!C97:C102,$G$1)=1,\"Boat 2\",IF(COUNTIF(Général!D97:D102,$G$1)=1,\"Boat 3\", IF(COUNTIF(Général!E97:E102,$G$1)=1,\"Boat 4\", IF(COUNTIF(Général!F97:F102,$G$1)=1,\"Boat 5\", IF(COUNTIF(Général!G97:G102,$G$1)=1,\"Boat 6\", IF(COUNTIF(Général!H97:H102,$G$1)=1,\"Boat 7\",IF(COUNTIF(Général!I33:I38,$G$1)=1,\"Boat 8\",\"Boat 9\"))))))))","v":"Boat 2"},{"$f":"IF(COUNTIF(Général!B105:B110,$G$1)=1,\"Boat 1\",IF(COUNTIF(Général!C105:C110,$G$1)=1,\"Boat 2\",IF(COUNTIF(Général!D105:D110,$G$1)=1,\"Boat 3\", IF(COUNTIF(Général!E105:E110,$G$1)=1,\"Boat 4\", IF(COUNTIF(Général!F105:F110,$G$1)=1,\"Boat 5\", IF(COUNTIF(Général!G105:G110,$G$1)=1,\"Boat 6\", IF(COUNTIF(Général!H105:H110,$G$1)=1,\"Boat 7\",IF(COUNTIF(Général!I33:I38,$G$1)=1,\"Boat 8\",\"Boat 9\"))))))))","v":"Boat 6"},{"$f":"IF(COUNTIF(Général!B113:B118,$G$1)=1,\"Boat 1\",IF(COUNTIF(Général!C113:C118,$G$1)=1,\"Boat 2\",IF(COUNTIF(Général!C113:D118,$G$1)=1,\"Boat 3\", IF(COUNTIF(Général!C113:E118,$G$1)=1,\"Boat 4\", IF(COUNTIF(Général!F113:F118,$G$1)=1,\"Boat 5\", IF(COUNTIF(Général!G113:G118,$G$1)=1,\"Boat 6\", IF(COUNTIF(Général!H113:H118,$G$1)=1,\"Boat 7\",IF(COUNTIF(Général!I33:I38,$G$1)=1,\"Boat 8\",\"Boat 9\"))))))))","v":"Boat 8"},{"$f":"IF(COUNTIF(Général!B121:B126,$G$1)=1,\"Boat 1\",IF(COUNTIF(Général!C121:C126,$G$1)=1,\"Boat 2\",IF(COUNTIF(Général!D121:D126,$G$1)=1,\"Boat 3\", IF(COUNTIF(Général!E121:E126,$G$1)=1,\"Boat 4\", IF(COUNTIF(Général!F121:F126,$G$1)=1,\"Boat 5\", IF(COUNTIF(Général!G121:G126,$G$1)=1,\"Boat 6\", IF(COUNTIF(Général!H121:H126,$G$1)=1,\"Boat 7\",IF(COUNTIF(Général!I33:I38,$G$1)=1,\"Boat 8\",\"Boat 9\"))))))))","v":"Boat 5"},{"$f":"IF(COUNTIF(Général!B129:B134,$G$1)=1,\"Boat 1\",IF(COUNTIF(Général!C129:C134,$G$1)=1,\"Boat 2\",IF(COUNTIF(Général!D131:D134,$G$1)=1,\"Boat 3\", IF(COUNTIF(Général!E129:E134,$G$1)=1,\"Boat 4\", IF(COUNTIF(Général!F129:F134,$G$1)=1,\"Boat 5\", IF(COUNTIF(Général!G129:G134,$G$1)=1,\"Boat 6\", IF(COUNTIF(Général!H129:H134,$G$1)=1,\"Boat 7\",IF(COUNTIF(Général!I33:I38,$G$1)=1,\"Boat 8\",\"Boat 9\"))))))))","v":"Boat 5"},{"$f":"IF(COUNTIF(Général!B137:B142,$G$1)=1,\"Boat 1\",IF(COUNTIF(Général!C137:C142,$G$1)=1,\"Boat 2\",IF(COUNTIF(Général!D137:D142,$G$1)=1,\"Boat 3\", IF(COUNTIF(Général!E137:E142,$G$1)=1,\"Boat 4\", IF(COUNTIF(Général!F145:F150,$G$1)=1,\"Boat 5\", IF(COUNTIF(Général!G145:G150,$G$1)=1,\"Boat 6\", IF(COUNTIF(Général!H145:H150,$G$1)=1,\"Boat 7\",IF(COUNTIF(Général!I33:I38,$G$1)=1,\"Boat 8\",\"Boat 9\"))))))))","v":"Boat 7"},{"$f":"IF(COUNTIF(Général!B145:B150,$G$1)=1,\"Boat 1\",IF(COUNTIF(Général!C145:C150,$G$1)=1,\"Boat 2\",IF(COUNTIF(Général!D145:D150,$G$1)=1,\"Boat 3\", IF(COUNTIF(Général!E145:E150,$G$1)=1,\"Boat 4\", IF(COUNTIF(Général!F145:F150,$G$1)=1,\"Boat 5\", IF(COUNTIF(Général!G145:G150,$G$1)=1,\"Boat 6\", IF(COUNTIF(Général!H145:H150,$G$1)=1,\"Boat 7\",IF(COUNTIF(Général!I33:I38,$G$1)=1,\"Boat 8\",\"Boat 9\"))))))))","v":"Boat 7"},{"$f":"IF(COUNTIF(Général!B153:B158,$G$1)=1,\"Boat 1\",IF(COUNTIF(Général!C153:C158,$G$1)=1,\"Boat 2\",IF(COUNTIF(Général!D153:D158,$G$1)=1,\"Boat 3\", IF(COUNTIF(Général!E153:E158,$G$1)=1,\"Boat 4\", IF(COUNTIF(Général!F153:F158,$G$1)=1,\"Boat 5\", IF(COUNTIF(Général!G153:G158,$G$1)=1,\"Boat 6\", IF(COUNTIF(Général!H153:H158,$G$1)=1,\"Boat 7\",IF(COUNTIF(Général!I33:I38,$G$1)=1,\"Boat 8\",\"Boat 9\"))))))))","v":"Boat 1"},{"$f":"IF(COUNTIF(Général!B161:B166,$G$1)=1,\"Boat 1\",IF(COUNTIF(Général!C161:C166,$G$1)=1,\"Boat 2\",IF(COUNTIF(Général!D161:D166,$G$1)=1,\"Boat 3\", IF(COUNTIF(Général!E161:E166,$G$1)=1,\"Boat 4\", IF(COUNTIF(Général!F161:F166,$G$1)=1,\"Boat 5\", IF(COUNTIF(Général!G161:G166,$G$1)=1,\"Boat 6\", IF(COUNTIF(Général!H161:H166,$G$1)=1,\"Boat 7\",IF(COUNTIF(Général!I33:I38,$G$1)=1,\"Boat 8\",\"Boat 9\"))))))))","v":"Boat 5"},{"$f":"IF(COUNTIF(Général!B169:B174,$G$1)=1,\"Boat 1\",IF(COUNTIF(Général!C169:C174,$G$1)=1,\"Boat 2\",IF(COUNTIF(Général!D169:D174,$G$1)=1,\"Boat 3\", IF(COUNTIF(Général!E169:E174,$G$1)=1,\"Boat 4\", IF(COUNTIF(Général!F169:F174,$G$1)=1,\"Boat 5\", IF(COUNTIF(Général!G169:G174,$G$1)=1,\"Boat 6\", IF(COUNTIF(Général!H169:H174,$G$1)=1,\"Boat 7\",IF(COUNTIF(Général!I33:I38,$G$1)=1,\"Boat 8\",\"Boat 9\"))))))))","v":"Boat 4"},null,{"$f":"Général!B8","v":"IMT Atlantique Nantes 2"},6]
[null,null,null,null,null,null,null,null,null,null,null,null,null,null,null,null,null,null,null,null,null,{"$f":"Général!B9","v":"Hambourg"},5]
["1er Equipage",null,{"$f":"IF($C$5=\"Course 1\",Général!B33,IF($C$5=\"Course 2\",Général!B35,IF($C$5=\"Course 3\",Général!B37,Général!#REF!)))","v":"UBS Lorient 2"},{"$f":"IF($D$5=\"Course 1\",Général!B41,IF($D$5=\"Course 2\",Général!B43,IF($D$5=\"Course 3\",Général!B45,Général!#REF!)))","v":"ASUL Lannion"},{"$f":"IF($E$5=\"Course 1\",Général!B49,IF($E$5=\"Course 2\",Général!B51,IF($E$5=\"Course 3\",Général!B53,Général!#REF!)))","v":"UBS Lorient 1"},{"$f":"IF($F$5=\"Course 1\",Général!B$57,IF($F$5=\"Course 2\",Général!B$59,IF($F$5=\"Course 3\",Général!B$61,Général!#REF!)))","v":"Univ.Orléans"},{"$f":"IF($G$5=\"Course 1\",Général!B$65,IF($G$5=\"Course 2\",Général!B$67,IF($G$5=\"Course 3\",Général!B$69,Général!#REF!)))","v":"ENSTA Bretagne 2"},{"$f":"IF($H$5=\"Course 1\",Général!B$73,IF($H$5=\"Course 2\",Général!B$75,IF($H$5=\"Course 3\",Général!B$77,Général!#REF!)))","v":"IMT Atlantique Brest"},{"$f":"IF($I$5=\"Course 1\",Général!B$81,IF($I$5=\"Course 2\",Général!B$83,IF($I$5=\"Course 3\",Général!B$85,Général!#REF!)))","v":"Univ. Nantes 3"},{"$f":"IF($J$5=\"Course 1\",Général!B$89,IF($J$5=\"Course 2\",Général!B$91,IF($J$5=\"Course 3\",Général!B$93,Général!#REF!)))","v":"Dublin"},{"$f":"IF($K$5=\"Course 1\",Général!B$97,IF($K$5=\"Course 2\",Général!B$99,IF($K$5=\"Course 3\",Général!B$101,Général!#REF!)))","v":"AS Paris 1 Panthéon Sorbonne"},{"$f":"IF($L$5=\"Course 1\",Général!B$105,IF($L$5=\"Course 2\",Général!B$107,IF($L$5=\"Course 3\",Général!B$109,Général!#REF!)))","v":"Hambourg"},{"$f":"IF($M$5=\"Course 1\",Général!B$113,IF($M$5=\"Course 2\",Général!B$115,IF($M$5=\"Course 3\",Général!B$117,Général!#REF!)))","v":"UBO 2"},{"$f":"IF($N$5=\"Course 1\",Général!B$121,IF($N$5=\"Course 2\",Général!B$123,IF($N$5=\"Course 3\",Général!B$125,Général!#REF!)))","v":"UBO 1"},{"$f":"IF($O$5=\"Course 1\",Général!B$129,IF($O$5=\"Course 2\",Général!B$131,IF($O$5=\"Course 3\",Général!B$133,Général!#REF!)))","v":"Hannovre"},{"$f":"IF($P$5=\"Course 1\",Général!B$137,IF($P$5=\"Course 2\",Général!B$139,IF($P$5=\"Course 3\",Général!B$141,Général!#REF!)))","v":"Univ. Nantes 1"},{"$f":"IF($Q$5=\"Course 1\",Général!B$145,IF($Q$5=\"Course 2\",Général!B$147,IF($Q$5=\"Course 3\",Général!B$149,Général!#REF!)))","v":"EGSI La Rochelle"},{"$f":"IF($R$5=\"Course 1\",Général!B$153,IF($R$5=\"Course 2\",Général!B$155,IF($R$5=\"Course 3\",Général!B$157,Général!#REF!)))","v":"ASUL Lannion"},{"$f":"IF($S$5=\"Course 1\",Général!B$161,IF($S$5=\"Course 2\",Général!B$163,IF($S$5=\"Course 3\",Général!B$165,Général!#REF!)))","v":"IMT Atlantique Nantes 1"},{"$f":"IF($T$5=\"Course 1\",Général!B$169,IF($T$5=\"Course 2\",Général!B$171,IF($T$5=\"Course 3\",Général!B$173,Général!#REF!)))","v":"IMT Atlantique Nantes 2"},null,{"$f":"Général!B10","v":"EGSI La Rochelle"},6]
["2nd Equipage",null,{"$f":"IF($C$5=\"Course 1\",Général!C33,IF($C$5=\"Course 2\",Général!C35,IF($C$5=\"Course 3\",Général!C37,Général!#REF!)))","v":"IMT Atlantique Nantes 2"},{"$f":"IF($D$5=\"Course 1\",Général!C41,IF($D$5=\"Course 2\",Général!C43,IF($D$5=\"Course 3\",Général!C45,Général!#REF!)))","v":"UBS Lorient 1"},{"$f":"IF($E$5=\"Course 1\",Général!C49,IF($E$5=\"Course 2\",Général!C51,IF($E$5=\"Course 3\",Général!C53,Général!#REF!)))","v":"UNICAEN - ASSUCherbourg"},{"$f":"IF($F$5=\"Course 1\",Général!C$57,IF($F$5=\"Course 2\",Général!C$59,IF($F$5=\"Course 3\",Général!C$61,Général!#REF!)))","v":"AS Paris 1 Panthéon Sorbonne"},{"$f":"IF($G$5=\"Course 1\",Général!C$65,IF($G$5=\"Course 2\",Général!C$67,IF($G$5=\"Course 3\",Général!C$69,Général!#REF!)))","v":"IMT Atlantique Nantes 1"},{"$f":"IF($H$5=\"Course 1\",Général!C$73,IF($H$5=\"Course 2\",Général!C$75,IF($H$5=\"Course 3\",Général!C$77,Général!#REF!)))","v":"ASUL Lannion"},{"$f":"IF($I$5=\"Course 1\",Général!C$81,IF($I$5=\"Course 2\",Général!C$83,IF($I$5=\"Course 3\",Général!C$85,Général!#REF!)))","v":"Southampton"},{"$f":"IF($J$5=\"Course 1\",Général!C$89,IF($J$5=\"Course 2\",Général!C$91,IF($J$5=\"Course 3\",Général!C$93,Général!#REF!)))","v":"Univ.Orléans"},{"$f":"IF($K$5=\"Course 1\",Général!C$97,IF($K$5=\"Course 2\",Général!C$99,IF($K$5=\"Course 3\",Général!C$101,Général!#REF!)))","v":"ASUL Lannion"},{"$f":"IF($L$5=\"Course 1\",Général!C$105,IF($L$5=\"Course 2\",Général!C$107,IF($L$5=\"Course 3\",Général!C$109,Général!#REF!)))","v":"UBO 1"},{"$f":"IF($M$5=\"Course 1\",Général!C$113,IF($M$5=\"Course 2\",Général!C$115,IF($M$5=\"Course 3\",Général!C$117,Général!#REF!)))","v":"Univ. Nantes 1"},{"$f":"IF($N$5=\"Course 1\",Général!C$121,IF($N$5=\"Course 2\",Général!C$123,IF($N$5=\"Course 3\",Général!C$125,Général!#REF!)))","v":"IMT Atlantique Brest"},{"$f":"IF($O$5=\"Course 1\",Général!C$129,IF($O$5=\"Course 2\",Général!C$131,IF($O$5=\"Course 3\",Général!C$133,Général!#REF!)))","v":"Univ. Nantes 3"},{"$f":"IF($P$5=\"Course 1\",Général!C$137,IF($P$5=\"Course 2\",Général!C$139,IF($P$5=\"Course 3\",Général!C$141,Général!#REF!)))","v":"AS UB St Brieuc"},{"$f":"IF($Q$5=\"Course 1\",Général!C$145,IF($Q$5=\"Course 2\",Général!C$147,IF($Q$5=\"Course 3\",Général!C$149,Général!#REF!)))","v":"IMT Atlantique Brest"},{"$f":"IF($R$5=\"Course 1\",Général!C$153,IF($R$5=\"Course 2\",Général!C$155,IF($R$5=\"Course 3\",Général!C$157,Général!#REF!)))","v":"IMT Atlantique Nantes 2"},{"$f":"IF($S$5=\"Course 1\",Général!C$161,IF($S$5=\"Course 2\",Général!C$163,IF($S$5=\"Course 3\",Général!C$165,Général!#REF!)))","v":"Univ.Orléans"},{"$f":"IF($T$5=\"Course 1\",Général!C$169,IF($T$5=\"Course 2\",Général!C$171,IF($T$5=\"Course 3\",Général!C$173,Général!#REF!)))","v":"ENSTA Bretagne 2"},null,{"$f":"Général!B11","v":"HYDRO Sailing Team Le Havre"},5]
["3ème Equipage",null,{"$f":"IF($C$5=\"Course 1\",Général!D33,IF($C$5=\"Course 2\",Général!D35,IF($C$5=\"Course 3\",Général!D37,Général!#REF!)))","v":"UBS Lorient 1"},{"$f":"IF($D$5=\"Course 1\",Général!D41,IF($D$5=\"Course 2\",Général!D43,IF($D$5=\"Course 3\",Général!D45,Général!#REF!)))","v":"IMT Atlantique Nantes 1"},{"$f":"IF($E$5=\"Course 1\",Général!D49,IF($E$5=\"Course 2\",Général!D51,IF($E$5=\"Course 3\",Général!D53,Général!#REF!)))","v":"HYDRO Sailing Team Le Havre"},{"$f":"IF($F$5=\"Course 1\",Général!D$57,IF($F$5=\"Course 2\",Général!D$59,IF($F$5=\"Course 3\",Général!D$61,Général!#REF!)))","v":"Karlsruhe"},{"$f":"IF($G$5=\"Course 1\",Général!D$65,IF($G$5=\"Course 2\",Général!D$67,IF($G$5=\"Course 3\",Général!D$69,Général!#REF!)))","v":"Univ. La Rochelle"},{"$f":"IF($H$5=\"Course 1\",Général!D$73,IF($H$5=\"Course 2\",Général!D$75,IF($H$5=\"Course 3\",Général!D$77,Général!#REF!)))","v":"Centrales Nantes"},{"$f":"IF($I$5=\"Course 1\",Général!D$81,IF($I$5=\"Course 2\",Général!D$83,IF($I$5=\"Course 3\",Général!D$85,Général!#REF!)))","v":"ASUL Lannion"},{"$f":"IF($J$5=\"Course 1\",Général!D$89,IF($J$5=\"Course 2\",Général!D$91,IF($J$5=\"Course 3\",Général!D$93,Général!#REF!)))","v":"ASUL Lannion"},{"$f":"IF($K$5=\"Course 1\",Général!D$97,IF($K$5=\"Course 2\",Général!D$99,IF($K$5=\"Course 3\",Général!D$101,Général!#REF!)))","v":"ENSTA Paris"},{"$f":"IF($L$5=\"Course 1\",Général!D$105,IF($L$5=\"Course 2\",Général!D$107,IF($L$5=\"Course 3\",Général!D$109,Général!#REF!)))","v":"UNICAEN - ASSUCherbourg"},{"$f":"IF($M$5=\"Course 1\",Général!D$113,IF($M$5=\"Course 2\",Général!D$115,IF($M$5=\"Course 3\",Général!D$117,Général!#REF!)))","v":"Univ. Nantes 2"},{"$f":"IF($N$5=\"Course 1\",Général!D$121,IF($N$5=\"Course 2\",Général!D$123,IF($N$5=\"Course 3\",Général!D$125,Général!#REF!)))","v":"AS Paris 1 Panthéon Sorbonne"},{"$f":"IF($O$5=\"Course 1\",Général!D$129,IF($O$5=\"Course 2\",Général!D$131,IF($O$5=\"Course 3\",Général!D$133,Général!#REF!)))","v":"AS Paris 1 Panthéon Sorbonne"},{"$f":"IF($P$5=\"Course 1\",Général!D$137,IF($P$5=\"Course 2\",Général!D$139,IF($P$5=\"Course 3\",Général!D$141,Général!#REF!)))","v":"IMT Atlantique Brest"},{"$f":"IF($Q$5=\"Course 1\",Général!D$145,IF($Q$5=\"Course 2\",Général!D$147,IF($Q$5=\"Course 3\",Général!D$149,Général!#REF!)))","v":"Hambourg"},{"$f":"IF($R$5=\"Course 1\",Général!D$153,IF($R$5=\"Course 2\",Général!D$155,IF($R$5=\"Course 3\",Général!D$157,Général!#REF!)))","v":"Centrales Nantes"},{"$f":"IF($S$5=\"Course 1\",Général!D$161,IF($S$5=\"Course 2\",Général!D$163,IF($S$5=\"Course 3\",Général!D$165,Général!#REF!)))","v":"HYDRO Sailing Team Le Havre"},{"$f":"IF($T$5=\"Course 1\",Général!D$169,IF($T$5=\"Course 2\",Général!D$171,IF($T$5=\"Course 3\",Général!D$173,Général!#REF!)))","v":"AS UB St Brieuc"},null,{"$f":"Général!B12","v":"UNICAEN - ASSUCherbourg"},5]
["4ème Equipage",null,{"$f":"IF($C$5=\"Course 1\",Général!E33,IF($C$5=\"Course 2\",Général!E35,IF($C$5=\"Course 3\",Général!E37,Général!#REF!)))","v":"Dublin"},{"$f":"IF($D$5=\"Course 1\",Général!E41,IF($D$5=\"Course 2\",Général!E43,IF($D$5=\"Course 3\",Général!E45,Général!#REF!)))","v":"AS UB St Brieuc"},{"$f":"IF($E$5=\"Course 1\",Général!E49,IF($E$5=\"Course 2\",Général!E51,IF($E$5=\"Course 3\",Général!E53,Général!#REF!)))","v":"Centrales Nantes"},{"$f":"IF($F$5=\"Course 1\",Général!E$57,IF($F$5=\"Course 2\",Général!E$59,IF($F$5=\"Course 3\",Général!E$61,Général!#REF!)))","v":"ASUL Lannion"},{"$f":"IF($G$5=\"Course 1\",Général!E$65,IF($G$5=\"Course 2\",Général!E$67,IF($G$5=\"Course 3\",Général!E$69,Général!#REF!)))","v":"ASUL Lannion"},{"$f":"IF($H$5=\"Course 1\",Général!E$73,IF($H$5=\"Course 2\",Général!E$75,IF($H$5=\"Course 3\",Général!E$77,Général!#REF!)))","v":"Hannovre"},{"$f":"IF($I$5=\"Course 1\",Général!E$81,IF($I$5=\"Course 2\",Général!E$83,IF($I$5=\"Course 3\",Général!E$85,Général!#REF!)))","v":"ENSTA Bretagne 1"},{"$f":"IF($J$5=\"Course 1\",Général!E$89,IF($J$5=\"Course 2\",Général!E$91,IF($J$5=\"Course 3\",Général!E$93,Général!#REF!)))","v":"ENSTA Bretagne 1"},{"$f":"IF($K$5=\"Course 1\",Général!E$97,IF($K$5=\"Course 2\",Général!E$99,IF($K$5=\"Course 3\",Général!E$101,Général!#REF!)))","v":"UBO 1"},{"$f":"IF($L$5=\"Course 1\",Général!E$105,IF($L$5=\"Course 2\",Général!E$107,IF($L$5=\"Course 3\",Général!E$109,Général!#REF!)))","v":"ENSTA Paris"},{"$f":"IF($M$5=\"Course 1\",Général!E$113,IF($M$5=\"Course 2\",Général!E$115,IF($M$5=\"Course 3\",Général!E$117,Général!#REF!)))","v":"Southampton"},{"$f":"IF($N$5=\"Course 1\",Général!E$121,IF($N$5=\"Course 2\",Général!E$123,IF($N$5=\"Course 3\",Général!E$125,Général!#REF!)))","v":"IMT Atlantique Nantes 2"},{"$f":"IF($O$5=\"Course 1\",Général!E$129,IF($O$5=\"Course 2\",Général!E$131,IF($O$5=\"Course 3\",Général!E$133,Général!#REF!)))","v":"IMT Atlantique Nantes 2"},{"$f":"IF($P$5=\"Course 1\",Général!E$137,IF($P$5=\"Course 2\",Général!E$139,IF($P$5=\"Course 3\",Général!E$141,Général!#REF!)))","v":"UBS Lorient 2"},{"$f":"IF($Q$5=\"Course 1\",Général!E$145,IF($Q$5=\"Course 2\",Général!E$147,IF($Q$5=\"Course 3\",Général!E$149,Général!#REF!)))","v":"Centrales Nantes"},{"$f":"IF($R$5=\"Course 1\",Général!E$153,IF($R$5=\"Course 2\",Général!E$155,IF($R$5=\"Course 3\",Général!E$157,Général!#REF!)))","v":"Univ. Nantes 2"},{"$f":"IF($S$5=\"Course 1\",Général!E$161,IF($S$5=\"Course 2\",Général!E$163,IF($S$5=\"Course 3\",Général!E$165,Général!#REF!)))","v":"Centrales Nantes"},{"$f":"IF($T$5=\"Course 1\",Général!E$169,IF($T$5=\"Course 2\",Général!E$171,IF($T$5=\"Course 3\",Général!E$173,Général!#REF!)))","v":"ASUL Lannion"},null,{"$f":"Général!B13","v":"UBO 1"},5]
["5ème Equipage",null,{"$f":"IF($C$5=\"Course 1\",Général!F33,IF($C$5=\"Course 2\",Général!F35,IF($C$5=\"Course 3\",Général!F37,Général!#REF!)))","v":"ENSTA Bretagne 2"},{"$f":"IF($D$5=\"Course 1\",Général!F41,IF($D$5=\"Course 2\",Général!F43,IF($D$5=\"Course 3\",Général!F45,Général!#REF!)))","v":"Southampton"},{"$f":"IF($E$5=\"Course 1\",Général!F49,IF($E$5=\"Course 2\",Général!F51,IF($E$5=\"Course 3\",Général!F53,Général!#REF!)))","v":"ENSTA Bretagne 1"},{"$f":"IF($F$5=\"Course 1\",Général!F$57,IF($F$5=\"Course 2\",Général!F$59,IF($F$5=\"Course 3\",Général!F$61,Général!#REF!)))","v":"Centrales Nantes"},{"$f":"IF($G$5=\"Course 1\",Général!F$65,IF($G$5=\"Course 2\",Général!F$67,IF($G$5=\"Course 3\",Général!F$69,Général!#REF!)))","v":"Univ. Nantes 3"},{"$f":"IF($H$5=\"Course 1\",Général!F$73,IF($H$5=\"Course 2\",Général!F$75,IF($H$5=\"Course 3\",Général!F$77,Général!#REF!)))","v":"UBO 2"},{"$f":"IF($I$5=\"Course 1\",Général!F$81,IF($I$5=\"Course 2\",Général!F$83,IF($I$5=\"Course 3\",Général!F$85,Général!#REF!)))","v":"ENSTA Paris"},{"$f":"IF($J$5=\"Course 1\",Général!F$89,IF($J$5=\"Course 2\",Général!F$91,IF($J$5=\"Course 3\",Général!F$93,Général!#REF!)))","v":"AS UB St Brieuc"},{"$f":"IF($K$5=\"Course 1\",Général!F$97,IF($K$5=\"Course 2\",Général!F$99,IF($K$5=\"Course 3\",Général!F$101,Général!#REF!)))","v":"Dublin"},{"$f":"IF($L$5=\"Course 1\",Général!F$105,IF($L$5=\"Course 2\",Général!$F107,IF($L$5=\"Course 3\",Général!F$109,Général!#REF!)))","v":"UBS Lorient 1"},{"$f":"IF($M$5=\"Course 1\",Général!F$113,IF($M$5=\"Course 2\",Général!F$115,IF($M$5=\"Course 3\",Général!F$117,Général!#REF!)))","v":"HYDRO Sailing Team Le Havre"},{"$f":"IF($N$5=\"Course 1\",Général!F$121,IF($N$5=\"Course 2\",Général!F$123,IF($N$5=\"Course 3\",Général!F$125,Général!#REF!)))","v":"ASUL Lannion"},{"$f":"IF($O$5=\"Course 1\",Général!F$129,IF($O$5=\"Course 2\",Général!F$131,IF($O$5=\"Course 3\",Général!F$133,Général!#REF!)))","v":"ASUL Lannion"},{"$f":"IF($P$5=\"Course 1\",Général!F$137,IF($P$5=\"Course 2\",Général!F$139,IF($P$5=\"Course 3\",Général!F$141,Général!#REF!)))","v":"Hannovre"},{"$f":"IF($Q$5=\"Course 1\",Général!F$145,IF($Q$5=\"Course 2\",Général!F$147,IF($Q$5=\"Course 3\",Général!F$149,Général!#REF!)))","v":"Univ. La Rochelle"},{"$f":"IF($R$5=\"Course 1\",Général!F$153,IF($R$5=\"Course 2\",Général!F$155,IF($R$5=\"Course 3\",Général!F$157,Général!#REF!)))","v":"ENSTA Paris"},{"$f":"IF($S$5=\"Course 1\",Général!F$161,IF($S$5=\"Course 2\",Général!F$163,IF($S$5=\"Course 3\",Général!F$165,Général!#REF!)))","v":"ASUL Lannion"},{"$f":"IF($T$5=\"Course 1\",Général!F$169,IF($T$5=\"Course 2\",Général!F$171,IF($T$5=\"Course 3\",Général!F$173,Général!#REF!)))","v":"Centrales Nantes"},null,{"$f":"Général!B14","v":"ENSTA Bretagne 1"},5]
["6ème Equipage",null,{"$f":"IF($C$5=\"Course 1\",Général!G33,IF($C$5=\"Course 2\",Général!G35,IF($C$5=\"Course 3\",Général!G37,Général!#REF!)))","v":"HYDRO Sailing Team Le Havre"},{"$f":"IF($D$5=\"Course 1\",Général!G41,IF($D$5=\"Course 2\",Général!G43,IF($D$5=\"Course 3\",Général!G45,Général!#REF!)))","v":"UBO 1"},{"$f":"IF($E$5=\"Course 1\",Général!G49,IF($E$5=\"Course 2\",Général!G51,IF($E$5=\"Course 3\",Général!G53,Général!#REF!)))","v":"ASUL Lannion"},{"$f":"IF($F$5=\"Course 1\",Général!G$57,IF($F$5=\"Course 2\",Général!G$59,IF($F$5=\"Course 3\",Général!G$61,Général!#REF!)))","v":"Dublin"},{"$f":"IF($G$5=\"Course 1\",Général!G$65,IF($G$5=\"Course 2\",Général!G$67,IF($G$5=\"Course 3\",Général!G$69,Général!#REF!)))","v":"Hambourg"},{"$f":"IF($H$5=\"Course 1\",Général!G$73,IF($H$5=\"Course 2\",Général!G$75,IF($H$5=\"Course 3\",Général!G$77,Général!#REF!)))","v":"Hambourg"},{"$f":"IF($I$5=\"Course 1\",Général!G$81,IF($I$5=\"Course 2\",Général!G$83,IF($I$5=\"Course 3\",Général!G$85,Général!#REF!)))","v":"IMT Atlantique Nantes 2"},{"$f":"IF($J$5=\"Course 1\",Général!G$89,IF($J$5=\"Course 2\",Général!G$91,IF($J$5=\"Course 3\",Général!G$93,Général!#REF!)))","v":"ENSTA Bretagne 2"},{"$f":"IF($K$5=\"Course 1\",Général!G$97,IF($K$5=\"Course 2\",Général!G$99,IF($K$5=\"Course 3\",Général!G$101,Général!#REF!)))","v":"Univ. Nantes 3"},{"$f":"IF($L$5=\"Course 1\",Général!G$105,IF($L$5=\"Course 2\",Général!G$107,IF($L$5=\"Course 3\",Général!G$109,Général!#REF!)))","v":"ASUL Lannion"},{"$f":"IF($M$5=\"Course 1\",Général!G$113,IF($M$5=\"Course 2\",Général!G$115,IF($M$5=\"Course 3\",Général!G$117,Général!#REF!)))","v":"Univ.Orléans"},{"$f":"IF($N$5=\"Course 1\",Général!G$121,IF($N$5=\"Course 2\",Général!G$123,IF($N$5=\"Course 3\",Général!G$125,Général!#REF!)))","v":"EGSI La Rochelle"},{"$f":"IF($O$5=\"Course 1\",Général!G$129,IF($O$5=\"Course 2\",Général!G$131,IF($O$5=\"Course 3\",Général!G$133,Général!#REF!)))","v":"IMT Atlantique Nantes 1"},{"$f":"IF($P$5=\"Course 1\",Général!G$137,IF($P$5=\"Course 2\",Général!G$139,IF($P$5=\"Course 3\",Général!G$141,Général!#REF!)))","v":"IMT Atlantique Nantes 1"},{"$f":"IF($Q$5=\"Course 1\",Général!G$145,IF($Q$5=\"Course 2\",Général!G$147,IF($Q$5=\"Course 3\",Général!G$149,Général!#REF!)))","v":"Dublin"},{"$f":"IF($R$5=\"Course 1\",Général!G$153,IF($R$5=\"Course 2\",Général!G$155,IF($R$5=\"Course 3\",Général!G$157,Général!#REF!)))","v":"Univ. La Rochelle"},{"$f":"IF($S$5=\"Course 1\",Général!G$161,IF($S$5=\"Course 2\",Général!G$163,IF($S$5=\"Course 3\",Général!G$165,Général!#REF!)))","v":"EGSI La Rochelle"},{"$f":"IF($T$5=\"Course 1\",Général!G$169,IF($T$5=\"Course 2\",Général!G$171,IF($T$5=\"Course 3\",Général!G$173,Général!#REF!)))","v":"ENSTA Paris"},null,{"$f":"Général!B15","v":"ASUL Lannion"},18]
["7ème Equipage",null,{"$f":"IF($C$5=\"Course 1\",Général!H33,IF($C$5=\"Course 2\",Général!H35,IF($C$5=\"Course 3\",Général!H37,Général!#REF!)))","v":"UBO 2"},{"$f":"IF($D$5=\"Course 1\",Général!H41,IF($D$5=\"Course 2\",Général!H43,IF($D$5=\"Course 3\",Général!H45,Général!#REF!)))","v":"EGSI La Rochelle"},{"$f":"IF($E$5=\"Course 1\",Général!H49,IF($E$5=\"Course 2\",Général!H51,IF($E$5=\"Course 3\",Général!H53,Général!#REF!)))","v":"Hannovre"},{"$f":"IF($F$5=\"Course 1\",Général!H$57,IF($F$5=\"Course 2\",Général!H$59,IF($F$5=\"Course 3\",Général!H$61,Général!#REF!)))","v":"UBS Lorient 2"},{"$f":"IF($G$5=\"Course 1\",Général!H$65,IF($G$5=\"Course 2\",Général!H$67,IF($G$5=\"Course 3\",Général!H$69,Général!#REF!)))","v":"Univ. Nantes 2"},{"$f":"IF($H$5=\"Course 1\",Général!H$73,IF($H$5=\"Course 2\",Général!H$75,IF($H$5=\"Course 3\",Général!H$77,Général!#REF!)))","v":"Southampton"},{"$f":"IF($I$5=\"Course 1\",Général!H$81,IF($I$5=\"Course 2\",Général!H$83,IF($I$5=\"Course 3\",Général!H$85,Général!#REF!)))","v":"Univ. Nantes 1"},{"$f":"IF($J$5=\"Course 1\",Général!H$89,IF($J$5=\"Course 2\",Général!H$91,IF($J$5=\"Course 3\",Général!H$93,Général!#REF!)))","v":"IMT Atlantique Brest"},{"$f":"IF($K$5=\"Course 1\",Général!H$97,IF($K$5=\"Course 2\",Général!H$99,IF($K$5=\"Course 3\",Général!H$101,Général!#REF!)))","v":"IMT Atlantique Nantes 1"},{"$f":"IF($L$5=\"Course 1\",Général!H$105,IF($L$5=\"Course 2\",Général!H$107,IF($L$5=\"Course 3\",Général!H$109,Général!#REF!)))","v":"Karlsruhe"},{"$f":"IF($M$5=\"Course 1\",Général!H$113,IF($M$5=\"Course 2\",Général!H$115,IF($M$5=\"Course 3\",Général!H$117,Général!#REF!)))","v":"UBO 1"},{"$f":"IF($N$5=\"Course 1\",Général!H$121,IF($N$5=\"Course 2\",Général!H$123,IF($N$5=\"Course 3\",Général!H$125,Général!#REF!)))","v":"UNICAEN - ASSUCherbourg"},{"$f":"IF($O$5=\"Course 1\",Général!H$129,IF($O$5=\"Course 2\",Général!H$131,IF($O$5=\"Course 3\",Général!H$133,Général!#REF!)))","v":"UBS Lorient 1"},{"$f":"IF($P$5=\"Course 1\",Général!H$137,IF($P$5=\"Course 2\",Général!H$139,IF($P$5=\"Course 3\",Général!H$141,Général!#REF!)))","v":"ASUL Lannion"},{"$f":"IF($Q$5=\"Course 1\",Général!H$145,IF($Q$5=\"Course 2\",Général!H$147,IF($Q$5=\"Course 3\",Général!H$149,Général!#REF!)))","v":"ASUL Lannion"},{"$f":"IF($R$5=\"Course 1\",Général!H$153,IF($R$5=\"Course 2\",Général!H$155,IF($R$5=\"Course 3\",Général!H$157,Général!#REF!)))","v":"Hannovre"},{"$f":"IF($S$5=\"Course 1\",Général!H$161,IF($S$5=\"Course 2\",Général!H$163,IF($S$5=\"Course 3\",Général!H$165,Général!#REF!)))","v":"UBS Lorient 1"},{"$f":"IF($T$5=\"Course 1\",Général!H$169,IF($T$5=\"Course 2\",Général!H$171,IF($T$5=\"Course 3\",Général!H$173,Général!#REF!)))","v":"UNICAEN - ASSUCherbourg"},null,{"$f":"Général!B16","v":"ENSTA Paris"},6]
["8ème Equipage",null,{"$f":"IF($C$5=\"Course 1\",Général!I33,IF($C$5=\"Course 2\",Général!I35,IF($C$5=\"Course 3\",Général!I37,Général!#REF!)))","v":"ASUL Lannion"},{"$f":"IF($D$5=\"Course 1\",Général!I41,IF($D$5=\"Course 2\",Général!I43,IF($D$5=\"Course 3\",Général!I45,Général!#REF!)))","v":"ENSTA Bretagne 1"},{"$f":"IF($E$5=\"Course 1\",Général!I49,IF($E$5=\"Course 2\",Général!I51,IF($E$5=\"Course 3\",Général!I53,Général!#REF!)))","v":"Univ. Nantes 1"},{"$f":"IF($F$5=\"Course 1\",Général!I$57,IF($F$5=\"Course 2\",Général!I$59,IF($F$5=\"Course 3\",Général!I$61,Général!#REF!)))","v":"EGSI La Rochelle"},{"$f":"IF($G$5=\"Course 1\",Général!I$65,IF($G$5=\"Course 2\",Général!I$67,IF($G$5=\"Course 3\",Général!I$69,Général!#REF!)))","v":"UNICAEN - ASSUCherbourg"},{"$f":"IF($H$5=\"Course 1\",Général!I$73,IF($H$5=\"Course 2\",Général!I$75,IF($H$5=\"Course 3\",Général!I$77,Général!#REF!)))","v":"Karlsruhe"},{"$f":"IF($I$5=\"Course 1\",Général!I$81,IF($I$5=\"Course 2\",Général!I$83,IF($I$5=\"Course 3\",Général!I$85,Général!#REF!)))","v":"Karlsruhe"},{"$f":"IF($J$5=\"Course 1\",Général!I$89,IF($J$5=\"Course 2\",Général!I$91,IF($J$5=\"Course 3\",Général!I$93,Général!#REF!)))","v":"Hambourg"},{"$f":"IF($K$5=\"Course 1\",Général!I$97,IF($K$5=\"Course 2\",Général!I$99,IF($K$5=\"Course 3\",Général!I$101,Général!#REF!)))","v":"AS UB St Brieuc"},{"$f":"IF($L$5=\"Course 1\",Général!I$105,IF($L$5=\"Course 2\",Général!I$107,IF($L$5=\"Course 3\",Général!I$109,Général!#REF!)))","v":"IMT Atlantique Brest"},{"$f":"IF($M$5=\"Course 1\",Général!I$113,IF($M$5=\"Course 2\",Général!I$115,IF($M$5=\"Course 3\",Général!I$117,Général!#REF!)))","v":"Univ. La Rochelle"},{"$f":"IF($N$5=\"Course 1\",Général!I$121,IF($N$5=\"Course 2\",Général!I$123,IF($N$5=\"Course 3\",Général!I$125,Général!#REF!)))","v":"UBO 2"},{"$f":"IF($O$5=\"Course 1\",Général!I$129,IF($O$5=\"Course 2\",Général!I$131,IF($O$5=\"Course 3\",Général!I$133,Général!#REF!)))","v":"UBO 2"},{"$f":"IF($P$5=\"Course 1\",Général!I$137,IF($P$5=\"Course 2\",Général!I$139,IF($P$5=\"Course 3\",Général!I$141,Général!#REF!)))","v":"ENSTA Paris"},{"$f":"IF($Q$5=\"Course 1\",Général!I$145,IF($Q$5=\"Course 2\",Général!I$147,IF($Q$5=\"Course 3\",Général!I$149,Général!#REF!)))","v":"AS Paris 1 Panthéon Sorbonne"},{"$f":"IF($R$5=\"Course 1\",Général!I$153,IF($R$5=\"Course 2\",Général!I$155,IF($R$5=\"Course 3\",Général!I$157,Général!#REF!)))","v":"ENSTA Bretagne 2"},{"$f":"IF($S$5=\"Course 1\",Général!I$161,IF($S$5=\"Course 2\",Général!I$163,IF($S$5=\"Course 3\",Général!I$165,Général!#REF!)))","v":"Hannovre"},{"$f":"IF($T$5=\"Course 1\",Général!I$169,IF($T$5=\"Course 2\",Général!I$171,IF($T$5=\"Course 3\",Général!I$173,Général!#REF!)))","v":"UBS Lorient 2"},null,{"$f":"Général!B17","v":"IMT Atlantique Brest"},6]
["9ème Equipage",null,{"$f":"IF($C$5=\"Course 1\",Général!J33,IF($C$5=\"Course 2\",Général!J35,IF($C$5=\"Course 3\",Général!J37,Général!#REF!)))","v":"Southampton"},{"$f":"IF($D$5=\"Course 1\",Général!J41,IF($D$5=\"Course 2\",Général!J43,IF($D$5=\"Course 3\",Général!J45,Général!#REF!)))","v":"Univ. La Rochelle"},{"$f":"IF($E$5=\"Course 1\",Général!J49,IF($E$5=\"Course 2\",Général!J51,IF($E$5=\"Course 3\",Général!J53,Général!#REF!)))","v":"AS UB St Brieuc"},{"$f":"IF($F$5=\"Course 1\",Général!J$57,IF($F$5=\"Course 2\",Général!J$59,IF($F$5=\"Course 3\",Général!J$61,Général!#REF!)))","v":"Univ. Nantes 1"},{"$f":"IF($G$5=\"Course 1\",Général!J$65,IF($G$5=\"Course 2\",Général!J$67,IF($G$5=\"Course 3\",Général!J$69,Général!#REF!)))","v":"Univ. Nantes 1"},{"$f":"IF($H$5=\"Course 1\",Général!J$73,IF($H$5=\"Course 2\",Général!J$75,IF($H$5=\"Course 3\",Général!$J77,Général!#REF!)))","v":"IMT Atlantique Nantes 1"},{"$f":"IF($I$5=\"Course 1\",Général!J$81,IF($I$5=\"Course 2\",Général!J$83,IF($I$5=\"Course 3\",Général!J$85,Général!#REF!)))","v":"Univ. Nantes 2"},{"$f":"IF($J$5=\"Course 1\",Général!J$89,IF($J$5=\"Course 2\",Général!J$91,IF($J$5=\"Course 3\",Général!J$93,Général!#REF!)))","v":"Univ. Nantes 2"},{"$f":"IF($K$5=\"Course 1\",Général!J$97,IF($K$5=\"Course 2\",Général!J$99,IF($K$5=\"Course 3\",Général!J$101,Général!#REF!)))","v":"HYDRO Sailing Team Le Havre"},{"$f":"IF($L$5=\"Course 1\",Général!J$105,IF($L$5=\"Course 2\",Général!J$107,IF($L$5=\"Course 3\",Général!J$109,Général!#REF!)))","v":"UBS Lorient 2"},{"$f":"IF($M$5=\"Course 1\",Général!J$113,IF($M$5=\"Course 2\",Général!J$115,IF($M$5=\"Course 3\",Général!J$117,Général!#REF!)))","v":"ASUL Lannion"},{"$f":"IF($N$5=\"Course 1\",Général!J$121,IF($N$5=\"Course 2\",Général!J$123,IF($N$5=\"Course 3\",Général!J$125,Général!#REF!)))","v":"ENSTA Bretagne 1"},{"$f":"IF($O$5=\"Course 1\",Général!J$129,IF($O$5=\"Course 2\",Général!J$131,IF($O$5=\"Course 3\",Général!J$133,Général!#REF!)))","v":"ENSTA Bretagne 2"},{"$f":"IF($P$5=\"Course 1\",Général!J$137,IF($P$5=\"Course 2\",Général!J$139,IF($P$5=\"Course 3\",Général!J$141,Général!#REF!)))","v":"UBO 2"},{"$f":"IF($Q$5=\"Course 1\",Général!J$145,IF($Q$5=\"Course 2\",Général!J$147,IF($Q$5=\"Course 3\",Général!J$149,Général!#REF!)))","v":"Univ. Nantes 3"},{"$f":"IF($R$5=\"Course 1\",Général!J$153,IF($R$5=\"Course 2\",Général!J$155,IF($R$5=\"Course 3\",Général!J$157,Général!#REF!)))","v":"EGSI La Rochelle"},{"$f":"IF($S$5=\"Course 1\",Général!J$161,IF($S$5=\"Course 2\",Général!J$163,IF($S$5=\"Course 3\",Général!J$165,Général!#REF!)))","v":"Univ. La Rochelle"},{"$f":"IF($T$5=\"Course 1\",Général!J$169,IF($T$5=\"Course 2\",Général!J$171,IF($T$5=\"Course 3\",Général!J$173,Général!#REF!)))","v":"Univ. La Rochelle"},null,{"$f":"Général!B18","v":"UBO 2"},6]
[null,null,null,null,null,null,null,null,null,null,null,null,null,null,null,null,null,null,null,null,null,{"$f":"Général!B19","v":"Dublin"},5]
[null,null,null,null,null,null,null,null,null,null,null,null,null,null,null,null,null,null,null,null,null,{"$f":"Général!B20","v":"Univ. Nantes 2"},5]
[null,null,null,null,null,null,null,null,null,null,null,null,null,null,null,null,null,null,null,null,null,{"$f":"Général!B21","v":"UBS Lorient 1"},6]
[null,null,null,null,null,null,null,null,null,null,null,null,null,null,null,null,null,null,null,null,null,{"$f":"Général!B22","v":"UBS Lorient 2"},5]
[null,null,null,null,null,null,null,null,null,null,null,null,null,null,null,null,null,null,null,null,null,{"$f":"Général!B23","v":"Univ.Orléans"},4]
[null,null,null,null,null,null,null,null,null,null,null,null,null,null,null,null,null,null,null,null,null,{"$f":"Général!B24","v":"Univ. La Rochelle"},7]
[null,null,null,null,null,null,null,null,null,null,null,null,null,null,null,null,null,null,null,null,null,{"$f":"Général!B25","v":"AS UB St Brieuc"},6]
[null,null,null,null,null,null,null,null,null,null,null,null,null,null,null,null,null,null,null,null,null,{"$f":"Général!B26","v":"Karlsruhe"},4]
[null,null,null,null,null,null,null,null,null,null,null,null,null,null,null,null,null,null,null,null,null,{"$f":"Général!B27","v":"Univ. Nantes 3"},5]
[null,null,null,null,null,null,null,null,null,null,null,null,null,null,null,null,null,null,null,null,null,{"$f":"Général!B28","v":"Centrales Nantes"},7]
[null,null,null,null,null,null,null,null,null,null,null,null,null,null,null,null,null,null,null,null,null,{"$f":"Général!B29","v":"Southampton"},5]
[null,null,null,null,null,null,null,null,null,null,null,null,null,null,null,null,null,null,null,null,null,{"$f":"Général!#REF!","v":{"$error":"#REF!"}},0]
[null,null,null,null,null,null,null,null,null,null,null,null,null,null,null,null,null,null,null,null,null,{"$f":"Général!#REF!","v":{"$error":"#REF!"}},0]
[null,null,null,null,null,null,null,null,null,null,null,null,null,null,null,null,null,null,null,null,null,{"$f":"Général!#REF!","v":{"$error":"#REF!"}},0]
[null,null,null,null,null,null,null,null,null,null,null,null,null,null,null,null,null,null,null,null,null,{"$f":"Général!#REF!","v":{"$error":"#REF!"}},0]
[null,null,null,null,null,null,null,null,null,null,null,null,null,null,null,null,null,null,null,null,null,{"$f":"Général!#REF!","v":{"$error":"#REF!"}},0]

{"sheet":"Eq.14","index":18,"n_rows":32,"n_cols":23,"rows_kept":32,"cut":false,"hidden":false,"merged":[[14,0,14,1],[15,0,15,1],[8,0,8,1],[9,0,9,1],[10,0,10,1],[11,0,11,1],[12,0,12,1],[13,0,13,1],[7,0,7,1],[0,0,1,5],[0,6,1,10],[3,0,3,1],[4,0,4,1],[5,0,5,1]]}
["Equipage ",null,null,null,null,null,{"$f":"Général!B16","v":"ENSTA Paris"},null,null,null,null,null,null,null,null,null,null,null,null,null,null,{"$f":"Général!B3","v":"Univ. Nantes 1"},{"$f":"COUNTIF(C$8:T$16,V1)","v":5}]
[null,null,null,null,null,null,null,null,null,null,null,null,null,null,null,null,null,null,null,null,null,{"$f":"Général!B4","v":"AS Paris 1 Panthéon Sorbonne"},{"$f":"COUNTIF($C$8:$T$16,V2)","v":6}]
[null,null,null,null,null,null,null,null,null,null,null,null,null,null,null,null,null,null,null,null,null,{"$f":"Général!B5","v":"Hannovre"},{"$f":"COUNTIF($C$8:$T$16,V3)","v":5}]
[null,null,"FLIGHT 1","FLIGHT 2","FLIGHT 3","FLIGHT 4","FLIGHT 5","FLIGHT 6","FLIGHT 7","FLIGHT 8","FLIGHT 9","FLIGHT 10","FLIGHT 11","FLIGHT 12","FLIGHT 13","FLIGHT 14","FLIGHT 15","FLIGHT 16","FLIGHT 17","FLIGHT 18",null,{"$f":"Général!B6","v":"IMT Atlantique Nantes 1"},6]
["N° de course",null,{"$f":"IF(COUNTIF(Général!B33:J33,$G$1)=1,\"Course 1\",IF(COUNTIF(Général!B35:J35,$G$1)=1,\"Course 2\",IF(COUNTIF(Général!B37:J37,$G$1)=1,\"Course 3\",\"Course 4\")))","v":"Course 1"},{"$f":"IF(COUNTIF(Général!B41:J41,$G$1)=1,\"Course 1\",IF(COUNTIF(Général!B43:J43,$G$1)=1,\"Course 2\",IF(COUNTIF(Général!B45:J45,$G$1)=1,\"Course 3\",\"Course 4\")))","v":"Course 1"},{"$f":"IF(COUNTIF(Général!B49:J49,$G$1)=1,\"Course 1\",IF(COUNTIF(Général!B51:J51,$G$1)=1,\"Course 2\",IF(COUNTIF(Général!B53:J53,$G$1)=1,\"Course 3\",\"Course 4\")))","v":"Course 3"},{"$f":"IF(COUNTIF(Général!B57:J57,$G$1)=1,\"Course 1\",IF(COUNTIF(Général!B59:J59,$G$1)=1,\"Course 2\",IF(COUNTIF(Général!B61:J61,$G$1)=1,\"Course 3\",\"Course 4\")))","v":"Course 3"},{"$f":"IF(COUNTIF(Général!B65:J65,$G$1)=1,\"Course 1\",IF(COUNTIF(Général!B67:J67,$G$1)=1,\"Course 2\",IF(COUNTIF(Général!B69:J69,$G$1)=1,\"Course 3\",\"Course 4\")))","v":"Course 1"},{"$f":"IF(COUNTIF(Général!B73:J73,$G$1)=1,\"Course 1\",IF(COUNTIF(Général!B75:J75,$G$1)=1,\"Course 2\",IF(COUNTIF(Général!B77:J77,$G$1)=1,\"Course 3\",\"Course 4\")))","v":"Course 3"},{"$f":"IF(COUNTIF(Général!B81:J81,$G$1)=1,\"Course 1\",IF(COUNTIF(Général!B83:J83,$G$1)=1,\"Course 2\",IF(COUNTIF(Général!B85:J85,$G$1)=1,\"Course 3\",\"Course 4\")))","v":"Course 3"},{"$f":"IF(COUNTIF(Général!B89:J89,$G$1)=1,\"Course 1\",IF(COUNTIF(Général!B91:J91,$G$1)=1,\"Course 2\",IF(COUNTIF(Général!B93:J93,$G$1)=1,\"Course 3\",\"Course 4\")))","v":"Course 3"},{"$f":"IF(COUNTIF(Général!B97:J97,$G$1)=1,\"Course 1\",IF(COUNTIF(Général!B99:J99,$G$1)=1,\"Course 2\",IF(COUNTIF(Général!B101:J101,$G$1)=1,\"Course 3\",\"Course 4\")))","v":"Course 1"},{"$f":"IF(COUNTIF(Général!B105:J105,$G$1)=1,\"Course 1\",IF(COUNTIF(Général!B107:J107,$G$1)=1,\"Course 2\",IF(COUNTIF(Général!B109:J109,$G$1)=1,\"Course 3\",\"Course 4\")))","v":"Course 3"},{"$f":"IF(COUNTIF(Général!B113:J113,$G$1)=1,\"Course 1\",IF(COUNTIF(Général!B115:J115,$G$1)=1,\"Course 2\",IF(COUNTIF(Général!B117:J117,$G$1)=1,\"Course 3\",\"Course 4\")))","v":"Course 1"},{"$f":"IF(COUNTIF(Général!B121:J121,$G$1)=1,\"Course 1\",IF(COUNTIF(Général!B123:J123,$G$1)=1,\"Course 2\",IF(COUNTIF(Général!B125:J125,$G$1)=1,\"Course 3\",\"Course 4\")))","v":"Course 2"},{"$f":"IF(COUNTIF(Général!B129:J129,$G$1)=1,\"Course 1\",IF(COUNTIF(Général!B131:J131,$G$1)=1,\"Course 2\",IF(COUNTIF(Général!B133:J133,$G$1)=1,\"Course 3\",\"Course 4\")))","v":"Course 2"},{"$f":"IF(COUNTIF(Général!B137:J137,$G$1)=1,\"Course 1\",IF(COUNTIF(Général!B139:J139,$G$1)=1,\"Course 2\",IF(COUNTIF(Général!B141:J141,$G$1)=1,\"Course 3\",\"Course 4\")))","v":"Course 3"},{"$f":"IF(COUNTIF(Général!B145:J145,$G$1)=1,\"Course 1\",IF(COUNTIF(Général!B147:J147,$G$1)=1,\"Course 2\",IF(COUNTIF(Général!B149:J149,$G$1)=1,\"Course 3\",\"Course 4\")))","v":"Course 1"},{"$f":"IF(COUNTIF(Général!B153:J153,$G$1)=1,\"Course 1\",IF(COUNTIF(Général!B155:J155,$G$1)=1,\"Course 2\",IF(COUNTIF(Général!B157:J157,$G$1)=1,\"Course 3\",\"Course 4\")))","v":"Course 3"},{"$f":"IF(COUNTIF(Général!B161:J161,$G$1)=1,\"Course 1\",IF(COUNTIF(Général!B163:J163,$G$1)=1,\"Course 2\",IF(COUNTIF(Général!B165:J165,$G$1)=1,\"Course 3\",\"Course 4\")))","v":"Course 1"},{"$f":"IF(COUNTIF(Général!B169:J169,$G$1)=1,\"Course 1\",IF(COUNTIF(Général!B171:J171,$G$1)=1,\"Course 2\",IF(COUNTIF(Général!B173:J173,$G$1)=1,\"Course 3\",\"Course 4\")))","v":"Course 3"},null,{"$f":"Général!B7","v":"ENSTA Bretagne 2"},7]
["Bateau",null,{"$f":"IF(COUNTIF(Général!B33:B38,$G$1)=1,\"Boat 1\",IF(COUNTIF(Général!C33:C38,$G$1)=1,\"Boat 2\",IF(COUNTIF(Général!D33:D38,$G$1)=1,\"Boat 3\", IF(COUNTIF(Général!E33:E38,$G$1)=1,\"Boat 4\", IF(COUNTIF(Général!F33:F38,$G$1)=1,\"Boat 5\", IF(COUNTIF(Général!G33:G38,$G$1)=1,\"Boat 6\", IF(COUNTIF(Général!H33:H38,$G$1)=1,\"Boat 7\",IF(COUNTIF(Général!I33:I38,$G$1)=1,\"Boat 8\",\"Boat 9\"))))))))","v":"Boat 1"},{"$f":"IF(COUNTIF(Général!B41:B46,$G$1)=1,\"Boat 1\",IF(COUNTIF(Général!C41:C46,$G$1)=1,\"Boat 2\",IF(COUNTIF(Général!D41:D46,$G$1)=1,\"Boat 3\", IF(COUNTIF(Général!E41:E46,$G$1)=1,\"Boat 4\", IF(COUNTIF(Général!F41:F46,$G$1)=1,\"Boat 5\", IF(COUNTIF(Général!G41:G46,$G$1)=1,\"Boat 6\", IF(COUNTIF(Général!H41:H46,$G$1)=1,\"Boat 7\",IF(COUNTIF(Général!I33:I38,$G$1)=1,\"Boat 8\",\"Boat 9\"))))))))","v":"Boat 1"},{"$f":"IF(COUNTIF(Général!B49:B54,$G$1)=1,\"Boat 1\",IF(COUNTIF(Général!C49:C54,$G$1)=1,\"Boat 2\",IF(COUNTIF(Général!D49:D54,$G$1)=1,\"Boat 3\", IF(COUNTIF(Général!E49:E54,$G$1)=1,\"Boat 4\", IF(COUNTIF(Général!F49:F54,$G$1)=1,\"Boat 5\", IF(COUNTIF(Général!G49:G54,$G$1)=1,\"Boat 6\", IF(COUNTIF(Général!H49:H54,$G$1)=1,\"Boat 7\",IF(COUNTIF(Général!I33:I38,$G$1)=1,\"Boat 8\",\"Boat 9\"))))))))","v":"Boat 6"},{"$f":"IF(COUNTIF(Général!B57:B62,$G$1)=1,\"Boat 1\",IF(COUNTIF(Général!C57:C62,$G$1)=1,\"Boat 2\",IF(COUNTIF(Général!D57:D62,$G$1)=1,\"Boat 3\", IF(COUNTIF(Général!E57:E62,$G$1)=1,\"Boat 4\", IF(COUNTIF(Général!F57:F62,$G$1)=1,\"Boat 5\", IF(COUNTIF(Général!G57:G62,$G$1)=1,\"Boat 6\", IF(COUNTIF(Général!H57:H62,$G$1)=1,\"Boat 7\",IF(COUNTIF(Général!I33:I38,$G$1)=1,\"Boat 8\",\"Boat 9\"))))))))","v":"Boat 9"},{"$f":"IF(COUNTIF(Général!B65:B70,$G$1)=1,\"Boat 1\",IF(COUNTIF(Général!C65:C70,$G$1)=1,\"Boat 2\",IF(COUNTIF(Général!D65:D70,$G$1)=1,\"Boat 3\", IF(COUNTIF(Général!E65:E70,$G$1)=1,\"Boat 4\", IF(COUNTIF(Général!F65:F70,$G$1)=1,\"Boat 5\", IF(COUNTIF(Général!G65:G70,$G$1)=1,\"Boat 6\", IF(COUNTIF(Général!H65:H70,$G$1)=1,\"Boat 7\",IF(COUNTIF(Général!I33:I38,$G$1)=1,\"Boat 8\",\"Boat 9\"))))))))","v":"Boat 9"},{"$f":"IF(COUNTIF(Général!B73:B78,$G$1)=1,\"Boat 1\",IF(COUNTIF(Général!C73:C78,$G$1)=1,\"Boat 2\",IF(COUNTIF(Général!D73:D78,$G$1)=1,\"Boat 3\", IF(COUNTIF(Général!E73:E78,$G$1)=1,\"Boat 4\", IF(COUNTIF(Général!F73:F78,$G$1)=1,\"Boat 5\", IF(COUNTIF(Général!G73:G78,$G$1)=1,\"Boat 6\", IF(COUNTIF(Général!H73:H78,$G$1)=1,\"Boat 7\",IF(COUNTIF(Général!I33:I38,$G$1)=1,\"Boat 8\",\"Boat 9\"))))))))","v":"Boat 2"},{"$f":"IF(COUNTIF(Général!B81:B86,$G$1)=1,\"Boat 1\",IF(COUNTIF(Général!C81:C86,$G$1)=1,\"Boat 2\",IF(COUNTIF(Général!D81:D86,$G$1)=1,\"Boat 3\", IF(COUNTIF(Général!E81:E86,$G$1)=1,\"Boat 4\", IF(COUNTIF(Général!F81:F86,$G$1)=1,\"Boat 5\", IF(COUNTIF(Général!G81:G86,$G$1)=1,\"Boat 6\", IF(COUNTIF(Général!H81:H86,$G$1)=1,\"Boat 7\",IF(COUNTIF(Général!I33:I38,$G$1)=1,\"Boat 8\",\"Boat 9\"))))))))","v":"Boat 5"},{"$f":"IF(COUNTIF(Général!B89:B94,$G$1)=1,\"Boat 1\",IF(COUNTIF(Général!C89:C94,$G$1)=1,\"Boat 2\",IF(COUNTIF(Général!D89:D94,$G$1)=1,\"Boat 3\", IF(COUNTIF(Général!E89:E94,$G$1)=1,\"Boat 4\", IF(COUNTIF(Général!F89:F94,$G$1)=1,\"Boat 5\", IF(COUNTIF(Général!G89:G94,$G$1)=1,\"Boat 6\", IF(COUNTIF(Général!H89:H94,$G$1)=1,\"Boat 7\",IF(COUNTIF(Général!I33:I38,$G$1)=1,\"Boat 8\",\"Boat 9\"))))))))","v":"Boat 3"},{"$f":"IF(COUNTIF(Général!B97:B102,$G$1)=1,\"Boat 1\",IF(COUNTIF(Général!C97:C102,$G$1)=1,\"Boat 2\",IF(COUNTIF(Général!D97:D102,$G$1)=1,\"Boat 3\", IF(COUNTIF(Général!E97:E102,$G$1)=1,\"Boat 4\", IF(COUNTIF(Général!F97:F102,$G$1)=1,\"Boat 5\", IF(COUNTIF(Général!G97:G102,$G$1)=1,\"Boat 6\", IF(COUNTIF(Général!H97:H102,$G$1)=1,\"Boat 7\",IF(COUNTIF(Général!I33:I38,$G$1)=1,\"Boat 8\",\"Boat 9\"))))))))","v":"Boat 3"},{"$f":"IF(COUNTIF(Général!B105:B110,$G$1)=1,\"Boat 1\",IF(COUNTIF(Général!C105:C110,$G$1)=1,\"Boat 2\",IF(COUNTIF(Général!D105:D110,$G$1)=1,\"Boat 3\", IF(COUNTIF(Général!E105:E110,$G$1)=1,\"Boat 4\", IF(COUNTIF(Général!F105:F110,$G$1)=1,\"Boat 5\", IF(COUNTIF(Général!G105:G110,$G$1)=1,\"Boat 6\", IF(COUNTIF(Général!H105:H110,$G$1)=1,\"Boat 7\",IF(COUNTIF(Général!I33:I38,$G$1)=1,\"Boat 8\",\"Boat 9\"))))))))","v":"Boat 4"},{"$f":"IF(COUNTIF(Général!B113:B118,$G$1)=1,\"Boat 1\",IF(COUNTIF(Général!C113:C118,$G$1)=1,\"Boat 2\",IF(COUNTIF(Général!C113:D118,$G$1)=1,\"Boat 3\", IF(COUNTIF(Général!C113:E118,$G$1)=1,\"Boat 4\", IF(COUNTIF(Général!F113:F118,$G$1)=1,\"Boat 5\", IF(COUNTIF(Général!G113:G118,$G$1)=1,\"Boat 6\", IF(COUNTIF(Général!H113:H118,$G$1)=1,\"Boat 7\",IF(COUNTIF(Général!I33:I38,$G$1)=1,\"Boat 8\",\"Boat 9\"))))))))","v":"Boat 4"},{"$f":"IF(COUNTIF(Général!B121:B126,$G$1)=1,\"Boat 1\",IF(COUNTIF(Général!C121:C126,$G$1)=1,\"Boat 2\",IF(COUNTIF(Général!D121:D126,$G$1)=1,\"Boat 3\", IF(COUNTIF(Général!E121:E126,$G$1)=1,\"Boat 4\", IF(COUNTIF(Général!F121:F126,$G$1)=1,\"Boat 5\", IF(COUNTIF(Général!G121:G126,$G$1)=1,\"Boat 6\", IF(COUNTIF(Général!H121:H126,$G$1)=1,\"Boat 7\",IF(COUNTIF(Général!I33:I38,$G$1)=1,\"Boat 8\",\"Boat 9\"))))))))","v":"Boat 7"},{"$f":"IF(COUNTIF(Général!B129:B134,$G$1)=1,\"Boat 1\",IF(COUNTIF(Général!C129:C134,$G$1)=1,\"Boat 2\",IF(COUNTIF(Général!D131:D134,$G$1)=1,\"Boat 3\", IF(COUNTIF(Général!E129:E134,$G$1)=1,\"Boat 4\", IF(COUNTIF(Général!F129:F134,$G$1)=1,\"Boat 5\", IF(COUNTIF(Général!G129:G134,$G$1)=1,\"Boat 6\", IF(COUNTIF(Général!H129:H134,$G$1)=1,\"Boat 7\",IF(COUNTIF(Général!I33:I38,$G$1)=1,\"Boat 8\",\"Boat 9\"))))))))","v":"Boat 7"},{"$f":"IF(COUNTIF(Général!B137:B142,$G$1)=1,\"Boat 1\",IF(COUNTIF(Général!C137:C142,$G$1)=1,\"Boat 2\",IF(COUNTIF(Général!D137:D142,$G$1)=1,\"Boat 3\", IF(COUNTIF(Général!E137:E142,$G$1)=1,\"Boat 4\", IF(COUNTIF(Général!F145:F150,$G$1)=1,\"Boat 5\", IF(COUNTIF(Général!G145:G150,$G$1)=1,\"Boat 6\", IF(COUNTIF(Général!H145:H150,$G$1)=1,\"Boat 7\",IF(COUNTIF(Général!I33:I38,$G$1)=1,\"Boat 8\",\"Boat 9\"))))))))","v":"Boat 9"},{"$f":"IF(COUNTIF(Général!B145:B150,$G$1)=1,\"Boat 1\",IF(COUNTIF(Général!C145:C150,$G$1)=1,\"Boat 2\",IF(COUNTIF(Général!D145:D150,$G$1)=1,\"Boat 3\", IF(COUNTIF(Général!E145:E150,$G$1)=1,\"Boat 4\", IF(COUNTIF(Général!F145:F150,$G$1)=1,\"Boat 5\", IF(COUNTIF(Général!G145:G150,$G$1)=1,\"Boat 6\", IF(COUNTIF(Général!H145:H150,$G$1)=1,\"Boat 7\",IF(COUNTIF(Général!I33:I38,$G$1)=1,\"Boat 8\",\"Boat 9\"))))))))","v":"Boat 9"},{"$f":"IF(COUNTIF(Général!B153:B158,$G$1)=1,\"Boat 1\",IF(COUNTIF(Général!C153:C158,$G$1)=1,\"Boat 2\",IF(COUNTIF(Général!D153:D158,$G$1)=1,\"Boat 3\", IF(COUNTIF(Général!E153:E158,$G$1)=1,\"Boat 4\", IF(COUNTIF(Général!F153:F158,$G$1)=1,\"Boat 5\", IF(COUNTIF(Général!G153:G158,$G$1)=1,\"Boat 6\", IF(COUNTIF(Général!H153:H158,$G$1)=1,\"Boat 7\",IF(COUNTIF(Général!I33:I38,$G$1)=1,\"Boat 8\",\"Boat 9\"))))))))","v":"Boat 5"},{"$f":"IF(COUNTIF(Général!B161:B166,$G$1)=1,\"Boat 1\",IF(COUNTIF(Général!C161:C166,$G$1)=1,\"Boat 2\",IF(COUNTIF(Général!D161:D166,$G$1)=1,\"Boat 3\", IF(COUNTIF(Général!E161:E166,$G$1)=1,\"Boat 4\", IF(COUNTIF(Général!F161:F166,$G$1)=1,\"Boat 5\", IF(COUNTIF(Général!G161:G166,$G$1)=1,\"Boat 6\", IF(COUNTIF(Général!H161:H166,$G$1)=1,\"Boat 7\",IF(COUNTIF(Général!I33:I38,$G$1)=1,\"Boat 8\",\"Boat 9\"))))))))","v":"Boat 5"},{"$f":"IF(COUNTIF(Général!B169:B174,$G$1)=1,\"Boat 1\",IF(COUNTIF(Général!C169:C174,$G$1)=1,\"Boat 2\",IF(COUNTIF(Général!D169:D174,$G$1)=1,\"Boat 3\", IF(COUNTIF(Général!E169:E174,$G$1)=1,\"Boat 4\", IF(COUNTIF(Général!F169:F174,$G$1)=1,\"Boat 5\", IF(COUNTIF(Général!G169:G174,$G$1)=1,\"Boat 6\", IF(COUNTIF(Général!H169:H174,$G$1)=1,\"Boat 7\",IF(COUNTIF(Général!I33:I38,$G$1)=1,\"Boat 8\",\"Boat 9\"))))))))","v":"Boat 6"},null,{"$f":"Général!B8","v":"IMT Atlantique Nantes 2"},7]
[null,null,null,null,null,null,null,null,null,null,null,null,null,null,null,null,null,null,null,null,null,{"$f":"Général!B9","v":"Hambourg"},5]
["1er Equipage",null,{"$f":"IF($C$5=\"Course 1\",Général!B33,IF($C$5=\"Course 2\",Général!B35,IF($C$5=\"Course 3\",Général!B37,Général!#REF!)))","v":"ENSTA Paris"},{"$f":"IF($D$5=\"Course 1\",Général!B41,IF($D$5=\"Course 2\",Général!B43,IF($D$5=\"Course 3\",Général!B45,Général!#REF!)))","v":"ENSTA Paris"},{"$f":"IF($E$5=\"Course 1\",Général!B49,IF($E$5=\"Course 2\",Général!B51,IF($E$5=\"Course 3\",Général!B53,Général!#REF!)))","v":"Univ.Orléans"},{"$f":"IF($F$5=\"Course 1\",Général!B$57,IF($F$5=\"Course 2\",Général!B$59,IF($F$5=\"Course 3\",Général!B$61,Général!#REF!)))","v":"Univ. La Rochelle"},{"$f":"IF($G$5=\"Course 1\",Général!B$65,IF($G$5=\"Course 2\",Général!B$67,IF($G$5=\"Course 3\",Général!B$69,Général!#REF!)))","v":"IMT Atlantique Brest"},{"$f":"IF($H$5=\"Course 1\",Général!B$73,IF($H$5=\"Course 2\",Général!B$75,IF($H$5=\"Course 3\",Général!B$77,Général!#REF!)))","v":"ENSTA Bretagne 2"},{"$f":"IF($I$5=\"Course 1\",Général!B$81,IF($I$5=\"Course 2\",Général!B$83,IF($I$5=\"Course 3\",Général!B$85,Général!#REF!)))","v":"Univ. Nantes 3"},{"$f":"IF($J$5=\"Course 1\",Général!B$89,IF($J$5=\"Course 2\",Général!B$91,IF($J$5=\"Course 3\",Général!B$93,Général!#REF!)))","v":"AS Paris 1 Panthéon Sorbonne"},{"$f":"IF($K$5=\"Course 1\",Général!B$97,IF($K$5=\"Course 2\",Général!B$99,IF($K$5=\"Course 3\",Général!B$101,Général!#REF!)))","v":"AS Paris 1 Panthéon Sorbonne"},{"$f":"IF($L$5=\"Course 1\",Général!B$105,IF($L$5=\"Course 2\",Général!B$107,IF($L$5=\"Course 3\",Général!B$109,Général!#REF!)))","v":"Hambourg"},{"$f":"IF($M$5=\"Course 1\",Général!B$113,IF($M$5=\"Course 2\",Général!B$115,IF($M$5=\"Course 3\",Général!B$117,Général!#REF!)))","v":"Hambourg"},{"$f":"IF($N$5=\"Course 1\",Général!B$121,IF($N$5=\"Course 2\",Général!B$123,IF($N$5=\"Course 3\",Général!B$125,Général!#REF!)))","v":"IMT Atlantique Nantes 1"},{"$f":"IF($O$5=\"Course 1\",Général!B$129,IF($O$5=\"Course 2\",Général!B$131,IF($O$5=\"Course 3\",Général!B$133,Général!#REF!)))","v":"Southampton"},{"$f":"IF($P$5=\"Course 1\",Général!B$137,IF($P$5=\"Course 2\",Général!B$139,IF($P$5=\"Course 3\",Général!B$141,Général!#REF!)))","v":"Univ. Nantes 1"},{"$f":"IF($Q$5=\"Course 1\",Général!B$145,IF($Q$5=\"Course 2\",Général!B$147,IF($Q$5=\"Course 3\",Général!B$149,Général!#REF!)))","v":"Univ. Nantes 1"},{"$f":"IF($R$5=\"Course 1\",Général!B$153,IF($R$5=\"Course 2\",Général!B$155,IF($R$5=\"Course 3\",Général!B$157,Général!#REF!)))","v":"ASUL Lannion"},{"$f":"IF($S$5=\"Course 1\",Général!B$161,IF($S$5=\"Course 2\",Général!B$163,IF($S$5=\"Course 3\",Général!B$165,Général!#REF!)))","v":"AS UB St Brieuc"},{"$f":"IF($T$5=\"Course 1\",Général!B$169,IF($T$5=\"Course 2\",Général!B$171,IF($T$5=\"Course 3\",Général!B$173,Général!#REF!)))","v":"IMT Atlantique Nantes 2"},null,{"$f":"Général!B10","v":"EGSI La Rochelle"},4]
["2nd Equipage",null,{"$f":"IF($C$5=\"Course 1\",Général!C33,IF($C$5=\"Course 2\",Général!C35,IF($C$5=\"Course 3\",Général!C37,Général!#REF!)))","v":"Univ. Nantes 2"},{"$f":"IF($D$5=\"Course 1\",Général!C41,IF($D$5=\"Course 2\",Général!C43,IF($D$5=\"Course 3\",Général!C45,Général!#REF!)))","v":"UNICAEN - ASSUCherbourg"},{"$f":"IF($E$5=\"Course 1\",Général!C49,IF($E$5=\"Course 2\",Général!C51,IF($E$5=\"Course 3\",Général!C53,Général!#REF!)))","v":"ENSTA Bretagne 2"},{"$f":"IF($F$5=\"Course 1\",Général!C$57,IF($F$5=\"Course 2\",Général!C$59,IF($F$5=\"Course 3\",Général!C$61,Général!#REF!)))","v":"ENSTA Bretagne 2"},{"$f":"IF($G$5=\"Course 1\",Général!C$65,IF($G$5=\"Course 2\",Général!C$67,IF($G$5=\"Course 3\",Général!C$69,Général!#REF!)))","v":"Dublin"},{"$f":"IF($H$5=\"Course 1\",Général!C$73,IF($H$5=\"Course 2\",Général!C$75,IF($H$5=\"Course 3\",Général!C$77,Général!#REF!)))","v":"ENSTA Paris"},{"$f":"IF($I$5=\"Course 1\",Général!C$81,IF($I$5=\"Course 2\",Général!C$83,IF($I$5=\"Course 3\",Général!C$85,Général!#REF!)))","v":"Southampton"},{"$f":"IF($J$5=\"Course 1\",Général!C$89,IF($J$5=\"Course 2\",Général!C$91,IF($J$5=\"Course 3\",Général!C$93,Général!#REF!)))","v":"UBO 1"},{"$f":"IF($K$5=\"Course 1\",Général!C$97,IF($K$5=\"Course 2\",Général!C$99,IF($K$5=\"Course 3\",Général!C$101,Général!#REF!)))","v":"ASUL Lannion"},{"$f":"IF($L$5=\"Course 1\",Général!C$105,IF($L$5=\"Course 2\",Général!C$107,IF($L$5=\"Course 3\",Général!C$109,Général!#REF!)))","v":"UBO 1"},{"$f":"IF($M$5=\"Course 1\",Général!C$113,IF($M$5=\"Course 2\",Général!C$115,IF($M$5=\"Course 3\",Général!C$117,Général!#REF!)))","v":"Univ. Nantes 3"},{"$f":"IF($N$5=\"Course 1\",Général!C$121,IF($N$5=\"Course 2\",Général!C$123,IF($N$5=\"Course 3\",Général!C$125,Général!#REF!)))","v":"Dublin"},{"$f":"IF($O$5=\"Course 1\",Général!C$129,IF($O$5=\"Course 2\",Général!C$131,IF($O$5=\"Course 3\",Général!C$133,Général!#REF!)))","v":"HYDRO Sailing Team Le Havre"},{"$f":"IF($P$5=\"Course 1\",Général!C$137,IF($P$5=\"Course 2\",Général!C$139,IF($P$5=\"Course 3\",Général!C$141,Général!#REF!)))","v":"AS UB St Brieuc"},{"$f":"IF($Q$5=\"Course 1\",Général!C$145,IF($Q$5=\"Course 2\",Général!C$147,IF($Q$5=\"Course 3\",Général!C$149,Général!#REF!)))","v":"AS UB St Brieuc"},{"$f":"IF($R$5=\"Course 1\",Général!C$153,IF($R$5=\"Course 2\",Général!C$155,IF($R$5=\"Course 3\",Général!C$157,Général!#REF!)))","v":"IMT Atlantique Nantes 2"},{"$f":"IF($S$5=\"Course 1\",Général!C$161,IF($S$5=\"Course 2\",Général!C$163,IF($S$5=\"Course 3\",Général!C$165,Général!#REF!)))","v":"AS Paris 1 Panthéon Sorbonne"},{"$f":"IF($T$5=\"Course 1\",Général!C$169,IF($T$5=\"Course 2\",Général!C$171,IF($T$5=\"Course 3\",Général!C$173,Général!#REF!)))","v":"ENSTA Bretagne 2"},null,{"$f":"Général!B11","v":"HYDRO Sailing Team Le Havre"},5]
["3ème Equipage",null,{"$f":"IF($C$5=\"Course 1\",Général!D33,IF($C$5=\"Course 2\",Général!D35,IF($C$5=\"Course 3\",Général!D37,Général!#REF!)))","v":"IMT Atlantique Nantes 1"},{"$f":"IF($D$5=\"Course 1\",Général!D41,IF($D$5=\"Course 2\",Général!D43,IF($D$5=\"Course 3\",Général!D45,Général!#REF!)))","v":"Univ. Nantes 3"},{"$f":"IF($E$5=\"Course 1\",Général!D49,IF($E$5=\"Course 2\",Général!D51,IF($E$5=\"Course 3\",Général!D53,Général!#REF!)))","v":"UBS Lorient 2"},{"$f":"IF($F$5=\"Course 1\",Général!D$57,IF($F$5=\"Course 2\",Général!D$59,IF($F$5=\"Course 3\",Général!D$61,Général!#REF!)))","v":"UBO 1"},{"$f":"IF($G$5=\"Course 1\",Général!D$65,IF($G$5=\"Course 2\",Général!D$67,IF($G$5=\"Course 3\",Général!D$69,Général!#REF!)))","v":"UBO 1"},{"$f":"IF($H$5=\"Course 1\",Général!D$73,IF($H$5=\"Course 2\",Général!D$75,IF($H$5=\"Course 3\",Général!D$77,Général!#REF!)))","v":"Univ.Orléans"},{"$f":"IF($I$5=\"Course 1\",Général!D$81,IF($I$5=\"Course 2\",Général!D$83,IF($I$5=\"Course 3\",Général!D$85,Général!#REF!)))","v":"ASUL Lannion"},{"$f":"IF($J$5=\"Course 1\",Général!D$89,IF($J$5=\"Course 2\",Général!D$91,IF($J$5=\"Course 3\",Général!D$93,Général!#REF!)))","v":"ENSTA Paris"},{"$f":"IF($K$5=\"Course 1\",Général!D$97,IF($K$5=\"Course 2\",Général!D$99,IF($K$5=\"Course 3\",Général!D$101,Général!#REF!)))","v":"ENSTA Paris"},{"$f":"IF($L$5=\"Course 1\",Général!D$105,IF($L$5=\"Course 2\",Général!D$107,IF($L$5=\"Course 3\",Général!D$109,Général!#REF!)))","v":"UNICAEN - ASSUCherbourg"},{"$f":"IF($M$5=\"Course 1\",Général!D$113,IF($M$5=\"Course 2\",Général!D$115,IF($M$5=\"Course 3\",Général!D$117,Général!#REF!)))","v":"AS UB St Brieuc"},{"$f":"IF($N$5=\"Course 1\",Général!D$121,IF($N$5=\"Course 2\",Général!D$123,IF($N$5=\"Course 3\",Général!D$125,Général!#REF!)))","v":"Hannovre"},{"$f":"IF($O$5=\"Course 1\",Général!D$129,IF($O$5=\"Course 2\",Général!D$131,IF($O$5=\"Course 3\",Général!D$133,Général!#REF!)))","v":"EGSI La Rochelle"},{"$f":"IF($P$5=\"Course 1\",Général!D$137,IF($P$5=\"Course 2\",Général!D$139,IF($P$5=\"Course 3\",Général!D$141,Général!#REF!)))","v":"IMT Atlantique Brest"},{"$f":"IF($Q$5=\"Course 1\",Général!D$145,IF($Q$5=\"Course 2\",Général!D$147,IF($Q$5=\"Course 3\",Général!D$149,Général!#REF!)))","v":"IMT Atlantique Nantes 2"},{"$f":"IF($R$5=\"Course 1\",Général!D$153,IF($R$5=\"Course 2\",Général!D$155,IF($R$5=\"Course 3\",Général!D$157,Général!#REF!)))","v":"Centrales Nantes"},{"$f":"IF($S$5=\"Course 1\",Général!D$161,IF($S$5=\"Course 2\",Général!D$163,IF($S$5=\"Course 3\",Général!D$165,Général!#REF!)))","v":"Karlsruhe"},{"$f":"IF($T$5=\"Course 1\",Général!D$169,IF($T$5=\"Course 2\",Général!D$171,IF($T$5=\"Course 3\",Général!D$173,Général!#REF!)))","v":"AS UB St Brieuc"},null,{"$f":"Général!B12","v":"UNICAEN - ASSUCherbourg"},5]
["4ème Equipage",null,{"$f":"IF($C$5=\"Course 1\",Général!E33,IF($C$5=\"Course 2\",Général!E35,IF($C$5=\"Course 3\",Général!E37,Général!#REF!)))","v":"AS Paris 1 Panthéon Sorbonne"},{"$f":"IF($D$5=\"Course 1\",Général!E41,IF($D$5=\"Course 2\",Général!E43,IF($D$5=\"Course 3\",Général!E45,Général!#REF!)))","v":"Dublin"},{"$f":"IF($E$5=\"Course 1\",Général!E49,IF($E$5=\"Course 2\",Général!E51,IF($E$5=\"Course 3\",Général!E53,Général!#REF!)))","v":"Univ. La Rochelle"},{"$f":"IF($F$5=\"Course 1\",Général!E$57,IF($F$5=\"Course 2\",Général!E$59,IF($F$5=\"Course 3\",Général!E$61,Général!#REF!)))","v":"UBO 2"},{"$f":"IF($G$5=\"Course 1\",Général!E$65,IF($G$5=\"Course 2\",Général!E$67,IF($G$5=\"Course 3\",Général!E$69,Général!#REF!)))","v":"UBS Lorient 1"},{"$f":"IF($H$5=\"Course 1\",Général!E$73,IF($H$5=\"Course 2\",Général!E$75,IF($H$5=\"Course 3\",Général!E$77,Général!#REF!)))","v":"EGSI La Rochelle"},{"$f":"IF($I$5=\"Course 1\",Général!E$81,IF($I$5=\"Course 2\",Général!E$83,IF($I$5=\"Course 3\",Général!E$85,Général!#REF!)))","v":"ENSTA Bretagne 1"},{"$f":"IF($J$5=\"Course 1\",Général!E$89,IF($J$5=\"Course 2\",Général!E$91,IF($J$5=\"Course 3\",Général!E$93,Général!#REF!)))","v":"Karlsruhe"},{"$f":"IF($K$5=\"Course 1\",Général!E$97,IF($K$5=\"Course 2\",Général!E$99,IF($K$5=\"Course 3\",Général!E$101,Général!#REF!)))","v":"UBO 1"},{"$f":"IF($L$5=\"Course 1\",Général!E$105,IF($L$5=\"Course 2\",Général!E$107,IF($L$5=\"Course 3\",Général!E$109,Général!#REF!)))","v":"ENSTA Paris"},{"$f":"IF($M$5=\"Course 1\",Général!E$113,IF($M$5=\"Course 2\",Général!E$115,IF($M$5=\"Course 3\",Général!E$117,Général!#REF!)))","v":"ENSTA Paris"},{"$f":"IF($N$5=\"Course 1\",Général!E$121,IF($N$5=\"Course 2\",Général!E$123,IF($N$5=\"Course 3\",Général!E$125,Général!#REF!)))","v":"Univ. La Rochelle"},{"$f":"IF($O$5=\"Course 1\",Général!E$129,IF($O$5=\"Course 2\",Général!E$131,IF($O$5=\"Course 3\",Général!E$133,Général!#REF!)))","v":"Hambourg"},{"$f":"IF($P$5=\"Course 1\",Général!E$137,IF($P$5=\"Course 2\",Général!E$139,IF($P$5=\"Course 3\",Général!E$141,Général!#REF!)))","v":"UBS Lorient 2"},{"$f":"IF($Q$5=\"Course 1\",Général!E$145,IF($Q$5=\"Course 2\",Général!E$147,IF($Q$5=\"Course 3\",Général!E$149,Général!#REF!)))","v":"UNICAEN - ASSUCherbourg"},{"$f":"IF($R$5=\"Course 1\",Général!E$153,IF($R$5=\"Course 2\",Général!E$155,IF($R$5=\"Course 3\",Général!E$157,Général!#REF!)))","v":"Univ. Nantes 2"},{"$f":"IF($S$5=\"Course 1\",Général!E$161,IF($S$5=\"Course 2\",Général!E$163,IF($S$5=\"Course 3\",Général!E$165,Général!#REF!)))","v":"Univ. Nantes 2"},{"$f":"IF($T$5=\"Course 1\",Général!E$169,IF($T$5=\"Course 2\",Général!E$171,IF($T$5=\"Course 3\",Général!E$173,Général!#REF!)))","v":"ASUL Lannion"},null,{"$f":"Général!B13","v":"UBO 1"},6]
["5ème Equipage",null,{"$f":"IF($C$5=\"Course 1\",Général!F33,IF($C$5=\"Course 2\",Général!F35,IF($C$5=\"Course 3\",Général!F37,Général!#REF!)))","v":"Hambourg"},{"$f":"IF($D$5=\"Course 1\",Général!F41,IF($D$5=\"Course 2\",Général!F43,IF($D$5=\"Course 3\",Général!F45,Général!#REF!)))","v":"ENSTA Bretagne 2"},{"$f":"IF($E$5=\"Course 1\",Général!F49,IF($E$5=\"Course 2\",Général!F51,IF($E$5=\"Course 3\",Général!F53,Général!#REF!)))","v":"AS Paris 1 Panthéon Sorbonne"},{"$f":"IF($F$5=\"Course 1\",Général!F$57,IF($F$5=\"Course 2\",Général!F$59,IF($F$5=\"Course 3\",Général!F$61,Général!#REF!)))","v":"ENSTA Bretagne 1"},{"$f":"IF($G$5=\"Course 1\",Général!F$65,IF($G$5=\"Course 2\",Général!F$67,IF($G$5=\"Course 3\",Général!F$69,Général!#REF!)))","v":"Univ.Orléans"},{"$f":"IF($H$5=\"Course 1\",Général!F$73,IF($H$5=\"Course 2\",Général!F$75,IF($H$5=\"Course 3\",Général!F$77,Général!#REF!)))","v":"Univ. Nantes 2"},{"$f":"IF($I$5=\"Course 1\",Général!F$81,IF($I$5=\"Course 2\",Général!F$83,IF($I$5=\"Course 3\",Général!F$85,Général!#REF!)))","v":"ENSTA Paris"},{"$f":"IF($J$5=\"Course 1\",Général!F$89,IF($J$5=\"Course 2\",Général!F$91,IF($J$5=\"Course 3\",Général!F$93,Général!#REF!)))","v":"Univ. La Rochelle"},{"$f":"IF($K$5=\"Course 1\",Général!F$97,IF($K$5=\"Course 2\",Général!F$99,IF($K$5=\"Course 3\",Général!F$101,Général!#REF!)))","v":"Dublin"},{"$f":"IF($L$5=\"Course 1\",Général!F$105,IF($L$5=\"Course 2\",Général!$F107,IF($L$5=\"Course 3\",Général!F$109,Général!#REF!)))","v":"UBS Lorient 1"},{"$f":"IF($M$5=\"Course 1\",Général!F$113,IF($M$5=\"Course 2\",Général!F$115,IF($M$5=\"Course 3\",Général!F$117,Général!#REF!)))","v":"UBS Lorient 1"},{"$f":"IF($N$5=\"Course 1\",Général!F$121,IF($N$5=\"Course 2\",Général!F$123,IF($N$5=\"Course 3\",Général!F$125,Général!#REF!)))","v":"Univ. Nantes 2"},{"$f":"IF($O$5=\"Course 1\",Général!F$129,IF($O$5=\"Course 2\",Général!F$131,IF($O$5=\"Course 3\",Général!F$133,Général!#REF!)))","v":"Univ. Nantes 1"},{"$f":"IF($P$5=\"Course 1\",Général!F$137,IF($P$5=\"Course 2\",Général!F$139,IF($P$5=\"Course 3\",Général!F$141,Général!#REF!)))","v":"Hannovre"},{"$f":"IF($Q$5=\"Course 1\",Général!F$145,IF($Q$5=\"Course 2\",Général!F$147,IF($Q$5=\"Course 3\",Général!F$149,Général!#REF!)))","v":"Univ.Orléans"},{"$f":"IF($R$5=\"Course 1\",Général!F$153,IF($R$5=\"Course 2\",Général!F$155,IF($R$5=\"Course 3\",Général!F$157,Général!#REF!)))","v":"ENSTA Paris"},{"$f":"IF($S$5=\"Course 1\",Général!F$161,IF($S$5=\"Course 2\",Général!F$163,IF($S$5=\"Course 3\",Général!F$165,Général!#REF!)))","v":"ENSTA Paris"},{"$f":"IF($T$5=\"Course 1\",Général!F$169,IF($T$5=\"Course 2\",Général!F$171,IF($T$5=\"Course 3\",Général!F$173,Général!#REF!)))","v":"Centrales Nantes"},null,{"$f":"Général!B14","v":"ENSTA Bretagne 1"},4]
["6ème Equipage",null,{"$f":"IF($C$5=\"Course 1\",Général!G33,IF($C$5=\"Course 2\",Général!G35,IF($C$5=\"Course 3\",Général!G37,Général!#REF!)))","v":"UNICAEN - ASSUCherbourg"},{"$f":"IF($D$5=\"Course 1\",Général!G41,IF($D$5=\"Course 2\",Général!G43,IF($D$5=\"Course 3\",Général!G45,Général!#REF!)))","v":"Karlsruhe"},{"$f":"IF($E$5=\"Course 1\",Général!G49,IF($E$5=\"Course 2\",Général!G51,IF($E$5=\"Course 3\",Général!G53,Général!#REF!)))","v":"ENSTA Paris"},{"$f":"IF($F$5=\"Course 1\",Général!G$57,IF($F$5=\"Course 2\",Général!G$59,IF($F$5=\"Course 3\",Général!G$61,Général!#REF!)))","v":"Hannovre"},{"$f":"IF($G$5=\"Course 1\",Général!G$65,IF($G$5=\"Course 2\",Général!G$67,IF($G$5=\"Course 3\",Général!G$69,Général!#REF!)))","v":"Hannovre"},{"$f":"IF($H$5=\"Course 1\",Général!G$73,IF($H$5=\"Course 2\",Général!G$75,IF($H$5=\"Course 3\",Général!G$77,Général!#REF!)))","v":"UBS Lorient 1"},{"$f":"IF($I$5=\"Course 1\",Général!G$81,IF($I$5=\"Course 2\",Général!G$83,IF($I$5=\"Course 3\",Général!G$85,Général!#REF!)))","v":"IMT Atlantique Nantes 2"},{"$f":"IF($J$5=\"Course 1\",Général!G$89,IF($J$5=\"Course 2\",Général!G$91,IF($J$5=\"Course 3\",Général!G$93,Général!#REF!)))","v":"IMT Atlantique Nantes 2"},{"$f":"IF($K$5=\"Course 1\",Général!G$97,IF($K$5=\"Course 2\",Général!G$99,IF($K$5=\"Course 3\",Général!G$101,Général!#REF!)))","v":"Univ. Nantes 3"},{"$f":"IF($L$5=\"Course 1\",Général!G$105,IF($L$5=\"Course 2\",Général!G$107,IF($L$5=\"Course 3\",Général!G$109,Général!#REF!)))","v":"ASUL Lannion"},{"$f":"IF($M$5=\"Course 1\",Général!G$113,IF($M$5=\"Course 2\",Général!G$115,IF($M$5=\"Course 3\",Général!G$117,Général!#REF!)))","v":"Centrales Nantes"},{"$f":"IF($N$5=\"Course 1\",Général!G$121,IF($N$5=\"Course 2\",Général!G$123,IF($N$5=\"Course 3\",Général!G$125,Général!#REF!)))","v":"Southampton"},{"$f":"IF($O$5=\"Course 1\",Général!G$129,IF($O$5=\"Course 2\",Général!G$131,IF($O$5=\"Course 3\",Général!G$133,Général!#REF!)))","v":"IMT Atlantique Brest"},{"$f":"IF($P$5=\"Course 1\",Général!G$137,IF($P$5=\"Course 2\",Général!G$139,IF($P$5=\"Course 3\",Général!G$141,Général!#REF!)))","v":"IMT Atlantique Nantes 1"},{"$f":"IF($Q$5=\"Course 1\",Général!G$145,IF($Q$5=\"Course 2\",Général!G$147,IF($Q$5=\"Course 3\",Général!G$149,Général!#REF!)))","v":"IMT Atlantique Nantes 1"},{"$f":"IF($R$5=\"Course 1\",Général!G$153,IF($R$5=\"Course 2\",Général!G$155,IF($R$5=\"Course 3\",Général!G$157,Général!#REF!)))","v":"Univ. La Rochelle"},{"$f":"IF($S$5=\"Course 1\",Général!G$161,IF($S$5=\"Course 2\",Général!G$163,IF($S$5=\"Course 3\",Général!G$165,Général!#REF!)))","v":"Dublin"},{"$f":"IF($T$5=\"Course 1\",Général!G$169,IF($T$5=\"Course 2\",Général!G$171,IF($T$5=\"Course 3\",Général!G$173,Général!#REF!)))","v":"ENSTA Paris"},null,{"$f":"Général!B15","v":"ASUL Lannion"},6]
["7ème Equipage",null,{"$f":"IF($C$5=\"Course 1\",Général!H33,IF($C$5=\"Course 2\",Général!H35,IF($C$5=\"Course 3\",Général!H37,Général!#REF!)))","v":"Centrales Nantes"},{"$f":"IF($D$5=\"Course 1\",Général!H41,IF($D$5=\"Course 2\",Général!H43,IF($D$5=\"Course 3\",Général!H45,Général!#REF!)))","v":"UBO 2"},{"$f":"IF($E$5=\"Course 1\",Général!H49,IF($E$5=\"Course 2\",Général!H51,IF($E$5=\"Course 3\",Général!H53,Général!#REF!)))","v":"Univ. Nantes 3"},{"$f":"IF($F$5=\"Course 1\",Général!H$57,IF($F$5=\"Course 2\",Général!H$59,IF($F$5=\"Course 3\",Général!H$61,Général!#REF!)))","v":"Hambourg"},{"$f":"IF($G$5=\"Course 1\",Général!H$65,IF($G$5=\"Course 2\",Général!H$67,IF($G$5=\"Course 3\",Général!H$69,Général!#REF!)))","v":"IMT Atlantique Nantes 2"},{"$f":"IF($H$5=\"Course 1\",Général!H$73,IF($H$5=\"Course 2\",Général!H$75,IF($H$5=\"Course 3\",Général!H$77,Général!#REF!)))","v":"Univ. Nantes 1"},{"$f":"IF($I$5=\"Course 1\",Général!H$81,IF($I$5=\"Course 2\",Général!H$83,IF($I$5=\"Course 3\",Général!H$85,Général!#REF!)))","v":"Univ. Nantes 1"},{"$f":"IF($J$5=\"Course 1\",Général!H$89,IF($J$5=\"Course 2\",Général!H$91,IF($J$5=\"Course 3\",Général!H$93,Général!#REF!)))","v":"IMT Atlantique Nantes 1"},{"$f":"IF($K$5=\"Course 1\",Général!H$97,IF($K$5=\"Course 2\",Général!H$99,IF($K$5=\"Course 3\",Général!H$101,Général!#REF!)))","v":"IMT Atlantique Nantes 1"},{"$f":"IF($L$5=\"Course 1\",Général!H$105,IF($L$5=\"Course 2\",Général!H$107,IF($L$5=\"Course 3\",Général!H$109,Général!#REF!)))","v":"Karlsruhe"},{"$f":"IF($M$5=\"Course 1\",Général!H$113,IF($M$5=\"Course 2\",Général!H$115,IF($M$5=\"Course 3\",Général!H$117,Général!#REF!)))","v":"EGSI La Rochelle"},{"$f":"IF($N$5=\"Course 1\",Général!H$121,IF($N$5=\"Course 2\",Général!H$123,IF($N$5=\"Course 3\",Général!H$125,Général!#REF!)))","v":"ENSTA Paris"},{"$f":"IF($O$5=\"Course 1\",Général!H$129,IF($O$5=\"Course 2\",Général!H$131,IF($O$5=\"Course 3\",Général!H$133,Général!#REF!)))","v":"ENSTA Paris"},{"$f":"IF($P$5=\"Course 1\",Général!H$137,IF($P$5=\"Course 2\",Général!H$139,IF($P$5=\"Course 3\",Général!H$141,Général!#REF!)))","v":"ASUL Lannion"},{"$f":"IF($Q$5=\"Course 1\",Général!H$145,IF($Q$5=\"Course 2\",Général!H$147,IF($Q$5=\"Course 3\",Général!H$149,Général!#REF!)))","v":"HYDRO Sailing Team Le Havre"},{"$f":"IF($R$5=\"Course 1\",Général!H$153,IF($R$5=\"Course 2\",Général!H$155,IF($R$5=\"Course 3\",Général!H$157,Général!#REF!)))","v":"Hannovre"},{"$f":"IF($S$5=\"Course 1\",Général!H$161,IF($S$5=\"Course 2\",Général!H$163,IF($S$5=\"Course 3\",Général!H$165,Général!#REF!)))","v":"IMT Atlantique Brest"},{"$f":"IF($T$5=\"Course 1\",Général!H$169,IF($T$5=\"Course 2\",Général!H$171,IF($T$5=\"Course 3\",Général!H$173,Général!#REF!)))","v":"UNICAEN - ASSUCherbourg"},null,{"$f":"Général!B16","v":"ENSTA Paris"},18]
["8ème Equipage",null,{"$f":"IF($C$5=\"Course 1\",Général!I33,IF($C$5=\"Course 2\",Général!I35,IF($C$5=\"Course 3\",Général!I37,Général!#REF!)))","v":"ENSTA Bretagne 1"},{"$f":"IF($D$5=\"Course 1\",Général!I41,IF($D$5=\"Course 2\",Général!I43,IF($D$5=\"Course 3\",Général!I45,Général!#REF!)))","v":"Univ.Orléans"},{"$f":"IF($E$5=\"Course 1\",Général!I49,IF($E$5=\"Course 2\",Général!I51,IF($E$5=\"Course 3\",Général!I53,Général!#REF!)))","v":"Southampton"},{"$f":"IF($F$5=\"Course 1\",Général!I$57,IF($F$5=\"Course 2\",Général!I$59,IF($F$5=\"Course 3\",Général!I$61,Général!#REF!)))","v":"HYDRO Sailing Team Le Havre"},{"$f":"IF($G$5=\"Course 1\",Général!I$65,IF($G$5=\"Course 2\",Général!I$67,IF($G$5=\"Course 3\",Général!I$69,Général!#REF!)))","v":"Centrales Nantes"},{"$f":"IF($H$5=\"Course 1\",Général!I$73,IF($H$5=\"Course 2\",Général!I$75,IF($H$5=\"Course 3\",Général!I$77,Général!#REF!)))","v":"UBO 1"},{"$f":"IF($I$5=\"Course 1\",Général!I$81,IF($I$5=\"Course 2\",Général!I$83,IF($I$5=\"Course 3\",Général!I$85,Général!#REF!)))","v":"Karlsruhe"},{"$f":"IF($J$5=\"Course 1\",Général!I$89,IF($J$5=\"Course 2\",Général!I$91,IF($J$5=\"Course 3\",Général!I$93,Général!#REF!)))","v":"UBS Lorient 1"},{"$f":"IF($K$5=\"Course 1\",Général!I$97,IF($K$5=\"Course 2\",Général!I$99,IF($K$5=\"Course 3\",Général!I$101,Général!#REF!)))","v":"AS UB St Brieuc"},{"$f":"IF($L$5=\"Course 1\",Général!I$105,IF($L$5=\"Course 2\",Général!I$107,IF($L$5=\"Course 3\",Général!I$109,Général!#REF!)))","v":"IMT Atlantique Brest"},{"$f":"IF($M$5=\"Course 1\",Général!I$113,IF($M$5=\"Course 2\",Général!I$115,IF($M$5=\"Course 3\",Général!I$117,Général!#REF!)))","v":"IMT Atlantique Nantes 2"},{"$f":"IF($N$5=\"Course 1\",Général!I$121,IF($N$5=\"Course 2\",Général!I$123,IF($N$5=\"Course 3\",Général!I$125,Général!#REF!)))","v":"UBS Lorient 2"},{"$f":"IF($O$5=\"Course 1\",Général!I$129,IF($O$5=\"Course 2\",Général!I$131,IF($O$5=\"Course 3\",Général!I$133,Général!#REF!)))","v":"Dublin"},{"$f":"IF($P$5=\"Course 1\",Général!I$137,IF($P$5=\"Course 2\",Général!I$139,IF($P$5=\"Course 3\",Général!I$141,Général!#REF!)))","v":"ENSTA Paris"},{"$f":"IF($Q$5=\"Course 1\",Général!I$145,IF($Q$5=\"Course 2\",Général!I$147,IF($Q$5=\"Course 3\",Général!I$149,Général!#REF!)))","v":"ENSTA Paris"},{"$f":"IF($R$5=\"Course 1\",Général!I$153,IF($R$5=\"Course 2\",Général!I$155,IF($R$5=\"Course 3\",Général!I$157,Général!#REF!)))","v":"ENSTA Bretagne 2"},{"$f":"IF($S$5=\"Course 1\",Général!I$161,IF($S$5=\"Course 2\",Général!I$163,IF($S$5=\"Course 3\",Général!I$165,Général!#REF!)))","v":"ENSTA Bretagne 2"},{"$f":"IF($T$5=\"Course 1\",Général!I$169,IF($T$5=\"Course 2\",Général!I$171,IF($T$5=\"Course 3\",Général!I$173,Général!#REF!)))","v":"UBS Lorient 2"},null,{"$f":"Général!B17","v":"IMT Atlantique Brest"},6]
["9ème Equipage",null,{"$f":"IF($C$5=\"Course 1\",Général!J33,IF($C$5=\"Course 2\",Général!J35,IF($C$5=\"Course 3\",Général!J37,Général!#REF!)))","v":"Univ.Orléans"},{"$f":"IF($D$5=\"Course 1\",Général!J41,IF($D$5=\"Course 2\",Général!J43,IF($D$5=\"Course 3\",Général!J45,Général!#REF!)))","v":"Centrales Nantes"},{"$f":"IF($E$5=\"Course 1\",Général!J49,IF($E$5=\"Course 2\",Général!J51,IF($E$5=\"Course 3\",Général!J53,Général!#REF!)))","v":"IMT Atlantique Brest"},{"$f":"IF($F$5=\"Course 1\",Général!J$57,IF($F$5=\"Course 2\",Général!J$59,IF($F$5=\"Course 3\",Général!J$61,Général!#REF!)))","v":"ENSTA Paris"},{"$f":"IF($G$5=\"Course 1\",Général!J$65,IF($G$5=\"Course 2\",Général!J$67,IF($G$5=\"Course 3\",Général!J$69,Général!#REF!)))","v":"ENSTA Paris"},{"$f":"IF($H$5=\"Course 1\",Général!J$73,IF($H$5=\"Course 2\",Général!J$75,IF($H$5=\"Course 3\",Général!$J77,Général!#REF!)))","v":"AS Paris 1 Panthéon Sorbonne"},{"$f":"IF($I$5=\"Course 1\",Général!J$81,IF($I$5=\"Course 2\",Général!J$83,IF($I$5=\"Course 3\",Général!J$85,Général!#REF!)))","v":"Univ. Nantes 2"},{"$f":"IF($J$5=\"Course 1\",Général!J$89,IF($J$5=\"Course 2\",Général!J$91,IF($J$5=\"Course 3\",Général!J$93,Général!#REF!)))","v":"HYDRO Sailing Team Le Havre"},{"$f":"IF($K$5=\"Course 1\",Général!J$97,IF($K$5=\"Course 2\",Général!J$99,IF($K$5=\"Course 3\",Général!J$101,Général!#REF!)))","v":"HYDRO Sailing Team Le Havre"},{"$f":"IF($L$5=\"Course 1\",Général!J$105,IF($L$5=\"Course 2\",Général!J$107,IF($L$5=\"Course 3\",Général!J$109,Général!#REF!)))","v":"UBS Lorient 2"},{"$f":"IF($M$5=\"Course 1\",Général!J$113,IF($M$5=\"Course 2\",Général!J$115,IF($M$5=\"Course 3\",Général!J$117,Général!#REF!)))","v":"UBS Lorient 2"},{"$f":"IF($N$5=\"Course 1\",Général!J$121,IF($N$5=\"Course 2\",Général!J$123,IF($N$5=\"Course 3\",Général!J$125,Général!#REF!)))","v":"Univ.Orléans"},{"$f":"IF($O$5=\"Course 1\",Général!J$129,IF($O$5=\"Course 2\",Général!J$131,IF($O$5=\"Course 3\",Général!J$133,Général!#REF!)))","v":"ENSTA Bretagne 1"},{"$f":"IF($P$5=\"Course 1\",Général!J$137,IF($P$5=\"Course 2\",Général!J$139,IF($P$5=\"Course 3\",Général!J$141,Général!#REF!)))","v":"UBO 2"},{"$f":"IF($Q$5=\"Course 1\",Général!J$145,IF($Q$5=\"Course 2\",Général!J$147,IF($Q$5=\"Course 3\",Général!J$149,Général!#REF!)))","v":"UBO 2"},{"$f":"IF($R$5=\"Course 1\",Général!J$153,IF($R$5=\"Course 2\",Général!J$155,IF($R$5=\"Course 3\",Général!J$157,Général!#REF!)))","v":"EGSI La Rochelle"},{"$f":"IF($S$5=\"Course 1\",Général!J$161,IF($S$5=\"Course 2\",Général!J$163,IF($S$5=\"Course 3\",Général!J$165,Général!#REF!)))","v":"Southampton"},{"$f":"IF($T$5=\"Course 1\",Général!J$169,IF($T$5=\"Course 2\",Général!J$171,IF($T$5=\"Course 3\",Général!J$173,Général!#REF!)))","v":"Univ. La Rochelle"},null,{"$f":"Général!B18","v":"UBO 2"},4]
[null,null,null,null,null,null,null,null,null,null,null,null,null,null,null,null,null,null,null,null,null,{"$f":"Général!B19","v":"Dublin"},6]
[null,null,null,null,null,null,null,null,null,null,null,null,null,null,null,null,null,null,null,null,null,{"$f":"Général!B20","v":"Univ. Nantes 2"},6]
[null,null,null,null,null,null,null,null,null,null,null,null,null,null,null,null,null,null,null,null,null,{"$f":"Général!B21","v":"UBS Lorient 1"},5]
[null,null,null,null,null,null,null,null,null,null,null,null,null,null,null,null,null,null,null,null,null,{"$f":"Général!B22","v":"UBS Lorient 2"},6]
[null,null,null,null,null,null,null,null,null,null,null,null,null,null,null,null,null,null,null,null,null,{"$f":"Général!B23","v":"Univ.Orléans"},7]
[null,null,null,null,null,null,null,null,null,null,null,null,null,null,null,null,null,null,null,null,null,{"$f":"Général!B24","v":"Univ. La Rochelle"},6]
[null,null,null,null,null,null,null,null,null,null,null,null,null,null,null,null,null,null,null,null,null,{"$f":"Général!B25","v":"AS UB St Brieuc"},6]
[null,null,null,null,null,null,null,null,null,null,null,null,null,null,null,null,null,null,null,null,null,{"$f":"Général!B26","v":"Karlsruhe"},5]
[null,null,null,null,null,null,null,null,null,null,null,null,null,null,null,null,null,null,null,null,null,{"$f":"Général!B27","v":"Univ. Nantes 3"},5]
[null,null,null,null,null,null,null,null,null,null,null,null,null,null,null,null,null,null,null,null,null,{"$f":"Général!B28","v":"Centrales Nantes"},6]
[null,null,null,null,null,null,null,null,null,null,null,null,null,null,null,null,null,null,null,null,null,{"$f":"Général!B29","v":"Southampton"},5]
[null,null,null,null,null,null,null,null,null,null,null,null,null,null,null,null,null,null,null,null,null,{"$f":"Général!#REF!","v":{"$error":"#REF!"}},0]
[null,null,null,null,null,null,null,null,null,null,null,null,null,null,null,null,null,null,null,null,null,{"$f":"Général!#REF!","v":{"$error":"#REF!"}},0]
[null,null,null,null,null,null,null,null,null,null,null,null,null,null,null,null,null,null,null,null,null,{"$f":"Général!#REF!","v":{"$error":"#REF!"}},0]
[null,null,null,null,null,null,null,null,null,null,null,null,null,null,null,null,null,null,null,null,null,{"$f":"Général!#REF!","v":{"$error":"#REF!"}},0]
[null,null,null,null,null,null,null,null,null,null,null,null,null,null,null,null,null,null,null,null,null,{"$f":"Général!#REF!","v":{"$error":"#REF!"}},0]

{"sheet":"Eq.15","index":19,"n_rows":32,"n_cols":23,"rows_kept":32,"cut":false,"hidden":false,"merged":[[14,0,14,1],[15,0,15,1],[8,0,8,1],[9,0,9,1],[10,0,10,1],[11,0,11,1],[12,0,12,1],[13,0,13,1],[7,0,7,1],[0,0,1,5],[0,6,1,10],[3,0,3,1],[4,0,4,1],[5,0,5,1]]}
["Equipage ",null,null,null,null,null,{"$f":"Général!B17","v":"IMT Atlantique Brest"},null,null,null,null,null,null,null,null,null,null,null,null,null,null,{"$f":"Général!B3","v":"Univ. Nantes 1"},{"$f":"COUNTIF(C$8:T$16,V1)","v":6}]
[null,null,null,null,null,null,null,null,null,null,null,null,null,null,null,null,null,null,null,null,null,{"$f":"Général!B4","v":"AS Paris 1 Panthéon Sorbonne"},{"$f":"COUNTIF($C$8:$T$16,V2)","v":7}]
[null,null,null,null,null,null,null,null,null,null,null,null,null,null,null,null,null,null,null,null,null,{"$f":"Général!B5","v":"Hannovre"},{"$f":"COUNTIF($C$8:$T$16,V3)","v":7}]
[null,null,"FLIGHT 1","FLIGHT 2","FLIGHT 3","FLIGHT 4","FLIGHT 5","FLIGHT 6","FLIGHT 7","FLIGHT 8","FLIGHT 9","FLIGHT 10","FLIGHT 11","FLIGHT 12","FLIGHT 13","FLIGHT 14","FLIGHT 15","FLIGHT 16","FLIGHT 17","FLIGHT 18",null,{"$f":"Général!B6","v":"IMT Atlantique Nantes 1"},6]
["N° de course",null,{"$f":"IF(COUNTIF(Général!B33:J33,$G$1)=1,\"Course 1\",IF(COUNTIF(Général!B35:J35,$G$1)=1,\"Course 2\",IF(COUNTIF(Général!B37:J37,$G$1)=1,\"Course 3\",\"Course 4\")))","v":"Course 2"},{"$f":"IF(COUNTIF(Général!B41:J41,$G$1)=1,\"Course 1\",IF(COUNTIF(Général!B43:J43,$G$1)=1,\"Course 2\",IF(COUNTIF(Général!B45:J45,$G$1)=1,\"Course 3\",\"Course 4\")))","v":"Course 3"},{"$f":"IF(COUNTIF(Général!B49:J49,$G$1)=1,\"Course 1\",IF(COUNTIF(Général!B51:J51,$G$1)=1,\"Course 2\",IF(COUNTIF(Général!B53:J53,$G$1)=1,\"Course 3\",\"Course 4\")))","v":"Course 3"},{"$f":"IF(COUNTIF(Général!B57:J57,$G$1)=1,\"Course 1\",IF(COUNTIF(Général!B59:J59,$G$1)=1,\"Course 2\",IF(COUNTIF(Général!B61:J61,$G$1)=1,\"Course 3\",\"Course 4\")))","v":"Course 1"},{"$f":"IF(COUNTIF(Général!B65:J65,$G$1)=1,\"Course 1\",IF(COUNTIF(Général!B67:J67,$G$1)=1,\"Course 2\",IF(COUNTIF(Général!B69:J69,$G$1)=1,\"Course 3\",\"Course 4\")))","v":"Course 1"},{"$f":"IF(COUNTIF(Général!B73:J73,$G$1)=1,\"Course 1\",IF(COUNTIF(Général!B75:J75,$G$1)=1,\"Course 2\",IF(COUNTIF(Général!B77:J77,$G$1)=1,\"Course 3\",\"Course 4\")))","v":"Course 2"},{"$f":"IF(COUNTIF(Général!B81:J81,$G$1)=1,\"Course 1\",IF(COUNTIF(Général!B83:J83,$G$1)=1,\"Course 2\",IF(COUNTIF(Général!B85:J85,$G$1)=1,\"Course 3\",\"Course 4\")))","v":"Course 2"},{"$f":"IF(COUNTIF(Général!B89:J89,$G$1)=1,\"Course 1\",IF(COUNTIF(Général!B91:J91,$G$1)=1,\"Course 2\",IF(COUNTIF(Général!B93:J93,$G$1)=1,\"Course 3\",\"Course 4\")))","v":"Course 1"},{"$f":"IF(COUNTIF(Général!B97:J97,$G$1)=1,\"Course 1\",IF(COUNTIF(Général!B99:J99,$G$1)=1,\"Course 2\",IF(COUNTIF(Général!B101:J101,$G$1)=1,\"Course 3\",\"Course 4\")))","v":"Course 2"},{"$f":"IF(COUNTIF(Général!B105:J105,$G$1)=1,\"Course 1\",IF(COUNTIF(Général!B107:J107,$G$1)=1,\"Course 2\",IF(COUNTIF(Général!B109:J109,$G$1)=1,\"Course 3\",\"Course 4\")))","v":"Course 3"},{"$f":"IF(COUNTIF(Général!B113:J113,$G$1)=1,\"Course 1\",IF(COUNTIF(Général!B115:J115,$G$1)=1,\"Course 2\",IF(COUNTIF(Général!B117:J117,$G$1)=1,\"Course 3\",\"Course 4\")))","v":"Course 3"},{"$f":"IF(COUNTIF(Général!B121:J121,$G$1)=1,\"Course 1\",IF(COUNTIF(Général!B123:J123,$G$1)=1,\"Course 2\",IF(COUNTIF(Général!B125:J125,$G$1)=1,\"Course 3\",\"Course 4\")))","v":"Course 3"},{"$f":"IF(COUNTIF(Général!B129:J129,$G$1)=1,\"Course 1\",IF(COUNTIF(Général!B131:J131,$G$1)=1,\"Course 2\",IF(COUNTIF(Général!B133:J133,$G$1)=1,\"Course 3\",\"Course 4\")))","v":"Course 2"},{"$f":"IF(COUNTIF(Général!B137:J137,$G$1)=1,\"Course 1\",IF(COUNTIF(Général!B139:J139,$G$1)=1,\"Course 2\",IF(COUNTIF(Général!B141:J141,$G$1)=1,\"Course 3\",\"Course 4\")))","v":"Course 3"},{"$f":"IF(COUNTIF(Général!B145:J145,$G$1)=1,\"Course 1\",IF(COUNTIF(Général!B147:J147,$G$1)=1,\"Course 2\",IF(COUNTIF(Général!B149:J149,$G$1)=1,\"Course 3\",\"Course 4\")))","v":"Course 2"},{"$f":"IF(COUNTIF(Général!B153:J153,$G$1)=1,\"Course 1\",IF(COUNTIF(Général!B155:J155,$G$1)=1,\"Course 2\",IF(COUNTIF(Général!B157:J157,$G$1)=1,\"Course 3\",\"Course 4\")))","v":"Course 1"},{"$f":"IF(COUNTIF(Général!B161:J161,$G$1)=1,\"Course 1\",IF(COUNTIF(Général!B163:J163,$G$1)=1,\"Course 2\",IF(COUNTIF(Général!B165:J165,$G$1)=1,\"Course 3\",\"Course 4\")))","v":"Course 1"},{"$f":"IF(COUNTIF(Général!B169:J169,$G$1)=1,\"Course 1\",IF(COUNTIF(Général!B171:J171,$G$1)=1,\"Course 2\",IF(COUNTIF(Général!B173:J173,$G$1)=1,\"Course 3\",\"Course 4\")))","v":"Course 1"},null,{"$f":"Général!B7","v":"ENSTA Bretagne 2"},5]
["Bateau",null,{"$f":"IF(COUNTIF(Général!B33:B38,$G$1)=1,\"Boat 1\",IF(COUNTIF(Général!C33:C38,$G$1)=1,\"Boat 2\",IF(COUNTIF(Général!D33:D38,$G$1)=1,\"Boat 3\", IF(COUNTIF(Général!E33:E38,$G$1)=1,\"Boat 4\", IF(COUNTIF(Général!F33:F38,$G$1)=1,\"Boat 5\", IF(COUNTIF(Général!G33:G38,$G$1)=1,\"Boat 6\", IF(COUNTIF(Général!H33:H38,$G$1)=1,\"Boat 7\",IF(COUNTIF(Général!I33:I38,$G$1)=1,\"Boat 8\",\"Boat 9\"))))))))","v":"Boat 3"},{"$f":"IF(COUNTIF(Général!B41:B46,$G$1)=1,\"Boat 1\",IF(COUNTIF(Général!C41:C46,$G$1)=1,\"Boat 2\",IF(COUNTIF(Général!D41:D46,$G$1)=1,\"Boat 3\", IF(COUNTIF(Général!E41:E46,$G$1)=1,\"Boat 4\", IF(COUNTIF(Général!F41:F46,$G$1)=1,\"Boat 5\", IF(COUNTIF(Général!G41:G46,$G$1)=1,\"Boat 6\", IF(COUNTIF(Général!H41:H46,$G$1)=1,\"Boat 7\",IF(COUNTIF(Général!I33:I38,$G$1)=1,\"Boat 8\",\"Boat 9\"))))))))","v":"Boat 5"},{"$f":"IF(COUNTIF(Général!B49:B54,$G$1)=1,\"Boat 1\",IF(COUNTIF(Général!C49:C54,$G$1)=1,\"Boat 2\",IF(COUNTIF(Général!D49:D54,$G$1)=1,\"Boat 3\", IF(COUNTIF(Général!E49:E54,$G$1)=1,\"Boat 4\", IF(COUNTIF(Général!F49:F54,$G$1)=1,\"Boat 5\", IF(COUNTIF(Général!G49:G54,$G$1)=1,\"Boat 6\", IF(COUNTIF(Général!H49:H54,$G$1)=1,\"Boat 7\",IF(COUNTIF(Général!I33:I38,$G$1)=1,\"Boat 8\",\"Boat 9\"))))))))","v":"Boat 9"},{"$f":"IF(COUNTIF(Général!B57:B62,$G$1)=1,\"Boat 1\",IF(COUNTIF(Général!C57:C62,$G$1)=1,\"Boat 2\",IF(COUNTIF(Général!D57:D62,$G$1)=1,\"Boat 3\", IF(COUNTIF(Général!E57:E62,$G$1)=1,\"Boat 4\", IF(COUNTIF(Général!F57:F62,$G$1)=1,\"Boat 5\", IF(COUNTIF(Général!G57:G62,$G$1)=1,\"Boat 6\", IF(COUNTIF(Général!H57:H62,$G$1)=1,\"Boat 7\",IF(COUNTIF(Général!I33:I38,$G$1)=1,\"Boat 8\",\"Boat 9\"))))))))","v":"Boat 9"},{"$f":"IF(COUNTIF(Général!B65:B70,$G$1)=1,\"Boat 1\",IF(COUNTIF(Général!C65:C70,$G$1)=1,\"Boat 2\",IF(COUNTIF(Général!D65:D70,$G$1)=1,\"Boat 3\", IF(COUNTIF(Général!E65:E70,$G$1)=1,\"Boat 4\", IF(COUNTIF(Général!F65:F70,$G$1)=1,\"Boat 5\", IF(COUNTIF(Général!G65:G70,$G$1)=1,\"Boat 6\", IF(COUNTIF(Général!H65:H70,$G$1)=1,\"Boat 7\",IF(COUNTIF(Général!I33:I38,$G$1)=1,\"Boat 8\",\"Boat 9\"))))))))","v":"Boat 1"},{"$f":"IF(COUNTIF(Général!B73:B78,$G$1)=1,\"Boat 1\",IF(COUNTIF(Général!C73:C78,$G$1)=1,\"Boat 2\",IF(COUNTIF(Général!D73:D78,$G$1)=1,\"Boat 3\", IF(COUNTIF(Général!E73:E78,$G$1)=1,\"Boat 4\", IF(COUNTIF(Général!F73:F78,$G$1)=1,\"Boat 5\", IF(COUNTIF(Général!G73:G78,$G$1)=1,\"Boat 6\", IF(COUNTIF(Général!H73:H78,$G$1)=1,\"Boat 7\",IF(COUNTIF(Général!I33:I38,$G$1)=1,\"Boat 8\",\"Boat 9\"))))))))","v":"Boat 1"},{"$f":"IF(COUNTIF(Général!B81:B86,$G$1)=1,\"Boat 1\",IF(COUNTIF(Général!C81:C86,$G$1)=1,\"Boat 2\",IF(COUNTIF(Général!D81:D86,$G$1)=1,\"Boat 3\", IF(COUNTIF(Général!E81:E86,$G$1)=1,\"Boat 4\", IF(COUNTIF(Général!F81:F86,$G$1)=1,\"Boat 5\", IF(COUNTIF(Général!G81:G86,$G$1)=1,\"Boat 6\", IF(COUNTIF(Général!H81:H86,$G$1)=1,\"Boat 7\",IF(COUNTIF(Général!I33:I38,$G$1)=1,\"Boat 8\",\"Boat 9\"))))))))","v":"Boat 4"},{"$f":"IF(COUNTIF(Général!B89:B94,$G$1)=1,\"Boat 1\",IF(COUNTIF(Général!C89:C94,$G$1)=1,\"Boat 2\",IF(COUNTIF(Général!D89:D94,$G$1)=1,\"Boat 3\", IF(COUNTIF(Général!E89:E94,$G$1)=1,\"Boat 4\", IF(COUNTIF(Général!F89:F94,$G$1)=1,\"Boat 5\", IF(COUNTIF(Général!G89:G94,$G$1)=1,\"Boat 6\", IF(COUNTIF(Général!H89:H94,$G$1)=1,\"Boat 7\",IF(COUNTIF(Général!I33:I38,$G$1)=1,\"Boat 8\",\"Boat 9\"))))))))","v":"Boat 7"},{"$f":"IF(COUNTIF(Général!B97:B102,$G$1)=1,\"Boat 1\",IF(COUNTIF(Général!C97:C102,$G$1)=1,\"Boat 2\",IF(COUNTIF(Général!D97:D102,$G$1)=1,\"Boat 3\", IF(COUNTIF(Général!E97:E102,$G$1)=1,\"Boat 4\", IF(COUNTIF(Général!F97:F102,$G$1)=1,\"Boat 5\", IF(COUNTIF(Général!G97:G102,$G$1)=1,\"Boat 6\", IF(COUNTIF(Général!H97:H102,$G$1)=1,\"Boat 7\",IF(COUNTIF(Général!I33:I38,$G$1)=1,\"Boat 8\",\"Boat 9\"))))))))","v":"Boat 7"},{"$f":"IF(COUNTIF(Général!B105:B110,$G$1)=1,\"Boat 1\",IF(COUNTIF(Général!C105:C110,$G$1)=1,\"Boat 2\",IF(COUNTIF(Général!D105:D110,$G$1)=1,\"Boat 3\", IF(COUNTIF(Général!E105:E110,$G$1)=1,\"Boat 4\", IF(COUNTIF(Général!F105:F110,$G$1)=1,\"Boat 5\", IF(COUNTIF(Général!G105:G110,$G$1)=1,\"Boat 6\", IF(COUNTIF(Général!H105:H110,$G$1)=1,\"Boat 7\",IF(COUNTIF(Général!I33:I38,$G$1)=1,\"Boat 8\",\"Boat 9\"))))))))","v":"Boat 9"},{"$f":"IF(COUNTIF(Général!B113:B118,$G$1)=1,\"Boat 1\",IF(COUNTIF(Général!C113:C118,$G$1)=1,\"Boat 2\",IF(COUNTIF(Général!C113:D118,$G$1)=1,\"Boat 3\", IF(COUNTIF(Général!C113:E118,$G$1)=1,\"Boat 4\", IF(COUNTIF(Général!F113:F118,$G$1)=1,\"Boat 5\", IF(COUNTIF(Général!G113:G118,$G$1)=1,\"Boat 6\", IF(COUNTIF(Général!H113:H118,$G$1)=1,\"Boat 7\",IF(COUNTIF(Général!I33:I38,$G$1)=1,\"Boat 8\",\"Boat 9\"))))))))","v":"Boat 9"},{"$f":"IF(COUNTIF(Général!B121:B126,$G$1)=1,\"Boat 1\",IF(COUNTIF(Général!C121:C126,$G$1)=1,\"Boat 2\",IF(COUNTIF(Général!D121:D126,$G$1)=1,\"Boat 3\", IF(COUNTIF(Général!E121:E126,$G$1)=1,\"Boat 4\", IF(COUNTIF(Général!F121:F126,$G$1)=1,\"Boat 5\", IF(COUNTIF(Général!G121:G126,$G$1)=1,\"Boat 6\", IF(COUNTIF(Général!H121:H126,$G$1)=1,\"Boat 7\",IF(COUNTIF(Général!I33:I38,$G$1)=1,\"Boat 8\",\"Boat 9\"))))))))","v":"Boat 2"},{"$f":"IF(COUNTIF(Général!B129:B134,$G$1)=1,\"Boat 1\",IF(COUNTIF(Général!C129:C134,$G$1)=1,\"Boat 2\",IF(COUNTIF(Général!D131:D134,$G$1)=1,\"Boat 3\", IF(COUNTIF(Général!E129:E134,$G$1)=1,\"Boat 4\", IF(COUNTIF(Général!F129:F134,$G$1)=1,\"Boat 5\", IF(COUNTIF(Général!G129:G134,$G$1)=1,\"Boat 6\", IF(COUNTIF(Général!H129:H134,$G$1)=1,\"Boat 7\",IF(COUNTIF(Général!I33:I38,$G$1)=1,\"Boat 8\",\"Boat 9\"))))))))","v":"Boat 6"},{"$f":"IF(COUNTIF(Général!B137:B142,$G$1)=1,\"Boat 1\",IF(COUNTIF(Général!C137:C142,$G$1)=1,\"Boat 2\",IF(COUNTIF(Général!D137:D142,$G$1)=1,\"Boat 3\", IF(COUNTIF(Général!E137:E142,$G$1)=1,\"Boat 4\", IF(COUNTIF(Général!F145:F150,$G$1)=1,\"Boat 5\", IF(COUNTIF(Général!G145:G150,$G$1)=1,\"Boat 6\", IF(COUNTIF(Général!H145:H150,$G$1)=1,\"Boat 7\",IF(COUNTIF(Général!I33:I38,$G$1)=1,\"Boat 8\",\"Boat 9\"))))))))","v":"Boat 3"},{"$f":"IF(COUNTIF(Général!B145:B150,$G$1)=1,\"Boat 1\",IF(COUNTIF(Général!C145:C150,$G$1)=1,\"Boat 2\",IF(COUNTIF(Général!D145:D150,$G$1)=1,\"Boat 3\", IF(COUNTIF(Général!E145:E150,$G$1)=1,\"Boat 4\", IF(COUNTIF(Général!F145:F150,$G$1)=1,\"Boat 5\", IF(COUNTIF(Général!G145:G150,$G$1)=1,\"Boat 6\", IF(COUNTIF(Général!H145:H150,$G$1)=1,\"Boat 7\",IF(COUNTIF(Général!I33:I38,$G$1)=1,\"Boat 8\",\"Boat 9\"))))))))","v":"Boat 2"},{"$f":"IF(COUNTIF(Général!B153:B158,$G$1)=1,\"Boat 1\",IF(COUNTIF(Général!C153:C158,$G$1)=1,\"Boat 2\",IF(COUNTIF(Général!D153:D158,$G$1)=1,\"Boat 3\", IF(COUNTIF(Général!E153:E158,$G$1)=1,\"Boat 4\", IF(COUNTIF(Général!F153:F158,$G$1)=1,\"Boat 5\", IF(COUNTIF(Général!G153:G158,$G$1)=1,\"Boat 6\", IF(COUNTIF(Général!H153:H158,$G$1)=1,\"Boat 7\",IF(COUNTIF(Général!I33:I38,$G$1)=1,\"Boat 8\",\"Boat 9\"))))))))","v":"Boat 6"},{"$f":"IF(COUNTIF(Général!B161:B166,$G$1)=1,\"Boat 1\",IF(COUNTIF(Général!C161:C166,$G$1)=1,\"Boat 2\",IF(COUNTIF(Général!D161:D166,$G$1)=1,\"Boat 3\", IF(COUNTIF(Général!E161:E166,$G$1)=1,\"Boat 4\", IF(COUNTIF(Général!F161:F166,$G$1)=1,\"Boat 5\", IF(COUNTIF(Général!G161:G166,$G$1)=1,\"Boat 6\", IF(COUNTIF(Général!H161:H166,$G$1)=1,\"Boat 7\",IF(COUNTIF(Général!I33:I38,$G$1)=1,\"Boat 8\",\"Boat 9\"))))))))","v":"Boat 7"},{"$f":"IF(COUNTIF(Général!B169:B174,$G$1)=1,\"Boat 1\",IF(COUNTIF(Général!C169:C174,$G$1)=1,\"Boat 2\",IF(COUNTIF(Général!D169:D174,$G$1)=1,\"Boat 3\", IF(COUNTIF(Général!E169:E174,$G$1)=1,\"Boat 4\", IF(COUNTIF(Général!F169:F174,$G$1)=1,\"Boat 5\", IF(COUNTIF(Général!G169:G174,$G$1)=1,\"Boat 6\", IF(COUNTIF(Général!H169:H174,$G$1)=1,\"Boat 7\",IF(COUNTIF(Général!I33:I38,$G$1)=1,\"Boat 8\",\"Boat 9\"))))))))","v":"Boat 4"},null,{"$f":"Général!B8","v":"IMT Atlantique Nantes 2"},4]
[null,null,null,null,null,null,null,null,null,null,null,null,null,null,null,null,null,null,null,null,null,{"$f":"Général!B9","v":"Hambourg"},7]
["1er Equipage",null,{"$f":"IF($C$5=\"Course 1\",Général!B33,IF($C$5=\"Course 2\",Général!B35,IF($C$5=\"Course 3\",Général!B37,Général!#REF!)))","v":"Univ. Nantes 1"},{"$f":"IF($D$5=\"Course 1\",Général!B41,IF($D$5=\"Course 2\",Général!B43,IF($D$5=\"Course 3\",Général!B45,Général!#REF!)))","v":"Univ. Nantes 2"},{"$f":"IF($E$5=\"Course 1\",Général!B49,IF($E$5=\"Course 2\",Général!B51,IF($E$5=\"Course 3\",Général!B53,Général!#REF!)))","v":"Univ.Orléans"},{"$f":"IF($F$5=\"Course 1\",Général!B$57,IF($F$5=\"Course 2\",Général!B$59,IF($F$5=\"Course 3\",Général!B$61,Général!#REF!)))","v":"IMT Atlantique Nantes 2"},{"$f":"IF($G$5=\"Course 1\",Général!B$65,IF($G$5=\"Course 2\",Général!B$67,IF($G$5=\"Course 3\",Général!B$69,Général!#REF!)))","v":"IMT Atlantique Brest"},{"$f":"IF($H$5=\"Course 1\",Général!B$73,IF($H$5=\"Course 2\",Général!B$75,IF($H$5=\"Course 3\",Général!B$77,Général!#REF!)))","v":"IMT Atlantique Brest"},{"$f":"IF($I$5=\"Course 1\",Général!B$81,IF($I$5=\"Course 2\",Général!B$83,IF($I$5=\"Course 3\",Général!B$85,Général!#REF!)))","v":"IMT Atlantique Nantes 1"},{"$f":"IF($J$5=\"Course 1\",Général!B$89,IF($J$5=\"Course 2\",Général!B$91,IF($J$5=\"Course 3\",Général!B$93,Général!#REF!)))","v":"Dublin"},{"$f":"IF($K$5=\"Course 1\",Général!B$97,IF($K$5=\"Course 2\",Général!B$99,IF($K$5=\"Course 3\",Général!B$101,Général!#REF!)))","v":"Univ. La Rochelle"},{"$f":"IF($L$5=\"Course 1\",Général!B$105,IF($L$5=\"Course 2\",Général!B$107,IF($L$5=\"Course 3\",Général!B$109,Général!#REF!)))","v":"Hambourg"},{"$f":"IF($M$5=\"Course 1\",Général!B$113,IF($M$5=\"Course 2\",Général!B$115,IF($M$5=\"Course 3\",Général!B$117,Général!#REF!)))","v":"Karlsruhe"},{"$f":"IF($N$5=\"Course 1\",Général!B$121,IF($N$5=\"Course 2\",Général!B$123,IF($N$5=\"Course 3\",Général!B$125,Général!#REF!)))","v":"UBO 1"},{"$f":"IF($O$5=\"Course 1\",Général!B$129,IF($O$5=\"Course 2\",Général!B$131,IF($O$5=\"Course 3\",Général!B$133,Général!#REF!)))","v":"Southampton"},{"$f":"IF($P$5=\"Course 1\",Général!B$137,IF($P$5=\"Course 2\",Général!B$139,IF($P$5=\"Course 3\",Général!B$141,Général!#REF!)))","v":"Univ. Nantes 1"},{"$f":"IF($Q$5=\"Course 1\",Général!B$145,IF($Q$5=\"Course 2\",Général!B$147,IF($Q$5=\"Course 3\",Général!B$149,Général!#REF!)))","v":"EGSI La Rochelle"},{"$f":"IF($R$5=\"Course 1\",Général!B$153,IF($R$5=\"Course 2\",Général!B$155,IF($R$5=\"Course 3\",Général!B$157,Général!#REF!)))","v":"HYDRO Sailing Team Le Havre"},{"$f":"IF($S$5=\"Course 1\",Général!B$161,IF($S$5=\"Course 2\",Général!B$163,IF($S$5=\"Course 3\",Général!B$165,Général!#REF!)))","v":"AS UB St Brieuc"},{"$f":"IF($T$5=\"Course 1\",Général!B$169,IF($T$5=\"Course 2\",Général!B$171,IF($T$5=\"Course 3\",Général!B$173,Général!#REF!)))","v":"HYDRO Sailing Team Le Havre"},null,{"$f":"Général!B10","v":"EGSI La Rochelle"},5]
["2nd Equipage",null,{"$f":"IF($C$5=\"Course 1\",Général!C33,IF($C$5=\"Course 2\",Général!C35,IF($C$5=\"Course 3\",Général!C37,Général!#REF!)))","v":"Hannovre"},{"$f":"IF($D$5=\"Course 1\",Général!C41,IF($D$5=\"Course 2\",Général!C43,IF($D$5=\"Course 3\",Général!C45,Général!#REF!)))","v":"IMT Atlantique Nantes 2"},{"$f":"IF($E$5=\"Course 1\",Général!C49,IF($E$5=\"Course 2\",Général!C51,IF($E$5=\"Course 3\",Général!C53,Général!#REF!)))","v":"ENSTA Bretagne 2"},{"$f":"IF($F$5=\"Course 1\",Général!C$57,IF($F$5=\"Course 2\",Général!C$59,IF($F$5=\"Course 3\",Général!C$61,Général!#REF!)))","v":"IMT Atlantique Nantes 1"},{"$f":"IF($G$5=\"Course 1\",Général!C$65,IF($G$5=\"Course 2\",Général!C$67,IF($G$5=\"Course 3\",Général!C$69,Général!#REF!)))","v":"Dublin"},{"$f":"IF($H$5=\"Course 1\",Général!C$73,IF($H$5=\"Course 2\",Général!C$75,IF($H$5=\"Course 3\",Général!C$77,Général!#REF!)))","v":"ASUL Lannion"},{"$f":"IF($I$5=\"Course 1\",Général!C$81,IF($I$5=\"Course 2\",Général!C$83,IF($I$5=\"Course 3\",Général!C$85,Général!#REF!)))","v":"Centrales Nantes"},{"$f":"IF($J$5=\"Course 1\",Général!C$89,IF($J$5=\"Course 2\",Général!C$91,IF($J$5=\"Course 3\",Général!C$93,Général!#REF!)))","v":"Univ.Orléans"},{"$f":"IF($K$5=\"Course 1\",Général!C$97,IF($K$5=\"Course 2\",Général!C$99,IF($K$5=\"Course 3\",Général!C$101,Général!#REF!)))","v":"UBO 2"},{"$f":"IF($L$5=\"Course 1\",Général!C$105,IF($L$5=\"Course 2\",Général!C$107,IF($L$5=\"Course 3\",Général!C$109,Général!#REF!)))","v":"UBO 1"},{"$f":"IF($M$5=\"Course 1\",Général!C$113,IF($M$5=\"Course 2\",Général!C$115,IF($M$5=\"Course 3\",Général!C$117,Général!#REF!)))","v":"ENSTA Bretagne 1"},{"$f":"IF($N$5=\"Course 1\",Général!C$121,IF($N$5=\"Course 2\",Général!C$123,IF($N$5=\"Course 3\",Général!C$125,Général!#REF!)))","v":"IMT Atlantique Brest"},{"$f":"IF($O$5=\"Course 1\",Général!C$129,IF($O$5=\"Course 2\",Général!C$131,IF($O$5=\"Course 3\",Général!C$133,Général!#REF!)))","v":"HYDRO Sailing Team Le Havre"},{"$f":"IF($P$5=\"Course 1\",Général!C$137,IF($P$5=\"Course 2\",Général!C$139,IF($P$5=\"Course 3\",Général!C$141,Général!#REF!)))","v":"AS UB St Brieuc"},{"$f":"IF($Q$5=\"Course 1\",Général!C$145,IF($Q$5=\"Course 2\",Général!C$147,IF($Q$5=\"Course 3\",Général!C$149,Général!#REF!)))","v":"IMT Atlantique Brest"},{"$f":"IF($R$5=\"Course 1\",Général!C$153,IF($R$5=\"Course 2\",Général!C$155,IF($R$5=\"Course 3\",Général!C$157,Général!#REF!)))","v":"Univ. Nantes 3"},{"$f":"IF($S$5=\"Course 1\",Général!C$161,IF($S$5=\"Course 2\",Général!C$163,IF($S$5=\"Course 3\",Général!C$165,Général!#REF!)))","v":"AS Paris 1 Panthéon Sorbonne"},{"$f":"IF($T$5=\"Course 1\",Général!C$169,IF($T$5=\"Course 2\",Général!C$171,IF($T$5=\"Course 3\",Général!C$173,Général!#REF!)))","v":"Hambourg"},null,{"$f":"Général!B11","v":"HYDRO Sailing Team Le Havre"},5]
["3ème Equipage",null,{"$f":"IF($C$5=\"Course 1\",Général!D33,IF($C$5=\"Course 2\",Général!D35,IF($C$5=\"Course 3\",Général!D37,Général!#REF!)))","v":"IMT Atlantique Brest"},{"$f":"IF($D$5=\"Course 1\",Général!D41,IF($D$5=\"Course 2\",Général!D43,IF($D$5=\"Course 3\",Général!D45,Général!#REF!)))","v":"HYDRO Sailing Team Le Havre"},{"$f":"IF($E$5=\"Course 1\",Général!D49,IF($E$5=\"Course 2\",Général!D51,IF($E$5=\"Course 3\",Général!D53,Général!#REF!)))","v":"UBS Lorient 2"},{"$f":"IF($F$5=\"Course 1\",Général!D$57,IF($F$5=\"Course 2\",Général!D$59,IF($F$5=\"Course 3\",Général!D$61,Général!#REF!)))","v":"Univ. Nantes 2"},{"$f":"IF($G$5=\"Course 1\",Général!D$65,IF($G$5=\"Course 2\",Général!D$67,IF($G$5=\"Course 3\",Général!D$69,Général!#REF!)))","v":"UBO 1"},{"$f":"IF($H$5=\"Course 1\",Général!D$73,IF($H$5=\"Course 2\",Général!D$75,IF($H$5=\"Course 3\",Général!D$77,Général!#REF!)))","v":"Centrales Nantes"},{"$f":"IF($I$5=\"Course 1\",Général!D$81,IF($I$5=\"Course 2\",Général!D$83,IF($I$5=\"Course 3\",Général!D$85,Général!#REF!)))","v":"UBS Lorient 2"},{"$f":"IF($J$5=\"Course 1\",Général!D$89,IF($J$5=\"Course 2\",Général!D$91,IF($J$5=\"Course 3\",Général!D$93,Général!#REF!)))","v":"ASUL Lannion"},{"$f":"IF($K$5=\"Course 1\",Général!D$97,IF($K$5=\"Course 2\",Général!D$99,IF($K$5=\"Course 3\",Général!D$101,Général!#REF!)))","v":"Univ. Nantes 1"},{"$f":"IF($L$5=\"Course 1\",Général!D$105,IF($L$5=\"Course 2\",Général!D$107,IF($L$5=\"Course 3\",Général!D$109,Général!#REF!)))","v":"UNICAEN - ASSUCherbourg"},{"$f":"IF($M$5=\"Course 1\",Général!D$113,IF($M$5=\"Course 2\",Général!D$115,IF($M$5=\"Course 3\",Général!D$117,Général!#REF!)))","v":"UNICAEN - ASSUCherbourg"},{"$f":"IF($N$5=\"Course 1\",Général!D$121,IF($N$5=\"Course 2\",Général!D$123,IF($N$5=\"Course 3\",Général!D$125,Général!#REF!)))","v":"AS Paris 1 Panthéon Sorbonne"},{"$f":"IF($O$5=\"Course 1\",Général!D$129,IF($O$5=\"Course 2\",Général!D$131,IF($O$5=\"Course 3\",Général!D$133,Général!#REF!)))","v":"EGSI La Rochelle"},{"$f":"IF($P$5=\"Course 1\",Général!D$137,IF($P$5=\"Course 2\",Général!D$139,IF($P$5=\"Course 3\",Général!D$141,Général!#REF!)))","v":"IMT Atlantique Brest"},{"$f":"IF($Q$5=\"Course 1\",Général!D$145,IF($Q$5=\"Course 2\",Général!D$147,IF($Q$5=\"Course 3\",Général!D$149,Général!#REF!)))","v":"Hambourg"},{"$f":"IF($R$5=\"Course 1\",Général!D$153,IF($R$5=\"Course 2\",Général!D$155,IF($R$5=\"Course 3\",Général!D$157,Général!#REF!)))","v":"Univ.Orléans"},{"$f":"IF($S$5=\"Course 1\",Général!D$161,IF($S$5=\"Course 2\",Général!D$163,IF($S$5=\"Course 3\",Général!D$165,Général!#REF!)))","v":"Karlsruhe"},{"$f":"IF($T$5=\"Course 1\",Général!D$169,IF($T$5=\"Course 2\",Général!D$171,IF($T$5=\"Course 3\",Général!D$173,Général!#REF!)))","v":"AS Paris 1 Panthéon Sorbonne"},null,{"$f":"Général!B12","v":"UNICAEN - ASSUCherbourg"},5]
["4ème Equipage",null,{"$f":"IF($C$5=\"Course 1\",Général!E33,IF($C$5=\"Course 2\",Général!E35,IF($C$5=\"Course 3\",Général!E37,Général!#REF!)))","v":"AS UB St Brieuc"},{"$f":"IF($D$5=\"Course 1\",Général!E41,IF($D$5=\"Course 2\",Général!E43,IF($D$5=\"Course 3\",Général!E45,Général!#REF!)))","v":"AS Paris 1 Panthéon Sorbonne"},{"$f":"IF($E$5=\"Course 1\",Général!E49,IF($E$5=\"Course 2\",Général!E51,IF($E$5=\"Course 3\",Général!E53,Général!#REF!)))","v":"Univ. La Rochelle"},{"$f":"IF($F$5=\"Course 1\",Général!E$57,IF($F$5=\"Course 2\",Général!E$59,IF($F$5=\"Course 3\",Général!E$61,Général!#REF!)))","v":"UBS Lorient 1"},{"$f":"IF($G$5=\"Course 1\",Général!E$65,IF($G$5=\"Course 2\",Général!E$67,IF($G$5=\"Course 3\",Général!E$69,Général!#REF!)))","v":"UBS Lorient 1"},{"$f":"IF($H$5=\"Course 1\",Général!E$73,IF($H$5=\"Course 2\",Général!E$75,IF($H$5=\"Course 3\",Général!E$77,Général!#REF!)))","v":"Hannovre"},{"$f":"IF($I$5=\"Course 1\",Général!E$81,IF($I$5=\"Course 2\",Général!E$83,IF($I$5=\"Course 3\",Général!E$85,Général!#REF!)))","v":"IMT Atlantique Brest"},{"$f":"IF($J$5=\"Course 1\",Général!E$89,IF($J$5=\"Course 2\",Général!E$91,IF($J$5=\"Course 3\",Général!E$93,Général!#REF!)))","v":"ENSTA Bretagne 1"},{"$f":"IF($K$5=\"Course 1\",Général!E$97,IF($K$5=\"Course 2\",Général!E$99,IF($K$5=\"Course 3\",Général!E$101,Général!#REF!)))","v":"Univ. Nantes 2"},{"$f":"IF($L$5=\"Course 1\",Général!E$105,IF($L$5=\"Course 2\",Général!E$107,IF($L$5=\"Course 3\",Général!E$109,Général!#REF!)))","v":"ENSTA Paris"},{"$f":"IF($M$5=\"Course 1\",Général!E$113,IF($M$5=\"Course 2\",Général!E$115,IF($M$5=\"Course 3\",Général!E$117,Général!#REF!)))","v":"ENSTA Bretagne 2"},{"$f":"IF($N$5=\"Course 1\",Général!E$121,IF($N$5=\"Course 2\",Général!E$123,IF($N$5=\"Course 3\",Général!E$125,Général!#REF!)))","v":"IMT Atlantique Nantes 2"},{"$f":"IF($O$5=\"Course 1\",Général!E$129,IF($O$5=\"Course 2\",Général!E$131,IF($O$5=\"Course 3\",Général!E$133,Général!#REF!)))","v":"Hambourg"},{"$f":"IF($P$5=\"Course 1\",Général!E$137,IF($P$5=\"Course 2\",Général!E$139,IF($P$5=\"Course 3\",Général!E$141,Général!#REF!)))","v":"UBS Lorient 2"},{"$f":"IF($Q$5=\"Course 1\",Général!E$145,IF($Q$5=\"Course 2\",Général!E$147,IF($Q$5=\"Course 3\",Général!E$149,Général!#REF!)))","v":"Centrales Nantes"},{"$f":"IF($R$5=\"Course 1\",Général!E$153,IF($R$5=\"Course 2\",Général!E$155,IF($R$5=\"Course 3\",Général!E$157,Général!#REF!)))","v":"IMT Atlantique Nantes 1"},{"$f":"IF($S$5=\"Course 1\",Général!E$161,IF($S$5=\"Course 2\",Général!E$163,IF($S$5=\"Course 3\",Général!E$165,Général!#REF!)))","v":"Univ. Nantes 2"},{"$f":"IF($T$5=\"Course 1\",Général!E$169,IF($T$5=\"Course 2\",Général!E$171,IF($T$5=\"Course 3\",Général!E$173,Général!#REF!)))","v":"IMT Atlantique Brest"},null,{"$f":"Général!B13","v":"UBO 1"},6]
["5ème Equipage",null,{"$f":"IF($C$5=\"Course 1\",Général!F33,IF($C$5=\"Course 2\",Général!F35,IF($C$5=\"Course 3\",Général!F37,Général!#REF!)))","v":"EGSI La Rochelle"},{"$f":"IF($D$5=\"Course 1\",Général!F41,IF($D$5=\"Course 2\",Général!F43,IF($D$5=\"Course 3\",Général!F45,Général!#REF!)))","v":"IMT Atlantique Brest"},{"$f":"IF($E$5=\"Course 1\",Général!F49,IF($E$5=\"Course 2\",Général!F51,IF($E$5=\"Course 3\",Général!F53,Général!#REF!)))","v":"AS Paris 1 Panthéon Sorbonne"},{"$f":"IF($F$5=\"Course 1\",Général!F$57,IF($F$5=\"Course 2\",Général!F$59,IF($F$5=\"Course 3\",Général!F$61,Général!#REF!)))","v":"UNICAEN - ASSUCherbourg"},{"$f":"IF($G$5=\"Course 1\",Général!F$65,IF($G$5=\"Course 2\",Général!F$67,IF($G$5=\"Course 3\",Général!F$69,Général!#REF!)))","v":"Univ.Orléans"},{"$f":"IF($H$5=\"Course 1\",Général!F$73,IF($H$5=\"Course 2\",Général!F$75,IF($H$5=\"Course 3\",Général!F$77,Général!#REF!)))","v":"UBO 2"},{"$f":"IF($I$5=\"Course 1\",Général!F$81,IF($I$5=\"Course 2\",Général!F$83,IF($I$5=\"Course 3\",Général!F$85,Général!#REF!)))","v":"EGSI La Rochelle"},{"$f":"IF($J$5=\"Course 1\",Général!F$89,IF($J$5=\"Course 2\",Général!F$91,IF($J$5=\"Course 3\",Général!F$93,Général!#REF!)))","v":"AS UB St Brieuc"},{"$f":"IF($K$5=\"Course 1\",Général!F$97,IF($K$5=\"Course 2\",Général!F$99,IF($K$5=\"Course 3\",Général!F$101,Général!#REF!)))","v":"Centrales Nantes"},{"$f":"IF($L$5=\"Course 1\",Général!F$105,IF($L$5=\"Course 2\",Général!$F107,IF($L$5=\"Course 3\",Général!F$109,Général!#REF!)))","v":"UBS Lorient 1"},{"$f":"IF($M$5=\"Course 1\",Général!F$113,IF($M$5=\"Course 2\",Général!F$115,IF($M$5=\"Course 3\",Général!F$117,Général!#REF!)))","v":"IMT Atlantique Nantes 1"},{"$f":"IF($N$5=\"Course 1\",Général!F$121,IF($N$5=\"Course 2\",Général!F$123,IF($N$5=\"Course 3\",Général!F$125,Général!#REF!)))","v":"ASUL Lannion"},{"$f":"IF($O$5=\"Course 1\",Général!F$129,IF($O$5=\"Course 2\",Général!F$131,IF($O$5=\"Course 3\",Général!F$133,Général!#REF!)))","v":"Univ. Nantes 1"},{"$f":"IF($P$5=\"Course 1\",Général!F$137,IF($P$5=\"Course 2\",Général!F$139,IF($P$5=\"Course 3\",Général!F$141,Général!#REF!)))","v":"Hannovre"},{"$f":"IF($Q$5=\"Course 1\",Général!F$145,IF($Q$5=\"Course 2\",Général!F$147,IF($Q$5=\"Course 3\",Général!F$149,Général!#REF!)))","v":"Univ. La Rochelle"},{"$f":"IF($R$5=\"Course 1\",Général!F$153,IF($R$5=\"Course 2\",Général!F$155,IF($R$5=\"Course 3\",Général!F$157,Général!#REF!)))","v":"UBS Lorient 2"},{"$f":"IF($S$5=\"Course 1\",Général!F$161,IF($S$5=\"Course 2\",Général!F$163,IF($S$5=\"Course 3\",Général!F$165,Général!#REF!)))","v":"ENSTA Paris"},{"$f":"IF($T$5=\"Course 1\",Général!F$169,IF($T$5=\"Course 2\",Général!F$171,IF($T$5=\"Course 3\",Général!F$173,Général!#REF!)))","v":"Univ. Nantes 1"},null,{"$f":"Général!B14","v":"ENSTA Bretagne 1"},6]
["6ème Equipage",null,{"$f":"IF($C$5=\"Course 1\",Général!G33,IF($C$5=\"Course 2\",Général!G35,IF($C$5=\"Course 3\",Général!G37,Général!#REF!)))","v":"Karlsruhe"},{"$f":"IF($D$5=\"Course 1\",Général!G41,IF($D$5=\"Course 2\",Général!G43,IF($D$5=\"Course 3\",Général!G45,Général!#REF!)))","v":"UBS Lorient 2"},{"$f":"IF($E$5=\"Course 1\",Général!G49,IF($E$5=\"Course 2\",Général!G51,IF($E$5=\"Course 3\",Général!G53,Général!#REF!)))","v":"ENSTA Paris"},{"$f":"IF($F$5=\"Course 1\",Général!G$57,IF($F$5=\"Course 2\",Général!G$59,IF($F$5=\"Course 3\",Général!G$61,Général!#REF!)))","v":"AS UB St Brieuc"},{"$f":"IF($G$5=\"Course 1\",Général!G$65,IF($G$5=\"Course 2\",Général!G$67,IF($G$5=\"Course 3\",Général!G$69,Général!#REF!)))","v":"Hannovre"},{"$f":"IF($H$5=\"Course 1\",Général!G$73,IF($H$5=\"Course 2\",Général!G$75,IF($H$5=\"Course 3\",Général!G$77,Général!#REF!)))","v":"Hambourg"},{"$f":"IF($I$5=\"Course 1\",Général!G$81,IF($I$5=\"Course 2\",Général!G$83,IF($I$5=\"Course 3\",Général!G$85,Général!#REF!)))","v":"UNICAEN - ASSUCherbourg"},{"$f":"IF($J$5=\"Course 1\",Général!G$89,IF($J$5=\"Course 2\",Général!G$91,IF($J$5=\"Course 3\",Général!G$93,Général!#REF!)))","v":"ENSTA Bretagne 2"},{"$f":"IF($K$5=\"Course 1\",Général!G$97,IF($K$5=\"Course 2\",Général!G$99,IF($K$5=\"Course 3\",Général!G$101,Général!#REF!)))","v":"ENSTA Bretagne 1"},{"$f":"IF($L$5=\"Course 1\",Général!G$105,IF($L$5=\"Course 2\",Général!G$107,IF($L$5=\"Course 3\",Général!G$109,Général!#REF!)))","v":"ASUL Lannion"},{"$f":"IF($M$5=\"Course 1\",Général!G$113,IF($M$5=\"Course 2\",Général!G$115,IF($M$5=\"Course 3\",Général!G$117,Général!#REF!)))","v":"AS Paris 1 Panthéon Sorbonne"},{"$f":"IF($N$5=\"Course 1\",Général!G$121,IF($N$5=\"Course 2\",Général!G$123,IF($N$5=\"Course 3\",Général!G$125,Général!#REF!)))","v":"EGSI La Rochelle"},{"$f":"IF($O$5=\"Course 1\",Général!G$129,IF($O$5=\"Course 2\",Général!G$131,IF($O$5=\"Course 3\",Général!G$133,Général!#REF!)))","v":"IMT Atlantique Brest"},{"$f":"IF($P$5=\"Course 1\",Général!G$137,IF($P$5=\"Course 2\",Général!G$139,IF($P$5=\"Course 3\",Général!G$141,Général!#REF!)))","v":"IMT Atlantique Nantes 1"},{"$f":"IF($Q$5=\"Course 1\",Général!G$145,IF($Q$5=\"Course 2\",Général!G$147,IF($Q$5=\"Course 3\",Général!G$149,Général!#REF!)))","v":"Dublin"},{"$f":"IF($R$5=\"Course 1\",Général!G$153,IF($R$5=\"Course 2\",Général!G$155,IF($R$5=\"Course 3\",Général!G$157,Général!#REF!)))","v":"IMT Atlantique Brest"},{"$f":"IF($S$5=\"Course 1\",Général!G$161,IF($S$5=\"Course 2\",Général!G$163,IF($S$5=\"Course 3\",Général!G$165,Général!#REF!)))","v":"Dublin"},{"$f":"IF($T$5=\"Course 1\",Général!G$169,IF($T$5=\"Course 2\",Général!G$171,IF($T$5=\"Course 3\",Général!G$173,Général!#REF!)))","v":"Hannovre"},null,{"$f":"Général!B15","v":"ASUL Lannion"},6]
["7ème Equipage",null,{"$f":"IF($C$5=\"Course 1\",Général!H33,IF($C$5=\"Course 2\",Général!H35,IF($C$5=\"Course 3\",Général!H37,Général!#REF!)))","v":"Univ. La Rochelle"},{"$f":"IF($D$5=\"Course 1\",Général!H41,IF($D$5=\"Course 2\",Général!H43,IF($D$5=\"Course 3\",Général!H45,Général!#REF!)))","v":"Hannovre"},{"$f":"IF($E$5=\"Course 1\",Général!H49,IF($E$5=\"Course 2\",Général!H51,IF($E$5=\"Course 3\",Général!H53,Général!#REF!)))","v":"Univ. Nantes 3"},{"$f":"IF($F$5=\"Course 1\",Général!H$57,IF($F$5=\"Course 2\",Général!H$59,IF($F$5=\"Course 3\",Général!H$61,Général!#REF!)))","v":"Univ. Nantes 3"},{"$f":"IF($G$5=\"Course 1\",Général!H$65,IF($G$5=\"Course 2\",Général!H$67,IF($G$5=\"Course 3\",Général!H$69,Général!#REF!)))","v":"IMT Atlantique Nantes 2"},{"$f":"IF($H$5=\"Course 1\",Général!H$73,IF($H$5=\"Course 2\",Général!H$75,IF($H$5=\"Course 3\",Général!H$77,Général!#REF!)))","v":"Southampton"},{"$f":"IF($I$5=\"Course 1\",Général!H$81,IF($I$5=\"Course 2\",Général!H$83,IF($I$5=\"Course 3\",Général!H$85,Général!#REF!)))","v":"HYDRO Sailing Team Le Havre"},{"$f":"IF($J$5=\"Course 1\",Général!H$89,IF($J$5=\"Course 2\",Général!H$91,IF($J$5=\"Course 3\",Général!H$93,Général!#REF!)))","v":"IMT Atlantique Brest"},{"$f":"IF($K$5=\"Course 1\",Général!H$97,IF($K$5=\"Course 2\",Général!H$99,IF($K$5=\"Course 3\",Général!H$101,Général!#REF!)))","v":"IMT Atlantique Brest"},{"$f":"IF($L$5=\"Course 1\",Général!H$105,IF($L$5=\"Course 2\",Général!H$107,IF($L$5=\"Course 3\",Général!H$109,Général!#REF!)))","v":"Karlsruhe"},{"$f":"IF($M$5=\"Course 1\",Général!H$113,IF($M$5=\"Course 2\",Général!H$115,IF($M$5=\"Course 3\",Général!H$117,Général!#REF!)))","v":"Dublin"},{"$f":"IF($N$5=\"Course 1\",Général!H$121,IF($N$5=\"Course 2\",Général!H$123,IF($N$5=\"Course 3\",Général!H$125,Général!#REF!)))","v":"UNICAEN - ASSUCherbourg"},{"$f":"IF($O$5=\"Course 1\",Général!H$129,IF($O$5=\"Course 2\",Général!H$131,IF($O$5=\"Course 3\",Général!H$133,Général!#REF!)))","v":"ENSTA Paris"},{"$f":"IF($P$5=\"Course 1\",Général!H$137,IF($P$5=\"Course 2\",Général!H$139,IF($P$5=\"Course 3\",Général!H$141,Général!#REF!)))","v":"ASUL Lannion"},{"$f":"IF($Q$5=\"Course 1\",Général!H$145,IF($Q$5=\"Course 2\",Général!H$147,IF($Q$5=\"Course 3\",Général!H$149,Général!#REF!)))","v":"ASUL Lannion"},{"$f":"IF($R$5=\"Course 1\",Général!H$153,IF($R$5=\"Course 2\",Général!H$155,IF($R$5=\"Course 3\",Général!H$157,Général!#REF!)))","v":"ENSTA Bretagne 1"},{"$f":"IF($S$5=\"Course 1\",Général!H$161,IF($S$5=\"Course 2\",Général!H$163,IF($S$5=\"Course 3\",Général!H$165,Général!#REF!)))","v":"IMT Atlantique Brest"},{"$f":"IF($T$5=\"Course 1\",Général!H$169,IF($T$5=\"Course 2\",Général!H$171,IF($T$5=\"Course 3\",Général!H$173,Général!#REF!)))","v":"Univ. Nantes 2"},null,{"$f":"Général!B16","v":"ENSTA Paris"},6]
["8ème Equipage",null,{"$f":"IF($C$5=\"Course 1\",Général!I33,IF($C$5=\"Course 2\",Général!I35,IF($C$5=\"Course 3\",Général!I37,Général!#REF!)))","v":"Univ. Nantes 3"},{"$f":"IF($D$5=\"Course 1\",Général!I41,IF($D$5=\"Course 2\",Général!I43,IF($D$5=\"Course 3\",Général!I45,Général!#REF!)))","v":"Univ. Nantes 1"},{"$f":"IF($E$5=\"Course 1\",Général!I49,IF($E$5=\"Course 2\",Général!I51,IF($E$5=\"Course 3\",Général!I53,Général!#REF!)))","v":"Southampton"},{"$f":"IF($F$5=\"Course 1\",Général!I$57,IF($F$5=\"Course 2\",Général!I$59,IF($F$5=\"Course 3\",Général!I$61,Général!#REF!)))","v":"Southampton"},{"$f":"IF($G$5=\"Course 1\",Général!I$65,IF($G$5=\"Course 2\",Général!I$67,IF($G$5=\"Course 3\",Général!I$69,Général!#REF!)))","v":"Centrales Nantes"},{"$f":"IF($H$5=\"Course 1\",Général!I$73,IF($H$5=\"Course 2\",Général!I$75,IF($H$5=\"Course 3\",Général!I$77,Général!#REF!)))","v":"Karlsruhe"},{"$f":"IF($I$5=\"Course 1\",Général!I$81,IF($I$5=\"Course 2\",Général!I$83,IF($I$5=\"Course 3\",Général!I$85,Général!#REF!)))","v":"UBO 1"},{"$f":"IF($J$5=\"Course 1\",Général!I$89,IF($J$5=\"Course 2\",Général!I$91,IF($J$5=\"Course 3\",Général!I$93,Général!#REF!)))","v":"Hambourg"},{"$f":"IF($K$5=\"Course 1\",Général!I$97,IF($K$5=\"Course 2\",Général!I$99,IF($K$5=\"Course 3\",Général!I$101,Général!#REF!)))","v":"UBS Lorient 1"},{"$f":"IF($L$5=\"Course 1\",Général!I$105,IF($L$5=\"Course 2\",Général!I$107,IF($L$5=\"Course 3\",Général!I$109,Général!#REF!)))","v":"IMT Atlantique Brest"},{"$f":"IF($M$5=\"Course 1\",Général!I$113,IF($M$5=\"Course 2\",Général!I$115,IF($M$5=\"Course 3\",Général!I$117,Général!#REF!)))","v":"IMT Atlantique Brest"},{"$f":"IF($N$5=\"Course 1\",Général!I$121,IF($N$5=\"Course 2\",Général!I$123,IF($N$5=\"Course 3\",Général!I$125,Général!#REF!)))","v":"UBO 2"},{"$f":"IF($O$5=\"Course 1\",Général!I$129,IF($O$5=\"Course 2\",Général!I$131,IF($O$5=\"Course 3\",Général!I$133,Général!#REF!)))","v":"Dublin"},{"$f":"IF($P$5=\"Course 1\",Général!I$137,IF($P$5=\"Course 2\",Général!I$139,IF($P$5=\"Course 3\",Général!I$141,Général!#REF!)))","v":"ENSTA Paris"},{"$f":"IF($Q$5=\"Course 1\",Général!I$145,IF($Q$5=\"Course 2\",Général!I$147,IF($Q$5=\"Course 3\",Général!I$149,Général!#REF!)))","v":"AS Paris 1 Panthéon Sorbonne"},{"$f":"IF($R$5=\"Course 1\",Général!I$153,IF($R$5=\"Course 2\",Général!I$155,IF($R$5=\"Course 3\",Général!I$157,Général!#REF!)))","v":"AS UB St Brieuc"},{"$f":"IF($S$5=\"Course 1\",Général!I$161,IF($S$5=\"Course 2\",Général!I$163,IF($S$5=\"Course 3\",Général!I$165,Général!#REF!)))","v":"ENSTA Bretagne 2"},{"$f":"IF($T$5=\"Course 1\",Général!I$169,IF($T$5=\"Course 2\",Général!I$171,IF($T$5=\"Course 3\",Général!I$173,Général!#REF!)))","v":"UBO 1"},null,{"$f":"Général!B17","v":"IMT Atlantique Brest"},18]
["9ème Equipage",null,{"$f":"IF($C$5=\"Course 1\",Général!J33,IF($C$5=\"Course 2\",Général!J35,IF($C$5=\"Course 3\",Général!J37,Général!#REF!)))","v":"UBO 1"},{"$f":"IF($D$5=\"Course 1\",Général!J41,IF($D$5=\"Course 2\",Général!J43,IF($D$5=\"Course 3\",Général!J45,Général!#REF!)))","v":"Hambourg"},{"$f":"IF($E$5=\"Course 1\",Général!J49,IF($E$5=\"Course 2\",Général!J51,IF($E$5=\"Course 3\",Général!J53,Général!#REF!)))","v":"IMT Atlantique Brest"},{"$f":"IF($F$5=\"Course 1\",Général!J$57,IF($F$5=\"Course 2\",Général!J$59,IF($F$5=\"Course 3\",Général!J$61,Général!#REF!)))","v":"IMT Atlantique Brest"},{"$f":"IF($G$5=\"Course 1\",Général!J$65,IF($G$5=\"Course 2\",Général!J$67,IF($G$5=\"Course 3\",Général!J$69,Général!#REF!)))","v":"ENSTA Paris"},{"$f":"IF($H$5=\"Course 1\",Général!J$73,IF($H$5=\"Course 2\",Général!J$75,IF($H$5=\"Course 3\",Général!$J77,Général!#REF!)))","v":"IMT Atlantique Nantes 1"},{"$f":"IF($I$5=\"Course 1\",Général!J$81,IF($I$5=\"Course 2\",Général!J$83,IF($I$5=\"Course 3\",Général!J$85,Général!#REF!)))","v":"ENSTA Bretagne 2"},{"$f":"IF($J$5=\"Course 1\",Général!J$89,IF($J$5=\"Course 2\",Général!J$91,IF($J$5=\"Course 3\",Général!J$93,Général!#REF!)))","v":"Univ. Nantes 2"},{"$f":"IF($K$5=\"Course 1\",Général!J$97,IF($K$5=\"Course 2\",Général!J$99,IF($K$5=\"Course 3\",Général!J$101,Général!#REF!)))","v":"UBS Lorient 2"},{"$f":"IF($L$5=\"Course 1\",Général!J$105,IF($L$5=\"Course 2\",Général!J$107,IF($L$5=\"Course 3\",Général!J$109,Général!#REF!)))","v":"UBS Lorient 2"},{"$f":"IF($M$5=\"Course 1\",Général!J$113,IF($M$5=\"Course 2\",Général!J$115,IF($M$5=\"Course 3\",Général!J$117,Général!#REF!)))","v":"Hannovre"},{"$f":"IF($N$5=\"Course 1\",Général!J$121,IF($N$5=\"Course 2\",Général!J$123,IF($N$5=\"Course 3\",Général!J$125,Général!#REF!)))","v":"ENSTA Bretagne 1"},{"$f":"IF($O$5=\"Course 1\",Général!J$129,IF($O$5=\"Course 2\",Général!J$131,IF($O$5=\"Course 3\",Général!J$133,Général!#REF!)))","v":"ENSTA Bretagne 1"},{"$f":"IF($P$5=\"Course 1\",Général!J$137,IF($P$5=\"Course 2\",Général!J$139,IF($P$5=\"Course 3\",Général!J$141,Général!#REF!)))","v":"UBO 2"},{"$f":"IF($Q$5=\"Course 1\",Général!J$145,IF($Q$5=\"Course 2\",Général!J$147,IF($Q$5=\"Course 3\",Général!J$149,Général!#REF!)))","v":"Univ. Nantes 3"},{"$f":"IF($R$5=\"Course 1\",Général!J$153,IF($R$5=\"Course 2\",Général!J$155,IF($R$5=\"Course 3\",Général!J$157,Général!#REF!)))","v":"Karlsruhe"},{"$f":"IF($S$5=\"Course 1\",Général!J$161,IF($S$5=\"Course 2\",Général!J$163,IF($S$5=\"Course 3\",Général!J$165,Général!#REF!)))","v":"Southampton"},{"$f":"IF($T$5=\"Course 1\",Général!J$169,IF($T$5=\"Course 2\",Général!J$171,IF($T$5=\"Course 3\",Général!J$173,Général!#REF!)))","v":"Southampton"},null,{"$f":"Général!B18","v":"UBO 2"},4]
[null,null,null,null,null,null,null,null,null,null,null,null,null,null,null,null,null,null,null,null,null,{"$f":"Général!B19","v":"Dublin"},6]
[null,null,null,null,null,null,null,null,null,null,null,null,null,null,null,null,null,null,null,null,null,{"$f":"Général!B20","v":"Univ. Nantes 2"},6]
[null,null,null,null,null,null,null,null,null,null,null,null,null,null,null,null,null,null,null,null,null,{"$f":"Général!B21","v":"UBS Lorient 1"},4]
[null,null,null,null,null,null,null,null,null,null,null,null,null,null,null,null,null,null,null,null,null,{"$f":"Général!B22","v":"UBS Lorient 2"},7]
[null,null,null,null,null,null,null,null,null,null,null,null,null,null,null,null,null,null,null,null,null,{"$f":"Général!B23","v":"Univ.Orléans"},4]
[null,null,null,null,null,null,null,null,null,null,null,null,null,null,null,null,null,null,null,null,null,{"$f":"Général!B24","v":"Univ. La Rochelle"},4]
[null,null,null,null,null,null,null,null,null,null,null,null,null,null,null,null,null,null,null,null,null,{"$f":"Général!B25","v":"AS UB St Brieuc"},6]
[null,null,null,null,null,null,null,null,null,null,null,null,null,null,null,null,null,null,null,null,null,{"$f":"Général!B26","v":"Karlsruhe"},6]
[null,null,null,null,null,null,null,null,null,null,null,null,null,null,null,null,null,null,null,null,null,{"$f":"Général!B27","v":"Univ. Nantes 3"},5]
[null,null,null,null,null,null,null,null,null,null,null,null,null,null,null,null,null,null,null,null,null,{"$f":"Général!B28","v":"Centrales Nantes"},5]
[null,null,null,null,null,null,null,null,null,null,null,null,null,null,null,null,null,null,null,null,null,{"$f":"Général!B29","v":"Southampton"},6]
[null,null,null,null,null,null,null,null,null,null,null,null,null,null,null,null,null,null,null,null,null,{"$f":"Général!#REF!","v":{"$error":"#REF!"}},0]
[null,null,null,null,null,null,null,null,null,null,null,null,null,null,null,null,null,null,null,null,null,{"$f":"Général!#REF!","v":{"$error":"#REF!"}},0]
[null,null,null,null,null,null,null,null,null,null,null,null,null,null,null,null,null,null,null,null,null,{"$f":"Général!#REF!","v":{"$error":"#REF!"}},0]
[null,null,null,null,null,null,null,null,null,null,null,null,null,null,null,null,null,null,null,null,null,{"$f":"Général!#REF!","v":{"$error":"#REF!"}},0]
[null,null,null,null,null,null,null,null,null,null,null,null,null,null,null,null,null,null,null,null,null,{"$f":"Général!#REF!","v":{"$error":"#REF!"}},0]

{"sheet":"Eq.16","index":20,"n_rows":32,"n_cols":23,"rows_kept":32,"cut":false,"hidden":false,"merged":[[14,0,14,1],[15,0,15,1],[8,0,8,1],[9,0,9,1],[10,0,10,1],[11,0,11,1],[12,0,12,1],[13,0,13,1],[7,0,7,1],[0,0,1,5],[0,6,1,10],[3,0,3,1],[4,0,4,1],[5,0,5,1]]}
["Equipage ",null,null,null,null,null,{"$f":"Général!B18","v":"UBO 2"},null,null,null,null,null,null,null,null,null,null,null,null,null,null,{"$f":"Général!B3","v":"Univ. Nantes 1"},{"$f":"COUNTIF(C$8:T$16,V1)","v":7}]
[null,null,null,null,null,null,null,null,null,null,null,null,null,null,null,null,null,null,null,null,null,{"$f":"Général!B4","v":"AS Paris 1 Panthéon Sorbonne"},{"$f":"COUNTIF($C$8:$T$16,V2)","v":6}]
[null,null,null,null,null,null,null,null,null,null,null,null,null,null,null,null,null,null,null,null,null,{"$f":"Général!B5","v":"Hannovre"},{"$f":"COUNTIF($C$8:$T$16,V3)","v":7}]
[null,null,"FLIGHT 1","FLIGHT 2","FLIGHT 3","FLIGHT 4","FLIGHT 5","FLIGHT 6","FLIGHT 7","FLIGHT 8","FLIGHT 9","FLIGHT 10","FLIGHT 11","FLIGHT 12","FLIGHT 13","FLIGHT 14","FLIGHT 15","FLIGHT 16","FLIGHT 17","FLIGHT 18",null,{"$f":"Général!B6","v":"IMT Atlantique Nantes 1"},6]
["N° de course",null,{"$f":"IF(COUNTIF(Général!B33:J33,$G$1)=1,\"Course 1\",IF(COUNTIF(Général!B35:J35,$G$1)=1,\"Course 2\",IF(COUNTIF(Général!B37:J37,$G$1)=1,\"Course 3\",\"Course 4\")))","v":"Course 3"},{"$f":"IF(COUNTIF(Général!B41:J41,$G$1)=1,\"Course 1\",IF(COUNTIF(Général!B43:J43,$G$1)=1,\"Course 2\",IF(COUNTIF(Général!B45:J45,$G$1)=1,\"Course 3\",\"Course 4\")))","v":"Course 1"},{"$f":"IF(COUNTIF(Général!B49:J49,$G$1)=1,\"Course 1\",IF(COUNTIF(Général!B51:J51,$G$1)=1,\"Course 2\",IF(COUNTIF(Général!B53:J53,$G$1)=1,\"Course 3\",\"Course 4\")))","v":"Course 2"},{"$f":"IF(COUNTIF(Général!B57:J57,$G$1)=1,\"Course 1\",IF(COUNTIF(Général!B59:J59,$G$1)=1,\"Course 2\",IF(COUNTIF(Général!B61:J61,$G$1)=1,\"Course 3\",\"Course 4\")))","v":"Course 3"},{"$f":"IF(COUNTIF(Général!B65:J65,$G$1)=1,\"Course 1\",IF(COUNTIF(Général!B67:J67,$G$1)=1,\"Course 2\",IF(COUNTIF(Général!B69:J69,$G$1)=1,\"Course 3\",\"Course 4\")))","v":"Course 2"},{"$f":"IF(COUNTIF(Général!B73:J73,$G$1)=1,\"Course 1\",IF(COUNTIF(Général!B75:J75,$G$1)=1,\"Course 2\",IF(COUNTIF(Général!B77:J77,$G$1)=1,\"Course 3\",\"Course 4\")))","v":"Course 2"},{"$f":"IF(COUNTIF(Général!B81:J81,$G$1)=1,\"Course 1\",IF(COUNTIF(Général!B83:J83,$G$1)=1,\"Course 2\",IF(COUNTIF(Général!B85:J85,$G$1)=1,\"Course 3\",\"Course 4\")))","v":"Course 1"},{"$f":"IF(COUNTIF(Général!B89:J89,$G$1)=1,\"Course 1\",IF(COUNTIF(Général!B91:J91,$G$1)=1,\"Course 2\",IF(COUNTIF(Général!B93:J93,$G$1)=1,\"Course 3\",\"Course 4\")))","v":"Course 2"},{"$f":"IF(COUNTIF(Général!B97:J97,$G$1)=1,\"Course 1\",IF(COUNTIF(Général!B99:J99,$G$1)=1,\"Course 2\",IF(COUNTIF(Général!B101:J101,$G$1)=1,\"Course 3\",\"Course 4\")))","v":"Course 2"},{"$f":"IF(COUNTIF(Général!B105:J105,$G$1)=1,\"Course 1\",IF(COUNTIF(Général!B107:J107,$G$1)=1,\"Course 2\",IF(COUNTIF(Général!B109:J109,$G$1)=1,\"Course 3\",\"Course 4\")))","v":"Course 2"},{"$f":"IF(COUNTIF(Général!B113:J113,$G$1)=1,\"Course 1\",IF(COUNTIF(Général!B115:J115,$G$1)=1,\"Course 2\",IF(COUNTIF(Général!B117:J117,$G$1)=1,\"Course 3\",\"Course 4\")))","v":"Course 2"},{"$f":"IF(COUNTIF(Général!B121:J121,$G$1)=1,\"Course 1\",IF(COUNTIF(Général!B123:J123,$G$1)=1,\"Course 2\",IF(COUNTIF(Général!B125:J125,$G$1)=1,\"Course 3\",\"Course 4\")))","v":"Course 3"},{"$f":"IF(COUNTIF(Général!B129:J129,$G$1)=1,\"Course 1\",IF(COUNTIF(Général!B131:J131,$G$1)=1,\"Course 2\",IF(COUNTIF(Général!B133:J133,$G$1)=1,\"Course 3\",\"Course 4\")))","v":"Course 1"},{"$f":"IF(COUNTIF(Général!B137:J137,$G$1)=1,\"Course 1\",IF(COUNTIF(Général!B139:J139,$G$1)=1,\"Course 2\",IF(COUNTIF(Général!B141:J141,$G$1)=1,\"Course 3\",\"Course 4\")))","v":"Course 3"},{"$f":"IF(COUNTIF(Général!B145:J145,$G$1)=1,\"Course 1\",IF(COUNTIF(Général!B147:J147,$G$1)=1,\"Course 2\",IF(COUNTIF(Général!B149:J149,$G$1)=1,\"Course 3\",\"Course 4\")))","v":"Course 1"},{"$f":"IF(COUNTIF(Général!B153:J153,$G$1)=1,\"Course 1\",IF(COUNTIF(Général!B155:J155,$G$1)=1,\"Course 2\",IF(COUNTIF(Général!B157:J157,$G$1)=1,\"Course 3\",\"Course 4\")))","v":"Course 2"},{"$f":"IF(COUNTIF(Général!B161:J161,$G$1)=1,\"Course 1\",IF(COUNTIF(Général!B163:J163,$G$1)=1,\"Course 2\",IF(COUNTIF(Général!B165:J165,$G$1)=1,\"Course 3\",\"Course 4\")))","v":"Course 3"},{"$f":"IF(COUNTIF(Général!B169:J169,$G$1)=1,\"Course 1\",IF(COUNTIF(Général!B171:J171,$G$1)=1,\"Course 2\",IF(COUNTIF(Général!B173:J173,$G$1)=1,\"Course 3\",\"Course 4\")))","v":"Course 2"},null,{"$f":"Général!B7","v":"ENSTA Bretagne 2"},4]
["Bateau",null,{"$f":"IF(COUNTIF(Général!B33:B38,$G$1)=1,\"Boat 1\",IF(COUNTIF(Général!C33:C38,$G$1)=1,\"Boat 2\",IF(COUNTIF(Général!D33:D38,$G$1)=1,\"Boat 3\", IF(COUNTIF(Général!E33:E38,$G$1)=1,\"Boat 4\", IF(COUNTIF(Général!F33:F38,$G$1)=1,\"Boat 5\", IF(COUNTIF(Général!G33:G38,$G$1)=1,\"Boat 6\", IF(COUNTIF(Général!H33:H38,$G$1)=1,\"Boat 7\",IF(COUNTIF(Général!I33:I38,$G$1)=1,\"Boat 8\",\"Boat 9\"))))))))","v":"Boat 7"},{"$f":"IF(COUNTIF(Général!B41:B46,$G$1)=1,\"Boat 1\",IF(COUNTIF(Général!C41:C46,$G$1)=1,\"Boat 2\",IF(COUNTIF(Général!D41:D46,$G$1)=1,\"Boat 3\", IF(COUNTIF(Général!E41:E46,$G$1)=1,\"Boat 4\", IF(COUNTIF(Général!F41:F46,$G$1)=1,\"Boat 5\", IF(COUNTIF(Général!G41:G46,$G$1)=1,\"Boat 6\", IF(COUNTIF(Général!H41:H46,$G$1)=1,\"Boat 7\",IF(COUNTIF(Général!I33:I38,$G$1)=1,\"Boat 8\",\"Boat 9\"))))))))","v":"Boat 7"},{"$f":"IF(COUNTIF(Général!B49:B54,$G$1)=1,\"Boat 1\",IF(COUNTIF(Général!C49:C54,$G$1)=1,\"Boat 2\",IF(COUNTIF(Général!D49:D54,$G$1)=1,\"Boat 3\", IF(COUNTIF(Général!E49:E54,$G$1)=1,\"Boat 4\", IF(COUNTIF(Général!F49:F54,$G$1)=1,\"Boat 5\", IF(COUNTIF(Général!G49:G54,$G$1)=1,\"Boat 6\", IF(COUNTIF(Général!H49:H54,$G$1)=1,\"Boat 7\",IF(COUNTIF(Général!I33:I38,$G$1)=1,\"Boat 8\",\"Boat 9\"))))))))","v":"Boat 4"},{"$f":"IF(COUNTIF(Général!B57:B62,$G$1)=1,\"Boat 1\",IF(COUNTIF(Général!C57:C62,$G$1)=1,\"Boat 2\",IF(COUNTIF(Général!D57:D62,$G$1)=1,\"Boat 3\", IF(COUNTIF(Général!E57:E62,$G$1)=1,\"Boat 4\", IF(COUNTIF(Général!F57:F62,$G$1)=1,\"Boat 5\", IF(COUNTIF(Général!G57:G62,$G$1)=1,\"Boat 6\", IF(COUNTIF(Général!H57:H62,$G$1)=1,\"Boat 7\",IF(COUNTIF(Général!I33:I38,$G$1)=1,\"Boat 8\",\"Boat 9\"))))))))","v":"Boat 4"},{"$f":"IF(COUNTIF(Général!B65:B70,$G$1)=1,\"Boat 1\",IF(COUNTIF(Général!C65:C70,$G$1)=1,\"Boat 2\",IF(COUNTIF(Général!D65:D70,$G$1)=1,\"Boat 3\", IF(COUNTIF(Général!E65:E70,$G$1)=1,\"Boat 4\", IF(COUNTIF(Général!F65:F70,$G$1)=1,\"Boat 5\", IF(COUNTIF(Général!G65:G70,$G$1)=1,\"Boat 6\", IF(COUNTIF(Général!H65:H70,$G$1)=1,\"Boat 7\",IF(COUNTIF(Général!I33:I38,$G$1)=1,\"Boat 8\",\"Boat 9\"))))))))","v":"Boat 6"},{"$f":"IF(COUNTIF(Général!B73:B78,$G$1)=1,\"Boat 1\",IF(COUNTIF(Général!C73:C78,$G$1)=1,\"Boat 2\",IF(COUNTIF(Général!D73:D78,$G$1)=1,\"Boat 3\", IF(COUNTIF(Général!E73:E78,$G$1)=1,\"Boat 4\", IF(COUNTIF(Général!F73:F78,$G$1)=1,\"Boat 5\", IF(COUNTIF(Général!G73:G78,$G$1)=1,\"Boat 6\", IF(COUNTIF(Général!H73:H78,$G$1)=1,\"Boat 7\",IF(COUNTIF(Général!I33:I38,$G$1)=1,\"Boat 8\",\"Boat 9\"))))))))","v":"Boat 5"},{"$f":"IF(COUNTIF(Général!B81:B86,$G$1)=1,\"Boat 1\",IF(COUNTIF(Général!C81:C86,$G$1)=1,\"Boat 2\",IF(COUNTIF(Général!D81:D86,$G$1)=1,\"Boat 3\", IF(COUNTIF(Général!E81:E86,$G$1)=1,\"Boat 4\", IF(COUNTIF(Général!F81:F86,$G$1)=1,\"Boat 5\", IF(COUNTIF(Général!G81:G86,$G$1)=1,\"Boat 6\", IF(COUNTIF(Général!H81:H86,$G$1)=1,\"Boat 7\",IF(COUNTIF(Général!I33:I38,$G$1)=1,\"Boat 8\",\"Boat 9\"))))))))","v":"Boat 5"},{"$f":"IF(COUNTIF(Général!B89:B94,$G$1)=1,\"Boat 1\",IF(COUNTIF(Général!C89:C94,$G$1)=1,\"Boat 2\",IF(COUNTIF(Général!D89:D94,$G$1)=1,\"Boat 3\", IF(COUNTIF(Général!E89:E94,$G$1)=1,\"Boat 4\", IF(COUNTIF(Général!F89:F94,$G$1)=1,\"Boat 5\", IF(COUNTIF(Général!G89:G94,$G$1)=1,\"Boat 6\", IF(COUNTIF(Général!H89:H94,$G$1)=1,\"Boat 7\",IF(COUNTIF(Général!I33:I38,$G$1)=1,\"Boat 8\",\"Boat 9\"))))))))","v":"Boat 2"},{"$f":"IF(COUNTIF(Général!B97:B102,$G$1)=1,\"Boat 1\",IF(COUNTIF(Général!C97:C102,$G$1)=1,\"Boat 2\",IF(COUNTIF(Général!D97:D102,$G$1)=1,\"Boat 3\", IF(COUNTIF(Général!E97:E102,$G$1)=1,\"Boat 4\", IF(COUNTIF(Général!F97:F102,$G$1)=1,\"Boat 5\", IF(COUNTIF(Général!G97:G102,$G$1)=1,\"Boat 6\", IF(COUNTIF(Général!H97:H102,$G$1)=1,\"Boat 7\",IF(COUNTIF(Général!I33:I38,$G$1)=1,\"Boat 8\",\"Boat 9\"))))))))","v":"Boat 2"},{"$f":"IF(COUNTIF(Général!B105:B110,$G$1)=1,\"Boat 1\",IF(COUNTIF(Général!C105:C110,$G$1)=1,\"Boat 2\",IF(COUNTIF(Général!D105:D110,$G$1)=1,\"Boat 3\", IF(COUNTIF(Général!E105:E110,$G$1)=1,\"Boat 4\", IF(COUNTIF(Général!F105:F110,$G$1)=1,\"Boat 5\", IF(COUNTIF(Général!G105:G110,$G$1)=1,\"Boat 6\", IF(COUNTIF(Général!H105:H110,$G$1)=1,\"Boat 7\",IF(COUNTIF(Général!I33:I38,$G$1)=1,\"Boat 8\",\"Boat 9\"))))))))","v":"Boat 1"},{"$f":"IF(COUNTIF(Général!B113:B118,$G$1)=1,\"Boat 1\",IF(COUNTIF(Général!C113:C118,$G$1)=1,\"Boat 2\",IF(COUNTIF(Général!C113:D118,$G$1)=1,\"Boat 3\", IF(COUNTIF(Général!C113:E118,$G$1)=1,\"Boat 4\", IF(COUNTIF(Général!F113:F118,$G$1)=1,\"Boat 5\", IF(COUNTIF(Général!G113:G118,$G$1)=1,\"Boat 6\", IF(COUNTIF(Général!H113:H118,$G$1)=1,\"Boat 7\",IF(COUNTIF(Général!I33:I38,$G$1)=1,\"Boat 8\",\"Boat 9\"))))))))","v":"Boat 1"},{"$f":"IF(COUNTIF(Général!B121:B126,$G$1)=1,\"Boat 1\",IF(COUNTIF(Général!C121:C126,$G$1)=1,\"Boat 2\",IF(COUNTIF(Général!D121:D126,$G$1)=1,\"Boat 3\", IF(COUNTIF(Général!E121:E126,$G$1)=1,\"Boat 4\", IF(COUNTIF(Général!F121:F126,$G$1)=1,\"Boat 5\", IF(COUNTIF(Général!G121:G126,$G$1)=1,\"Boat 6\", IF(COUNTIF(Général!H121:H126,$G$1)=1,\"Boat 7\",IF(COUNTIF(Général!I33:I38,$G$1)=1,\"Boat 8\",\"Boat 9\"))))))))","v":"Boat 9"},{"$f":"IF(COUNTIF(Général!B129:B134,$G$1)=1,\"Boat 1\",IF(COUNTIF(Général!C129:C134,$G$1)=1,\"Boat 2\",IF(COUNTIF(Général!D131:D134,$G$1)=1,\"Boat 3\", IF(COUNTIF(Général!E129:E134,$G$1)=1,\"Boat 4\", IF(COUNTIF(Général!F129:F134,$G$1)=1,\"Boat 5\", IF(COUNTIF(Général!G129:G134,$G$1)=1,\"Boat 6\", IF(COUNTIF(Général!H129:H134,$G$1)=1,\"Boat 7\",IF(COUNTIF(Général!I33:I38,$G$1)=1,\"Boat 8\",\"Boat 9\"))))))))","v":"Boat 9"},{"$f":"IF(COUNTIF(Général!B137:B142,$G$1)=1,\"Boat 1\",IF(COUNTIF(Général!C137:C142,$G$1)=1,\"Boat 2\",IF(COUNTIF(Général!D137:D142,$G$1)=1,\"Boat 3\", IF(COUNTIF(Général!E137:E142,$G$1)=1,\"Boat 4\", IF(COUNTIF(Général!F145:F150,$G$1)=1,\"Boat 5\", IF(COUNTIF(Général!G145:G150,$G$1)=1,\"Boat 6\", IF(COUNTIF(Général!H145:H150,$G$1)=1,\"Boat 7\",IF(COUNTIF(Général!I33:I38,$G$1)=1,\"Boat 8\",\"Boat 9\"))))))))","v":"Boat 9"},{"$f":"IF(COUNTIF(Général!B145:B150,$G$1)=1,\"Boat 1\",IF(COUNTIF(Général!C145:C150,$G$1)=1,\"Boat 2\",IF(COUNTIF(Général!D145:D150,$G$1)=1,\"Boat 3\", IF(COUNTIF(Général!E145:E150,$G$1)=1,\"Boat 4\", IF(COUNTIF(Général!F145:F150,$G$1)=1,\"Boat 5\", IF(COUNTIF(Général!G145:G150,$G$1)=1,\"Boat 6\", IF(COUNTIF(Général!H145:H150,$G$1)=1,\"Boat 7\",IF(COUNTIF(Général!I33:I38,$G$1)=1,\"Boat 8\",\"Boat 9\"))))))))","v":"Boat 9"},{"$f":"IF(COUNTIF(Général!B153:B158,$G$1)=1,\"Boat 1\",IF(COUNTIF(Général!C153:C158,$G$1)=1,\"Boat 2\",IF(COUNTIF(Général!D153:D158,$G$1)=1,\"Boat 3\", IF(COUNTIF(Général!E153:E158,$G$1)=1,\"Boat 4\", IF(COUNTIF(Général!F153:F158,$G$1)=1,\"Boat 5\", IF(COUNTIF(Général!G153:G158,$G$1)=1,\"Boat 6\", IF(COUNTIF(Général!H153:H158,$G$1)=1,\"Boat 7\",IF(COUNTIF(Général!I33:I38,$G$1)=1,\"Boat 8\",\"Boat 9\"))))))))","v":"Boat 3"},{"$f":"IF(COUNTIF(Général!B161:B166,$G$1)=1,\"Boat 1\",IF(COUNTIF(Général!C161:C166,$G$1)=1,\"Boat 2\",IF(COUNTIF(Général!D161:D166,$G$1)=1,\"Boat 3\", IF(COUNTIF(Général!E161:E166,$G$1)=1,\"Boat 4\", IF(COUNTIF(Général!F161:F166,$G$1)=1,\"Boat 5\", IF(COUNTIF(Général!G161:G166,$G$1)=1,\"Boat 6\", IF(COUNTIF(Général!H161:H166,$G$1)=1,\"Boat 7\",IF(COUNTIF(Général!I33:I38,$G$1)=1,\"Boat 8\",\"Boat 9\"))))))))","v":"Boat 6"},{"$f":"IF(COUNTIF(Général!B169:B174,$G$1)=1,\"Boat 1\",IF(COUNTIF(Général!C169:C174,$G$1)=1,\"Boat 2\",IF(COUNTIF(Général!D169:D174,$G$1)=1,\"Boat 3\", IF(COUNTIF(Général!E169:E174,$G$1)=1,\"Boat 4\", IF(COUNTIF(Général!F169:F174,$G$1)=1,\"Boat 5\", IF(COUNTIF(Général!G169:G174,$G$1)=1,\"Boat 6\", IF(COUNTIF(Général!H169:H174,$G$1)=1,\"Boat 7\",IF(COUNTIF(Général!I33:I38,$G$1)=1,\"Boat 8\",\"Boat 9\"))))))))","v":"Boat 1"},null,{"$f":"Général!B8","v":"IMT Atlantique Nantes 2"},6]
[null,null,null,null,null,null,null,null,null,null,null,null,null,null,null,null,null,null,null,null,null,{"$f":"Général!B9","v":"Hambourg"},6]
["1er Equipage",null,{"$f":"IF($C$5=\"Course 1\",Général!B33,IF($C$5=\"Course 2\",Général!B35,IF($C$5=\"Course 3\",Général!B37,Général!#REF!)))","v":"UBS Lorient 2"},{"$f":"IF($D$5=\"Course 1\",Général!B41,IF($D$5=\"Course 2\",Général!B43,IF($D$5=\"Course 3\",Général!B45,Général!#REF!)))","v":"ENSTA Paris"},{"$f":"IF($E$5=\"Course 1\",Général!B49,IF($E$5=\"Course 2\",Général!B51,IF($E$5=\"Course 3\",Général!B53,Général!#REF!)))","v":"IMT Atlantique Nantes 2"},{"$f":"IF($F$5=\"Course 1\",Général!B$57,IF($F$5=\"Course 2\",Général!B$59,IF($F$5=\"Course 3\",Général!B$61,Général!#REF!)))","v":"Univ. La Rochelle"},{"$f":"IF($G$5=\"Course 1\",Général!B$65,IF($G$5=\"Course 2\",Général!B$67,IF($G$5=\"Course 3\",Général!B$69,Général!#REF!)))","v":"AS UB St Brieuc"},{"$f":"IF($H$5=\"Course 1\",Général!B$73,IF($H$5=\"Course 2\",Général!B$75,IF($H$5=\"Course 3\",Général!B$77,Général!#REF!)))","v":"IMT Atlantique Brest"},{"$f":"IF($I$5=\"Course 1\",Général!B$81,IF($I$5=\"Course 2\",Général!B$83,IF($I$5=\"Course 3\",Général!B$85,Général!#REF!)))","v":"Dublin"},{"$f":"IF($J$5=\"Course 1\",Général!B$89,IF($J$5=\"Course 2\",Général!B$91,IF($J$5=\"Course 3\",Général!B$93,Général!#REF!)))","v":"UNICAEN - ASSUCherbourg"},{"$f":"IF($K$5=\"Course 1\",Général!B$97,IF($K$5=\"Course 2\",Général!B$99,IF($K$5=\"Course 3\",Général!B$101,Général!#REF!)))","v":"Univ. La Rochelle"},{"$f":"IF($L$5=\"Course 1\",Général!B$105,IF($L$5=\"Course 2\",Général!B$107,IF($L$5=\"Course 3\",Général!B$109,Général!#REF!)))","v":"UBO 2"},{"$f":"IF($M$5=\"Course 1\",Général!B$113,IF($M$5=\"Course 2\",Général!B$115,IF($M$5=\"Course 3\",Général!B$117,Général!#REF!)))","v":"UBO 2"},{"$f":"IF($N$5=\"Course 1\",Général!B$121,IF($N$5=\"Course 2\",Général!B$123,IF($N$5=\"Course 3\",Général!B$125,Général!#REF!)))","v":"UBO 1"},{"$f":"IF($O$5=\"Course 1\",Général!B$129,IF($O$5=\"Course 2\",Général!B$131,IF($O$5=\"Course 3\",Général!B$133,Général!#REF!)))","v":"Hannovre"},{"$f":"IF($P$5=\"Course 1\",Général!B$137,IF($P$5=\"Course 2\",Général!B$139,IF($P$5=\"Course 3\",Général!B$141,Général!#REF!)))","v":"Univ. Nantes 1"},{"$f":"IF($Q$5=\"Course 1\",Général!B$145,IF($Q$5=\"Course 2\",Général!B$147,IF($Q$5=\"Course 3\",Général!B$149,Général!#REF!)))","v":"Univ. Nantes 1"},{"$f":"IF($R$5=\"Course 1\",Général!B$153,IF($R$5=\"Course 2\",Général!B$155,IF($R$5=\"Course 3\",Général!B$157,Général!#REF!)))","v":"Dublin"},{"$f":"IF($S$5=\"Course 1\",Général!B$161,IF($S$5=\"Course 2\",Général!B$163,IF($S$5=\"Course 3\",Général!B$165,Général!#REF!)))","v":"UBS Lorient 2"},{"$f":"IF($T$5=\"Course 1\",Général!B$169,IF($T$5=\"Course 2\",Général!B$171,IF($T$5=\"Course 3\",Général!B$173,Général!#REF!)))","v":"UBO 2"},null,{"$f":"Général!B10","v":"EGSI La Rochelle"},6]
["2nd Equipage",null,{"$f":"IF($C$5=\"Course 1\",Général!C33,IF($C$5=\"Course 2\",Général!C35,IF($C$5=\"Course 3\",Général!C37,Général!#REF!)))","v":"IMT Atlantique Nantes 2"},{"$f":"IF($D$5=\"Course 1\",Général!C41,IF($D$5=\"Course 2\",Général!C43,IF($D$5=\"Course 3\",Général!C45,Général!#REF!)))","v":"UNICAEN - ASSUCherbourg"},{"$f":"IF($E$5=\"Course 1\",Général!C49,IF($E$5=\"Course 2\",Général!C51,IF($E$5=\"Course 3\",Général!C53,Général!#REF!)))","v":"Karlsruhe"},{"$f":"IF($F$5=\"Course 1\",Général!C$57,IF($F$5=\"Course 2\",Général!C$59,IF($F$5=\"Course 3\",Général!C$61,Général!#REF!)))","v":"ENSTA Bretagne 2"},{"$f":"IF($G$5=\"Course 1\",Général!C$65,IF($G$5=\"Course 2\",Général!C$67,IF($G$5=\"Course 3\",Général!C$69,Général!#REF!)))","v":"AS Paris 1 Panthéon Sorbonne"},{"$f":"IF($H$5=\"Course 1\",Général!C$73,IF($H$5=\"Course 2\",Général!C$75,IF($H$5=\"Course 3\",Général!C$77,Général!#REF!)))","v":"ASUL Lannion"},{"$f":"IF($I$5=\"Course 1\",Général!C$81,IF($I$5=\"Course 2\",Général!C$83,IF($I$5=\"Course 3\",Général!C$85,Général!#REF!)))","v":"Hambourg"},{"$f":"IF($J$5=\"Course 1\",Général!C$89,IF($J$5=\"Course 2\",Général!C$91,IF($J$5=\"Course 3\",Général!C$93,Général!#REF!)))","v":"UBO 2"},{"$f":"IF($K$5=\"Course 1\",Général!C$97,IF($K$5=\"Course 2\",Général!C$99,IF($K$5=\"Course 3\",Général!C$101,Général!#REF!)))","v":"UBO 2"},{"$f":"IF($L$5=\"Course 1\",Général!C$105,IF($L$5=\"Course 2\",Général!C$107,IF($L$5=\"Course 3\",Général!C$109,Général!#REF!)))","v":"ENSTA Bretagne 1"},{"$f":"IF($M$5=\"Course 1\",Général!C$113,IF($M$5=\"Course 2\",Général!C$115,IF($M$5=\"Course 3\",Général!C$117,Général!#REF!)))","v":"Univ. Nantes 1"},{"$f":"IF($N$5=\"Course 1\",Général!C$121,IF($N$5=\"Course 2\",Général!C$123,IF($N$5=\"Course 3\",Général!C$125,Général!#REF!)))","v":"IMT Atlantique Brest"},{"$f":"IF($O$5=\"Course 1\",Général!C$129,IF($O$5=\"Course 2\",Général!C$131,IF($O$5=\"Course 3\",Général!C$133,Général!#REF!)))","v":"Univ. Nantes 3"},{"$f":"IF($P$5=\"Course 1\",Général!C$137,IF($P$5=\"Course 2\",Général!C$139,IF($P$5=\"Course 3\",Général!C$141,Général!#REF!)))","v":"AS UB St Brieuc"},{"$f":"IF($Q$5=\"Course 1\",Général!C$145,IF($Q$5=\"Course 2\",Général!C$147,IF($Q$5=\"Course 3\",Général!C$149,Général!#REF!)))","v":"AS UB St Brieuc"},{"$f":"IF($R$5=\"Course 1\",Général!C$153,IF($R$5=\"Course 2\",Général!C$155,IF($R$5=\"Course 3\",Général!C$157,Général!#REF!)))","v":"Univ. Nantes 1"},{"$f":"IF($S$5=\"Course 1\",Général!C$161,IF($S$5=\"Course 2\",Général!C$163,IF($S$5=\"Course 3\",Général!C$165,Général!#REF!)))","v":"Hambourg"},{"$f":"IF($T$5=\"Course 1\",Général!C$169,IF($T$5=\"Course 2\",Général!C$171,IF($T$5=\"Course 3\",Général!C$173,Général!#REF!)))","v":"Dublin"},null,{"$f":"Général!B11","v":"HYDRO Sailing Team Le Havre"},6]
["3ème Equipage",null,{"$f":"IF($C$5=\"Course 1\",Général!D33,IF($C$5=\"Course 2\",Général!D35,IF($C$5=\"Course 3\",Général!D37,Général!#REF!)))","v":"UBS Lorient 1"},{"$f":"IF($D$5=\"Course 1\",Général!D41,IF($D$5=\"Course 2\",Général!D43,IF($D$5=\"Course 3\",Général!D45,Général!#REF!)))","v":"Univ. Nantes 3"},{"$f":"IF($E$5=\"Course 1\",Général!D49,IF($E$5=\"Course 2\",Général!D51,IF($E$5=\"Course 3\",Général!D53,Général!#REF!)))","v":"Dublin"},{"$f":"IF($F$5=\"Course 1\",Général!D$57,IF($F$5=\"Course 2\",Général!D$59,IF($F$5=\"Course 3\",Général!D$61,Général!#REF!)))","v":"UBO 1"},{"$f":"IF($G$5=\"Course 1\",Général!D$65,IF($G$5=\"Course 2\",Général!D$67,IF($G$5=\"Course 3\",Général!D$69,Général!#REF!)))","v":"Karlsruhe"},{"$f":"IF($H$5=\"Course 1\",Général!D$73,IF($H$5=\"Course 2\",Général!D$75,IF($H$5=\"Course 3\",Général!D$77,Général!#REF!)))","v":"Centrales Nantes"},{"$f":"IF($I$5=\"Course 1\",Général!D$81,IF($I$5=\"Course 2\",Général!D$83,IF($I$5=\"Course 3\",Général!D$85,Général!#REF!)))","v":"Univ.Orléans"},{"$f":"IF($J$5=\"Course 1\",Général!D$89,IF($J$5=\"Course 2\",Général!D$91,IF($J$5=\"Course 3\",Général!D$93,Général!#REF!)))","v":"EGSI La Rochelle"},{"$f":"IF($K$5=\"Course 1\",Général!D$97,IF($K$5=\"Course 2\",Général!D$99,IF($K$5=\"Course 3\",Général!D$101,Général!#REF!)))","v":"Univ. Nantes 1"},{"$f":"IF($L$5=\"Course 1\",Général!D$105,IF($L$5=\"Course 2\",Général!D$107,IF($L$5=\"Course 3\",Général!D$109,Général!#REF!)))","v":"Univ. Nantes 2"},{"$f":"IF($M$5=\"Course 1\",Général!D$113,IF($M$5=\"Course 2\",Général!D$115,IF($M$5=\"Course 3\",Général!D$117,Général!#REF!)))","v":"Univ. Nantes 2"},{"$f":"IF($N$5=\"Course 1\",Général!D$121,IF($N$5=\"Course 2\",Général!D$123,IF($N$5=\"Course 3\",Général!D$125,Général!#REF!)))","v":"AS Paris 1 Panthéon Sorbonne"},{"$f":"IF($O$5=\"Course 1\",Général!D$129,IF($O$5=\"Course 2\",Général!D$131,IF($O$5=\"Course 3\",Général!D$133,Général!#REF!)))","v":"AS Paris 1 Panthéon Sorbonne"},{"$f":"IF($P$5=\"Course 1\",Général!D$137,IF($P$5=\"Course 2\",Général!D$139,IF($P$5=\"Course 3\",Général!D$141,Général!#REF!)))","v":"IMT Atlantique Brest"},{"$f":"IF($Q$5=\"Course 1\",Général!D$145,IF($Q$5=\"Course 2\",Général!D$147,IF($Q$5=\"Course 3\",Général!D$149,Général!#REF!)))","v":"IMT Atlantique Nantes 2"},{"$f":"IF($R$5=\"Course 1\",Général!D$153,IF($R$5=\"Course 2\",Général!D$155,IF($R$5=\"Course 3\",Général!D$157,Général!#REF!)))","v":"UBO 2"},{"$f":"IF($S$5=\"Course 1\",Général!D$161,IF($S$5=\"Course 2\",Général!D$163,IF($S$5=\"Course 3\",Général!D$165,Général!#REF!)))","v":"UBO 1"},{"$f":"IF($T$5=\"Course 1\",Général!D$169,IF($T$5=\"Course 2\",Général!D$171,IF($T$5=\"Course 3\",Général!D$173,Général!#REF!)))","v":"Univ. Nantes 3"},null,{"$f":"Général!B12","v":"UNICAEN - ASSUCherbourg"},6]
["4ème Equipage",null,{"$f":"IF($C$5=\"Course 1\",Général!E33,IF($C$5=\"Course 2\",Général!E35,IF($C$5=\"Course 3\",Général!E37,Général!#REF!)))","v":"Dublin"},{"$f":"IF($D$5=\"Course 1\",Général!E41,IF($D$5=\"Course 2\",Général!E43,IF($D$5=\"Course 3\",Général!E45,Général!#REF!)))","v":"Dublin"},{"$f":"IF($E$5=\"Course 1\",Général!E49,IF($E$5=\"Course 2\",Général!E51,IF($E$5=\"Course 3\",Général!E53,Général!#REF!)))","v":"UBO 2"},{"$f":"IF($F$5=\"Course 1\",Général!E$57,IF($F$5=\"Course 2\",Général!E$59,IF($F$5=\"Course 3\",Général!E$61,Général!#REF!)))","v":"UBO 2"},{"$f":"IF($G$5=\"Course 1\",Général!E$65,IF($G$5=\"Course 2\",Général!E$67,IF($G$5=\"Course 3\",Général!E$69,Général!#REF!)))","v":"EGSI La Rochelle"},{"$f":"IF($H$5=\"Course 1\",Général!E$73,IF($H$5=\"Course 2\",Général!E$75,IF($H$5=\"Course 3\",Général!E$77,Général!#REF!)))","v":"Hannovre"},{"$f":"IF($I$5=\"Course 1\",Général!E$81,IF($I$5=\"Course 2\",Général!E$83,IF($I$5=\"Course 3\",Général!E$85,Général!#REF!)))","v":"Hannovre"},{"$f":"IF($J$5=\"Course 1\",Général!E$89,IF($J$5=\"Course 2\",Général!E$91,IF($J$5=\"Course 3\",Général!E$93,Général!#REF!)))","v":"Univ. Nantes 1"},{"$f":"IF($K$5=\"Course 1\",Général!E$97,IF($K$5=\"Course 2\",Général!E$99,IF($K$5=\"Course 3\",Général!E$101,Général!#REF!)))","v":"Univ. Nantes 2"},{"$f":"IF($L$5=\"Course 1\",Général!E$105,IF($L$5=\"Course 2\",Général!E$107,IF($L$5=\"Course 3\",Général!E$109,Général!#REF!)))","v":"Univ. Nantes 3"},{"$f":"IF($M$5=\"Course 1\",Général!E$113,IF($M$5=\"Course 2\",Général!E$115,IF($M$5=\"Course 3\",Général!E$117,Général!#REF!)))","v":"Southampton"},{"$f":"IF($N$5=\"Course 1\",Général!E$121,IF($N$5=\"Course 2\",Général!E$123,IF($N$5=\"Course 3\",Général!E$125,Général!#REF!)))","v":"IMT Atlantique Nantes 2"},{"$f":"IF($O$5=\"Course 1\",Général!E$129,IF($O$5=\"Course 2\",Général!E$131,IF($O$5=\"Course 3\",Général!E$133,Général!#REF!)))","v":"IMT Atlantique Nantes 2"},{"$f":"IF($P$5=\"Course 1\",Général!E$137,IF($P$5=\"Course 2\",Général!E$139,IF($P$5=\"Course 3\",Général!E$141,Général!#REF!)))","v":"UBS Lorient 2"},{"$f":"IF($Q$5=\"Course 1\",Général!E$145,IF($Q$5=\"Course 2\",Général!E$147,IF($Q$5=\"Course 3\",Général!E$149,Général!#REF!)))","v":"UNICAEN - ASSUCherbourg"},{"$f":"IF($R$5=\"Course 1\",Général!E$153,IF($R$5=\"Course 2\",Général!E$155,IF($R$5=\"Course 3\",Général!E$157,Général!#REF!)))","v":"UNICAEN - ASSUCherbourg"},{"$f":"IF($S$5=\"Course 1\",Général!E$161,IF($S$5=\"Course 2\",Général!E$163,IF($S$5=\"Course 3\",Général!E$165,Général!#REF!)))","v":"Univ. Nantes 3"},{"$f":"IF($T$5=\"Course 1\",Général!E$169,IF($T$5=\"Course 2\",Général!E$171,IF($T$5=\"Course 3\",Général!E$173,Général!#REF!)))","v":"Univ.Orléans"},null,{"$f":"Général!B13","v":"UBO 1"},6]
["5ème Equipage",null,{"$f":"IF($C$5=\"Course 1\",Général!F33,IF($C$5=\"Course 2\",Général!F35,IF($C$5=\"Course 3\",Général!F37,Général!#REF!)))","v":"ENSTA Bretagne 2"},{"$f":"IF($D$5=\"Course 1\",Général!F41,IF($D$5=\"Course 2\",Général!F43,IF($D$5=\"Course 3\",Général!F45,Général!#REF!)))","v":"ENSTA Bretagne 2"},{"$f":"IF($E$5=\"Course 1\",Général!F49,IF($E$5=\"Course 2\",Général!F51,IF($E$5=\"Course 3\",Général!F53,Général!#REF!)))","v":"IMT Atlantique Nantes 1"},{"$f":"IF($F$5=\"Course 1\",Général!F$57,IF($F$5=\"Course 2\",Général!F$59,IF($F$5=\"Course 3\",Général!F$61,Général!#REF!)))","v":"ENSTA Bretagne 1"},{"$f":"IF($G$5=\"Course 1\",Général!F$65,IF($G$5=\"Course 2\",Général!F$67,IF($G$5=\"Course 3\",Général!F$69,Général!#REF!)))","v":"UBS Lorient 2"},{"$f":"IF($H$5=\"Course 1\",Général!F$73,IF($H$5=\"Course 2\",Général!F$75,IF($H$5=\"Course 3\",Général!F$77,Général!#REF!)))","v":"UBO 2"},{"$f":"IF($I$5=\"Course 1\",Général!F$81,IF($I$5=\"Course 2\",Général!F$83,IF($I$5=\"Course 3\",Général!F$85,Général!#REF!)))","v":"UBO 2"},{"$f":"IF($J$5=\"Course 1\",Général!F$89,IF($J$5=\"Course 2\",Général!F$91,IF($J$5=\"Course 3\",Général!F$93,Général!#REF!)))","v":"Hannovre"},{"$f":"IF($K$5=\"Course 1\",Général!F$97,IF($K$5=\"Course 2\",Général!F$99,IF($K$5=\"Course 3\",Général!F$101,Général!#REF!)))","v":"Centrales Nantes"},{"$f":"IF($L$5=\"Course 1\",Général!F$105,IF($L$5=\"Course 2\",Général!$F107,IF($L$5=\"Course 3\",Général!F$109,Général!#REF!)))","v":"HYDRO Sailing Team Le Havre"},{"$f":"IF($M$5=\"Course 1\",Général!F$113,IF($M$5=\"Course 2\",Général!F$115,IF($M$5=\"Course 3\",Général!F$117,Général!#REF!)))","v":"HYDRO Sailing Team Le Havre"},{"$f":"IF($N$5=\"Course 1\",Général!F$121,IF($N$5=\"Course 2\",Général!F$123,IF($N$5=\"Course 3\",Général!F$125,Général!#REF!)))","v":"ASUL Lannion"},{"$f":"IF($O$5=\"Course 1\",Général!F$129,IF($O$5=\"Course 2\",Général!F$131,IF($O$5=\"Course 3\",Général!F$133,Général!#REF!)))","v":"ASUL Lannion"},{"$f":"IF($P$5=\"Course 1\",Général!F$137,IF($P$5=\"Course 2\",Général!F$139,IF($P$5=\"Course 3\",Général!F$141,Général!#REF!)))","v":"Hannovre"},{"$f":"IF($Q$5=\"Course 1\",Général!F$145,IF($Q$5=\"Course 2\",Général!F$147,IF($Q$5=\"Course 3\",Général!F$149,Général!#REF!)))","v":"Univ.Orléans"},{"$f":"IF($R$5=\"Course 1\",Général!F$153,IF($R$5=\"Course 2\",Général!F$155,IF($R$5=\"Course 3\",Général!F$157,Général!#REF!)))","v":"UBO 1"},{"$f":"IF($S$5=\"Course 1\",Général!F$161,IF($S$5=\"Course 2\",Général!F$163,IF($S$5=\"Course 3\",Général!F$165,Général!#REF!)))","v":"Univ. Nantes 1"},{"$f":"IF($T$5=\"Course 1\",Général!F$169,IF($T$5=\"Course 2\",Général!F$171,IF($T$5=\"Course 3\",Général!F$173,Général!#REF!)))","v":"ENSTA Bretagne 1"},null,{"$f":"Général!B14","v":"ENSTA Bretagne 1"},7]
["6ème Equipage",null,{"$f":"IF($C$5=\"Course 1\",Général!G33,IF($C$5=\"Course 2\",Général!G35,IF($C$5=\"Course 3\",Général!G37,Général!#REF!)))","v":"HYDRO Sailing Team Le Havre"},{"$f":"IF($D$5=\"Course 1\",Général!G41,IF($D$5=\"Course 2\",Général!G43,IF($D$5=\"Course 3\",Général!G45,Général!#REF!)))","v":"Karlsruhe"},{"$f":"IF($E$5=\"Course 1\",Général!G49,IF($E$5=\"Course 2\",Général!G51,IF($E$5=\"Course 3\",Général!G53,Général!#REF!)))","v":"Univ. Nantes 2"},{"$f":"IF($F$5=\"Course 1\",Général!G$57,IF($F$5=\"Course 2\",Général!G$59,IF($F$5=\"Course 3\",Général!G$61,Général!#REF!)))","v":"Hannovre"},{"$f":"IF($G$5=\"Course 1\",Général!G$65,IF($G$5=\"Course 2\",Général!G$67,IF($G$5=\"Course 3\",Général!G$69,Général!#REF!)))","v":"UBO 2"},{"$f":"IF($H$5=\"Course 1\",Général!G$73,IF($H$5=\"Course 2\",Général!G$75,IF($H$5=\"Course 3\",Général!G$77,Général!#REF!)))","v":"Hambourg"},{"$f":"IF($I$5=\"Course 1\",Général!G$81,IF($I$5=\"Course 2\",Général!G$83,IF($I$5=\"Course 3\",Général!G$85,Général!#REF!)))","v":"UBS Lorient 1"},{"$f":"IF($J$5=\"Course 1\",Général!G$89,IF($J$5=\"Course 2\",Général!G$91,IF($J$5=\"Course 3\",Général!G$93,Général!#REF!)))","v":"Southampton"},{"$f":"IF($K$5=\"Course 1\",Général!G$97,IF($K$5=\"Course 2\",Général!G$99,IF($K$5=\"Course 3\",Général!G$101,Général!#REF!)))","v":"ENSTA Bretagne 1"},{"$f":"IF($L$5=\"Course 1\",Général!G$105,IF($L$5=\"Course 2\",Général!G$107,IF($L$5=\"Course 3\",Général!G$109,Général!#REF!)))","v":"AS Paris 1 Panthéon Sorbonne"},{"$f":"IF($M$5=\"Course 1\",Général!G$113,IF($M$5=\"Course 2\",Général!G$115,IF($M$5=\"Course 3\",Général!G$117,Général!#REF!)))","v":"Univ.Orléans"},{"$f":"IF($N$5=\"Course 1\",Général!G$121,IF($N$5=\"Course 2\",Général!G$123,IF($N$5=\"Course 3\",Général!G$125,Général!#REF!)))","v":"EGSI La Rochelle"},{"$f":"IF($O$5=\"Course 1\",Général!G$129,IF($O$5=\"Course 2\",Général!G$131,IF($O$5=\"Course 3\",Général!G$133,Général!#REF!)))","v":"IMT Atlantique Nantes 1"},{"$f":"IF($P$5=\"Course 1\",Général!G$137,IF($P$5=\"Course 2\",Général!G$139,IF($P$5=\"Course 3\",Général!G$141,Général!#REF!)))","v":"IMT Atlantique Nantes 1"},{"$f":"IF($Q$5=\"Course 1\",Général!G$145,IF($Q$5=\"Course 2\",Général!G$147,IF($Q$5=\"Course 3\",Général!G$149,Général!#REF!)))","v":"IMT Atlantique Nantes 1"},{"$f":"IF($R$5=\"Course 1\",Général!G$153,IF($R$5=\"Course 2\",Général!G$155,IF($R$5=\"Course 3\",Général!G$157,Général!#REF!)))","v":"UBS Lorient 1"},{"$f":"IF($S$5=\"Course 1\",Général!G$161,IF($S$5=\"Course 2\",Général!G$163,IF($S$5=\"Course 3\",Général!G$165,Général!#REF!)))","v":"UBO 2"},{"$f":"IF($T$5=\"Course 1\",Général!G$169,IF($T$5=\"Course 2\",Général!G$171,IF($T$5=\"Course 3\",Général!G$173,Général!#REF!)))","v":"EGSI La Rochelle"},null,{"$f":"Général!B15","v":"ASUL Lannion"},6]
["7ème Equipage",null,{"$f":"IF($C$5=\"Course 1\",Général!H33,IF($C$5=\"Course 2\",Général!H35,IF($C$5=\"Course 3\",Général!H37,Général!#REF!)))","v":"UBO 2"},{"$f":"IF($D$5=\"Course 1\",Général!H41,IF($D$5=\"Course 2\",Général!H43,IF($D$5=\"Course 3\",Général!H45,Général!#REF!)))","v":"UBO 2"},{"$f":"IF($E$5=\"Course 1\",Général!H49,IF($E$5=\"Course 2\",Général!H51,IF($E$5=\"Course 3\",Général!H53,Général!#REF!)))","v":"UBO 1"},{"$f":"IF($F$5=\"Course 1\",Général!H$57,IF($F$5=\"Course 2\",Général!H$59,IF($F$5=\"Course 3\",Général!H$61,Général!#REF!)))","v":"Hambourg"},{"$f":"IF($G$5=\"Course 1\",Général!H$65,IF($G$5=\"Course 2\",Général!H$67,IF($G$5=\"Course 3\",Général!H$69,Général!#REF!)))","v":"Southampton"},{"$f":"IF($H$5=\"Course 1\",Général!H$73,IF($H$5=\"Course 2\",Général!H$75,IF($H$5=\"Course 3\",Général!H$77,Général!#REF!)))","v":"Southampton"},{"$f":"IF($I$5=\"Course 1\",Général!H$81,IF($I$5=\"Course 2\",Général!H$83,IF($I$5=\"Course 3\",Général!H$85,Général!#REF!)))","v":"AS UB St Brieuc"},{"$f":"IF($J$5=\"Course 1\",Général!H$89,IF($J$5=\"Course 2\",Général!H$91,IF($J$5=\"Course 3\",Général!H$93,Général!#REF!)))","v":"Centrales Nantes"},{"$f":"IF($K$5=\"Course 1\",Général!H$97,IF($K$5=\"Course 2\",Général!H$99,IF($K$5=\"Course 3\",Général!H$101,Général!#REF!)))","v":"IMT Atlantique Brest"},{"$f":"IF($L$5=\"Course 1\",Général!H$105,IF($L$5=\"Course 2\",Général!H$107,IF($L$5=\"Course 3\",Général!H$109,Général!#REF!)))","v":"Univ.Orléans"},{"$f":"IF($M$5=\"Course 1\",Général!H$113,IF($M$5=\"Course 2\",Général!H$115,IF($M$5=\"Course 3\",Général!H$117,Général!#REF!)))","v":"UBO 1"},{"$f":"IF($N$5=\"Course 1\",Général!H$121,IF($N$5=\"Course 2\",Général!H$123,IF($N$5=\"Course 3\",Général!H$125,Général!#REF!)))","v":"UNICAEN - ASSUCherbourg"},{"$f":"IF($O$5=\"Course 1\",Général!H$129,IF($O$5=\"Course 2\",Général!H$131,IF($O$5=\"Course 3\",Général!H$133,Général!#REF!)))","v":"UBS Lorient 1"},{"$f":"IF($P$5=\"Course 1\",Général!H$137,IF($P$5=\"Course 2\",Général!H$139,IF($P$5=\"Course 3\",Général!H$141,Général!#REF!)))","v":"ASUL Lannion"},{"$f":"IF($Q$5=\"Course 1\",Général!H$145,IF($Q$5=\"Course 2\",Général!H$147,IF($Q$5=\"Course 3\",Général!H$149,Général!#REF!)))","v":"HYDRO Sailing Team Le Havre"},{"$f":"IF($R$5=\"Course 1\",Général!H$153,IF($R$5=\"Course 2\",Général!H$155,IF($R$5=\"Course 3\",Général!H$157,Général!#REF!)))","v":"AS Paris 1 Panthéon Sorbonne"},{"$f":"IF($S$5=\"Course 1\",Général!H$161,IF($S$5=\"Course 2\",Général!H$163,IF($S$5=\"Course 3\",Général!H$165,Général!#REF!)))","v":"UNICAEN - ASSUCherbourg"},{"$f":"IF($T$5=\"Course 1\",Général!H$169,IF($T$5=\"Course 2\",Général!H$171,IF($T$5=\"Course 3\",Général!H$173,Général!#REF!)))","v":"UBS Lorient 1"},null,{"$f":"Général!B16","v":"ENSTA Paris"},4]
["8ème Equipage",null,{"$f":"IF($C$5=\"Course 1\",Général!I33,IF($C$5=\"Course 2\",Général!I35,IF($C$5=\"Course 3\",Général!I37,Général!#REF!)))","v":"ASUL Lannion"},{"$f":"IF($D$5=\"Course 1\",Général!I41,IF($D$5=\"Course 2\",Général!I43,IF($D$5=\"Course 3\",Général!I45,Général!#REF!)))","v":"Univ.Orléans"},{"$f":"IF($E$5=\"Course 1\",Général!I49,IF($E$5=\"Course 2\",Général!I51,IF($E$5=\"Course 3\",Général!I53,Général!#REF!)))","v":"EGSI La Rochelle"},{"$f":"IF($F$5=\"Course 1\",Général!I$57,IF($F$5=\"Course 2\",Général!I$59,IF($F$5=\"Course 3\",Général!I$61,Général!#REF!)))","v":"HYDRO Sailing Team Le Havre"},{"$f":"IF($G$5=\"Course 1\",Général!I$65,IF($G$5=\"Course 2\",Général!I$67,IF($G$5=\"Course 3\",Général!I$69,Général!#REF!)))","v":"HYDRO Sailing Team Le Havre"},{"$f":"IF($H$5=\"Course 1\",Général!I$73,IF($H$5=\"Course 2\",Général!I$75,IF($H$5=\"Course 3\",Général!I$77,Général!#REF!)))","v":"Karlsruhe"},{"$f":"IF($I$5=\"Course 1\",Général!I$81,IF($I$5=\"Course 2\",Général!I$83,IF($I$5=\"Course 3\",Général!I$85,Général!#REF!)))","v":"Univ. La Rochelle"},{"$f":"IF($J$5=\"Course 1\",Général!I$89,IF($J$5=\"Course 2\",Général!I$91,IF($J$5=\"Course 3\",Général!I$93,Général!#REF!)))","v":"UBS Lorient 2"},{"$f":"IF($K$5=\"Course 1\",Général!I$97,IF($K$5=\"Course 2\",Général!I$99,IF($K$5=\"Course 3\",Général!I$101,Général!#REF!)))","v":"UBS Lorient 1"},{"$f":"IF($L$5=\"Course 1\",Général!I$105,IF($L$5=\"Course 2\",Général!I$107,IF($L$5=\"Course 3\",Général!I$109,Général!#REF!)))","v":"EGSI La Rochelle"},{"$f":"IF($M$5=\"Course 1\",Général!I$113,IF($M$5=\"Course 2\",Général!I$115,IF($M$5=\"Course 3\",Général!I$117,Général!#REF!)))","v":"Univ. La Rochelle"},{"$f":"IF($N$5=\"Course 1\",Général!I$121,IF($N$5=\"Course 2\",Général!I$123,IF($N$5=\"Course 3\",Général!I$125,Général!#REF!)))","v":"UBO 2"},{"$f":"IF($O$5=\"Course 1\",Général!I$129,IF($O$5=\"Course 2\",Général!I$131,IF($O$5=\"Course 3\",Général!I$133,Général!#REF!)))","v":"UBO 2"},{"$f":"IF($P$5=\"Course 1\",Général!I$137,IF($P$5=\"Course 2\",Général!I$139,IF($P$5=\"Course 3\",Général!I$141,Général!#REF!)))","v":"ENSTA Paris"},{"$f":"IF($Q$5=\"Course 1\",Général!I$145,IF($Q$5=\"Course 2\",Général!I$147,IF($Q$5=\"Course 3\",Général!I$149,Général!#REF!)))","v":"ENSTA Paris"},{"$f":"IF($R$5=\"Course 1\",Général!I$153,IF($R$5=\"Course 2\",Général!I$155,IF($R$5=\"Course 3\",Général!I$157,Général!#REF!)))","v":"Southampton"},{"$f":"IF($S$5=\"Course 1\",Général!I$161,IF($S$5=\"Course 2\",Général!I$163,IF($S$5=\"Course 3\",Général!I$165,Général!#REF!)))","v":"ENSTA Bretagne 1"},{"$f":"IF($T$5=\"Course 1\",Général!I$169,IF($T$5=\"Course 2\",Général!I$171,IF($T$5=\"Course 3\",Général!I$173,Général!#REF!)))","v":"Karlsruhe"},null,{"$f":"Général!B17","v":"IMT Atlantique Brest"},4]
["9ème Equipage",null,{"$f":"IF($C$5=\"Course 1\",Général!J33,IF($C$5=\"Course 2\",Général!J35,IF($C$5=\"Course 3\",Général!J37,Général!#REF!)))","v":"Southampton"},{"$f":"IF($D$5=\"Course 1\",Général!J41,IF($D$5=\"Course 2\",Général!J43,IF($D$5=\"Course 3\",Général!J45,Général!#REF!)))","v":"Centrales Nantes"},{"$f":"IF($E$5=\"Course 1\",Général!J49,IF($E$5=\"Course 2\",Général!J51,IF($E$5=\"Course 3\",Général!J53,Général!#REF!)))","v":"Hambourg"},{"$f":"IF($F$5=\"Course 1\",Général!J$57,IF($F$5=\"Course 2\",Général!J$59,IF($F$5=\"Course 3\",Général!J$61,Général!#REF!)))","v":"ENSTA Paris"},{"$f":"IF($G$5=\"Course 1\",Général!J$65,IF($G$5=\"Course 2\",Général!J$67,IF($G$5=\"Course 3\",Général!J$69,Général!#REF!)))","v":"ENSTA Bretagne 1"},{"$f":"IF($H$5=\"Course 1\",Général!J$73,IF($H$5=\"Course 2\",Général!J$75,IF($H$5=\"Course 3\",Général!$J77,Général!#REF!)))","v":"IMT Atlantique Nantes 1"},{"$f":"IF($I$5=\"Course 1\",Général!J$81,IF($I$5=\"Course 2\",Général!J$83,IF($I$5=\"Course 3\",Général!J$85,Général!#REF!)))","v":"AS Paris 1 Panthéon Sorbonne"},{"$f":"IF($J$5=\"Course 1\",Général!J$89,IF($J$5=\"Course 2\",Général!J$91,IF($J$5=\"Course 3\",Général!J$93,Général!#REF!)))","v":"Univ. Nantes 3"},{"$f":"IF($K$5=\"Course 1\",Général!J$97,IF($K$5=\"Course 2\",Général!J$99,IF($K$5=\"Course 3\",Général!J$101,Général!#REF!)))","v":"UBS Lorient 2"},{"$f":"IF($L$5=\"Course 1\",Général!J$105,IF($L$5=\"Course 2\",Général!J$107,IF($L$5=\"Course 3\",Général!J$109,Général!#REF!)))","v":"Hannovre"},{"$f":"IF($M$5=\"Course 1\",Général!J$113,IF($M$5=\"Course 2\",Général!J$115,IF($M$5=\"Course 3\",Général!J$117,Général!#REF!)))","v":"ASUL Lannion"},{"$f":"IF($N$5=\"Course 1\",Général!J$121,IF($N$5=\"Course 2\",Général!J$123,IF($N$5=\"Course 3\",Général!J$125,Général!#REF!)))","v":"ENSTA Bretagne 1"},{"$f":"IF($O$5=\"Course 1\",Général!J$129,IF($O$5=\"Course 2\",Général!J$131,IF($O$5=\"Course 3\",Général!J$133,Général!#REF!)))","v":"ENSTA Bretagne 2"},{"$f":"IF($P$5=\"Course 1\",Général!J$137,IF($P$5=\"Course 2\",Général!J$139,IF($P$5=\"Course 3\",Général!J$141,Général!#REF!)))","v":"UBO 2"},{"$f":"IF($Q$5=\"Course 1\",Général!J$145,IF($Q$5=\"Course 2\",Général!J$147,IF($Q$5=\"Course 3\",Général!J$149,Général!#REF!)))","v":"UBO 2"},{"$f":"IF($R$5=\"Course 1\",Général!J$153,IF($R$5=\"Course 2\",Général!J$155,IF($R$5=\"Course 3\",Général!J$157,Général!#REF!)))","v":"Hambourg"},{"$f":"IF($S$5=\"Course 1\",Général!J$161,IF($S$5=\"Course 2\",Général!J$163,IF($S$5=\"Course 3\",Général!J$165,Général!#REF!)))","v":"IMT Atlantique Nantes 2"},{"$f":"IF($T$5=\"Course 1\",Général!J$169,IF($T$5=\"Course 2\",Général!J$171,IF($T$5=\"Course 3\",Général!J$173,Général!#REF!)))","v":"IMT Atlantique Nantes 1"},null,{"$f":"Général!B18","v":"UBO 2"},18]
[null,null,null,null,null,null,null,null,null,null,null,null,null,null,null,null,null,null,null,null,null,{"$f":"Général!B19","v":"Dublin"},6]
[null,null,null,null,null,null,null,null,null,null,null,null,null,null,null,null,null,null,null,null,null,{"$f":"Général!B20","v":"Univ. Nantes 2"},4]
[null,null,null,null,null,null,null,null,null,null,null,null,null,null,null,null,null,null,null,null,null,{"$f":"Général!B21","v":"UBS Lorient 1"},6]
[null,null,null,null,null,null,null,null,null,null,null,null,null,null,null,null,null,null,null,null,null,{"$f":"Général!B22","v":"UBS Lorient 2"},6]
[null,null,null,null,null,null,null,null,null,null,null,null,null,null,null,null,null,null,null,null,null,{"$f":"Général!B23","v":"Univ.Orléans"},6]
[null,null,null,null,null,null,null,null,null,null,null,null,null,null,null,null,null,null,null,null,null,{"$f":"Général!B24","v":"Univ. La Rochelle"},4]
[null,null,null,null,null,null,null,null,null,null,null,null,null,null,null,null,null,null,null,null,null,{"$f":"Général!B25","v":"AS UB St Brieuc"},4]
[null,null,null,null,null,null,null,null,null,null,null,null,null,null,null,null,null,null,null,null,null,{"$f":"Général!B26","v":"Karlsruhe"},5]
[null,null,null,null,null,null,null,null,null,null,null,null,null,null,null,null,null,null,null,null,null,{"$f":"Général!B27","v":"Univ. Nantes 3"},6]
[null,null,null,null,null,null,null,null,null,null,null,null,null,null,null,null,null,null,null,null,null,{"$f":"Général!B28","v":"Centrales Nantes"},4]
[null,null,null,null,null,null,null,null,null,null,null,null,null,null,null,null,null,null,null,null,null,{"$f":"Général!B29","v":"Southampton"},6]
[null,null,null,null,null,null,null,null,null,null,null,null,null,null,null,null,null,null,null,null,null,{"$f":"Général!#REF!","v":{"$error":"#REF!"}},0]
[null,null,null,null,null,null,null,null,null,null,null,null,null,null,null,null,null,null,null,null,null,{"$f":"Général!#REF!","v":{"$error":"#REF!"}},0]
[null,null,null,null,null,null,null,null,null,null,null,null,null,null,null,null,null,null,null,null,null,{"$f":"Général!#REF!","v":{"$error":"#REF!"}},0]
[null,null,null,null,null,null,null,null,null,null,null,null,null,null,null,null,null,null,null,null,null,{"$f":"Général!#REF!","v":{"$error":"#REF!"}},0]
[null,null,null,null,null,null,null,null,null,null,null,null,null,null,null,null,null,null,null,null,null,{"$f":"Général!#REF!","v":{"$error":"#REF!"}},0]

{"sheet":"Eq.17","index":21,"n_rows":32,"n_cols":23,"rows_kept":32,"cut":false,"hidden":false,"merged":[[14,0,14,1],[15,0,15,1],[8,0,8,1],[9,0,9,1],[10,0,10,1],[11,0,11,1],[12,0,12,1],[13,0,13,1],[7,0,7,1],[0,0,1,5],[0,6,1,10],[3,0,3,1],[4,0,4,1],[5,0,5,1]]}
["Equipage ",null,null,null,null,null,{"$f":"Général!B19","v":"Dublin"},null,null,null,null,null,null,null,null,null,null,null,null,null,null,{"$f":"Général!B3","v":"Univ. Nantes 1"},{"$f":"COUNTIF(C$8:T$16,V1)","v":4}]
[null,null,null,null,null,null,null,null,null,null,null,null,null,null,null,null,null,null,null,null,null,{"$f":"Général!B4","v":"AS Paris 1 Panthéon Sorbonne"},{"$f":"COUNTIF($C$8:$T$16,V2)","v":7}]
[null,null,null,null,null,null,null,null,null,null,null,null,null,null,null,null,null,null,null,null,null,{"$f":"Général!B5","v":"Hannovre"},{"$f":"COUNTIF($C$8:$T$16,V3)","v":4}]
[null,null,"FLIGHT 1","FLIGHT 2","FLIGHT 3","FLIGHT 4","FLIGHT 5","FLIGHT 6","FLIGHT 7","FLIGHT 8","FLIGHT 9","FLIGHT 10","FLIGHT 11","FLIGHT 12","FLIGHT 13","FLIGHT 14","FLIGHT 15","FLIGHT 16","FLIGHT 17","FLIGHT 18",null,{"$f":"Général!B6","v":"IMT Atlantique Nantes 1"},6]
["N° de course",null,{"$f":"IF(COUNTIF(Général!B33:J33,$G$1)=1,\"Course 1\",IF(COUNTIF(Général!B35:J35,$G$1)=1,\"Course 2\",IF(COUNTIF(Général!B37:J37,$G$1)=1,\"Course 3\",\"Course 4\")))","v":"Course 3"},{"$f":"IF(COUNTIF(Général!B41:J41,$G$1)=1,\"Course 1\",IF(COUNTIF(Général!B43:J43,$G$1)=1,\"Course 2\",IF(COUNTIF(Général!B45:J45,$G$1)=1,\"Course 3\",\"Course 4\")))","v":"Course 1"},{"$f":"IF(COUNTIF(Général!B49:J49,$G$1)=1,\"Course 1\",IF(COUNTIF(Général!B51:J51,$G$1)=1,\"Course 2\",IF(COUNTIF(Général!B53:J53,$G$1)=1,\"Course 3\",\"Course 4\")))","v":"Course 2"},{"$f":"IF(COUNTIF(Général!B57:J57,$G$1)=1,\"Course 1\",IF(COUNTIF(Général!B59:J59,$G$1)=1,\"Course 2\",IF(COUNTIF(Général!B61:J61,$G$1)=1,\"Course 3\",\"Course 4\")))","v":"Course 2"},{"$f":"IF(COUNTIF(Général!B65:J65,$G$1)=1,\"Course 1\",IF(COUNTIF(Général!B67:J67,$G$1)=1,\"Course 2\",IF(COUNTIF(Général!B69:J69,$G$1)=1,\"Course 3\",\"Course 4\")))","v":"Course 1"},{"$f":"IF(COUNTIF(Général!B73:J73,$G$1)=1,\"Course 1\",IF(COUNTIF(Général!B75:J75,$G$1)=1,\"Course 2\",IF(COUNTIF(Général!B77:J77,$G$1)=1,\"Course 3\",\"Course 4\")))","v":"Course 1"},{"$f":"IF(COUNTIF(Général!B81:J81,$G$1)=1,\"Course 1\",IF(COUNTIF(Général!B83:J83,$G$1)=1,\"Course 2\",IF(COUNTIF(Général!B85:J85,$G$1)=1,\"Course 3\",\"Course 4\")))","v":"Course 1"},{"$f":"IF(COUNTIF(Général!B89:J89,$G$1)=1,\"Course 1\",IF(COUNTIF(Général!B91:J91,$G$1)=1,\"Course 2\",IF(COUNTIF(Général!B93:J93,$G$1)=1,\"Course 3\",\"Course 4\")))","v":"Course 1"},{"$f":"IF(COUNTIF(Général!B97:J97,$G$1)=1,\"Course 1\",IF(COUNTIF(Général!B99:J99,$G$1)=1,\"Course 2\",IF(COUNTIF(Général!B101:J101,$G$1)=1,\"Course 3\",\"Course 4\")))","v":"Course 1"},{"$f":"IF(COUNTIF(Général!B105:J105,$G$1)=1,\"Course 1\",IF(COUNTIF(Général!B107:J107,$G$1)=1,\"Course 2\",IF(COUNTIF(Général!B109:J109,$G$1)=1,\"Course 3\",\"Course 4\")))","v":"Course 1"},{"$f":"IF(COUNTIF(Général!B113:J113,$G$1)=1,\"Course 1\",IF(COUNTIF(Général!B115:J115,$G$1)=1,\"Course 2\",IF(COUNTIF(Général!B117:J117,$G$1)=1,\"Course 3\",\"Course 4\")))","v":"Course 3"},{"$f":"IF(COUNTIF(Général!B121:J121,$G$1)=1,\"Course 1\",IF(COUNTIF(Général!B123:J123,$G$1)=1,\"Course 2\",IF(COUNTIF(Général!B125:J125,$G$1)=1,\"Course 3\",\"Course 4\")))","v":"Course 2"},{"$f":"IF(COUNTIF(Général!B129:J129,$G$1)=1,\"Course 1\",IF(COUNTIF(Général!B131:J131,$G$1)=1,\"Course 2\",IF(COUNTIF(Général!B133:J133,$G$1)=1,\"Course 3\",\"Course 4\")))","v":"Course 2"},{"$f":"IF(COUNTIF(Général!B137:J137,$G$1)=1,\"Course 1\",IF(COUNTIF(Général!B139:J139,$G$1)=1,\"Course 2\",IF(COUNTIF(Général!B141:J141,$G$1)=1,\"Course 3\",\"Course 4\")))","v":"Course 1"},{"$f":"IF(COUNTIF(Général!B145:J145,$G$1)=1,\"Course 1\",IF(COUNTIF(Général!B147:J147,$G$1)=1,\"Course 2\",IF(COUNTIF(Général!B149:J149,$G$1)=1,\"Course 3\",\"Course 4\")))","v":"Course 2"},{"$f":"IF(COUNTIF(Général!B153:J153,$G$1)=1,\"Course 1\",IF(COUNTIF(Général!B155:J155,$G$1)=1,\"Course 2\",IF(COUNTIF(Général!B157:J157,$G$1)=1,\"Course 3\",\"Course 4\")))","v":"Course 2"},{"$f":"IF(COUNTIF(Général!B161:J161,$G$1)=1,\"Course 1\",IF(COUNTIF(Général!B163:J163,$G$1)=1,\"Course 2\",IF(COUNTIF(Général!B165:J165,$G$1)=1,\"Course 3\",\"Course 4\")))","v":"Course 1"},{"$f":"IF(COUNTIF(Général!B169:J169,$G$1)=1,\"Course 1\",IF(COUNTIF(Général!B171:J171,$G$1)=1,\"Course 2\",IF(COUNTIF(Général!B173:J173,$G$1)=1,\"Course 3\",\"Course 4\")))","v":"Course 2"},null,{"$f":"Général!B7","v":"ENSTA Bretagne 2"},7]
["Bateau",null,{"$f":"IF(COUNTIF(Général!B33:B38,$G$1)=1,\"Boat 1\",IF(COUNTIF(Général!C33:C38,$G$1)=1,\"Boat 2\",IF(COUNTIF(Général!D33:D38,$G$1)=1,\"Boat 3\", IF(COUNTIF(Général!E33:E38,$G$1)=1,\"Boat 4\", IF(COUNTIF(Général!F33:F38,$G$1)=1,\"Boat 5\", IF(COUNTIF(Général!G33:G38,$G$1)=1,\"Boat 6\", IF(COUNTIF(Général!H33:H38,$G$1)=1,\"Boat 7\",IF(COUNTIF(Général!I33:I38,$G$1)=1,\"Boat 8\",\"Boat 9\"))))))))","v":"Boat 4"},{"$f":"IF(COUNTIF(Général!B41:B46,$G$1)=1,\"Boat 1\",IF(COUNTIF(Général!C41:C46,$G$1)=1,\"Boat 2\",IF(COUNTIF(Général!D41:D46,$G$1)=1,\"Boat 3\", IF(COUNTIF(Général!E41:E46,$G$1)=1,\"Boat 4\", IF(COUNTIF(Général!F41:F46,$G$1)=1,\"Boat 5\", IF(COUNTIF(Général!G41:G46,$G$1)=1,\"Boat 6\", IF(COUNTIF(Général!H41:H46,$G$1)=1,\"Boat 7\",IF(COUNTIF(Général!I33:I38,$G$1)=1,\"Boat 8\",\"Boat 9\"))))))))","v":"Boat 4"},{"$f":"IF(COUNTIF(Général!B49:B54,$G$1)=1,\"Boat 1\",IF(COUNTIF(Général!C49:C54,$G$1)=1,\"Boat 2\",IF(COUNTIF(Général!D49:D54,$G$1)=1,\"Boat 3\", IF(COUNTIF(Général!E49:E54,$G$1)=1,\"Boat 4\", IF(COUNTIF(Général!F49:F54,$G$1)=1,\"Boat 5\", IF(COUNTIF(Général!G49:G54,$G$1)=1,\"Boat 6\", IF(COUNTIF(Général!H49:H54,$G$1)=1,\"Boat 7\",IF(COUNTIF(Général!I33:I38,$G$1)=1,\"Boat 8\",\"Boat 9\"))))))))","v":"Boat 3"},{"$f":"IF(COUNTIF(Général!B57:B62,$G$1)=1,\"Boat 1\",IF(COUNTIF(Général!C57:C62,$G$1)=1,\"Boat 2\",IF(COUNTIF(Général!D57:D62,$G$1)=1,\"Boat 3\", IF(COUNTIF(Général!E57:E62,$G$1)=1,\"Boat 4\", IF(COUNTIF(Général!F57:F62,$G$1)=1,\"Boat 5\", IF(COUNTIF(Général!G57:G62,$G$1)=1,\"Boat 6\", IF(COUNTIF(Général!H57:H62,$G$1)=1,\"Boat 7\",IF(COUNTIF(Général!I33:I38,$G$1)=1,\"Boat 8\",\"Boat 9\"))))))))","v":"Boat 6"},{"$f":"IF(COUNTIF(Général!B65:B70,$G$1)=1,\"Boat 1\",IF(COUNTIF(Général!C65:C70,$G$1)=1,\"Boat 2\",IF(COUNTIF(Général!D65:D70,$G$1)=1,\"Boat 3\", IF(COUNTIF(Général!E65:E70,$G$1)=1,\"Boat 4\", IF(COUNTIF(Général!F65:F70,$G$1)=1,\"Boat 5\", IF(COUNTIF(Général!G65:G70,$G$1)=1,\"Boat 6\", IF(COUNTIF(Général!H65:H70,$G$1)=1,\"Boat 7\",IF(COUNTIF(Général!I33:I38,$G$1)=1,\"Boat 8\",\"Boat 9\"))))))))","v":"Boat 2"},{"$f":"IF(COUNTIF(Général!B73:B78,$G$1)=1,\"Boat 1\",IF(COUNTIF(Général!C73:C78,$G$1)=1,\"Boat 2\",IF(COUNTIF(Général!D73:D78,$G$1)=1,\"Boat 3\", IF(COUNTIF(Général!E73:E78,$G$1)=1,\"Boat 4\", IF(COUNTIF(Général!F73:F78,$G$1)=1,\"Boat 5\", IF(COUNTIF(Général!G73:G78,$G$1)=1,\"Boat 6\", IF(COUNTIF(Général!H73:H78,$G$1)=1,\"Boat 7\",IF(COUNTIF(Général!I33:I38,$G$1)=1,\"Boat 8\",\"Boat 9\"))))))))","v":"Boat 9"},{"$f":"IF(COUNTIF(Général!B81:B86,$G$1)=1,\"Boat 1\",IF(COUNTIF(Général!C81:C86,$G$1)=1,\"Boat 2\",IF(COUNTIF(Général!D81:D86,$G$1)=1,\"Boat 3\", IF(COUNTIF(Général!E81:E86,$G$1)=1,\"Boat 4\", IF(COUNTIF(Général!F81:F86,$G$1)=1,\"Boat 5\", IF(COUNTIF(Général!G81:G86,$G$1)=1,\"Boat 6\", IF(COUNTIF(Général!H81:H86,$G$1)=1,\"Boat 7\",IF(COUNTIF(Général!I33:I38,$G$1)=1,\"Boat 8\",\"Boat 9\"))))))))","v":"Boat 1"},{"$f":"IF(COUNTIF(Général!B89:B94,$G$1)=1,\"Boat 1\",IF(COUNTIF(Général!C89:C94,$G$1)=1,\"Boat 2\",IF(COUNTIF(Général!D89:D94,$G$1)=1,\"Boat 3\", IF(COUNTIF(Général!E89:E94,$G$1)=1,\"Boat 4\", IF(COUNTIF(Général!F89:F94,$G$1)=1,\"Boat 5\", IF(COUNTIF(Général!G89:G94,$G$1)=1,\"Boat 6\", IF(COUNTIF(Général!H89:H94,$G$1)=1,\"Boat 7\",IF(COUNTIF(Général!I33:I38,$G$1)=1,\"Boat 8\",\"Boat 9\"))))))))","v":"Boat 1"},{"$f":"IF(COUNTIF(Général!B97:B102,$G$1)=1,\"Boat 1\",IF(COUNTIF(Général!C97:C102,$G$1)=1,\"Boat 2\",IF(COUNTIF(Général!D97:D102,$G$1)=1,\"Boat 3\", IF(COUNTIF(Général!E97:E102,$G$1)=1,\"Boat 4\", IF(COUNTIF(Général!F97:F102,$G$1)=1,\"Boat 5\", IF(COUNTIF(Général!G97:G102,$G$1)=1,\"Boat 6\", IF(COUNTIF(Général!H97:H102,$G$1)=1,\"Boat 7\",IF(COUNTIF(Général!I33:I38,$G$1)=1,\"Boat 8\",\"Boat 9\"))))))))","v":"Boat 5"},{"$f":"IF(COUNTIF(Général!B105:B110,$G$1)=1,\"Boat 1\",IF(COUNTIF(Général!C105:C110,$G$1)=1,\"Boat 2\",IF(COUNTIF(Général!D105:D110,$G$1)=1,\"Boat 3\", IF(COUNTIF(Général!E105:E110,$G$1)=1,\"Boat 4\", IF(COUNTIF(Général!F105:F110,$G$1)=1,\"Boat 5\", IF(COUNTIF(Général!G105:G110,$G$1)=1,\"Boat 6\", IF(COUNTIF(Général!H105:H110,$G$1)=1,\"Boat 7\",IF(COUNTIF(Général!I33:I38,$G$1)=1,\"Boat 8\",\"Boat 9\"))))))))","v":"Boat 9"},{"$f":"IF(COUNTIF(Général!B113:B118,$G$1)=1,\"Boat 1\",IF(COUNTIF(Général!C113:C118,$G$1)=1,\"Boat 2\",IF(COUNTIF(Général!C113:D118,$G$1)=1,\"Boat 3\", IF(COUNTIF(Général!C113:E118,$G$1)=1,\"Boat 4\", IF(COUNTIF(Général!F113:F118,$G$1)=1,\"Boat 5\", IF(COUNTIF(Général!G113:G118,$G$1)=1,\"Boat 6\", IF(COUNTIF(Général!H113:H118,$G$1)=1,\"Boat 7\",IF(COUNTIF(Général!I33:I38,$G$1)=1,\"Boat 8\",\"Boat 9\"))))))))","v":"Boat 7"},{"$f":"IF(COUNTIF(Général!B121:B126,$G$1)=1,\"Boat 1\",IF(COUNTIF(Général!C121:C126,$G$1)=1,\"Boat 2\",IF(COUNTIF(Général!D121:D126,$G$1)=1,\"Boat 3\", IF(COUNTIF(Général!E121:E126,$G$1)=1,\"Boat 4\", IF(COUNTIF(Général!F121:F126,$G$1)=1,\"Boat 5\", IF(COUNTIF(Général!G121:G126,$G$1)=1,\"Boat 6\", IF(COUNTIF(Général!H121:H126,$G$1)=1,\"Boat 7\",IF(COUNTIF(Général!I33:I38,$G$1)=1,\"Boat 8\",\"Boat 9\"))))))))","v":"Boat 2"},{"$f":"IF(COUNTIF(Général!B129:B134,$G$1)=1,\"Boat 1\",IF(COUNTIF(Général!C129:C134,$G$1)=1,\"Boat 2\",IF(COUNTIF(Général!D131:D134,$G$1)=1,\"Boat 3\", IF(COUNTIF(Général!E129:E134,$G$1)=1,\"Boat 4\", IF(COUNTIF(Général!F129:F134,$G$1)=1,\"Boat 5\", IF(COUNTIF(Général!G129:G134,$G$1)=1,\"Boat 6\", IF(COUNTIF(Général!H129:H134,$G$1)=1,\"Boat 7\",IF(COUNTIF(Général!I33:I38,$G$1)=1,\"Boat 8\",\"Boat 9\"))))))))","v":"Boat 9"},{"$f":"IF(COUNTIF(Général!B137:B142,$G$1)=1,\"Boat 1\",IF(COUNTIF(Général!C137:C142,$G$1)=1,\"Boat 2\",IF(COUNTIF(Général!D137:D142,$G$1)=1,\"Boat 3\", IF(COUNTIF(Général!E137:E142,$G$1)=1,\"Boat 4\", IF(COUNTIF(Général!F145:F150,$G$1)=1,\"Boat 5\", IF(COUNTIF(Général!G145:G150,$G$1)=1,\"Boat 6\", IF(COUNTIF(Général!H145:H150,$G$1)=1,\"Boat 7\",IF(COUNTIF(Général!I33:I38,$G$1)=1,\"Boat 8\",\"Boat 9\"))))))))","v":"Boat 6"},{"$f":"IF(COUNTIF(Général!B145:B150,$G$1)=1,\"Boat 1\",IF(COUNTIF(Général!C145:C150,$G$1)=1,\"Boat 2\",IF(COUNTIF(Général!D145:D150,$G$1)=1,\"Boat 3\", IF(COUNTIF(Général!E145:E150,$G$1)=1,\"Boat 4\", IF(COUNTIF(Général!F145:F150,$G$1)=1,\"Boat 5\", IF(COUNTIF(Général!G145:G150,$G$1)=1,\"Boat 6\", IF(COUNTIF(Général!H145:H150,$G$1)=1,\"Boat 7\",IF(COUNTIF(Général!I33:I38,$G$1)=1,\"Boat 8\",\"Boat 9\"))))))))","v":"Boat 6"},{"$f":"IF(COUNTIF(Général!B153:B158,$G$1)=1,\"Boat 1\",IF(COUNTIF(Général!C153:C158,$G$1)=1,\"Boat 2\",IF(COUNTIF(Général!D153:D158,$G$1)=1,\"Boat 3\", IF(COUNTIF(Général!E153:E158,$G$1)=1,\"Boat 4\", IF(COUNTIF(Général!F153:F158,$G$1)=1,\"Boat 5\", IF(COUNTIF(Général!G153:G158,$G$1)=1,\"Boat 6\", IF(COUNTIF(Général!H153:H158,$G$1)=1,\"Boat 7\",IF(COUNTIF(Général!I33:I38,$G$1)=1,\"Boat 8\",\"Boat 9\"))))))))","v":"Boat 1"},{"$f":"IF(COUNTIF(Général!B161:B166,$G$1)=1,\"Boat 1\",IF(COUNTIF(Général!C161:C166,$G$1)=1,\"Boat 2\",IF(COUNTIF(Général!D161:D166,$G$1)=1,\"Boat 3\", IF(COUNTIF(Général!E161:E166,$G$1)=1,\"Boat 4\", IF(COUNTIF(Général!F161:F166,$G$1)=1,\"Boat 5\", IF(COUNTIF(Général!G161:G166,$G$1)=1,\"Boat 6\", IF(COUNTIF(Général!H161:H166,$G$1)=1,\"Boat 7\",IF(COUNTIF(Général!I33:I38,$G$1)=1,\"Boat 8\",\"Boat 9\"))))))))","v":"Boat 6"},{"$f":"IF(COUNTIF(Général!B169:B174,$G$1)=1,\"Boat 1\",IF(COUNTIF(Général!C169:C174,$G$1)=1,\"Boat 2\",IF(COUNTIF(Général!D169:D174,$G$1)=1,\"Boat 3\", IF(COUNTIF(Général!E169:E174,$G$1)=1,\"Boat 4\", IF(COUNTIF(Général!F169:F174,$G$1)=1,\"Boat 5\", IF(COUNTIF(Général!G169:G174,$G$1)=1,\"Boat 6\", IF(COUNTIF(Général!H169:H174,$G$1)=1,\"Boat 7\",IF(COUNTIF(Général!I33:I38,$G$1)=1,\"Boat 8\",\"Boat 9\"))))))))","v":"Boat 2"},null,{"$f":"Général!B8","v":"IMT Atlantique Nantes 2"},5]
[null,null,null,null,null,null,null,null,null,null,null,null,null,null,null,null,null,null,null,null,null,{"$f":"Général!B9","v":"Hambourg"},6]
["1er Equipage",null,{"$f":"IF($C$5=\"Course 1\",Général!B33,IF($C$5=\"Course 2\",Général!B35,IF($C$5=\"Course 3\",Général!B37,Général!#REF!)))","v":"UBS Lorient 2"},{"$f":"IF($D$5=\"Course 1\",Général!B41,IF($D$5=\"Course 2\",Général!B43,IF($D$5=\"Course 3\",Général!B45,Général!#REF!)))","v":"ENSTA Paris"},{"$f":"IF($E$5=\"Course 1\",Général!B49,IF($E$5=\"Course 2\",Général!B51,IF($E$5=\"Course 3\",Général!B53,Général!#REF!)))","v":"IMT Atlantique Nantes 2"},{"$f":"IF($F$5=\"Course 1\",Général!B$57,IF($F$5=\"Course 2\",Général!B$59,IF($F$5=\"Course 3\",Général!B$61,Général!#REF!)))","v":"Univ.Orléans"},{"$f":"IF($G$5=\"Course 1\",Général!B$65,IF($G$5=\"Course 2\",Général!B$67,IF($G$5=\"Course 3\",Général!B$69,Général!#REF!)))","v":"IMT Atlantique Brest"},{"$f":"IF($H$5=\"Course 1\",Général!B$73,IF($H$5=\"Course 2\",Général!B$75,IF($H$5=\"Course 3\",Général!B$77,Général!#REF!)))","v":"ENSTA Bretagne 1"},{"$f":"IF($I$5=\"Course 1\",Général!B$81,IF($I$5=\"Course 2\",Général!B$83,IF($I$5=\"Course 3\",Général!B$85,Général!#REF!)))","v":"Dublin"},{"$f":"IF($J$5=\"Course 1\",Général!B$89,IF($J$5=\"Course 2\",Général!B$91,IF($J$5=\"Course 3\",Général!B$93,Général!#REF!)))","v":"Dublin"},{"$f":"IF($K$5=\"Course 1\",Général!B$97,IF($K$5=\"Course 2\",Général!B$99,IF($K$5=\"Course 3\",Général!B$101,Général!#REF!)))","v":"AS Paris 1 Panthéon Sorbonne"},{"$f":"IF($L$5=\"Course 1\",Général!B$105,IF($L$5=\"Course 2\",Général!B$107,IF($L$5=\"Course 3\",Général!B$109,Général!#REF!)))","v":"Centrales Nantes"},{"$f":"IF($M$5=\"Course 1\",Général!B$113,IF($M$5=\"Course 2\",Général!B$115,IF($M$5=\"Course 3\",Général!B$117,Général!#REF!)))","v":"Karlsruhe"},{"$f":"IF($N$5=\"Course 1\",Général!B$121,IF($N$5=\"Course 2\",Général!B$123,IF($N$5=\"Course 3\",Général!B$125,Général!#REF!)))","v":"IMT Atlantique Nantes 1"},{"$f":"IF($O$5=\"Course 1\",Général!B$129,IF($O$5=\"Course 2\",Général!B$131,IF($O$5=\"Course 3\",Général!B$133,Général!#REF!)))","v":"Southampton"},{"$f":"IF($P$5=\"Course 1\",Général!B$137,IF($P$5=\"Course 2\",Général!B$139,IF($P$5=\"Course 3\",Général!B$141,Général!#REF!)))","v":"UBS Lorient 1"},{"$f":"IF($Q$5=\"Course 1\",Général!B$145,IF($Q$5=\"Course 2\",Général!B$147,IF($Q$5=\"Course 3\",Général!B$149,Général!#REF!)))","v":"EGSI La Rochelle"},{"$f":"IF($R$5=\"Course 1\",Général!B$153,IF($R$5=\"Course 2\",Général!B$155,IF($R$5=\"Course 3\",Général!B$157,Général!#REF!)))","v":"Dublin"},{"$f":"IF($S$5=\"Course 1\",Général!B$161,IF($S$5=\"Course 2\",Général!B$163,IF($S$5=\"Course 3\",Général!B$165,Général!#REF!)))","v":"AS UB St Brieuc"},{"$f":"IF($T$5=\"Course 1\",Général!B$169,IF($T$5=\"Course 2\",Général!B$171,IF($T$5=\"Course 3\",Général!B$173,Général!#REF!)))","v":"UBO 2"},null,{"$f":"Général!B10","v":"EGSI La Rochelle"},6]
["2nd Equipage",null,{"$f":"IF($C$5=\"Course 1\",Général!C33,IF($C$5=\"Course 2\",Général!C35,IF($C$5=\"Course 3\",Général!C37,Général!#REF!)))","v":"IMT Atlantique Nantes 2"},{"$f":"IF($D$5=\"Course 1\",Général!C41,IF($D$5=\"Course 2\",Général!C43,IF($D$5=\"Course 3\",Général!C45,Général!#REF!)))","v":"UNICAEN - ASSUCherbourg"},{"$f":"IF($E$5=\"Course 1\",Général!C49,IF($E$5=\"Course 2\",Général!C51,IF($E$5=\"Course 3\",Général!C53,Général!#REF!)))","v":"Karlsruhe"},{"$f":"IF($F$5=\"Course 1\",Général!C$57,IF($F$5=\"Course 2\",Général!C$59,IF($F$5=\"Course 3\",Général!C$61,Général!#REF!)))","v":"AS Paris 1 Panthéon Sorbonne"},{"$f":"IF($G$5=\"Course 1\",Général!C$65,IF($G$5=\"Course 2\",Général!C$67,IF($G$5=\"Course 3\",Général!C$69,Général!#REF!)))","v":"Dublin"},{"$f":"IF($H$5=\"Course 1\",Général!C$73,IF($H$5=\"Course 2\",Général!C$75,IF($H$5=\"Course 3\",Général!C$77,Général!#REF!)))","v":"UBS Lorient 2"},{"$f":"IF($I$5=\"Course 1\",Général!C$81,IF($I$5=\"Course 2\",Général!C$83,IF($I$5=\"Course 3\",Général!C$85,Général!#REF!)))","v":"Hambourg"},{"$f":"IF($J$5=\"Course 1\",Général!C$89,IF($J$5=\"Course 2\",Général!C$91,IF($J$5=\"Course 3\",Général!C$93,Général!#REF!)))","v":"Univ.Orléans"},{"$f":"IF($K$5=\"Course 1\",Général!C$97,IF($K$5=\"Course 2\",Général!C$99,IF($K$5=\"Course 3\",Général!C$101,Général!#REF!)))","v":"ASUL Lannion"},{"$f":"IF($L$5=\"Course 1\",Général!C$105,IF($L$5=\"Course 2\",Général!C$107,IF($L$5=\"Course 3\",Général!C$109,Général!#REF!)))","v":"AS UB St Brieuc"},{"$f":"IF($M$5=\"Course 1\",Général!C$113,IF($M$5=\"Course 2\",Général!C$115,IF($M$5=\"Course 3\",Général!C$117,Général!#REF!)))","v":"ENSTA Bretagne 1"},{"$f":"IF($N$5=\"Course 1\",Général!C$121,IF($N$5=\"Course 2\",Général!C$123,IF($N$5=\"Course 3\",Général!C$125,Général!#REF!)))","v":"Dublin"},{"$f":"IF($O$5=\"Course 1\",Général!C$129,IF($O$5=\"Course 2\",Général!C$131,IF($O$5=\"Course 3\",Général!C$133,Général!#REF!)))","v":"HYDRO Sailing Team Le Havre"},{"$f":"IF($P$5=\"Course 1\",Général!C$137,IF($P$5=\"Course 2\",Général!C$139,IF($P$5=\"Course 3\",Général!C$141,Général!#REF!)))","v":"Univ. La Rochelle"},{"$f":"IF($Q$5=\"Course 1\",Général!C$145,IF($Q$5=\"Course 2\",Général!C$147,IF($Q$5=\"Course 3\",Général!C$149,Général!#REF!)))","v":"IMT Atlantique Brest"},{"$f":"IF($R$5=\"Course 1\",Général!C$153,IF($R$5=\"Course 2\",Général!C$155,IF($R$5=\"Course 3\",Général!C$157,Général!#REF!)))","v":"Univ. Nantes 1"},{"$f":"IF($S$5=\"Course 1\",Général!C$161,IF($S$5=\"Course 2\",Général!C$163,IF($S$5=\"Course 3\",Général!C$165,Général!#REF!)))","v":"AS Paris 1 Panthéon Sorbonne"},{"$f":"IF($T$5=\"Course 1\",Général!C$169,IF($T$5=\"Course 2\",Général!C$171,IF($T$5=\"Course 3\",Général!C$173,Général!#REF!)))","v":"Dublin"},null,{"$f":"Général!B11","v":"HYDRO Sailing Team Le Havre"},5]
["3ème Equipage",null,{"$f":"IF($C$5=\"Course 1\",Général!D33,IF($C$5=\"Course 2\",Général!D35,IF($C$5=\"Course 3\",Général!D37,Général!#REF!)))","v":"UBS Lorient 1"},{"$f":"IF($D$5=\"Course 1\",Général!D41,IF($D$5=\"Course 2\",Général!D43,IF($D$5=\"Course 3\",Général!D45,Général!#REF!)))","v":"Univ. Nantes 3"},{"$f":"IF($E$5=\"Course 1\",Général!D49,IF($E$5=\"Course 2\",Général!D51,IF($E$5=\"Course 3\",Général!D53,Général!#REF!)))","v":"Dublin"},{"$f":"IF($F$5=\"Course 1\",Général!D$57,IF($F$5=\"Course 2\",Général!D$59,IF($F$5=\"Course 3\",Général!D$61,Général!#REF!)))","v":"Karlsruhe"},{"$f":"IF($G$5=\"Course 1\",Général!D$65,IF($G$5=\"Course 2\",Général!D$67,IF($G$5=\"Course 3\",Général!D$69,Général!#REF!)))","v":"UBO 1"},{"$f":"IF($H$5=\"Course 1\",Général!D$73,IF($H$5=\"Course 2\",Général!D$75,IF($H$5=\"Course 3\",Général!D$77,Général!#REF!)))","v":"Univ. La Rochelle"},{"$f":"IF($I$5=\"Course 1\",Général!D$81,IF($I$5=\"Course 2\",Général!D$83,IF($I$5=\"Course 3\",Général!D$85,Général!#REF!)))","v":"Univ.Orléans"},{"$f":"IF($J$5=\"Course 1\",Général!D$89,IF($J$5=\"Course 2\",Général!D$91,IF($J$5=\"Course 3\",Général!D$93,Général!#REF!)))","v":"ASUL Lannion"},{"$f":"IF($K$5=\"Course 1\",Général!D$97,IF($K$5=\"Course 2\",Général!D$99,IF($K$5=\"Course 3\",Général!D$101,Général!#REF!)))","v":"ENSTA Paris"},{"$f":"IF($L$5=\"Course 1\",Général!D$105,IF($L$5=\"Course 2\",Général!D$107,IF($L$5=\"Course 3\",Général!D$109,Général!#REF!)))","v":"Southampton"},{"$f":"IF($M$5=\"Course 1\",Général!D$113,IF($M$5=\"Course 2\",Général!D$115,IF($M$5=\"Course 3\",Général!D$117,Général!#REF!)))","v":"UNICAEN - ASSUCherbourg"},{"$f":"IF($N$5=\"Course 1\",Général!D$121,IF($N$5=\"Course 2\",Général!D$123,IF($N$5=\"Course 3\",Général!D$125,Général!#REF!)))","v":"Hannovre"},{"$f":"IF($O$5=\"Course 1\",Général!D$129,IF($O$5=\"Course 2\",Général!D$131,IF($O$5=\"Course 3\",Général!D$133,Général!#REF!)))","v":"EGSI La Rochelle"},{"$f":"IF($P$5=\"Course 1\",Général!D$137,IF($P$5=\"Course 2\",Général!D$139,IF($P$5=\"Course 3\",Général!D$141,Général!#REF!)))","v":"ENSTA Bretagne 2"},{"$f":"IF($Q$5=\"Course 1\",Général!D$145,IF($Q$5=\"Course 2\",Général!D$147,IF($Q$5=\"Course 3\",Général!D$149,Général!#REF!)))","v":"Hambourg"},{"$f":"IF($R$5=\"Course 1\",Général!D$153,IF($R$5=\"Course 2\",Général!D$155,IF($R$5=\"Course 3\",Général!D$157,Général!#REF!)))","v":"UBO 2"},{"$f":"IF($S$5=\"Course 1\",Général!D$161,IF($S$5=\"Course 2\",Général!D$163,IF($S$5=\"Course 3\",Général!D$165,Général!#REF!)))","v":"Karlsruhe"},{"$f":"IF($T$5=\"Course 1\",Général!D$169,IF($T$5=\"Course 2\",Général!D$171,IF($T$5=\"Course 3\",Général!D$173,Général!#REF!)))","v":"Univ. Nantes 3"},null,{"$f":"Général!B12","v":"UNICAEN - ASSUCherbourg"},5]
["4ème Equipage",null,{"$f":"IF($C$5=\"Course 1\",Général!E33,IF($C$5=\"Course 2\",Général!E35,IF($C$5=\"Course 3\",Général!E37,Général!#REF!)))","v":"Dublin"},{"$f":"IF($D$5=\"Course 1\",Général!E41,IF($D$5=\"Course 2\",Général!E43,IF($D$5=\"Course 3\",Général!E45,Général!#REF!)))","v":"Dublin"},{"$f":"IF($E$5=\"Course 1\",Général!E49,IF($E$5=\"Course 2\",Général!E51,IF($E$5=\"Course 3\",Général!E53,Général!#REF!)))","v":"UBO 2"},{"$f":"IF($F$5=\"Course 1\",Général!E$57,IF($F$5=\"Course 2\",Général!E$59,IF($F$5=\"Course 3\",Général!E$61,Général!#REF!)))","v":"ASUL Lannion"},{"$f":"IF($G$5=\"Course 1\",Général!E$65,IF($G$5=\"Course 2\",Général!E$67,IF($G$5=\"Course 3\",Général!E$69,Général!#REF!)))","v":"UBS Lorient 1"},{"$f":"IF($H$5=\"Course 1\",Général!E$73,IF($H$5=\"Course 2\",Général!E$75,IF($H$5=\"Course 3\",Général!E$77,Général!#REF!)))","v":"HYDRO Sailing Team Le Havre"},{"$f":"IF($I$5=\"Course 1\",Général!E$81,IF($I$5=\"Course 2\",Général!E$83,IF($I$5=\"Course 3\",Général!E$85,Général!#REF!)))","v":"Hannovre"},{"$f":"IF($J$5=\"Course 1\",Général!E$89,IF($J$5=\"Course 2\",Général!E$91,IF($J$5=\"Course 3\",Général!E$93,Général!#REF!)))","v":"ENSTA Bretagne 1"},{"$f":"IF($K$5=\"Course 1\",Général!E$97,IF($K$5=\"Course 2\",Général!E$99,IF($K$5=\"Course 3\",Général!E$101,Général!#REF!)))","v":"UBO 1"},{"$f":"IF($L$5=\"Course 1\",Général!E$105,IF($L$5=\"Course 2\",Général!E$107,IF($L$5=\"Course 3\",Général!E$109,Général!#REF!)))","v":"Univ. Nantes 1"},{"$f":"IF($M$5=\"Course 1\",Général!E$113,IF($M$5=\"Course 2\",Général!E$115,IF($M$5=\"Course 3\",Général!E$117,Général!#REF!)))","v":"ENSTA Bretagne 2"},{"$f":"IF($N$5=\"Course 1\",Général!E$121,IF($N$5=\"Course 2\",Général!E$123,IF($N$5=\"Course 3\",Général!E$125,Général!#REF!)))","v":"Univ. La Rochelle"},{"$f":"IF($O$5=\"Course 1\",Général!E$129,IF($O$5=\"Course 2\",Général!E$131,IF($O$5=\"Course 3\",Général!E$133,Général!#REF!)))","v":"Hambourg"},{"$f":"IF($P$5=\"Course 1\",Général!E$137,IF($P$5=\"Course 2\",Général!E$139,IF($P$5=\"Course 3\",Général!E$141,Général!#REF!)))","v":"EGSI La Rochelle"},{"$f":"IF($Q$5=\"Course 1\",Général!E$145,IF($Q$5=\"Course 2\",Général!E$147,IF($Q$5=\"Course 3\",Général!E$149,Général!#REF!)))","v":"Centrales Nantes"},{"$f":"IF($R$5=\"Course 1\",Général!E$153,IF($R$5=\"Course 2\",Général!E$155,IF($R$5=\"Course 3\",Général!E$157,Général!#REF!)))","v":"UNICAEN - ASSUCherbourg"},{"$f":"IF($S$5=\"Course 1\",Général!E$161,IF($S$5=\"Course 2\",Général!E$163,IF($S$5=\"Course 3\",Général!E$165,Général!#REF!)))","v":"Univ. Nantes 2"},{"$f":"IF($T$5=\"Course 1\",Général!E$169,IF($T$5=\"Course 2\",Général!E$171,IF($T$5=\"Course 3\",Général!E$173,Général!#REF!)))","v":"Univ.Orléans"},null,{"$f":"Général!B13","v":"UBO 1"},4]
["5ème Equipage",null,{"$f":"IF($C$5=\"Course 1\",Général!F33,IF($C$5=\"Course 2\",Général!F35,IF($C$5=\"Course 3\",Général!F37,Général!#REF!)))","v":"ENSTA Bretagne 2"},{"$f":"IF($D$5=\"Course 1\",Général!F41,IF($D$5=\"Course 2\",Général!F43,IF($D$5=\"Course 3\",Général!F45,Général!#REF!)))","v":"ENSTA Bretagne 2"},{"$f":"IF($E$5=\"Course 1\",Général!F49,IF($E$5=\"Course 2\",Général!F51,IF($E$5=\"Course 3\",Général!F53,Général!#REF!)))","v":"IMT Atlantique Nantes 1"},{"$f":"IF($F$5=\"Course 1\",Général!F$57,IF($F$5=\"Course 2\",Général!F$59,IF($F$5=\"Course 3\",Général!F$61,Général!#REF!)))","v":"Centrales Nantes"},{"$f":"IF($G$5=\"Course 1\",Général!F$65,IF($G$5=\"Course 2\",Général!F$67,IF($G$5=\"Course 3\",Général!F$69,Général!#REF!)))","v":"Univ.Orléans"},{"$f":"IF($H$5=\"Course 1\",Général!F$73,IF($H$5=\"Course 2\",Général!F$75,IF($H$5=\"Course 3\",Général!F$77,Général!#REF!)))","v":"Univ. Nantes 3"},{"$f":"IF($I$5=\"Course 1\",Général!F$81,IF($I$5=\"Course 2\",Général!F$83,IF($I$5=\"Course 3\",Général!F$85,Général!#REF!)))","v":"UBO 2"},{"$f":"IF($J$5=\"Course 1\",Général!F$89,IF($J$5=\"Course 2\",Général!F$91,IF($J$5=\"Course 3\",Général!F$93,Général!#REF!)))","v":"AS UB St Brieuc"},{"$f":"IF($K$5=\"Course 1\",Général!F$97,IF($K$5=\"Course 2\",Général!F$99,IF($K$5=\"Course 3\",Général!F$101,Général!#REF!)))","v":"Dublin"},{"$f":"IF($L$5=\"Course 1\",Général!F$105,IF($L$5=\"Course 2\",Général!$F107,IF($L$5=\"Course 3\",Général!F$109,Général!#REF!)))","v":"IMT Atlantique Nantes 2"},{"$f":"IF($M$5=\"Course 1\",Général!F$113,IF($M$5=\"Course 2\",Général!F$115,IF($M$5=\"Course 3\",Général!F$117,Général!#REF!)))","v":"IMT Atlantique Nantes 1"},{"$f":"IF($N$5=\"Course 1\",Général!F$121,IF($N$5=\"Course 2\",Général!F$123,IF($N$5=\"Course 3\",Général!F$125,Général!#REF!)))","v":"Univ. Nantes 2"},{"$f":"IF($O$5=\"Course 1\",Général!F$129,IF($O$5=\"Course 2\",Général!F$131,IF($O$5=\"Course 3\",Général!F$133,Général!#REF!)))","v":"Univ. Nantes 1"},{"$f":"IF($P$5=\"Course 1\",Général!F$137,IF($P$5=\"Course 2\",Général!F$139,IF($P$5=\"Course 3\",Général!F$141,Général!#REF!)))","v":"Karlsruhe"},{"$f":"IF($Q$5=\"Course 1\",Général!F$145,IF($Q$5=\"Course 2\",Général!F$147,IF($Q$5=\"Course 3\",Général!F$149,Général!#REF!)))","v":"Univ. La Rochelle"},{"$f":"IF($R$5=\"Course 1\",Général!F$153,IF($R$5=\"Course 2\",Général!F$155,IF($R$5=\"Course 3\",Général!F$157,Général!#REF!)))","v":"UBO 1"},{"$f":"IF($S$5=\"Course 1\",Général!F$161,IF($S$5=\"Course 2\",Général!F$163,IF($S$5=\"Course 3\",Général!F$165,Général!#REF!)))","v":"ENSTA Paris"},{"$f":"IF($T$5=\"Course 1\",Général!F$169,IF($T$5=\"Course 2\",Général!F$171,IF($T$5=\"Course 3\",Général!F$173,Général!#REF!)))","v":"ENSTA Bretagne 1"},null,{"$f":"Général!B14","v":"ENSTA Bretagne 1"},5]
["6ème Equipage",null,{"$f":"IF($C$5=\"Course 1\",Général!G33,IF($C$5=\"Course 2\",Général!G35,IF($C$5=\"Course 3\",Général!G37,Général!#REF!)))","v":"HYDRO Sailing Team Le Havre"},{"$f":"IF($D$5=\"Course 1\",Général!G41,IF($D$5=\"Course 2\",Général!G43,IF($D$5=\"Course 3\",Général!G45,Général!#REF!)))","v":"Karlsruhe"},{"$f":"IF($E$5=\"Course 1\",Général!G49,IF($E$5=\"Course 2\",Général!G51,IF($E$5=\"Course 3\",Général!G53,Général!#REF!)))","v":"Univ. Nantes 2"},{"$f":"IF($F$5=\"Course 1\",Général!G$57,IF($F$5=\"Course 2\",Général!G$59,IF($F$5=\"Course 3\",Général!G$61,Général!#REF!)))","v":"Dublin"},{"$f":"IF($G$5=\"Course 1\",Général!G$65,IF($G$5=\"Course 2\",Général!G$67,IF($G$5=\"Course 3\",Général!G$69,Général!#REF!)))","v":"Hannovre"},{"$f":"IF($H$5=\"Course 1\",Général!G$73,IF($H$5=\"Course 2\",Général!G$75,IF($H$5=\"Course 3\",Général!G$77,Général!#REF!)))","v":"AS UB St Brieuc"},{"$f":"IF($I$5=\"Course 1\",Général!G$81,IF($I$5=\"Course 2\",Général!G$83,IF($I$5=\"Course 3\",Général!G$85,Général!#REF!)))","v":"UBS Lorient 1"},{"$f":"IF($J$5=\"Course 1\",Général!G$89,IF($J$5=\"Course 2\",Général!G$91,IF($J$5=\"Course 3\",Général!G$93,Général!#REF!)))","v":"ENSTA Bretagne 2"},{"$f":"IF($K$5=\"Course 1\",Général!G$97,IF($K$5=\"Course 2\",Général!G$99,IF($K$5=\"Course 3\",Général!G$101,Général!#REF!)))","v":"Univ. Nantes 3"},{"$f":"IF($L$5=\"Course 1\",Général!G$105,IF($L$5=\"Course 2\",Général!G$107,IF($L$5=\"Course 3\",Général!G$109,Général!#REF!)))","v":"Univ. La Rochelle"},{"$f":"IF($M$5=\"Course 1\",Général!G$113,IF($M$5=\"Course 2\",Général!G$115,IF($M$5=\"Course 3\",Général!G$117,Général!#REF!)))","v":"AS Paris 1 Panthéon Sorbonne"},{"$f":"IF($N$5=\"Course 1\",Général!G$121,IF($N$5=\"Course 2\",Général!G$123,IF($N$5=\"Course 3\",Général!G$125,Général!#REF!)))","v":"Southampton"},{"$f":"IF($O$5=\"Course 1\",Général!G$129,IF($O$5=\"Course 2\",Général!G$131,IF($O$5=\"Course 3\",Général!G$133,Général!#REF!)))","v":"IMT Atlantique Brest"},{"$f":"IF($P$5=\"Course 1\",Général!G$137,IF($P$5=\"Course 2\",Général!G$139,IF($P$5=\"Course 3\",Général!G$141,Général!#REF!)))","v":"HYDRO Sailing Team Le Havre"},{"$f":"IF($Q$5=\"Course 1\",Général!G$145,IF($Q$5=\"Course 2\",Général!G$147,IF($Q$5=\"Course 3\",Général!G$149,Général!#REF!)))","v":"Dublin"},{"$f":"IF($R$5=\"Course 1\",Général!G$153,IF($R$5=\"Course 2\",Général!G$155,IF($R$5=\"Course 3\",Général!G$157,Général!#REF!)))","v":"UBS Lorient 1"},{"$f":"IF($S$5=\"Course 1\",Général!G$161,IF($S$5=\"Course 2\",Général!G$163,IF($S$5=\"Course 3\",Général!G$165,Général!#REF!)))","v":"Dublin"},{"$f":"IF($T$5=\"Course 1\",Général!G$169,IF($T$5=\"Course 2\",Général!G$171,IF($T$5=\"Course 3\",Général!G$173,Général!#REF!)))","v":"EGSI La Rochelle"},null,{"$f":"Général!B15","v":"ASUL Lannion"},5]
["7ème Equipage",null,{"$f":"IF($C$5=\"Course 1\",Général!H33,IF($C$5=\"Course 2\",Général!H35,IF($C$5=\"Course 3\",Général!H37,Général!#REF!)))","v":"UBO 2"},{"$f":"IF($D$5=\"Course 1\",Général!H41,IF($D$5=\"Course 2\",Général!H43,IF($D$5=\"Course 3\",Général!H45,Général!#REF!)))","v":"UBO 2"},{"$f":"IF($E$5=\"Course 1\",Général!H49,IF($E$5=\"Course 2\",Général!H51,IF($E$5=\"Course 3\",Général!H53,Général!#REF!)))","v":"UBO 1"},{"$f":"IF($F$5=\"Course 1\",Général!H$57,IF($F$5=\"Course 2\",Général!H$59,IF($F$5=\"Course 3\",Général!H$61,Général!#REF!)))","v":"UBS Lorient 2"},{"$f":"IF($G$5=\"Course 1\",Général!H$65,IF($G$5=\"Course 2\",Général!H$67,IF($G$5=\"Course 3\",Général!H$69,Général!#REF!)))","v":"IMT Atlantique Nantes 2"},{"$f":"IF($H$5=\"Course 1\",Général!H$73,IF($H$5=\"Course 2\",Général!H$75,IF($H$5=\"Course 3\",Général!H$77,Général!#REF!)))","v":"IMT Atlantique Nantes 2"},{"$f":"IF($I$5=\"Course 1\",Général!H$81,IF($I$5=\"Course 2\",Général!H$83,IF($I$5=\"Course 3\",Général!H$85,Général!#REF!)))","v":"AS UB St Brieuc"},{"$f":"IF($J$5=\"Course 1\",Général!H$89,IF($J$5=\"Course 2\",Général!H$91,IF($J$5=\"Course 3\",Général!H$93,Général!#REF!)))","v":"IMT Atlantique Brest"},{"$f":"IF($K$5=\"Course 1\",Général!H$97,IF($K$5=\"Course 2\",Général!H$99,IF($K$5=\"Course 3\",Général!H$101,Général!#REF!)))","v":"IMT Atlantique Nantes 1"},{"$f":"IF($L$5=\"Course 1\",Général!H$105,IF($L$5=\"Course 2\",Général!H$107,IF($L$5=\"Course 3\",Général!H$109,Général!#REF!)))","v":"ENSTA Bretagne 2"},{"$f":"IF($M$5=\"Course 1\",Général!H$113,IF($M$5=\"Course 2\",Général!H$115,IF($M$5=\"Course 3\",Général!H$117,Général!#REF!)))","v":"Dublin"},{"$f":"IF($N$5=\"Course 1\",Général!H$121,IF($N$5=\"Course 2\",Général!H$123,IF($N$5=\"Course 3\",Général!H$125,Général!#REF!)))","v":"ENSTA Paris"},{"$f":"IF($O$5=\"Course 1\",Général!H$129,IF($O$5=\"Course 2\",Général!H$131,IF($O$5=\"Course 3\",Général!H$133,Général!#REF!)))","v":"ENSTA Paris"},{"$f":"IF($P$5=\"Course 1\",Général!H$137,IF($P$5=\"Course 2\",Général!H$139,IF($P$5=\"Course 3\",Général!H$141,Général!#REF!)))","v":"Dublin"},{"$f":"IF($Q$5=\"Course 1\",Général!H$145,IF($Q$5=\"Course 2\",Général!H$147,IF($Q$5=\"Course 3\",Général!H$149,Général!#REF!)))","v":"ASUL Lannion"},{"$f":"IF($R$5=\"Course 1\",Général!H$153,IF($R$5=\"Course 2\",Général!H$155,IF($R$5=\"Course 3\",Général!H$157,Général!#REF!)))","v":"AS Paris 1 Panthéon Sorbonne"},{"$f":"IF($S$5=\"Course 1\",Général!H$161,IF($S$5=\"Course 2\",Général!H$163,IF($S$5=\"Course 3\",Général!H$165,Général!#REF!)))","v":"IMT Atlantique Brest"},{"$f":"IF($T$5=\"Course 1\",Général!H$169,IF($T$5=\"Course 2\",Général!H$171,IF($T$5=\"Course 3\",Général!H$173,Général!#REF!)))","v":"UBS Lorient 1"},null,{"$f":"Général!B16","v":"ENSTA Paris"},6]
["8ème Equipage",null,{"$f":"IF($C$5=\"Course 1\",Général!I33,IF($C$5=\"Course 2\",Général!I35,IF($C$5=\"Course 3\",Général!I37,Général!#REF!)))","v":"ASUL Lannion"},{"$f":"IF($D$5=\"Course 1\",Général!I41,IF($D$5=\"Course 2\",Général!I43,IF($D$5=\"Course 3\",Général!I45,Général!#REF!)))","v":"Univ.Orléans"},{"$f":"IF($E$5=\"Course 1\",Général!I49,IF($E$5=\"Course 2\",Général!I51,IF($E$5=\"Course 3\",Général!I53,Général!#REF!)))","v":"EGSI La Rochelle"},{"$f":"IF($F$5=\"Course 1\",Général!I$57,IF($F$5=\"Course 2\",Général!I$59,IF($F$5=\"Course 3\",Général!I$61,Général!#REF!)))","v":"EGSI La Rochelle"},{"$f":"IF($G$5=\"Course 1\",Général!I$65,IF($G$5=\"Course 2\",Général!I$67,IF($G$5=\"Course 3\",Général!I$69,Général!#REF!)))","v":"Centrales Nantes"},{"$f":"IF($H$5=\"Course 1\",Général!I$73,IF($H$5=\"Course 2\",Général!I$75,IF($H$5=\"Course 3\",Général!I$77,Général!#REF!)))","v":"UNICAEN - ASSUCherbourg"},{"$f":"IF($I$5=\"Course 1\",Général!I$81,IF($I$5=\"Course 2\",Général!I$83,IF($I$5=\"Course 3\",Général!I$85,Général!#REF!)))","v":"Univ. La Rochelle"},{"$f":"IF($J$5=\"Course 1\",Général!I$89,IF($J$5=\"Course 2\",Général!I$91,IF($J$5=\"Course 3\",Général!I$93,Général!#REF!)))","v":"Hambourg"},{"$f":"IF($K$5=\"Course 1\",Général!I$97,IF($K$5=\"Course 2\",Général!I$99,IF($K$5=\"Course 3\",Général!I$101,Général!#REF!)))","v":"AS UB St Brieuc"},{"$f":"IF($L$5=\"Course 1\",Général!I$105,IF($L$5=\"Course 2\",Général!I$107,IF($L$5=\"Course 3\",Général!I$109,Général!#REF!)))","v":"IMT Atlantique Nantes 1"},{"$f":"IF($M$5=\"Course 1\",Général!I$113,IF($M$5=\"Course 2\",Général!I$115,IF($M$5=\"Course 3\",Général!I$117,Général!#REF!)))","v":"IMT Atlantique Brest"},{"$f":"IF($N$5=\"Course 1\",Général!I$121,IF($N$5=\"Course 2\",Général!I$123,IF($N$5=\"Course 3\",Général!I$125,Général!#REF!)))","v":"UBS Lorient 2"},{"$f":"IF($O$5=\"Course 1\",Général!I$129,IF($O$5=\"Course 2\",Général!I$131,IF($O$5=\"Course 3\",Général!I$133,Général!#REF!)))","v":"Dublin"},{"$f":"IF($P$5=\"Course 1\",Général!I$137,IF($P$5=\"Course 2\",Général!I$139,IF($P$5=\"Course 3\",Général!I$141,Général!#REF!)))","v":"Univ. Nantes 2"},{"$f":"IF($Q$5=\"Course 1\",Général!I$145,IF($Q$5=\"Course 2\",Général!I$147,IF($Q$5=\"Course 3\",Général!I$149,Général!#REF!)))","v":"AS Paris 1 Panthéon Sorbonne"},{"$f":"IF($R$5=\"Course 1\",Général!I$153,IF($R$5=\"Course 2\",Général!I$155,IF($R$5=\"Course 3\",Général!I$157,Général!#REF!)))","v":"Southampton"},{"$f":"IF($S$5=\"Course 1\",Général!I$161,IF($S$5=\"Course 2\",Général!I$163,IF($S$5=\"Course 3\",Général!I$165,Général!#REF!)))","v":"ENSTA Bretagne 2"},{"$f":"IF($T$5=\"Course 1\",Général!I$169,IF($T$5=\"Course 2\",Général!I$171,IF($T$5=\"Course 3\",Général!I$173,Général!#REF!)))","v":"Karlsruhe"},null,{"$f":"Général!B17","v":"IMT Atlantique Brest"},6]
["9ème Equipage",null,{"$f":"IF($C$5=\"Course 1\",Général!J33,IF($C$5=\"Course 2\",Général!J35,IF($C$5=\"Course 3\",Général!J37,Général!#REF!)))","v":"Southampton"},{"$f":"IF($D$5=\"Course 1\",Général!J41,IF($D$5=\"Course 2\",Général!J43,IF($D$5=\"Course 3\",Général!J45,Général!#REF!)))","v":"Centrales Nantes"},{"$f":"IF($E$5=\"Course 1\",Général!J49,IF($E$5=\"Course 2\",Général!J51,IF($E$5=\"Course 3\",Général!J53,Général!#REF!)))","v":"Hambourg"},{"$f":"IF($F$5=\"Course 1\",Général!J$57,IF($F$5=\"Course 2\",Général!J$59,IF($F$5=\"Course 3\",Général!J$61,Général!#REF!)))","v":"Univ. Nantes 1"},{"$f":"IF($G$5=\"Course 1\",Général!J$65,IF($G$5=\"Course 2\",Général!J$67,IF($G$5=\"Course 3\",Général!J$69,Général!#REF!)))","v":"ENSTA Paris"},{"$f":"IF($H$5=\"Course 1\",Général!J$73,IF($H$5=\"Course 2\",Général!J$75,IF($H$5=\"Course 3\",Général!$J77,Général!#REF!)))","v":"Dublin"},{"$f":"IF($I$5=\"Course 1\",Général!J$81,IF($I$5=\"Course 2\",Général!J$83,IF($I$5=\"Course 3\",Général!J$85,Général!#REF!)))","v":"AS Paris 1 Panthéon Sorbonne"},{"$f":"IF($J$5=\"Course 1\",Général!J$89,IF($J$5=\"Course 2\",Général!J$91,IF($J$5=\"Course 3\",Général!J$93,Général!#REF!)))","v":"Univ. Nantes 2"},{"$f":"IF($K$5=\"Course 1\",Général!J$97,IF($K$5=\"Course 2\",Général!J$99,IF($K$5=\"Course 3\",Général!J$101,Général!#REF!)))","v":"HYDRO Sailing Team Le Havre"},{"$f":"IF($L$5=\"Course 1\",Général!J$105,IF($L$5=\"Course 2\",Général!J$107,IF($L$5=\"Course 3\",Général!J$109,Général!#REF!)))","v":"Dublin"},{"$f":"IF($M$5=\"Course 1\",Général!J$113,IF($M$5=\"Course 2\",Général!J$115,IF($M$5=\"Course 3\",Général!J$117,Général!#REF!)))","v":"Hannovre"},{"$f":"IF($N$5=\"Course 1\",Général!J$121,IF($N$5=\"Course 2\",Général!J$123,IF($N$5=\"Course 3\",Général!J$125,Général!#REF!)))","v":"Univ.Orléans"},{"$f":"IF($O$5=\"Course 1\",Général!J$129,IF($O$5=\"Course 2\",Général!J$131,IF($O$5=\"Course 3\",Général!J$133,Général!#REF!)))","v":"ENSTA Bretagne 1"},{"$f":"IF($P$5=\"Course 1\",Général!J$137,IF($P$5=\"Course 2\",Général!J$139,IF($P$5=\"Course 3\",Général!J$141,Général!#REF!)))","v":"UNICAEN - ASSUCherbourg"},{"$f":"IF($Q$5=\"Course 1\",Général!J$145,IF($Q$5=\"Course 2\",Général!J$147,IF($Q$5=\"Course 3\",Général!J$149,Général!#REF!)))","v":"Univ. Nantes 3"},{"$f":"IF($R$5=\"Course 1\",Général!J$153,IF($R$5=\"Course 2\",Général!J$155,IF($R$5=\"Course 3\",Général!J$157,Général!#REF!)))","v":"Hambourg"},{"$f":"IF($S$5=\"Course 1\",Général!J$161,IF($S$5=\"Course 2\",Général!J$163,IF($S$5=\"Course 3\",Général!J$165,Général!#REF!)))","v":"Southampton"},{"$f":"IF($T$5=\"Course 1\",Général!J$169,IF($T$5=\"Course 2\",Général!J$171,IF($T$5=\"Course 3\",Général!J$173,Général!#REF!)))","v":"IMT Atlantique Nantes 1"},null,{"$f":"Général!B18","v":"UBO 2"},6]
[null,null,null,null,null,null,null,null,null,null,null,null,null,null,null,null,null,null,null,null,null,{"$f":"Général!B19","v":"Dublin"},18]
[null,null,null,null,null,null,null,null,null,null,null,null,null,null,null,null,null,null,null,null,null,{"$f":"Général!B20","v":"Univ. Nantes 2"},5]
[null,null,null,null,null,null,null,null,null,null,null,null,null,null,null,null,null,null,null,null,null,{"$f":"Général!B21","v":"UBS Lorient 1"},6]
[null,null,null,null,null,null,null,null,null,null,null,null,null,null,null,null,null,null,null,null,null,{"$f":"Général!B22","v":"UBS Lorient 2"},4]
[null,null,null,null,null,null,null,null,null,null,null,null,null,null,null,null,null,null,null,null,null,{"$f":"Général!B23","v":"Univ.Orléans"},7]
[null,null,null,null,null,null,null,null,null,null,null,null,null,null,null,null,null,null,null,null,null,{"$f":"Général!B24","v":"Univ. La Rochelle"},6]
[null,null,null,null,null,null,null,null,null,null,null,null,null,null,null,null,null,null,null,null,null,{"$f":"Général!B25","v":"AS UB St Brieuc"},6]
[null,null,null,null,null,null,null,null,null,null,null,null,null,null,null,null,null,null,null,null,null,{"$f":"Général!B26","v":"Karlsruhe"},7]
[null,null,null,null,null,null,null,null,null,null,null,null,null,null,null,null,null,null,null,null,null,{"$f":"Général!B27","v":"Univ. Nantes 3"},5]
[null,null,null,null,null,null,null,null,null,null,null,null,null,null,null,null,null,null,null,null,null,{"$f":"Général!B28","v":"Centrales Nantes"},5]
[null,null,null,null,null,null,null,null,null,null,null,null,null,null,null,null,null,null,null,null,null,{"$f":"Général!B29","v":"Southampton"},6]
[null,null,null,null,null,null,null,null,null,null,null,null,null,null,null,null,null,null,null,null,null,{"$f":"Général!#REF!","v":{"$error":"#REF!"}},0]
[null,null,null,null,null,null,null,null,null,null,null,null,null,null,null,null,null,null,null,null,null,{"$f":"Général!#REF!","v":{"$error":"#REF!"}},0]
[null,null,null,null,null,null,null,null,null,null,null,null,null,null,null,null,null,null,null,null,null,{"$f":"Général!#REF!","v":{"$error":"#REF!"}},0]
[null,null,null,null,null,null,null,null,null,null,null,null,null,null,null,null,null,null,null,null,null,{"$f":"Général!#REF!","v":{"$error":"#REF!"}},0]
[null,null,null,null,null,null,null,null,null,null,null,null,null,null,null,null,null,null,null,null,null,{"$f":"Général!#REF!","v":{"$error":"#REF!"}},0]

{"sheet":"Eq.18","index":22,"n_rows":32,"n_cols":23,"rows_kept":32,"cut":false,"hidden":false,"merged":[[14,0,14,1],[15,0,15,1],[8,0,8,1],[9,0,9,1],[10,0,10,1],[11,0,11,1],[12,0,12,1],[13,0,13,1],[7,0,7,1],[0,0,1,5],[0,6,1,10],[3,0,3,1],[4,0,4,1],[5,0,5,1]]}
["Equipage ",null,null,null,null,null,{"$f":"Général!B20","v":"Univ. Nantes 2"},null,null,null,null,null,null,null,null,null,null,null,null,null,null,{"$f":"Général!B3","v":"Univ. Nantes 1"},{"$f":"COUNTIF(C$8:T$16,V1)","v":7}]
[null,null,null,null,null,null,null,null,null,null,null,null,null,null,null,null,null,null,null,null,null,{"$f":"Général!B4","v":"AS Paris 1 Panthéon Sorbonne"},{"$f":"COUNTIF($C$8:$T$16,V2)","v":6}]
[null,null,null,null,null,null,null,null,null,null,null,null,null,null,null,null,null,null,null,null,null,{"$f":"Général!B5","v":"Hannovre"},{"$f":"COUNTIF($C$8:$T$16,V3)","v":6}]
[null,null,"FLIGHT 1","FLIGHT 2","FLIGHT 3","FLIGHT 4","FLIGHT 5","FLIGHT 6","FLIGHT 7","FLIGHT 8","FLIGHT 9","FLIGHT 10","FLIGHT 11","FLIGHT 12","FLIGHT 13","FLIGHT 14","FLIGHT 15","FLIGHT 16","FLIGHT 17","FLIGHT 18",null,{"$f":"Général!B6","v":"IMT Atlantique Nantes 1"},5]
["N° de course",null,{"$f":"IF(COUNTIF(Général!B33:J33,$G$1)=1,\"Course 1\",IF(COUNTIF(Général!B35:J35,$G$1)=1,\"Course 2\",IF(COUNTIF(Général!B37:J37,$G$1)=1,\"Course 3\",\"Course 4\")))","v":"Course 1"},{"$f":"IF(COUNTIF(Général!B41:J41,$G$1)=1,\"Course 1\",IF(COUNTIF(Général!B43:J43,$G$1)=1,\"Course 2\",IF(COUNTIF(Général!B45:J45,$G$1)=1,\"Course 3\",\"Course 4\")))","v":"Course 3"},{"$f":"IF(COUNTIF(Général!B49:J49,$G$1)=1,\"Course 1\",IF(COUNTIF(Général!B51:J51,$G$1)=1,\"Course 2\",IF(COUNTIF(Général!B53:J53,$G$1)=1,\"Course 3\",\"Course 4\")))","v":"Course 2"},{"$f":"IF(COUNTIF(Général!B57:J57,$G$1)=1,\"Course 1\",IF(COUNTIF(Général!B59:J59,$G$1)=1,\"Course 2\",IF(COUNTIF(Général!B61:J61,$G$1)=1,\"Course 3\",\"Course 4\")))","v":"Course 1"},{"$f":"IF(COUNTIF(Général!B65:J65,$G$1)=1,\"Course 1\",IF(COUNTIF(Général!B67:J67,$G$1)=1,\"Course 2\",IF(COUNTIF(Général!B69:J69,$G$1)=1,\"Course 3\",\"Course 4\")))","v":"Course 3"},{"$f":"IF(COUNTIF(Général!B73:J73,$G$1)=1,\"Course 1\",IF(COUNTIF(Général!B75:J75,$G$1)=1,\"Course 2\",IF(COUNTIF(Général!B77:J77,$G$1)=1,\"Course 3\",\"Course 4\")))","v":"Course 3"},{"$f":"IF(COUNTIF(Général!B81:J81,$G$1)=1,\"Course 1\",IF(COUNTIF(Général!B83:J83,$G$1)=1,\"Course 2\",IF(COUNTIF(Général!B85:J85,$G$1)=1,\"Course 3\",\"Course 4\")))","v":"Course 3"},{"$f":"IF(COUNTIF(Général!B89:J89,$G$1)=1,\"Course 1\",IF(COUNTIF(Général!B91:J91,$G$1)=1,\"Course 2\",IF(COUNTIF(Général!B93:J93,$G$1)=1,\"Course 3\",\"Course 4\")))","v":"Course 1"},{"$f":"IF(COUNTIF(Général!B97:J97,$G$1)=1,\"Course 1\",IF(COUNTIF(Général!B99:J99,$G$1)=1,\"Course 2\",IF(COUNTIF(Général!B101:J101,$G$1)=1,\"Course 3\",\"Course 4\")))","v":"Course 2"},{"$f":"IF(COUNTIF(Général!B105:J105,$G$1)=1,\"Course 1\",IF(COUNTIF(Général!B107:J107,$G$1)=1,\"Course 2\",IF(COUNTIF(Général!B109:J109,$G$1)=1,\"Course 3\",\"Course 4\")))","v":"Course 2"},{"$f":"IF(COUNTIF(Général!B113:J113,$G$1)=1,\"Course 1\",IF(COUNTIF(Général!B115:J115,$G$1)=1,\"Course 2\",IF(COUNTIF(Général!B117:J117,$G$1)=1,\"Course 3\",\"Course 4\")))","v":"Course 2"},{"$f":"IF(COUNTIF(Général!B121:J121,$G$1)=1,\"Course 1\",IF(COUNTIF(Général!B123:J123,$G$1)=1,\"Course 2\",IF(COUNTIF(Général!B125:J125,$G$1)=1,\"Course 3\",\"Course 4\")))","v":"Course 2"},{"$f":"IF(COUNTIF(Général!B129:J129,$G$1)=1,\"Course 1\",IF(COUNTIF(Général!B131:J131,$G$1)=1,\"Course 2\",IF(COUNTIF(Général!B133:J133,$G$1)=1,\"Course 3\",\"Course 4\")))","v":"Course 3"},{"$f":"IF(COUNTIF(Général!B137:J137,$G$1)=1,\"Course 1\",IF(COUNTIF(Général!B139:J139,$G$1)=1,\"Course 2\",IF(COUNTIF(Général!B141:J141,$G$1)=1,\"Course 3\",\"Course 4\")))","v":"Course 1"},{"$f":"IF(COUNTIF(Général!B145:J145,$G$1)=1,\"Course 1\",IF(COUNTIF(Général!B147:J147,$G$1)=1,\"Course 2\",IF(COUNTIF(Général!B149:J149,$G$1)=1,\"Course 3\",\"Course 4\")))","v":"Course 3"},{"$f":"IF(COUNTIF(Général!B153:J153,$G$1)=1,\"Course 1\",IF(COUNTIF(Général!B155:J155,$G$1)=1,\"Course 2\",IF(COUNTIF(Général!B157:J157,$G$1)=1,\"Course 3\",\"Course 4\")))","v":"Course 3"},{"$f":"IF(COUNTIF(Général!B161:J161,$G$1)=1,\"Course 1\",IF(COUNTIF(Général!B163:J163,$G$1)=1,\"Course 2\",IF(COUNTIF(Général!B165:J165,$G$1)=1,\"Course 3\",\"Course 4\")))","v":"Course 1"},{"$f":"IF(COUNTIF(Général!B169:J169,$G$1)=1,\"Course 1\",IF(COUNTIF(Général!B171:J171,$G$1)=1,\"Course 2\",IF(COUNTIF(Général!B173:J173,$G$1)=1,\"Course 3\",\"Course 4\")))","v":"Course 1"},null,{"$f":"Général!B7","v":"ENSTA Bretagne 2"},7]
["Bateau",null,{"$f":"IF(COUNTIF(Général!B33:B38,$G$1)=1,\"Boat 1\",IF(COUNTIF(Général!C33:C38,$G$1)=1,\"Boat 2\",IF(COUNTIF(Général!D33:D38,$G$1)=1,\"Boat 3\", IF(COUNTIF(Général!E33:E38,$G$1)=1,\"Boat 4\", IF(COUNTIF(Général!F33:F38,$G$1)=1,\"Boat 5\", IF(COUNTIF(Général!G33:G38,$G$1)=1,\"Boat 6\", IF(COUNTIF(Général!H33:H38,$G$1)=1,\"Boat 7\",IF(COUNTIF(Général!I33:I38,$G$1)=1,\"Boat 8\",\"Boat 9\"))))))))","v":"Boat 2"},{"$f":"IF(COUNTIF(Général!B41:B46,$G$1)=1,\"Boat 1\",IF(COUNTIF(Général!C41:C46,$G$1)=1,\"Boat 2\",IF(COUNTIF(Général!D41:D46,$G$1)=1,\"Boat 3\", IF(COUNTIF(Général!E41:E46,$G$1)=1,\"Boat 4\", IF(COUNTIF(Général!F41:F46,$G$1)=1,\"Boat 5\", IF(COUNTIF(Général!G41:G46,$G$1)=1,\"Boat 6\", IF(COUNTIF(Général!H41:H46,$G$1)=1,\"Boat 7\",IF(COUNTIF(Général!I33:I38,$G$1)=1,\"Boat 8\",\"Boat 9\"))))))))","v":"Boat 1"},{"$f":"IF(COUNTIF(Général!B49:B54,$G$1)=1,\"Boat 1\",IF(COUNTIF(Général!C49:C54,$G$1)=1,\"Boat 2\",IF(COUNTIF(Général!D49:D54,$G$1)=1,\"Boat 3\", IF(COUNTIF(Général!E49:E54,$G$1)=1,\"Boat 4\", IF(COUNTIF(Général!F49:F54,$G$1)=1,\"Boat 5\", IF(COUNTIF(Général!G49:G54,$G$1)=1,\"Boat 6\", IF(COUNTIF(Général!H49:H54,$G$1)=1,\"Boat 7\",IF(COUNTIF(Général!I33:I38,$G$1)=1,\"Boat 8\",\"Boat 9\"))))))))","v":"Boat 6"},{"$f":"IF(COUNTIF(Général!B57:B62,$G$1)=1,\"Boat 1\",IF(COUNTIF(Général!C57:C62,$G$1)=1,\"Boat 2\",IF(COUNTIF(Général!D57:D62,$G$1)=1,\"Boat 3\", IF(COUNTIF(Général!E57:E62,$G$1)=1,\"Boat 4\", IF(COUNTIF(Général!F57:F62,$G$1)=1,\"Boat 5\", IF(COUNTIF(Général!G57:G62,$G$1)=1,\"Boat 6\", IF(COUNTIF(Général!H57:H62,$G$1)=1,\"Boat 7\",IF(COUNTIF(Général!I33:I38,$G$1)=1,\"Boat 8\",\"Boat 9\"))))))))","v":"Boat 3"},{"$f":"IF(COUNTIF(Général!B65:B70,$G$1)=1,\"Boat 1\",IF(COUNTIF(Général!C65:C70,$G$1)=1,\"Boat 2\",IF(COUNTIF(Général!D65:D70,$G$1)=1,\"Boat 3\", IF(COUNTIF(Général!E65:E70,$G$1)=1,\"Boat 4\", IF(COUNTIF(Général!F65:F70,$G$1)=1,\"Boat 5\", IF(COUNTIF(Général!G65:G70,$G$1)=1,\"Boat 6\", IF(COUNTIF(Général!H65:H70,$G$1)=1,\"Boat 7\",IF(COUNTIF(Général!I33:I38,$G$1)=1,\"Boat 8\",\"Boat 9\"))))))))","v":"Boat 7"},{"$f":"IF(COUNTIF(Général!B73:B78,$G$1)=1,\"Boat 1\",IF(COUNTIF(Général!C73:C78,$G$1)=1,\"Boat 2\",IF(COUNTIF(Général!D73:D78,$G$1)=1,\"Boat 3\", IF(COUNTIF(Général!E73:E78,$G$1)=1,\"Boat 4\", IF(COUNTIF(Général!F73:F78,$G$1)=1,\"Boat 5\", IF(COUNTIF(Général!G73:G78,$G$1)=1,\"Boat 6\", IF(COUNTIF(Général!H73:H78,$G$1)=1,\"Boat 7\",IF(COUNTIF(Général!I33:I38,$G$1)=1,\"Boat 8\",\"Boat 9\"))))))))","v":"Boat 5"},{"$f":"IF(COUNTIF(Général!B81:B86,$G$1)=1,\"Boat 1\",IF(COUNTIF(Général!C81:C86,$G$1)=1,\"Boat 2\",IF(COUNTIF(Général!D81:D86,$G$1)=1,\"Boat 3\", IF(COUNTIF(Général!E81:E86,$G$1)=1,\"Boat 4\", IF(COUNTIF(Général!F81:F86,$G$1)=1,\"Boat 5\", IF(COUNTIF(Général!G81:G86,$G$1)=1,\"Boat 6\", IF(COUNTIF(Général!H81:H86,$G$1)=1,\"Boat 7\",IF(COUNTIF(Général!I33:I38,$G$1)=1,\"Boat 8\",\"Boat 9\"))))))))","v":"Boat 9"},{"$f":"IF(COUNTIF(Général!B89:B94,$G$1)=1,\"Boat 1\",IF(COUNTIF(Général!C89:C94,$G$1)=1,\"Boat 2\",IF(COUNTIF(Général!D89:D94,$G$1)=1,\"Boat 3\", IF(COUNTIF(Général!E89:E94,$G$1)=1,\"Boat 4\", IF(COUNTIF(Général!F89:F94,$G$1)=1,\"Boat 5\", IF(COUNTIF(Général!G89:G94,$G$1)=1,\"Boat 6\", IF(COUNTIF(Général!H89:H94,$G$1)=1,\"Boat 7\",IF(COUNTIF(Général!I33:I38,$G$1)=1,\"Boat 8\",\"Boat 9\"))))))))","v":"Boat 9"},{"$f":"IF(COUNTIF(Général!B97:B102,$G$1)=1,\"Boat 1\",IF(COUNTIF(Général!C97:C102,$G$1)=1,\"Boat 2\",IF(COUNTIF(Général!D97:D102,$G$1)=1,\"Boat 3\", IF(COUNTIF(Général!E97:E102,$G$1)=1,\"Boat 4\", IF(COUNTIF(Général!F97:F102,$G$1)=1,\"Boat 5\", IF(COUNTIF(Général!G97:G102,$G$1)=1,\"Boat 6\", IF(COUNTIF(Général!H97:H102,$G$1)=1,\"Boat 7\",IF(COUNTIF(Général!I33:I38,$G$1)=1,\"Boat 8\",\"Boat 9\"))))))))","v":"Boat 4"},{"$f":"IF(COUNTIF(Général!B105:B110,$G$1)=1,\"Boat 1\",IF(COUNTIF(Général!C105:C110,$G$1)=1,\"Boat 2\",IF(COUNTIF(Général!D105:D110,$G$1)=1,\"Boat 3\", IF(COUNTIF(Général!E105:E110,$G$1)=1,\"Boat 4\", IF(COUNTIF(Général!F105:F110,$G$1)=1,\"Boat 5\", IF(COUNTIF(Général!G105:G110,$G$1)=1,\"Boat 6\", IF(COUNTIF(Général!H105:H110,$G$1)=1,\"Boat 7\",IF(COUNTIF(Général!I33:I38,$G$1)=1,\"Boat 8\",\"Boat 9\"))))))))","v":"Boat 3"},{"$f":"IF(COUNTIF(Général!B113:B118,$G$1)=1,\"Boat 1\",IF(COUNTIF(Général!C113:C118,$G$1)=1,\"Boat 2\",IF(COUNTIF(Général!C113:D118,$G$1)=1,\"Boat 3\", IF(COUNTIF(Général!C113:E118,$G$1)=1,\"Boat 4\", IF(COUNTIF(Général!F113:F118,$G$1)=1,\"Boat 5\", IF(COUNTIF(Général!G113:G118,$G$1)=1,\"Boat 6\", IF(COUNTIF(Général!H113:H118,$G$1)=1,\"Boat 7\",IF(COUNTIF(Général!I33:I38,$G$1)=1,\"Boat 8\",\"Boat 9\"))))))))","v":"Boat 3"},{"$f":"IF(COUNTIF(Général!B121:B126,$G$1)=1,\"Boat 1\",IF(COUNTIF(Général!C121:C126,$G$1)=1,\"Boat 2\",IF(COUNTIF(Général!D121:D126,$G$1)=1,\"Boat 3\", IF(COUNTIF(Général!E121:E126,$G$1)=1,\"Boat 4\", IF(COUNTIF(Général!F121:F126,$G$1)=1,\"Boat 5\", IF(COUNTIF(Général!G121:G126,$G$1)=1,\"Boat 6\", IF(COUNTIF(Général!H121:H126,$G$1)=1,\"Boat 7\",IF(COUNTIF(Général!I33:I38,$G$1)=1,\"Boat 8\",\"Boat 9\"))))))))","v":"Boat 5"},{"$f":"IF(COUNTIF(Général!B129:B134,$G$1)=1,\"Boat 1\",IF(COUNTIF(Général!C129:C134,$G$1)=1,\"Boat 2\",IF(COUNTIF(Général!D131:D134,$G$1)=1,\"Boat 3\", IF(COUNTIF(Général!E129:E134,$G$1)=1,\"Boat 4\", IF(COUNTIF(Général!F129:F134,$G$1)=1,\"Boat 5\", IF(COUNTIF(Général!G129:G134,$G$1)=1,\"Boat 6\", IF(COUNTIF(Général!H129:H134,$G$1)=1,\"Boat 7\",IF(COUNTIF(Général!I33:I38,$G$1)=1,\"Boat 8\",\"Boat 9\"))))))))","v":"Boat 9"},{"$f":"IF(COUNTIF(Général!B137:B142,$G$1)=1,\"Boat 1\",IF(COUNTIF(Général!C137:C142,$G$1)=1,\"Boat 2\",IF(COUNTIF(Général!D137:D142,$G$1)=1,\"Boat 3\", IF(COUNTIF(Général!E137:E142,$G$1)=1,\"Boat 4\", IF(COUNTIF(Général!F145:F150,$G$1)=1,\"Boat 5\", IF(COUNTIF(Général!G145:G150,$G$1)=1,\"Boat 6\", IF(COUNTIF(Général!H145:H150,$G$1)=1,\"Boat 7\",IF(COUNTIF(Général!I33:I38,$G$1)=1,\"Boat 8\",\"Boat 9\"))))))))","v":"Boat 9"},{"$f":"IF(COUNTIF(Général!B145:B150,$G$1)=1,\"Boat 1\",IF(COUNTIF(Général!C145:C150,$G$1)=1,\"Boat 2\",IF(COUNTIF(Général!D145:D150,$G$1)=1,\"Boat 3\", IF(COUNTIF(Général!E145:E150,$G$1)=1,\"Boat 4\", IF(COUNTIF(Général!F145:F150,$G$1)=1,\"Boat 5\", IF(COUNTIF(Général!G145:G150,$G$1)=1,\"Boat 6\", IF(COUNTIF(Général!H145:H150,$G$1)=1,\"Boat 7\",IF(COUNTIF(Général!I33:I38,$G$1)=1,\"Boat 8\",\"Boat 9\"))))))))","v":"Boat 9"},{"$f":"IF(COUNTIF(Général!B153:B158,$G$1)=1,\"Boat 1\",IF(COUNTIF(Général!C153:C158,$G$1)=1,\"Boat 2\",IF(COUNTIF(Général!D153:D158,$G$1)=1,\"Boat 3\", IF(COUNTIF(Général!E153:E158,$G$1)=1,\"Boat 4\", IF(COUNTIF(Général!F153:F158,$G$1)=1,\"Boat 5\", IF(COUNTIF(Général!G153:G158,$G$1)=1,\"Boat 6\", IF(COUNTIF(Général!H153:H158,$G$1)=1,\"Boat 7\",IF(COUNTIF(Général!I33:I38,$G$1)=1,\"Boat 8\",\"Boat 9\"))))))))","v":"Boat 4"},{"$f":"IF(COUNTIF(Général!B161:B166,$G$1)=1,\"Boat 1\",IF(COUNTIF(Général!C161:C166,$G$1)=1,\"Boat 2\",IF(COUNTIF(Général!D161:D166,$G$1)=1,\"Boat 3\", IF(COUNTIF(Général!E161:E166,$G$1)=1,\"Boat 4\", IF(COUNTIF(Général!F161:F166,$G$1)=1,\"Boat 5\", IF(COUNTIF(Général!G161:G166,$G$1)=1,\"Boat 6\", IF(COUNTIF(Général!H161:H166,$G$1)=1,\"Boat 7\",IF(COUNTIF(Général!I33:I38,$G$1)=1,\"Boat 8\",\"Boat 9\"))))))))","v":"Boat 4"},{"$f":"IF(COUNTIF(Général!B169:B174,$G$1)=1,\"Boat 1\",IF(COUNTIF(Général!C169:C174,$G$1)=1,\"Boat 2\",IF(COUNTIF(Général!D169:D174,$G$1)=1,\"Boat 3\", IF(COUNTIF(Général!E169:E174,$G$1)=1,\"Boat 4\", IF(COUNTIF(Général!F169:F174,$G$1)=1,\"Boat 5\", IF(COUNTIF(Général!G169:G174,$G$1)=1,\"Boat 6\", IF(COUNTIF(Général!H169:H174,$G$1)=1,\"Boat 7\",IF(COUNTIF(Général!I33:I38,$G$1)=1,\"Boat 8\",\"Boat 9\"))))))))","v":"Boat 7"},null,{"$f":"Général!B8","v":"IMT Atlantique Nantes 2"},5]
[null,null,null,null,null,null,null,null,null,null,null,null,null,null,null,null,null,null,null,null,null,{"$f":"Général!B9","v":"Hambourg"},6]
["1er Equipage",null,{"$f":"IF($C$5=\"Course 1\",Général!B33,IF($C$5=\"Course 2\",Général!B35,IF($C$5=\"Course 3\",Général!B37,Général!#REF!)))","v":"ENSTA Paris"},{"$f":"IF($D$5=\"Course 1\",Général!B41,IF($D$5=\"Course 2\",Général!B43,IF($D$5=\"Course 3\",Général!B45,Général!#REF!)))","v":"Univ. Nantes 2"},{"$f":"IF($E$5=\"Course 1\",Général!B49,IF($E$5=\"Course 2\",Général!B51,IF($E$5=\"Course 3\",Général!B53,Général!#REF!)))","v":"IMT Atlantique Nantes 2"},{"$f":"IF($F$5=\"Course 1\",Général!B$57,IF($F$5=\"Course 2\",Général!B$59,IF($F$5=\"Course 3\",Général!B$61,Général!#REF!)))","v":"IMT Atlantique Nantes 2"},{"$f":"IF($G$5=\"Course 1\",Général!B$65,IF($G$5=\"Course 2\",Général!B$67,IF($G$5=\"Course 3\",Général!B$69,Général!#REF!)))","v":"ENSTA Bretagne 2"},{"$f":"IF($H$5=\"Course 1\",Général!B$73,IF($H$5=\"Course 2\",Général!B$75,IF($H$5=\"Course 3\",Général!B$77,Général!#REF!)))","v":"ENSTA Bretagne 2"},{"$f":"IF($I$5=\"Course 1\",Général!B$81,IF($I$5=\"Course 2\",Général!B$83,IF($I$5=\"Course 3\",Général!B$85,Général!#REF!)))","v":"Univ. Nantes 3"},{"$f":"IF($J$5=\"Course 1\",Général!B$89,IF($J$5=\"Course 2\",Général!B$91,IF($J$5=\"Course 3\",Général!B$93,Général!#REF!)))","v":"Dublin"},{"$f":"IF($K$5=\"Course 1\",Général!B$97,IF($K$5=\"Course 2\",Général!B$99,IF($K$5=\"Course 3\",Général!B$101,Général!#REF!)))","v":"Univ. La Rochelle"},{"$f":"IF($L$5=\"Course 1\",Général!B$105,IF($L$5=\"Course 2\",Général!B$107,IF($L$5=\"Course 3\",Général!B$109,Général!#REF!)))","v":"UBO 2"},{"$f":"IF($M$5=\"Course 1\",Général!B$113,IF($M$5=\"Course 2\",Général!B$115,IF($M$5=\"Course 3\",Général!B$117,Général!#REF!)))","v":"UBO 2"},{"$f":"IF($N$5=\"Course 1\",Général!B$121,IF($N$5=\"Course 2\",Général!B$123,IF($N$5=\"Course 3\",Général!B$125,Général!#REF!)))","v":"IMT Atlantique Nantes 1"},{"$f":"IF($O$5=\"Course 1\",Général!B$129,IF($O$5=\"Course 2\",Général!B$131,IF($O$5=\"Course 3\",Général!B$133,Général!#REF!)))","v":"UBO 1"},{"$f":"IF($P$5=\"Course 1\",Général!B$137,IF($P$5=\"Course 2\",Général!B$139,IF($P$5=\"Course 3\",Général!B$141,Général!#REF!)))","v":"UBS Lorient 1"},{"$f":"IF($Q$5=\"Course 1\",Général!B$145,IF($Q$5=\"Course 2\",Général!B$147,IF($Q$5=\"Course 3\",Général!B$149,Général!#REF!)))","v":"Hannovre"},{"$f":"IF($R$5=\"Course 1\",Général!B$153,IF($R$5=\"Course 2\",Général!B$155,IF($R$5=\"Course 3\",Général!B$157,Général!#REF!)))","v":"ASUL Lannion"},{"$f":"IF($S$5=\"Course 1\",Général!B$161,IF($S$5=\"Course 2\",Général!B$163,IF($S$5=\"Course 3\",Général!B$165,Général!#REF!)))","v":"AS UB St Brieuc"},{"$f":"IF($T$5=\"Course 1\",Général!B$169,IF($T$5=\"Course 2\",Général!B$171,IF($T$5=\"Course 3\",Général!B$173,Général!#REF!)))","v":"HYDRO Sailing Team Le Havre"},null,{"$f":"Général!B10","v":"EGSI La Rochelle"},5]
["2nd Equipage",null,{"$f":"IF($C$5=\"Course 1\",Général!C33,IF($C$5=\"Course 2\",Général!C35,IF($C$5=\"Course 3\",Général!C37,Général!#REF!)))","v":"Univ. Nantes 2"},{"$f":"IF($D$5=\"Course 1\",Général!C41,IF($D$5=\"Course 2\",Général!C43,IF($D$5=\"Course 3\",Général!C45,Général!#REF!)))","v":"IMT Atlantique Nantes 2"},{"$f":"IF($E$5=\"Course 1\",Général!C49,IF($E$5=\"Course 2\",Général!C51,IF($E$5=\"Course 3\",Général!C53,Général!#REF!)))","v":"Karlsruhe"},{"$f":"IF($F$5=\"Course 1\",Général!C$57,IF($F$5=\"Course 2\",Général!C$59,IF($F$5=\"Course 3\",Général!C$61,Général!#REF!)))","v":"IMT Atlantique Nantes 1"},{"$f":"IF($G$5=\"Course 1\",Général!C$65,IF($G$5=\"Course 2\",Général!C$67,IF($G$5=\"Course 3\",Général!C$69,Général!#REF!)))","v":"IMT Atlantique Nantes 1"},{"$f":"IF($H$5=\"Course 1\",Général!C$73,IF($H$5=\"Course 2\",Général!C$75,IF($H$5=\"Course 3\",Général!C$77,Général!#REF!)))","v":"ENSTA Paris"},{"$f":"IF($I$5=\"Course 1\",Général!C$81,IF($I$5=\"Course 2\",Général!C$83,IF($I$5=\"Course 3\",Général!C$85,Général!#REF!)))","v":"Southampton"},{"$f":"IF($J$5=\"Course 1\",Général!C$89,IF($J$5=\"Course 2\",Général!C$91,IF($J$5=\"Course 3\",Général!C$93,Général!#REF!)))","v":"Univ.Orléans"},{"$f":"IF($K$5=\"Course 1\",Général!C$97,IF($K$5=\"Course 2\",Général!C$99,IF($K$5=\"Course 3\",Général!C$101,Général!#REF!)))","v":"UBO 2"},{"$f":"IF($L$5=\"Course 1\",Général!C$105,IF($L$5=\"Course 2\",Général!C$107,IF($L$5=\"Course 3\",Général!C$109,Général!#REF!)))","v":"ENSTA Bretagne 1"},{"$f":"IF($M$5=\"Course 1\",Général!C$113,IF($M$5=\"Course 2\",Général!C$115,IF($M$5=\"Course 3\",Général!C$117,Général!#REF!)))","v":"Univ. Nantes 1"},{"$f":"IF($N$5=\"Course 1\",Général!C$121,IF($N$5=\"Course 2\",Général!C$123,IF($N$5=\"Course 3\",Général!C$125,Général!#REF!)))","v":"Dublin"},{"$f":"IF($O$5=\"Course 1\",Général!C$129,IF($O$5=\"Course 2\",Général!C$131,IF($O$5=\"Course 3\",Général!C$133,Général!#REF!)))","v":"Univ. La Rochelle"},{"$f":"IF($P$5=\"Course 1\",Général!C$137,IF($P$5=\"Course 2\",Général!C$139,IF($P$5=\"Course 3\",Général!C$141,Général!#REF!)))","v":"Univ. La Rochelle"},{"$f":"IF($Q$5=\"Course 1\",Général!C$145,IF($Q$5=\"Course 2\",Général!C$147,IF($Q$5=\"Course 3\",Général!C$149,Général!#REF!)))","v":"UBS Lorient 1"},{"$f":"IF($R$5=\"Course 1\",Général!C$153,IF($R$5=\"Course 2\",Général!C$155,IF($R$5=\"Course 3\",Général!C$157,Général!#REF!)))","v":"IMT Atlantique Nantes 2"},{"$f":"IF($S$5=\"Course 1\",Général!C$161,IF($S$5=\"Course 2\",Général!C$163,IF($S$5=\"Course 3\",Général!C$165,Général!#REF!)))","v":"AS Paris 1 Panthéon Sorbonne"},{"$f":"IF($T$5=\"Course 1\",Général!C$169,IF($T$5=\"Course 2\",Général!C$171,IF($T$5=\"Course 3\",Général!C$173,Général!#REF!)))","v":"Hambourg"},null,{"$f":"Général!B11","v":"HYDRO Sailing Team Le Havre"},5]
["3ème Equipage",null,{"$f":"IF($C$5=\"Course 1\",Général!D33,IF($C$5=\"Course 2\",Général!D35,IF($C$5=\"Course 3\",Général!D37,Général!#REF!)))","v":"IMT Atlantique Nantes 1"},{"$f":"IF($D$5=\"Course 1\",Général!D41,IF($D$5=\"Course 2\",Général!D43,IF($D$5=\"Course 3\",Général!D45,Général!#REF!)))","v":"HYDRO Sailing Team Le Havre"},{"$f":"IF($E$5=\"Course 1\",Général!D49,IF($E$5=\"Course 2\",Général!D51,IF($E$5=\"Course 3\",Général!D53,Général!#REF!)))","v":"Dublin"},{"$f":"IF($F$5=\"Course 1\",Général!D$57,IF($F$5=\"Course 2\",Général!D$59,IF($F$5=\"Course 3\",Général!D$61,Général!#REF!)))","v":"Univ. Nantes 2"},{"$f":"IF($G$5=\"Course 1\",Général!D$65,IF($G$5=\"Course 2\",Général!D$67,IF($G$5=\"Course 3\",Général!D$69,Général!#REF!)))","v":"Univ. La Rochelle"},{"$f":"IF($H$5=\"Course 1\",Général!D$73,IF($H$5=\"Course 2\",Général!D$75,IF($H$5=\"Course 3\",Général!D$77,Général!#REF!)))","v":"Univ.Orléans"},{"$f":"IF($I$5=\"Course 1\",Général!D$81,IF($I$5=\"Course 2\",Général!D$83,IF($I$5=\"Course 3\",Général!D$85,Général!#REF!)))","v":"ASUL Lannion"},{"$f":"IF($J$5=\"Course 1\",Général!D$89,IF($J$5=\"Course 2\",Général!D$91,IF($J$5=\"Course 3\",Général!D$93,Général!#REF!)))","v":"ASUL Lannion"},{"$f":"IF($K$5=\"Course 1\",Général!D$97,IF($K$5=\"Course 2\",Général!D$99,IF($K$5=\"Course 3\",Général!D$101,Général!#REF!)))","v":"Univ. Nantes 1"},{"$f":"IF($L$5=\"Course 1\",Général!D$105,IF($L$5=\"Course 2\",Général!D$107,IF($L$5=\"Course 3\",Général!D$109,Général!#REF!)))","v":"Univ. Nantes 2"},{"$f":"IF($M$5=\"Course 1\",Général!D$113,IF($M$5=\"Course 2\",Général!D$115,IF($M$5=\"Course 3\",Général!D$117,Général!#REF!)))","v":"Univ. Nantes 2"},{"$f":"IF($N$5=\"Course 1\",Général!D$121,IF($N$5=\"Course 2\",Général!D$123,IF($N$5=\"Course 3\",Général!D$125,Général!#REF!)))","v":"Hannovre"},{"$f":"IF($O$5=\"Course 1\",Général!D$129,IF($O$5=\"Course 2\",Général!D$131,IF($O$5=\"Course 3\",Général!D$133,Général!#REF!)))","v":"UBS Lorient 2"},{"$f":"IF($P$5=\"Course 1\",Général!D$137,IF($P$5=\"Course 2\",Général!D$139,IF($P$5=\"Course 3\",Général!D$141,Général!#REF!)))","v":"ENSTA Bretagne 2"},{"$f":"IF($Q$5=\"Course 1\",Général!D$145,IF($Q$5=\"Course 2\",Général!D$147,IF($Q$5=\"Course 3\",Général!D$149,Général!#REF!)))","v":"ENSTA Bretagne 2"},{"$f":"IF($R$5=\"Course 1\",Général!D$153,IF($R$5=\"Course 2\",Général!D$155,IF($R$5=\"Course 3\",Général!D$157,Général!#REF!)))","v":"Centrales Nantes"},{"$f":"IF($S$5=\"Course 1\",Général!D$161,IF($S$5=\"Course 2\",Général!D$163,IF($S$5=\"Course 3\",Général!D$165,Général!#REF!)))","v":"Karlsruhe"},{"$f":"IF($T$5=\"Course 1\",Général!D$169,IF($T$5=\"Course 2\",Général!D$171,IF($T$5=\"Course 3\",Général!D$173,Général!#REF!)))","v":"AS Paris 1 Panthéon Sorbonne"},null,{"$f":"Général!B12","v":"UNICAEN - ASSUCherbourg"},5]
["4ème Equipage",null,{"$f":"IF($C$5=\"Course 1\",Général!E33,IF($C$5=\"Course 2\",Général!E35,IF($C$5=\"Course 3\",Général!E37,Général!#REF!)))","v":"AS Paris 1 Panthéon Sorbonne"},{"$f":"IF($D$5=\"Course 1\",Général!E41,IF($D$5=\"Course 2\",Général!E43,IF($D$5=\"Course 3\",Général!E45,Général!#REF!)))","v":"AS Paris 1 Panthéon Sorbonne"},{"$f":"IF($E$5=\"Course 1\",Général!E49,IF($E$5=\"Course 2\",Général!E51,IF($E$5=\"Course 3\",Général!E53,Général!#REF!)))","v":"UBO 2"},{"$f":"IF($F$5=\"Course 1\",Général!E$57,IF($F$5=\"Course 2\",Général!E$59,IF($F$5=\"Course 3\",Général!E$61,Général!#REF!)))","v":"UBS Lorient 1"},{"$f":"IF($G$5=\"Course 1\",Général!E$65,IF($G$5=\"Course 2\",Général!E$67,IF($G$5=\"Course 3\",Général!E$69,Général!#REF!)))","v":"ASUL Lannion"},{"$f":"IF($H$5=\"Course 1\",Général!E$73,IF($H$5=\"Course 2\",Général!E$75,IF($H$5=\"Course 3\",Général!E$77,Général!#REF!)))","v":"EGSI La Rochelle"},{"$f":"IF($I$5=\"Course 1\",Général!E$81,IF($I$5=\"Course 2\",Général!E$83,IF($I$5=\"Course 3\",Général!E$85,Général!#REF!)))","v":"ENSTA Bretagne 1"},{"$f":"IF($J$5=\"Course 1\",Général!E$89,IF($J$5=\"Course 2\",Général!E$91,IF($J$5=\"Course 3\",Général!E$93,Général!#REF!)))","v":"ENSTA Bretagne 1"},{"$f":"IF($K$5=\"Course 1\",Général!E$97,IF($K$5=\"Course 2\",Général!E$99,IF($K$5=\"Course 3\",Général!E$101,Général!#REF!)))","v":"Univ. Nantes 2"},{"$f":"IF($L$5=\"Course 1\",Général!E$105,IF($L$5=\"Course 2\",Général!E$107,IF($L$5=\"Course 3\",Général!E$109,Général!#REF!)))","v":"Univ. Nantes 3"},{"$f":"IF($M$5=\"Course 1\",Général!E$113,IF($M$5=\"Course 2\",Général!E$115,IF($M$5=\"Course 3\",Général!E$117,Général!#REF!)))","v":"Southampton"},{"$f":"IF($N$5=\"Course 1\",Général!E$121,IF($N$5=\"Course 2\",Général!E$123,IF($N$5=\"Course 3\",Général!E$125,Général!#REF!)))","v":"Univ. La Rochelle"},{"$f":"IF($O$5=\"Course 1\",Général!E$129,IF($O$5=\"Course 2\",Général!E$131,IF($O$5=\"Course 3\",Général!E$133,Général!#REF!)))","v":"AS UB St Brieuc"},{"$f":"IF($P$5=\"Course 1\",Général!E$137,IF($P$5=\"Course 2\",Général!E$139,IF($P$5=\"Course 3\",Général!E$141,Général!#REF!)))","v":"EGSI La Rochelle"},{"$f":"IF($Q$5=\"Course 1\",Général!E$145,IF($Q$5=\"Course 2\",Général!E$147,IF($Q$5=\"Course 3\",Général!E$149,Général!#REF!)))","v":"UBO 1"},{"$f":"IF($R$5=\"Course 1\",Général!E$153,IF($R$5=\"Course 2\",Général!E$155,IF($R$5=\"Course 3\",Général!E$157,Général!#REF!)))","v":"Univ. Nantes 2"},{"$f":"IF($S$5=\"Course 1\",Général!E$161,IF($S$5=\"Course 2\",Général!E$163,IF($S$5=\"Course 3\",Général!E$165,Général!#REF!)))","v":"Univ. Nantes 2"},{"$f":"IF($T$5=\"Course 1\",Général!E$169,IF($T$5=\"Course 2\",Général!E$171,IF($T$5=\"Course 3\",Général!E$173,Général!#REF!)))","v":"IMT Atlantique Brest"},null,{"$f":"Général!B13","v":"UBO 1"},6]
["5ème Equipage",null,{"$f":"IF($C$5=\"Course 1\",Général!F33,IF($C$5=\"Course 2\",Général!F35,IF($C$5=\"Course 3\",Général!F37,Général!#REF!)))","v":"Hambourg"},{"$f":"IF($D$5=\"Course 1\",Général!F41,IF($D$5=\"Course 2\",Général!F43,IF($D$5=\"Course 3\",Général!F45,Général!#REF!)))","v":"IMT Atlantique Brest"},{"$f":"IF($E$5=\"Course 1\",Général!F49,IF($E$5=\"Course 2\",Général!F51,IF($E$5=\"Course 3\",Général!F53,Général!#REF!)))","v":"IMT Atlantique Nantes 1"},{"$f":"IF($F$5=\"Course 1\",Général!F$57,IF($F$5=\"Course 2\",Général!F$59,IF($F$5=\"Course 3\",Général!F$61,Général!#REF!)))","v":"UNICAEN - ASSUCherbourg"},{"$f":"IF($G$5=\"Course 1\",Général!F$65,IF($G$5=\"Course 2\",Général!F$67,IF($G$5=\"Course 3\",Général!F$69,Général!#REF!)))","v":"Univ. Nantes 3"},{"$f":"IF($H$5=\"Course 1\",Général!F$73,IF($H$5=\"Course 2\",Général!F$75,IF($H$5=\"Course 3\",Général!F$77,Général!#REF!)))","v":"Univ. Nantes 2"},{"$f":"IF($I$5=\"Course 1\",Général!F$81,IF($I$5=\"Course 2\",Général!F$83,IF($I$5=\"Course 3\",Général!F$85,Général!#REF!)))","v":"ENSTA Paris"},{"$f":"IF($J$5=\"Course 1\",Général!F$89,IF($J$5=\"Course 2\",Général!F$91,IF($J$5=\"Course 3\",Général!F$93,Général!#REF!)))","v":"AS UB St Brieuc"},{"$f":"IF($K$5=\"Course 1\",Général!F$97,IF($K$5=\"Course 2\",Général!F$99,IF($K$5=\"Course 3\",Général!F$101,Général!#REF!)))","v":"Centrales Nantes"},{"$f":"IF($L$5=\"Course 1\",Général!F$105,IF($L$5=\"Course 2\",Général!$F107,IF($L$5=\"Course 3\",Général!F$109,Général!#REF!)))","v":"HYDRO Sailing Team Le Havre"},{"$f":"IF($M$5=\"Course 1\",Général!F$113,IF($M$5=\"Course 2\",Général!F$115,IF($M$5=\"Course 3\",Général!F$117,Général!#REF!)))","v":"HYDRO Sailing Team Le Havre"},{"$f":"IF($N$5=\"Course 1\",Général!F$121,IF($N$5=\"Course 2\",Général!F$123,IF($N$5=\"Course 3\",Général!F$125,Général!#REF!)))","v":"Univ. Nantes 2"},{"$f":"IF($O$5=\"Course 1\",Général!F$129,IF($O$5=\"Course 2\",Général!F$131,IF($O$5=\"Course 3\",Général!F$133,Général!#REF!)))","v":"Karlsruhe"},{"$f":"IF($P$5=\"Course 1\",Général!F$137,IF($P$5=\"Course 2\",Général!F$139,IF($P$5=\"Course 3\",Général!F$141,Général!#REF!)))","v":"Karlsruhe"},{"$f":"IF($Q$5=\"Course 1\",Général!F$145,IF($Q$5=\"Course 2\",Général!F$147,IF($Q$5=\"Course 3\",Général!F$149,Général!#REF!)))","v":"UBS Lorient 2"},{"$f":"IF($R$5=\"Course 1\",Général!F$153,IF($R$5=\"Course 2\",Général!F$155,IF($R$5=\"Course 3\",Général!F$157,Général!#REF!)))","v":"ENSTA Paris"},{"$f":"IF($S$5=\"Course 1\",Général!F$161,IF($S$5=\"Course 2\",Général!F$163,IF($S$5=\"Course 3\",Général!F$165,Général!#REF!)))","v":"ENSTA Paris"},{"$f":"IF($T$5=\"Course 1\",Général!F$169,IF($T$5=\"Course 2\",Général!F$171,IF($T$5=\"Course 3\",Général!F$173,Général!#REF!)))","v":"Univ. Nantes 1"},null,{"$f":"Général!B14","v":"ENSTA Bretagne 1"},6]
["6ème Equipage",null,{"$f":"IF($C$5=\"Course 1\",Général!G33,IF($C$5=\"Course 2\",Général!G35,IF($C$5=\"Course 3\",Général!G37,Général!#REF!)))","v":"UNICAEN - ASSUCherbourg"},{"$f":"IF($D$5=\"Course 1\",Général!G41,IF($D$5=\"Course 2\",Général!G43,IF($D$5=\"Course 3\",Général!G45,Général!#REF!)))","v":"UBS Lorient 2"},{"$f":"IF($E$5=\"Course 1\",Général!G49,IF($E$5=\"Course 2\",Général!G51,IF($E$5=\"Course 3\",Général!G53,Général!#REF!)))","v":"Univ. Nantes 2"},{"$f":"IF($F$5=\"Course 1\",Général!G$57,IF($F$5=\"Course 2\",Général!G$59,IF($F$5=\"Course 3\",Général!G$61,Général!#REF!)))","v":"AS UB St Brieuc"},{"$f":"IF($G$5=\"Course 1\",Général!G$65,IF($G$5=\"Course 2\",Général!G$67,IF($G$5=\"Course 3\",Général!G$69,Général!#REF!)))","v":"Hambourg"},{"$f":"IF($H$5=\"Course 1\",Général!G$73,IF($H$5=\"Course 2\",Général!G$75,IF($H$5=\"Course 3\",Général!G$77,Général!#REF!)))","v":"UBS Lorient 1"},{"$f":"IF($I$5=\"Course 1\",Général!G$81,IF($I$5=\"Course 2\",Général!G$83,IF($I$5=\"Course 3\",Général!G$85,Général!#REF!)))","v":"IMT Atlantique Nantes 2"},{"$f":"IF($J$5=\"Course 1\",Général!G$89,IF($J$5=\"Course 2\",Général!G$91,IF($J$5=\"Course 3\",Général!G$93,Général!#REF!)))","v":"ENSTA Bretagne 2"},{"$f":"IF($K$5=\"Course 1\",Général!G$97,IF($K$5=\"Course 2\",Général!G$99,IF($K$5=\"Course 3\",Général!G$101,Général!#REF!)))","v":"ENSTA Bretagne 1"},{"$f":"IF($L$5=\"Course 1\",Général!G$105,IF($L$5=\"Course 2\",Général!G$107,IF($L$5=\"Course 3\",Général!G$109,Général!#REF!)))","v":"AS Paris 1 Panthéon Sorbonne"},{"$f":"IF($M$5=\"Course 1\",Général!G$113,IF($M$5=\"Course 2\",Général!G$115,IF($M$5=\"Course 3\",Général!G$117,Général!#REF!)))","v":"Univ.Orléans"},{"$f":"IF($N$5=\"Course 1\",Général!G$121,IF($N$5=\"Course 2\",Général!G$123,IF($N$5=\"Course 3\",Général!G$125,Général!#REF!)))","v":"Southampton"},{"$f":"IF($O$5=\"Course 1\",Général!G$129,IF($O$5=\"Course 2\",Général!G$131,IF($O$5=\"Course 3\",Général!G$133,Général!#REF!)))","v":"Centrales Nantes"},{"$f":"IF($P$5=\"Course 1\",Général!G$137,IF($P$5=\"Course 2\",Général!G$139,IF($P$5=\"Course 3\",Général!G$141,Général!#REF!)))","v":"HYDRO Sailing Team Le Havre"},{"$f":"IF($Q$5=\"Course 1\",Général!G$145,IF($Q$5=\"Course 2\",Général!G$147,IF($Q$5=\"Course 3\",Général!G$149,Général!#REF!)))","v":"Southampton"},{"$f":"IF($R$5=\"Course 1\",Général!G$153,IF($R$5=\"Course 2\",Général!G$155,IF($R$5=\"Course 3\",Général!G$157,Général!#REF!)))","v":"Univ. La Rochelle"},{"$f":"IF($S$5=\"Course 1\",Général!G$161,IF($S$5=\"Course 2\",Général!G$163,IF($S$5=\"Course 3\",Général!G$165,Général!#REF!)))","v":"Dublin"},{"$f":"IF($T$5=\"Course 1\",Général!G$169,IF($T$5=\"Course 2\",Général!G$171,IF($T$5=\"Course 3\",Général!G$173,Général!#REF!)))","v":"Hannovre"},null,{"$f":"Général!B15","v":"ASUL Lannion"},5]
["7ème Equipage",null,{"$f":"IF($C$5=\"Course 1\",Général!H33,IF($C$5=\"Course 2\",Général!H35,IF($C$5=\"Course 3\",Général!H37,Général!#REF!)))","v":"Centrales Nantes"},{"$f":"IF($D$5=\"Course 1\",Général!H41,IF($D$5=\"Course 2\",Général!H43,IF($D$5=\"Course 3\",Général!H45,Général!#REF!)))","v":"Hannovre"},{"$f":"IF($E$5=\"Course 1\",Général!H49,IF($E$5=\"Course 2\",Général!H51,IF($E$5=\"Course 3\",Général!H53,Général!#REF!)))","v":"UBO 1"},{"$f":"IF($F$5=\"Course 1\",Général!H$57,IF($F$5=\"Course 2\",Général!H$59,IF($F$5=\"Course 3\",Général!H$61,Général!#REF!)))","v":"Univ. Nantes 3"},{"$f":"IF($G$5=\"Course 1\",Général!H$65,IF($G$5=\"Course 2\",Général!H$67,IF($G$5=\"Course 3\",Général!H$69,Général!#REF!)))","v":"Univ. Nantes 2"},{"$f":"IF($H$5=\"Course 1\",Général!H$73,IF($H$5=\"Course 2\",Général!H$75,IF($H$5=\"Course 3\",Général!H$77,Général!#REF!)))","v":"Univ. Nantes 1"},{"$f":"IF($I$5=\"Course 1\",Général!H$81,IF($I$5=\"Course 2\",Général!H$83,IF($I$5=\"Course 3\",Général!H$85,Général!#REF!)))","v":"Univ. Nantes 1"},{"$f":"IF($J$5=\"Course 1\",Général!H$89,IF($J$5=\"Course 2\",Général!H$91,IF($J$5=\"Course 3\",Général!H$93,Général!#REF!)))","v":"IMT Atlantique Brest"},{"$f":"IF($K$5=\"Course 1\",Général!H$97,IF($K$5=\"Course 2\",Général!H$99,IF($K$5=\"Course 3\",Général!H$101,Général!#REF!)))","v":"IMT Atlantique Brest"},{"$f":"IF($L$5=\"Course 1\",Général!H$105,IF($L$5=\"Course 2\",Général!H$107,IF($L$5=\"Course 3\",Général!H$109,Général!#REF!)))","v":"Univ.Orléans"},{"$f":"IF($M$5=\"Course 1\",Général!H$113,IF($M$5=\"Course 2\",Général!H$115,IF($M$5=\"Course 3\",Général!H$117,Général!#REF!)))","v":"UBO 1"},{"$f":"IF($N$5=\"Course 1\",Général!H$121,IF($N$5=\"Course 2\",Général!H$123,IF($N$5=\"Course 3\",Général!H$125,Général!#REF!)))","v":"ENSTA Paris"},{"$f":"IF($O$5=\"Course 1\",Général!H$129,IF($O$5=\"Course 2\",Général!H$131,IF($O$5=\"Course 3\",Général!H$133,Général!#REF!)))","v":"Univ.Orléans"},{"$f":"IF($P$5=\"Course 1\",Général!H$137,IF($P$5=\"Course 2\",Général!H$139,IF($P$5=\"Course 3\",Général!H$141,Général!#REF!)))","v":"Dublin"},{"$f":"IF($Q$5=\"Course 1\",Général!H$145,IF($Q$5=\"Course 2\",Général!H$147,IF($Q$5=\"Course 3\",Général!H$149,Général!#REF!)))","v":"ENSTA Bretagne 1"},{"$f":"IF($R$5=\"Course 1\",Général!H$153,IF($R$5=\"Course 2\",Général!H$155,IF($R$5=\"Course 3\",Général!H$157,Général!#REF!)))","v":"Hannovre"},{"$f":"IF($S$5=\"Course 1\",Général!H$161,IF($S$5=\"Course 2\",Général!H$163,IF($S$5=\"Course 3\",Général!H$165,Général!#REF!)))","v":"IMT Atlantique Brest"},{"$f":"IF($T$5=\"Course 1\",Général!H$169,IF($T$5=\"Course 2\",Général!H$171,IF($T$5=\"Course 3\",Général!H$173,Général!#REF!)))","v":"Univ. Nantes 2"},null,{"$f":"Général!B16","v":"ENSTA Paris"},6]
["8ème Equipage",null,{"$f":"IF($C$5=\"Course 1\",Général!I33,IF($C$5=\"Course 2\",Général!I35,IF($C$5=\"Course 3\",Général!I37,Général!#REF!)))","v":"ENSTA Bretagne 1"},{"$f":"IF($D$5=\"Course 1\",Général!I41,IF($D$5=\"Course 2\",Général!I43,IF($D$5=\"Course 3\",Général!I45,Général!#REF!)))","v":"Univ. Nantes 1"},{"$f":"IF($E$5=\"Course 1\",Général!I49,IF($E$5=\"Course 2\",Général!I51,IF($E$5=\"Course 3\",Général!I53,Général!#REF!)))","v":"EGSI La Rochelle"},{"$f":"IF($F$5=\"Course 1\",Général!I$57,IF($F$5=\"Course 2\",Général!I$59,IF($F$5=\"Course 3\",Général!I$61,Général!#REF!)))","v":"Southampton"},{"$f":"IF($G$5=\"Course 1\",Général!I$65,IF($G$5=\"Course 2\",Général!I$67,IF($G$5=\"Course 3\",Général!I$69,Général!#REF!)))","v":"UNICAEN - ASSUCherbourg"},{"$f":"IF($H$5=\"Course 1\",Général!I$73,IF($H$5=\"Course 2\",Général!I$75,IF($H$5=\"Course 3\",Général!I$77,Général!#REF!)))","v":"UBO 1"},{"$f":"IF($I$5=\"Course 1\",Général!I$81,IF($I$5=\"Course 2\",Général!I$83,IF($I$5=\"Course 3\",Général!I$85,Général!#REF!)))","v":"Karlsruhe"},{"$f":"IF($J$5=\"Course 1\",Général!I$89,IF($J$5=\"Course 2\",Général!I$91,IF($J$5=\"Course 3\",Général!I$93,Général!#REF!)))","v":"Hambourg"},{"$f":"IF($K$5=\"Course 1\",Général!I$97,IF($K$5=\"Course 2\",Général!I$99,IF($K$5=\"Course 3\",Général!I$101,Général!#REF!)))","v":"UBS Lorient 1"},{"$f":"IF($L$5=\"Course 1\",Général!I$105,IF($L$5=\"Course 2\",Général!I$107,IF($L$5=\"Course 3\",Général!I$109,Général!#REF!)))","v":"EGSI La Rochelle"},{"$f":"IF($M$5=\"Course 1\",Général!I$113,IF($M$5=\"Course 2\",Général!I$115,IF($M$5=\"Course 3\",Général!I$117,Général!#REF!)))","v":"Univ. La Rochelle"},{"$f":"IF($N$5=\"Course 1\",Général!I$121,IF($N$5=\"Course 2\",Général!I$123,IF($N$5=\"Course 3\",Général!I$125,Général!#REF!)))","v":"UBS Lorient 2"},{"$f":"IF($O$5=\"Course 1\",Général!I$129,IF($O$5=\"Course 2\",Général!I$131,IF($O$5=\"Course 3\",Général!I$133,Général!#REF!)))","v":"Univ. Nantes 2"},{"$f":"IF($P$5=\"Course 1\",Général!I$137,IF($P$5=\"Course 2\",Général!I$139,IF($P$5=\"Course 3\",Général!I$141,Général!#REF!)))","v":"Univ. Nantes 2"},{"$f":"IF($Q$5=\"Course 1\",Général!I$145,IF($Q$5=\"Course 2\",Général!I$147,IF($Q$5=\"Course 3\",Général!I$149,Général!#REF!)))","v":"Univ. Nantes 2"},{"$f":"IF($R$5=\"Course 1\",Général!I$153,IF($R$5=\"Course 2\",Général!I$155,IF($R$5=\"Course 3\",Général!I$157,Général!#REF!)))","v":"ENSTA Bretagne 2"},{"$f":"IF($S$5=\"Course 1\",Général!I$161,IF($S$5=\"Course 2\",Général!I$163,IF($S$5=\"Course 3\",Général!I$165,Général!#REF!)))","v":"ENSTA Bretagne 2"},{"$f":"IF($T$5=\"Course 1\",Général!I$169,IF($T$5=\"Course 2\",Général!I$171,IF($T$5=\"Course 3\",Général!I$173,Général!#REF!)))","v":"UBO 1"},null,{"$f":"Général!B17","v":"IMT Atlantique Brest"},6]
["9ème Equipage",null,{"$f":"IF($C$5=\"Course 1\",Général!J33,IF($C$5=\"Course 2\",Général!J35,IF($C$5=\"Course 3\",Général!J37,Général!#REF!)))","v":"Univ.Orléans"},{"$f":"IF($D$5=\"Course 1\",Général!J41,IF($D$5=\"Course 2\",Général!J43,IF($D$5=\"Course 3\",Général!J45,Général!#REF!)))","v":"Hambourg"},{"$f":"IF($E$5=\"Course 1\",Général!J49,IF($E$5=\"Course 2\",Général!J51,IF($E$5=\"Course 3\",Général!J53,Général!#REF!)))","v":"Hambourg"},{"$f":"IF($F$5=\"Course 1\",Général!J$57,IF($F$5=\"Course 2\",Général!J$59,IF($F$5=\"Course 3\",Général!J$61,Général!#REF!)))","v":"IMT Atlantique Brest"},{"$f":"IF($G$5=\"Course 1\",Général!J$65,IF($G$5=\"Course 2\",Général!J$67,IF($G$5=\"Course 3\",Général!J$69,Général!#REF!)))","v":"Univ. Nantes 1"},{"$f":"IF($H$5=\"Course 1\",Général!J$73,IF($H$5=\"Course 2\",Général!J$75,IF($H$5=\"Course 3\",Général!$J77,Général!#REF!)))","v":"AS Paris 1 Panthéon Sorbonne"},{"$f":"IF($I$5=\"Course 1\",Général!J$81,IF($I$5=\"Course 2\",Général!J$83,IF($I$5=\"Course 3\",Général!J$85,Général!#REF!)))","v":"Univ. Nantes 2"},{"$f":"IF($J$5=\"Course 1\",Général!J$89,IF($J$5=\"Course 2\",Général!J$91,IF($J$5=\"Course 3\",Général!J$93,Général!#REF!)))","v":"Univ. Nantes 2"},{"$f":"IF($K$5=\"Course 1\",Général!J$97,IF($K$5=\"Course 2\",Général!J$99,IF($K$5=\"Course 3\",Général!J$101,Général!#REF!)))","v":"UBS Lorient 2"},{"$f":"IF($L$5=\"Course 1\",Général!J$105,IF($L$5=\"Course 2\",Général!J$107,IF($L$5=\"Course 3\",Général!J$109,Général!#REF!)))","v":"Hannovre"},{"$f":"IF($M$5=\"Course 1\",Général!J$113,IF($M$5=\"Course 2\",Général!J$115,IF($M$5=\"Course 3\",Général!J$117,Général!#REF!)))","v":"ASUL Lannion"},{"$f":"IF($N$5=\"Course 1\",Général!J$121,IF($N$5=\"Course 2\",Général!J$123,IF($N$5=\"Course 3\",Général!J$125,Général!#REF!)))","v":"Univ.Orléans"},{"$f":"IF($O$5=\"Course 1\",Général!J$129,IF($O$5=\"Course 2\",Général!J$131,IF($O$5=\"Course 3\",Général!J$133,Général!#REF!)))","v":"UNICAEN - ASSUCherbourg"},{"$f":"IF($P$5=\"Course 1\",Général!J$137,IF($P$5=\"Course 2\",Général!J$139,IF($P$5=\"Course 3\",Général!J$141,Général!#REF!)))","v":"UNICAEN - ASSUCherbourg"},{"$f":"IF($Q$5=\"Course 1\",Général!J$145,IF($Q$5=\"Course 2\",Général!J$147,IF($Q$5=\"Course 3\",Général!J$149,Général!#REF!)))","v":"Karlsruhe"},{"$f":"IF($R$5=\"Course 1\",Général!J$153,IF($R$5=\"Course 2\",Général!J$155,IF($R$5=\"Course 3\",Général!J$157,Général!#REF!)))","v":"EGSI La Rochelle"},{"$f":"IF($S$5=\"Course 1\",Général!J$161,IF($S$5=\"Course 2\",Général!J$163,IF($S$5=\"Course 3\",Général!J$165,Général!#REF!)))","v":"Southampton"},{"$f":"IF($T$5=\"Course 1\",Général!J$169,IF($T$5=\"Course 2\",Général!J$171,IF($T$5=\"Course 3\",Général!J$173,Général!#REF!)))","v":"Southampton"},null,{"$f":"Général!B18","v":"UBO 2"},4]
[null,null,null,null,null,null,null,null,null,null,null,null,null,null,null,null,null,null,null,null,null,{"$f":"Général!B19","v":"Dublin"},5]
[null,null,null,null,null,null,null,null,null,null,null,null,null,null,null,null,null,null,null,null,null,{"$f":"Général!B20","v":"Univ. Nantes 2"},18]
[null,null,null,null,null,null,null,null,null,null,null,null,null,null,null,null,null,null,null,null,null,{"$f":"Général!B21","v":"UBS Lorient 1"},5]
[null,null,null,null,null,null,null,null,null,null,null,null,null,null,null,null,null,null,null,null,null,{"$f":"Général!B22","v":"UBS Lorient 2"},5]
[null,null,null,null,null,null,null,null,null,null,null,null,null,null,null,null,null,null,null,null,null,{"$f":"Général!B23","v":"Univ.Orléans"},7]
[null,null,null,null,null,null,null,null,null,null,null,null,null,null,null,null,null,null,null,null,null,{"$f":"Général!B24","v":"Univ. La Rochelle"},7]
[null,null,null,null,null,null,null,null,null,null,null,null,null,null,null,null,null,null,null,null,null,{"$f":"Général!B25","v":"AS UB St Brieuc"},4]
[null,null,null,null,null,null,null,null,null,null,null,null,null,null,null,null,null,null,null,null,null,{"$f":"Général!B26","v":"Karlsruhe"},6]
[null,null,null,null,null,null,null,null,null,null,null,null,null,null,null,null,null,null,null,null,null,{"$f":"Général!B27","v":"Univ. Nantes 3"},4]
[null,null,null,null,null,null,null,null,null,null,null,null,null,null,null,null,null,null,null,null,null,{"$f":"Général!B28","v":"Centrales Nantes"},4]
[null,null,null,null,null,null,null,null,null,null,null,null,null,null,null,null,null,null,null,null,null,{"$f":"Général!B29","v":"Southampton"},7]
[null,null,null,null,null,null,null,null,null,null,null,null,null,null,null,null,null,null,null,null,null,{"$f":"Général!#REF!","v":{"$error":"#REF!"}},0]
[null,null,null,null,null,null,null,null,null,null,null,null,null,null,null,null,null,null,null,null,null,{"$f":"Général!#REF!","v":{"$error":"#REF!"}},0]
[null,null,null,null,null,null,null,null,null,null,null,null,null,null,null,null,null,null,null,null,null,{"$f":"Général!#REF!","v":{"$error":"#REF!"}},0]
[null,null,null,null,null,null,null,null,null,null,null,null,null,null,null,null,null,null,null,null,null,{"$f":"Général!#REF!","v":{"$error":"#REF!"}},0]
[null,null,null,null,null,null,null,null,null,null,null,null,null,null,null,null,null,null,null,null,null,{"$f":"Général!#REF!","v":{"$error":"#REF!"}},0]

{"sheet":"Eq.19","index":23,"n_rows":32,"n_cols":23,"rows_kept":32,"cut":false,"hidden":false,"merged":[[14,0,14,1],[15,0,15,1],[8,0,8,1],[9,0,9,1],[10,0,10,1],[11,0,11,1],[12,0,12,1],[13,0,13,1],[7,0,7,1],[0,0,1,5],[0,6,1,10],[3,0,3,1],[4,0,4,1],[5,0,5,1]]}
["Equipage ",null,null,null,null,null,{"$f":"Général!B21","v":"UBS Lorient 1"},null,null,null,null,null,null,null,null,null,null,null,null,null,null,{"$f":"Général!B3","v":"Univ. Nantes 1"},{"$f":"COUNTIF(C$8:T$16,V1)","v":5}]
[null,null,null,null,null,null,null,null,null,null,null,null,null,null,null,null,null,null,null,null,null,{"$f":"Général!B4","v":"AS Paris 1 Panthéon Sorbonne"},{"$f":"COUNTIF($C$8:$T$16,V2)","v":5}]
[null,null,null,null,null,null,null,null,null,null,null,null,null,null,null,null,null,null,null,null,null,{"$f":"Général!B5","v":"Hannovre"},{"$f":"COUNTIF($C$8:$T$16,V3)","v":6}]
[null,null,"FLIGHT 1","FLIGHT 2","FLIGHT 3","FLIGHT 4","FLIGHT 5","FLIGHT 6","FLIGHT 7","FLIGHT 8","FLIGHT 9","FLIGHT 10","FLIGHT 11","FLIGHT 12","FLIGHT 13","FLIGHT 14","FLIGHT 15","FLIGHT 16","FLIGHT 17","FLIGHT 18",null,{"$f":"Général!B6","v":"IMT Atlantique Nantes 1"},6]
["N° de course",null,{"$f":"IF(COUNTIF(Général!B33:J33,$G$1)=1,\"Course 1\",IF(COUNTIF(Général!B35:J35,$G$1)=1,\"Course 2\",IF(COUNTIF(Général!B37:J37,$G$1)=1,\"Course 3\",\"Course 4\")))","v":"Course 3"},{"$f":"IF(COUNTIF(Général!B41:J41,$G$1)=1,\"Course 1\",IF(COUNTIF(Général!B43:J43,$G$1)=1,\"Course 2\",IF(COUNTIF(Général!B45:J45,$G$1)=1,\"Course 3\",\"Course 4\")))","v":"Course 2"},{"$f":"IF(COUNTIF(Général!B49:J49,$G$1)=1,\"Course 1\",IF(COUNTIF(Général!B51:J51,$G$1)=1,\"Course 2\",IF(COUNTIF(Général!B53:J53,$G$1)=1,\"Course 3\",\"Course 4\")))","v":"Course 1"},{"$f":"IF(COUNTIF(Général!B57:J57,$G$1)=1,\"Course 1\",IF(COUNTIF(Général!B59:J59,$G$1)=1,\"Course 2\",IF(COUNTIF(Général!B61:J61,$G$1)=1,\"Course 3\",\"Course 4\")))","v":"Course 1"},{"$f":"IF(COUNTIF(Général!B65:J65,$G$1)=1,\"Course 1\",IF(COUNTIF(Général!B67:J67,$G$1)=1,\"Course 2\",IF(COUNTIF(Général!B69:J69,$G$1)=1,\"Course 3\",\"Course 4\")))","v":"Course 1"},{"$f":"IF(COUNTIF(Général!B73:J73,$G$1)=1,\"Course 1\",IF(COUNTIF(Général!B75:J75,$G$1)=1,\"Course 2\",IF(COUNTIF(Général!B77:J77,$G$1)=1,\"Course 3\",\"Course 4\")))","v":"Course 3"},{"$f":"IF(COUNTIF(Général!B81:J81,$G$1)=1,\"Course 1\",IF(COUNTIF(Général!B83:J83,$G$1)=1,\"Course 2\",IF(COUNTIF(Général!B85:J85,$G$1)=1,\"Course 3\",\"Course 4\")))","v":"Course 1"},{"$f":"IF(COUNTIF(Général!B89:J89,$G$1)=1,\"Course 1\",IF(COUNTIF(Général!B91:J91,$G$1)=1,\"Course 2\",IF(COUNTIF(Général!B93:J93,$G$1)=1,\"Course 3\",\"Course 4\")))","v":"Course 3"},{"$f":"IF(COUNTIF(Général!B97:J97,$G$1)=1,\"Course 1\",IF(COUNTIF(Général!B99:J99,$G$1)=1,\"Course 2\",IF(COUNTIF(Général!B101:J101,$G$1)=1,\"Course 3\",\"Course 4\")))","v":"Course 2"},{"$f":"IF(COUNTIF(Général!B105:J105,$G$1)=1,\"Course 1\",IF(COUNTIF(Général!B107:J107,$G$1)=1,\"Course 2\",IF(COUNTIF(Général!B109:J109,$G$1)=1,\"Course 3\",\"Course 4\")))","v":"Course 3"},{"$f":"IF(COUNTIF(Général!B113:J113,$G$1)=1,\"Course 1\",IF(COUNTIF(Général!B115:J115,$G$1)=1,\"Course 2\",IF(COUNTIF(Général!B117:J117,$G$1)=1,\"Course 3\",\"Course 4\")))","v":"Course 1"},{"$f":"IF(COUNTIF(Général!B121:J121,$G$1)=1,\"Course 1\",IF(COUNTIF(Général!B123:J123,$G$1)=1,\"Course 2\",IF(COUNTIF(Général!B125:J125,$G$1)=1,\"Course 3\",\"Course 4\")))","v":"Course 1"},{"$f":"IF(COUNTIF(Général!B129:J129,$G$1)=1,\"Course 1\",IF(COUNTIF(Général!B131:J131,$G$1)=1,\"Course 2\",IF(COUNTIF(Général!B133:J133,$G$1)=1,\"Course 3\",\"Course 4\")))","v":"Course 1"},{"$f":"IF(COUNTIF(Général!B137:J137,$G$1)=1,\"Course 1\",IF(COUNTIF(Général!B139:J139,$G$1)=1,\"Course 2\",IF(COUNTIF(Général!B141:J141,$G$1)=1,\"Course 3\",\"Course 4\")))","v":"Course 1"},{"$f":"IF(COUNTIF(Général!B145:J145,$G$1)=1,\"Course 1\",IF(COUNTIF(Général!B147:J147,$G$1)=1,\"Course 2\",IF(COUNTIF(Général!B149:J149,$G$1)=1,\"Course 3\",\"Course 4\")))","v":"Course 3"},{"$f":"IF(COUNTIF(Général!B153:J153,$G$1)=1,\"Course 1\",IF(COUNTIF(Général!B155:J155,$G$1)=1,\"Course 2\",IF(COUNTIF(Général!B157:J157,$G$1)=1,\"Course 3\",\"Course 4\")))","v":"Course 2"},{"$f":"IF(COUNTIF(Général!B161:J161,$G$1)=1,\"Course 1\",IF(COUNTIF(Général!B163:J163,$G$1)=1,\"Course 2\",IF(COUNTIF(Général!B165:J165,$G$1)=1,\"Course 3\",\"Course 4\")))","v":"Course 2"},{"$f":"IF(COUNTIF(Général!B169:J169,$G$1)=1,\"Course 1\",IF(COUNTIF(Général!B171:J171,$G$1)=1,\"Course 2\",IF(COUNTIF(Général!B173:J173,$G$1)=1,\"Course 3\",\"Course 4\")))","v":"Course 2"},null,{"$f":"Général!B7","v":"ENSTA Bretagne 2"},6]
["Bateau",null,{"$f":"IF(COUNTIF(Général!B33:B38,$G$1)=1,\"Boat 1\",IF(COUNTIF(Général!C33:C38,$G$1)=1,\"Boat 2\",IF(COUNTIF(Général!D33:D38,$G$1)=1,\"Boat 3\", IF(COUNTIF(Général!E33:E38,$G$1)=1,\"Boat 4\", IF(COUNTIF(Général!F33:F38,$G$1)=1,\"Boat 5\", IF(COUNTIF(Général!G33:G38,$G$1)=1,\"Boat 6\", IF(COUNTIF(Général!H33:H38,$G$1)=1,\"Boat 7\",IF(COUNTIF(Général!I33:I38,$G$1)=1,\"Boat 8\",\"Boat 9\"))))))))","v":"Boat 3"},{"$f":"IF(COUNTIF(Général!B41:B46,$G$1)=1,\"Boat 1\",IF(COUNTIF(Général!C41:C46,$G$1)=1,\"Boat 2\",IF(COUNTIF(Général!D41:D46,$G$1)=1,\"Boat 3\", IF(COUNTIF(Général!E41:E46,$G$1)=1,\"Boat 4\", IF(COUNTIF(Général!F41:F46,$G$1)=1,\"Boat 5\", IF(COUNTIF(Général!G41:G46,$G$1)=1,\"Boat 6\", IF(COUNTIF(Général!H41:H46,$G$1)=1,\"Boat 7\",IF(COUNTIF(Général!I33:I38,$G$1)=1,\"Boat 8\",\"Boat 9\"))))))))","v":"Boat 2"},{"$f":"IF(COUNTIF(Général!B49:B54,$G$1)=1,\"Boat 1\",IF(COUNTIF(Général!C49:C54,$G$1)=1,\"Boat 2\",IF(COUNTIF(Général!D49:D54,$G$1)=1,\"Boat 3\", IF(COUNTIF(Général!E49:E54,$G$1)=1,\"Boat 4\", IF(COUNTIF(Général!F49:F54,$G$1)=1,\"Boat 5\", IF(COUNTIF(Général!G49:G54,$G$1)=1,\"Boat 6\", IF(COUNTIF(Général!H49:H54,$G$1)=1,\"Boat 7\",IF(COUNTIF(Général!I33:I38,$G$1)=1,\"Boat 8\",\"Boat 9\"))))))))","v":"Boat 1"},{"$f":"IF(COUNTIF(Général!B57:B62,$G$1)=1,\"Boat 1\",IF(COUNTIF(Général!C57:C62,$G$1)=1,\"Boat 2\",IF(COUNTIF(Général!D57:D62,$G$1)=1,\"Boat 3\", IF(COUNTIF(Général!E57:E62,$G$1)=1,\"Boat 4\", IF(COUNTIF(Général!F57:F62,$G$1)=1,\"Boat 5\", IF(COUNTIF(Général!G57:G62,$G$1)=1,\"Boat 6\", IF(COUNTIF(Général!H57:H62,$G$1)=1,\"Boat 7\",IF(COUNTIF(Général!I33:I38,$G$1)=1,\"Boat 8\",\"Boat 9\"))))))))","v":"Boat 4"},{"$f":"IF(COUNTIF(Général!B65:B70,$G$1)=1,\"Boat 1\",IF(COUNTIF(Général!C65:C70,$G$1)=1,\"Boat 2\",IF(COUNTIF(Général!D65:D70,$G$1)=1,\"Boat 3\", IF(COUNTIF(Général!E65:E70,$G$1)=1,\"Boat 4\", IF(COUNTIF(Général!F65:F70,$G$1)=1,\"Boat 5\", IF(COUNTIF(Général!G65:G70,$G$1)=1,\"Boat 6\", IF(COUNTIF(Général!H65:H70,$G$1)=1,\"Boat 7\",IF(COUNTIF(Général!I33:I38,$G$1)=1,\"Boat 8\",\"Boat 9\"))))))))","v":"Boat 4"},{"$f":"IF(COUNTIF(Général!B73:B78,$G$1)=1,\"Boat 1\",IF(COUNTIF(Général!C73:C78,$G$1)=1,\"Boat 2\",IF(COUNTIF(Général!D73:D78,$G$1)=1,\"Boat 3\", IF(COUNTIF(Général!E73:E78,$G$1)=1,\"Boat 4\", IF(COUNTIF(Général!F73:F78,$G$1)=1,\"Boat 5\", IF(COUNTIF(Général!G73:G78,$G$1)=1,\"Boat 6\", IF(COUNTIF(Général!H73:H78,$G$1)=1,\"Boat 7\",IF(COUNTIF(Général!I33:I38,$G$1)=1,\"Boat 8\",\"Boat 9\"))))))))","v":"Boat 6"},{"$f":"IF(COUNTIF(Général!B81:B86,$G$1)=1,\"Boat 1\",IF(COUNTIF(Général!C81:C86,$G$1)=1,\"Boat 2\",IF(COUNTIF(Général!D81:D86,$G$1)=1,\"Boat 3\", IF(COUNTIF(Général!E81:E86,$G$1)=1,\"Boat 4\", IF(COUNTIF(Général!F81:F86,$G$1)=1,\"Boat 5\", IF(COUNTIF(Général!G81:G86,$G$1)=1,\"Boat 6\", IF(COUNTIF(Général!H81:H86,$G$1)=1,\"Boat 7\",IF(COUNTIF(Général!I33:I38,$G$1)=1,\"Boat 8\",\"Boat 9\"))))))))","v":"Boat 6"},{"$f":"IF(COUNTIF(Général!B89:B94,$G$1)=1,\"Boat 1\",IF(COUNTIF(Général!C89:C94,$G$1)=1,\"Boat 2\",IF(COUNTIF(Général!D89:D94,$G$1)=1,\"Boat 3\", IF(COUNTIF(Général!E89:E94,$G$1)=1,\"Boat 4\", IF(COUNTIF(Général!F89:F94,$G$1)=1,\"Boat 5\", IF(COUNTIF(Général!G89:G94,$G$1)=1,\"Boat 6\", IF(COUNTIF(Général!H89:H94,$G$1)=1,\"Boat 7\",IF(COUNTIF(Général!I33:I38,$G$1)=1,\"Boat 8\",\"Boat 9\"))))))))","v":"Boat 9"},{"$f":"IF(COUNTIF(Général!B97:B102,$G$1)=1,\"Boat 1\",IF(COUNTIF(Général!C97:C102,$G$1)=1,\"Boat 2\",IF(COUNTIF(Général!D97:D102,$G$1)=1,\"Boat 3\", IF(COUNTIF(Général!E97:E102,$G$1)=1,\"Boat 4\", IF(COUNTIF(Général!F97:F102,$G$1)=1,\"Boat 5\", IF(COUNTIF(Général!G97:G102,$G$1)=1,\"Boat 6\", IF(COUNTIF(Général!H97:H102,$G$1)=1,\"Boat 7\",IF(COUNTIF(Général!I33:I38,$G$1)=1,\"Boat 8\",\"Boat 9\"))))))))","v":"Boat 9"},{"$f":"IF(COUNTIF(Général!B105:B110,$G$1)=1,\"Boat 1\",IF(COUNTIF(Général!C105:C110,$G$1)=1,\"Boat 2\",IF(COUNTIF(Général!D105:D110,$G$1)=1,\"Boat 3\", IF(COUNTIF(Général!E105:E110,$G$1)=1,\"Boat 4\", IF(COUNTIF(Général!F105:F110,$G$1)=1,\"Boat 5\", IF(COUNTIF(Général!G105:G110,$G$1)=1,\"Boat 6\", IF(COUNTIF(Général!H105:H110,$G$1)=1,\"Boat 7\",IF(COUNTIF(Général!I33:I38,$G$1)=1,\"Boat 8\",\"Boat 9\"))))))))","v":"Boat 5"},{"$f":"IF(COUNTIF(Général!B113:B118,$G$1)=1,\"Boat 1\",IF(COUNTIF(Général!C113:C118,$G$1)=1,\"Boat 2\",IF(COUNTIF(Général!C113:D118,$G$1)=1,\"Boat 3\", IF(COUNTIF(Général!C113:E118,$G$1)=1,\"Boat 4\", IF(COUNTIF(Général!F113:F118,$G$1)=1,\"Boat 5\", IF(COUNTIF(Général!G113:G118,$G$1)=1,\"Boat 6\", IF(COUNTIF(Général!H113:H118,$G$1)=1,\"Boat 7\",IF(COUNTIF(Général!I33:I38,$G$1)=1,\"Boat 8\",\"Boat 9\"))))))))","v":"Boat 5"},{"$f":"IF(COUNTIF(Général!B121:B126,$G$1)=1,\"Boat 1\",IF(COUNTIF(Général!C121:C126,$G$1)=1,\"Boat 2\",IF(COUNTIF(Général!D121:D126,$G$1)=1,\"Boat 3\", IF(COUNTIF(Général!E121:E126,$G$1)=1,\"Boat 4\", IF(COUNTIF(Général!F121:F126,$G$1)=1,\"Boat 5\", IF(COUNTIF(Général!G121:G126,$G$1)=1,\"Boat 6\", IF(COUNTIF(Général!H121:H126,$G$1)=1,\"Boat 7\",IF(COUNTIF(Général!I33:I38,$G$1)=1,\"Boat 8\",\"Boat 9\"))))))))","v":"Boat 9"},{"$f":"IF(COUNTIF(Général!B129:B134,$G$1)=1,\"Boat 1\",IF(COUNTIF(Général!C129:C134,$G$1)=1,\"Boat 2\",IF(COUNTIF(Général!D131:D134,$G$1)=1,\"Boat 3\", IF(COUNTIF(Général!E129:E134,$G$1)=1,\"Boat 4\", IF(COUNTIF(Général!F129:F134,$G$1)=1,\"Boat 5\", IF(COUNTIF(Général!G129:G134,$G$1)=1,\"Boat 6\", IF(COUNTIF(Général!H129:H134,$G$1)=1,\"Boat 7\",IF(COUNTIF(Général!I33:I38,$G$1)=1,\"Boat 8\",\"Boat 9\"))))))))","v":"Boat 7"},{"$f":"IF(COUNTIF(Général!B137:B142,$G$1)=1,\"Boat 1\",IF(COUNTIF(Général!C137:C142,$G$1)=1,\"Boat 2\",IF(COUNTIF(Général!D137:D142,$G$1)=1,\"Boat 3\", IF(COUNTIF(Général!E137:E142,$G$1)=1,\"Boat 4\", IF(COUNTIF(Général!F145:F150,$G$1)=1,\"Boat 5\", IF(COUNTIF(Général!G145:G150,$G$1)=1,\"Boat 6\", IF(COUNTIF(Général!H145:H150,$G$1)=1,\"Boat 7\",IF(COUNTIF(Général!I33:I38,$G$1)=1,\"Boat 8\",\"Boat 9\"))))))))","v":"Boat 1"},{"$f":"IF(COUNTIF(Général!B145:B150,$G$1)=1,\"Boat 1\",IF(COUNTIF(Général!C145:C150,$G$1)=1,\"Boat 2\",IF(COUNTIF(Général!D145:D150,$G$1)=1,\"Boat 3\", IF(COUNTIF(Général!E145:E150,$G$1)=1,\"Boat 4\", IF(COUNTIF(Général!F145:F150,$G$1)=1,\"Boat 5\", IF(COUNTIF(Général!G145:G150,$G$1)=1,\"Boat 6\", IF(COUNTIF(Général!H145:H150,$G$1)=1,\"Boat 7\",IF(COUNTIF(Général!I33:I38,$G$1)=1,\"Boat 8\",\"Boat 9\"))))))))","v":"Boat 2"},{"$f":"IF(COUNTIF(Général!B153:B158,$G$1)=1,\"Boat 1\",IF(COUNTIF(Général!C153:C158,$G$1)=1,\"Boat 2\",IF(COUNTIF(Général!D153:D158,$G$1)=1,\"Boat 3\", IF(COUNTIF(Général!E153:E158,$G$1)=1,\"Boat 4\", IF(COUNTIF(Général!F153:F158,$G$1)=1,\"Boat 5\", IF(COUNTIF(Général!G153:G158,$G$1)=1,\"Boat 6\", IF(COUNTIF(Général!H153:H158,$G$1)=1,\"Boat 7\",IF(COUNTIF(Général!I33:I38,$G$1)=1,\"Boat 8\",\"Boat 9\"))))))))","v":"Boat 6"},{"$f":"IF(COUNTIF(Général!B161:B166,$G$1)=1,\"Boat 1\",IF(COUNTIF(Général!C161:C166,$G$1)=1,\"Boat 2\",IF(COUNTIF(Général!D161:D166,$G$1)=1,\"Boat 3\", IF(COUNTIF(Général!E161:E166,$G$1)=1,\"Boat 4\", IF(COUNTIF(Général!F161:F166,$G$1)=1,\"Boat 5\", IF(COUNTIF(Général!G161:G166,$G$1)=1,\"Boat 6\", IF(COUNTIF(Général!H161:H166,$G$1)=1,\"Boat 7\",IF(COUNTIF(Général!I33:I38,$G$1)=1,\"Boat 8\",\"Boat 9\"))))))))","v":"Boat 7"},{"$f":"IF(COUNTIF(Général!B169:B174,$G$1)=1,\"Boat 1\",IF(COUNTIF(Général!C169:C174,$G$1)=1,\"Boat 2\",IF(COUNTIF(Général!D169:D174,$G$1)=1,\"Boat 3\", IF(COUNTIF(Général!E169:E174,$G$1)=1,\"Boat 4\", IF(COUNTIF(Général!F169:F174,$G$1)=1,\"Boat 5\", IF(COUNTIF(Général!G169:G174,$G$1)=1,\"Boat 6\", IF(COUNTIF(Général!H169:H174,$G$1)=1,\"Boat 7\",IF(COUNTIF(Général!I33:I38,$G$1)=1,\"Boat 8\",\"Boat 9\"))))))))","v":"Boat 7"},null,{"$f":"Général!B8","v":"IMT Atlantique Nantes 2"},6]
[null,null,null,null,null,null,null,null,null,null,null,null,null,null,null,null,null,null,null,null,null,{"$f":"Général!B9","v":"Hambourg"},5]
["1er Equipage",null,{"$f":"IF($C$5=\"Course 1\",Général!B33,IF($C$5=\"Course 2\",Général!B35,IF($C$5=\"Course 3\",Général!B37,Général!#REF!)))","v":"UBS Lorient 2"},{"$f":"IF($D$5=\"Course 1\",Général!B41,IF($D$5=\"Course 2\",Général!B43,IF($D$5=\"Course 3\",Général!B45,Général!#REF!)))","v":"ASUL Lannion"},{"$f":"IF($E$5=\"Course 1\",Général!B49,IF($E$5=\"Course 2\",Général!B51,IF($E$5=\"Course 3\",Général!B53,Général!#REF!)))","v":"UBS Lorient 1"},{"$f":"IF($F$5=\"Course 1\",Général!B$57,IF($F$5=\"Course 2\",Général!B$59,IF($F$5=\"Course 3\",Général!B$61,Général!#REF!)))","v":"IMT Atlantique Nantes 2"},{"$f":"IF($G$5=\"Course 1\",Général!B$65,IF($G$5=\"Course 2\",Général!B$67,IF($G$5=\"Course 3\",Général!B$69,Général!#REF!)))","v":"IMT Atlantique Brest"},{"$f":"IF($H$5=\"Course 1\",Général!B$73,IF($H$5=\"Course 2\",Général!B$75,IF($H$5=\"Course 3\",Général!B$77,Général!#REF!)))","v":"ENSTA Bretagne 2"},{"$f":"IF($I$5=\"Course 1\",Général!B$81,IF($I$5=\"Course 2\",Général!B$83,IF($I$5=\"Course 3\",Général!B$85,Général!#REF!)))","v":"Dublin"},{"$f":"IF($J$5=\"Course 1\",Général!B$89,IF($J$5=\"Course 2\",Général!B$91,IF($J$5=\"Course 3\",Général!B$93,Général!#REF!)))","v":"AS Paris 1 Panthéon Sorbonne"},{"$f":"IF($K$5=\"Course 1\",Général!B$97,IF($K$5=\"Course 2\",Général!B$99,IF($K$5=\"Course 3\",Général!B$101,Général!#REF!)))","v":"Univ. La Rochelle"},{"$f":"IF($L$5=\"Course 1\",Général!B$105,IF($L$5=\"Course 2\",Général!B$107,IF($L$5=\"Course 3\",Général!B$109,Général!#REF!)))","v":"Hambourg"},{"$f":"IF($M$5=\"Course 1\",Général!B$113,IF($M$5=\"Course 2\",Général!B$115,IF($M$5=\"Course 3\",Général!B$117,Général!#REF!)))","v":"Hambourg"},{"$f":"IF($N$5=\"Course 1\",Général!B$121,IF($N$5=\"Course 2\",Général!B$123,IF($N$5=\"Course 3\",Général!B$125,Général!#REF!)))","v":"Karlsruhe"},{"$f":"IF($O$5=\"Course 1\",Général!B$129,IF($O$5=\"Course 2\",Général!B$131,IF($O$5=\"Course 3\",Général!B$133,Général!#REF!)))","v":"Hannovre"},{"$f":"IF($P$5=\"Course 1\",Général!B$137,IF($P$5=\"Course 2\",Général!B$139,IF($P$5=\"Course 3\",Général!B$141,Général!#REF!)))","v":"UBS Lorient 1"},{"$f":"IF($Q$5=\"Course 1\",Général!B$145,IF($Q$5=\"Course 2\",Général!B$147,IF($Q$5=\"Course 3\",Général!B$149,Général!#REF!)))","v":"Hannovre"},{"$f":"IF($R$5=\"Course 1\",Général!B$153,IF($R$5=\"Course 2\",Général!B$155,IF($R$5=\"Course 3\",Général!B$157,Général!#REF!)))","v":"Dublin"},{"$f":"IF($S$5=\"Course 1\",Général!B$161,IF($S$5=\"Course 2\",Général!B$163,IF($S$5=\"Course 3\",Général!B$165,Général!#REF!)))","v":"IMT Atlantique Nantes 1"},{"$f":"IF($T$5=\"Course 1\",Général!B$169,IF($T$5=\"Course 2\",Général!B$171,IF($T$5=\"Course 3\",Général!B$173,Général!#REF!)))","v":"UBO 2"},null,{"$f":"Général!B10","v":"EGSI La Rochelle"},6]
["2nd Equipage",null,{"$f":"IF($C$5=\"Course 1\",Général!C33,IF($C$5=\"Course 2\",Général!C35,IF($C$5=\"Course 3\",Général!C37,Général!#REF!)))","v":"IMT Atlantique Nantes 2"},{"$f":"IF($D$5=\"Course 1\",Général!C41,IF($D$5=\"Course 2\",Général!C43,IF($D$5=\"Course 3\",Général!C45,Général!#REF!)))","v":"UBS Lorient 1"},{"$f":"IF($E$5=\"Course 1\",Général!C49,IF($E$5=\"Course 2\",Général!C51,IF($E$5=\"Course 3\",Général!C53,Général!#REF!)))","v":"UNICAEN - ASSUCherbourg"},{"$f":"IF($F$5=\"Course 1\",Général!C$57,IF($F$5=\"Course 2\",Général!C$59,IF($F$5=\"Course 3\",Général!C$61,Général!#REF!)))","v":"IMT Atlantique Nantes 1"},{"$f":"IF($G$5=\"Course 1\",Général!C$65,IF($G$5=\"Course 2\",Général!C$67,IF($G$5=\"Course 3\",Général!C$69,Général!#REF!)))","v":"Dublin"},{"$f":"IF($H$5=\"Course 1\",Général!C$73,IF($H$5=\"Course 2\",Général!C$75,IF($H$5=\"Course 3\",Général!C$77,Général!#REF!)))","v":"ENSTA Paris"},{"$f":"IF($I$5=\"Course 1\",Général!C$81,IF($I$5=\"Course 2\",Général!C$83,IF($I$5=\"Course 3\",Général!C$85,Général!#REF!)))","v":"Hambourg"},{"$f":"IF($J$5=\"Course 1\",Général!C$89,IF($J$5=\"Course 2\",Général!C$91,IF($J$5=\"Course 3\",Général!C$93,Général!#REF!)))","v":"UBO 1"},{"$f":"IF($K$5=\"Course 1\",Général!C$97,IF($K$5=\"Course 2\",Général!C$99,IF($K$5=\"Course 3\",Général!C$101,Général!#REF!)))","v":"UBO 2"},{"$f":"IF($L$5=\"Course 1\",Général!C$105,IF($L$5=\"Course 2\",Général!C$107,IF($L$5=\"Course 3\",Général!C$109,Général!#REF!)))","v":"UBO 1"},{"$f":"IF($M$5=\"Course 1\",Général!C$113,IF($M$5=\"Course 2\",Général!C$115,IF($M$5=\"Course 3\",Général!C$117,Général!#REF!)))","v":"Univ. Nantes 3"},{"$f":"IF($N$5=\"Course 1\",Général!C$121,IF($N$5=\"Course 2\",Général!C$123,IF($N$5=\"Course 3\",Général!C$125,Général!#REF!)))","v":"HYDRO Sailing Team Le Havre"},{"$f":"IF($O$5=\"Course 1\",Général!C$129,IF($O$5=\"Course 2\",Général!C$131,IF($O$5=\"Course 3\",Général!C$133,Général!#REF!)))","v":"Univ. Nantes 3"},{"$f":"IF($P$5=\"Course 1\",Général!C$137,IF($P$5=\"Course 2\",Général!C$139,IF($P$5=\"Course 3\",Général!C$141,Général!#REF!)))","v":"Univ. La Rochelle"},{"$f":"IF($Q$5=\"Course 1\",Général!C$145,IF($Q$5=\"Course 2\",Général!C$147,IF($Q$5=\"Course 3\",Général!C$149,Général!#REF!)))","v":"UBS Lorient 1"},{"$f":"IF($R$5=\"Course 1\",Général!C$153,IF($R$5=\"Course 2\",Général!C$155,IF($R$5=\"Course 3\",Général!C$157,Général!#REF!)))","v":"Univ. Nantes 1"},{"$f":"IF($S$5=\"Course 1\",Général!C$161,IF($S$5=\"Course 2\",Général!C$163,IF($S$5=\"Course 3\",Général!C$165,Général!#REF!)))","v":"Univ.Orléans"},{"$f":"IF($T$5=\"Course 1\",Général!C$169,IF($T$5=\"Course 2\",Général!C$171,IF($T$5=\"Course 3\",Général!C$173,Général!#REF!)))","v":"Dublin"},null,{"$f":"Général!B11","v":"HYDRO Sailing Team Le Havre"},6]
["3ème Equipage",null,{"$f":"IF($C$5=\"Course 1\",Général!D33,IF($C$5=\"Course 2\",Général!D35,IF($C$5=\"Course 3\",Général!D37,Général!#REF!)))","v":"UBS Lorient 1"},{"$f":"IF($D$5=\"Course 1\",Général!D41,IF($D$5=\"Course 2\",Général!D43,IF($D$5=\"Course 3\",Général!D45,Général!#REF!)))","v":"IMT Atlantique Nantes 1"},{"$f":"IF($E$5=\"Course 1\",Général!D49,IF($E$5=\"Course 2\",Général!D51,IF($E$5=\"Course 3\",Général!D53,Général!#REF!)))","v":"HYDRO Sailing Team Le Havre"},{"$f":"IF($F$5=\"Course 1\",Général!D$57,IF($F$5=\"Course 2\",Général!D$59,IF($F$5=\"Course 3\",Général!D$61,Général!#REF!)))","v":"Univ. Nantes 2"},{"$f":"IF($G$5=\"Course 1\",Général!D$65,IF($G$5=\"Course 2\",Général!D$67,IF($G$5=\"Course 3\",Général!D$69,Général!#REF!)))","v":"UBO 1"},{"$f":"IF($H$5=\"Course 1\",Général!D$73,IF($H$5=\"Course 2\",Général!D$75,IF($H$5=\"Course 3\",Général!D$77,Général!#REF!)))","v":"Univ.Orléans"},{"$f":"IF($I$5=\"Course 1\",Général!D$81,IF($I$5=\"Course 2\",Général!D$83,IF($I$5=\"Course 3\",Général!D$85,Général!#REF!)))","v":"Univ.Orléans"},{"$f":"IF($J$5=\"Course 1\",Général!D$89,IF($J$5=\"Course 2\",Général!D$91,IF($J$5=\"Course 3\",Général!D$93,Général!#REF!)))","v":"ENSTA Paris"},{"$f":"IF($K$5=\"Course 1\",Général!D$97,IF($K$5=\"Course 2\",Général!D$99,IF($K$5=\"Course 3\",Général!D$101,Général!#REF!)))","v":"Univ. Nantes 1"},{"$f":"IF($L$5=\"Course 1\",Général!D$105,IF($L$5=\"Course 2\",Général!D$107,IF($L$5=\"Course 3\",Général!D$109,Général!#REF!)))","v":"UNICAEN - ASSUCherbourg"},{"$f":"IF($M$5=\"Course 1\",Général!D$113,IF($M$5=\"Course 2\",Général!D$115,IF($M$5=\"Course 3\",Général!D$117,Général!#REF!)))","v":"AS UB St Brieuc"},{"$f":"IF($N$5=\"Course 1\",Général!D$121,IF($N$5=\"Course 2\",Général!D$123,IF($N$5=\"Course 3\",Général!D$125,Général!#REF!)))","v":"AS UB St Brieuc"},{"$f":"IF($O$5=\"Course 1\",Général!D$129,IF($O$5=\"Course 2\",Général!D$131,IF($O$5=\"Course 3\",Général!D$133,Général!#REF!)))","v":"AS Paris 1 Panthéon Sorbonne"},{"$f":"IF($P$5=\"Course 1\",Général!D$137,IF($P$5=\"Course 2\",Général!D$139,IF($P$5=\"Course 3\",Général!D$141,Général!#REF!)))","v":"ENSTA Bretagne 2"},{"$f":"IF($Q$5=\"Course 1\",Général!D$145,IF($Q$5=\"Course 2\",Général!D$147,IF($Q$5=\"Course 3\",Général!D$149,Général!#REF!)))","v":"ENSTA Bretagne 2"},{"$f":"IF($R$5=\"Course 1\",Général!D$153,IF($R$5=\"Course 2\",Général!D$155,IF($R$5=\"Course 3\",Général!D$157,Général!#REF!)))","v":"UBO 2"},{"$f":"IF($S$5=\"Course 1\",Général!D$161,IF($S$5=\"Course 2\",Général!D$163,IF($S$5=\"Course 3\",Général!D$165,Général!#REF!)))","v":"HYDRO Sailing Team Le Havre"},{"$f":"IF($T$5=\"Course 1\",Général!D$169,IF($T$5=\"Course 2\",Général!D$171,IF($T$5=\"Course 3\",Général!D$173,Général!#REF!)))","v":"Univ. Nantes 3"},null,{"$f":"Général!B12","v":"UNICAEN - ASSUCherbourg"},5]
["4ème Equipage",null,{"$f":"IF($C$5=\"Course 1\",Général!E33,IF($C$5=\"Course 2\",Général!E35,IF($C$5=\"Course 3\",Général!E37,Général!#REF!)))","v":"Dublin"},{"$f":"IF($D$5=\"Course 1\",Général!E41,IF($D$5=\"Course 2\",Général!E43,IF($D$5=\"Course 3\",Général!E45,Général!#REF!)))","v":"AS UB St Brieuc"},{"$f":"IF($E$5=\"Course 1\",Général!E49,IF($E$5=\"Course 2\",Général!E51,IF($E$5=\"Course 3\",Général!E53,Général!#REF!)))","v":"Centrales Nantes"},{"$f":"IF($F$5=\"Course 1\",Général!E$57,IF($F$5=\"Course 2\",Général!E$59,IF($F$5=\"Course 3\",Général!E$61,Général!#REF!)))","v":"UBS Lorient 1"},{"$f":"IF($G$5=\"Course 1\",Général!E$65,IF($G$5=\"Course 2\",Général!E$67,IF($G$5=\"Course 3\",Général!E$69,Général!#REF!)))","v":"UBS Lorient 1"},{"$f":"IF($H$5=\"Course 1\",Général!E$73,IF($H$5=\"Course 2\",Général!E$75,IF($H$5=\"Course 3\",Général!E$77,Général!#REF!)))","v":"EGSI La Rochelle"},{"$f":"IF($I$5=\"Course 1\",Général!E$81,IF($I$5=\"Course 2\",Général!E$83,IF($I$5=\"Course 3\",Général!E$85,Général!#REF!)))","v":"Hannovre"},{"$f":"IF($J$5=\"Course 1\",Général!E$89,IF($J$5=\"Course 2\",Général!E$91,IF($J$5=\"Course 3\",Général!E$93,Général!#REF!)))","v":"Karlsruhe"},{"$f":"IF($K$5=\"Course 1\",Général!E$97,IF($K$5=\"Course 2\",Général!E$99,IF($K$5=\"Course 3\",Général!E$101,Général!#REF!)))","v":"Univ. Nantes 2"},{"$f":"IF($L$5=\"Course 1\",Général!E$105,IF($L$5=\"Course 2\",Général!E$107,IF($L$5=\"Course 3\",Général!E$109,Général!#REF!)))","v":"ENSTA Paris"},{"$f":"IF($M$5=\"Course 1\",Général!E$113,IF($M$5=\"Course 2\",Général!E$115,IF($M$5=\"Course 3\",Général!E$117,Général!#REF!)))","v":"ENSTA Paris"},{"$f":"IF($N$5=\"Course 1\",Général!E$121,IF($N$5=\"Course 2\",Général!E$123,IF($N$5=\"Course 3\",Général!E$125,Général!#REF!)))","v":"ENSTA Bretagne 2"},{"$f":"IF($O$5=\"Course 1\",Général!E$129,IF($O$5=\"Course 2\",Général!E$131,IF($O$5=\"Course 3\",Général!E$133,Général!#REF!)))","v":"IMT Atlantique Nantes 2"},{"$f":"IF($P$5=\"Course 1\",Général!E$137,IF($P$5=\"Course 2\",Général!E$139,IF($P$5=\"Course 3\",Général!E$141,Général!#REF!)))","v":"EGSI La Rochelle"},{"$f":"IF($Q$5=\"Course 1\",Général!E$145,IF($Q$5=\"Course 2\",Général!E$147,IF($Q$5=\"Course 3\",Général!E$149,Général!#REF!)))","v":"UBO 1"},{"$f":"IF($R$5=\"Course 1\",Général!E$153,IF($R$5=\"Course 2\",Général!E$155,IF($R$5=\"Course 3\",Général!E$157,Général!#REF!)))","v":"UNICAEN - ASSUCherbourg"},{"$f":"IF($S$5=\"Course 1\",Général!E$161,IF($S$5=\"Course 2\",Général!E$163,IF($S$5=\"Course 3\",Général!E$165,Général!#REF!)))","v":"Centrales Nantes"},{"$f":"IF($T$5=\"Course 1\",Général!E$169,IF($T$5=\"Course 2\",Général!E$171,IF($T$5=\"Course 3\",Général!E$173,Général!#REF!)))","v":"Univ.Orléans"},null,{"$f":"Général!B13","v":"UBO 1"},7]
["5ème Equipage",null,{"$f":"IF($C$5=\"Course 1\",Général!F33,IF($C$5=\"Course 2\",Général!F35,IF($C$5=\"Course 3\",Général!F37,Général!#REF!)))","v":"ENSTA Bretagne 2"},{"$f":"IF($D$5=\"Course 1\",Général!F41,IF($D$5=\"Course 2\",Général!F43,IF($D$5=\"Course 3\",Général!F45,Général!#REF!)))","v":"Southampton"},{"$f":"IF($E$5=\"Course 1\",Général!F49,IF($E$5=\"Course 2\",Général!F51,IF($E$5=\"Course 3\",Général!F53,Général!#REF!)))","v":"ENSTA Bretagne 1"},{"$f":"IF($F$5=\"Course 1\",Général!F$57,IF($F$5=\"Course 2\",Général!F$59,IF($F$5=\"Course 3\",Général!F$61,Général!#REF!)))","v":"UNICAEN - ASSUCherbourg"},{"$f":"IF($G$5=\"Course 1\",Général!F$65,IF($G$5=\"Course 2\",Général!F$67,IF($G$5=\"Course 3\",Général!F$69,Général!#REF!)))","v":"Univ.Orléans"},{"$f":"IF($H$5=\"Course 1\",Général!F$73,IF($H$5=\"Course 2\",Général!F$75,IF($H$5=\"Course 3\",Général!F$77,Général!#REF!)))","v":"Univ. Nantes 2"},{"$f":"IF($I$5=\"Course 1\",Général!F$81,IF($I$5=\"Course 2\",Général!F$83,IF($I$5=\"Course 3\",Général!F$85,Général!#REF!)))","v":"UBO 2"},{"$f":"IF($J$5=\"Course 1\",Général!F$89,IF($J$5=\"Course 2\",Général!F$91,IF($J$5=\"Course 3\",Général!F$93,Général!#REF!)))","v":"Univ. La Rochelle"},{"$f":"IF($K$5=\"Course 1\",Général!F$97,IF($K$5=\"Course 2\",Général!F$99,IF($K$5=\"Course 3\",Général!F$101,Général!#REF!)))","v":"Centrales Nantes"},{"$f":"IF($L$5=\"Course 1\",Général!F$105,IF($L$5=\"Course 2\",Général!$F107,IF($L$5=\"Course 3\",Général!F$109,Général!#REF!)))","v":"UBS Lorient 1"},{"$f":"IF($M$5=\"Course 1\",Général!F$113,IF($M$5=\"Course 2\",Général!F$115,IF($M$5=\"Course 3\",Général!F$117,Général!#REF!)))","v":"UBS Lorient 1"},{"$f":"IF($N$5=\"Course 1\",Général!F$121,IF($N$5=\"Course 2\",Général!F$123,IF($N$5=\"Course 3\",Général!F$125,Général!#REF!)))","v":"Univ. Nantes 3"},{"$f":"IF($O$5=\"Course 1\",Général!F$129,IF($O$5=\"Course 2\",Général!F$131,IF($O$5=\"Course 3\",Général!F$133,Général!#REF!)))","v":"ASUL Lannion"},{"$f":"IF($P$5=\"Course 1\",Général!F$137,IF($P$5=\"Course 2\",Général!F$139,IF($P$5=\"Course 3\",Général!F$141,Général!#REF!)))","v":"Karlsruhe"},{"$f":"IF($Q$5=\"Course 1\",Général!F$145,IF($Q$5=\"Course 2\",Général!F$147,IF($Q$5=\"Course 3\",Général!F$149,Général!#REF!)))","v":"UBS Lorient 2"},{"$f":"IF($R$5=\"Course 1\",Général!F$153,IF($R$5=\"Course 2\",Général!F$155,IF($R$5=\"Course 3\",Général!F$157,Général!#REF!)))","v":"UBO 1"},{"$f":"IF($S$5=\"Course 1\",Général!F$161,IF($S$5=\"Course 2\",Général!F$163,IF($S$5=\"Course 3\",Général!F$165,Général!#REF!)))","v":"ASUL Lannion"},{"$f":"IF($T$5=\"Course 1\",Général!F$169,IF($T$5=\"Course 2\",Général!F$171,IF($T$5=\"Course 3\",Général!F$173,Général!#REF!)))","v":"ENSTA Bretagne 1"},null,{"$f":"Général!B14","v":"ENSTA Bretagne 1"},5]
["6ème Equipage",null,{"$f":"IF($C$5=\"Course 1\",Général!G33,IF($C$5=\"Course 2\",Général!G35,IF($C$5=\"Course 3\",Général!G37,Général!#REF!)))","v":"HYDRO Sailing Team Le Havre"},{"$f":"IF($D$5=\"Course 1\",Général!G41,IF($D$5=\"Course 2\",Général!G43,IF($D$5=\"Course 3\",Général!G45,Général!#REF!)))","v":"UBO 1"},{"$f":"IF($E$5=\"Course 1\",Général!G49,IF($E$5=\"Course 2\",Général!G51,IF($E$5=\"Course 3\",Général!G53,Général!#REF!)))","v":"ASUL Lannion"},{"$f":"IF($F$5=\"Course 1\",Général!G$57,IF($F$5=\"Course 2\",Général!G$59,IF($F$5=\"Course 3\",Général!G$61,Général!#REF!)))","v":"AS UB St Brieuc"},{"$f":"IF($G$5=\"Course 1\",Général!G$65,IF($G$5=\"Course 2\",Général!G$67,IF($G$5=\"Course 3\",Général!G$69,Général!#REF!)))","v":"Hannovre"},{"$f":"IF($H$5=\"Course 1\",Général!G$73,IF($H$5=\"Course 2\",Général!G$75,IF($H$5=\"Course 3\",Général!G$77,Général!#REF!)))","v":"UBS Lorient 1"},{"$f":"IF($I$5=\"Course 1\",Général!G$81,IF($I$5=\"Course 2\",Général!G$83,IF($I$5=\"Course 3\",Général!G$85,Général!#REF!)))","v":"UBS Lorient 1"},{"$f":"IF($J$5=\"Course 1\",Général!G$89,IF($J$5=\"Course 2\",Général!G$91,IF($J$5=\"Course 3\",Général!G$93,Général!#REF!)))","v":"IMT Atlantique Nantes 2"},{"$f":"IF($K$5=\"Course 1\",Général!G$97,IF($K$5=\"Course 2\",Général!G$99,IF($K$5=\"Course 3\",Général!G$101,Général!#REF!)))","v":"ENSTA Bretagne 1"},{"$f":"IF($L$5=\"Course 1\",Général!G$105,IF($L$5=\"Course 2\",Général!G$107,IF($L$5=\"Course 3\",Général!G$109,Général!#REF!)))","v":"ASUL Lannion"},{"$f":"IF($M$5=\"Course 1\",Général!G$113,IF($M$5=\"Course 2\",Général!G$115,IF($M$5=\"Course 3\",Général!G$117,Général!#REF!)))","v":"Centrales Nantes"},{"$f":"IF($N$5=\"Course 1\",Général!G$121,IF($N$5=\"Course 2\",Général!G$123,IF($N$5=\"Course 3\",Général!G$125,Général!#REF!)))","v":"Univ. Nantes 1"},{"$f":"IF($O$5=\"Course 1\",Général!G$129,IF($O$5=\"Course 2\",Général!G$131,IF($O$5=\"Course 3\",Général!G$133,Général!#REF!)))","v":"IMT Atlantique Nantes 1"},{"$f":"IF($P$5=\"Course 1\",Général!G$137,IF($P$5=\"Course 2\",Général!G$139,IF($P$5=\"Course 3\",Général!G$141,Général!#REF!)))","v":"HYDRO Sailing Team Le Havre"},{"$f":"IF($Q$5=\"Course 1\",Général!G$145,IF($Q$5=\"Course 2\",Général!G$147,IF($Q$5=\"Course 3\",Général!G$149,Général!#REF!)))","v":"Southampton"},{"$f":"IF($R$5=\"Course 1\",Général!G$153,IF($R$5=\"Course 2\",Général!G$155,IF($R$5=\"Course 3\",Général!G$157,Général!#REF!)))","v":"UBS Lorient 1"},{"$f":"IF($S$5=\"Course 1\",Général!G$161,IF($S$5=\"Course 2\",Général!G$163,IF($S$5=\"Course 3\",Général!G$165,Général!#REF!)))","v":"EGSI La Rochelle"},{"$f":"IF($T$5=\"Course 1\",Général!G$169,IF($T$5=\"Course 2\",Général!G$171,IF($T$5=\"Course 3\",Général!G$173,Général!#REF!)))","v":"EGSI La Rochelle"},null,{"$f":"Général!B15","v":"ASUL Lannion"},6]
["7ème Equipage",null,{"$f":"IF($C$5=\"Course 1\",Général!H33,IF($C$5=\"Course 2\",Général!H35,IF($C$5=\"Course 3\",Général!H37,Général!#REF!)))","v":"UBO 2"},{"$f":"IF($D$5=\"Course 1\",Général!H41,IF($D$5=\"Course 2\",Général!H43,IF($D$5=\"Course 3\",Général!H45,Général!#REF!)))","v":"EGSI La Rochelle"},{"$f":"IF($E$5=\"Course 1\",Général!H49,IF($E$5=\"Course 2\",Général!H51,IF($E$5=\"Course 3\",Général!H53,Général!#REF!)))","v":"Hannovre"},{"$f":"IF($F$5=\"Course 1\",Général!H$57,IF($F$5=\"Course 2\",Général!H$59,IF($F$5=\"Course 3\",Général!H$61,Général!#REF!)))","v":"Univ. Nantes 3"},{"$f":"IF($G$5=\"Course 1\",Général!H$65,IF($G$5=\"Course 2\",Général!H$67,IF($G$5=\"Course 3\",Général!H$69,Général!#REF!)))","v":"IMT Atlantique Nantes 2"},{"$f":"IF($H$5=\"Course 1\",Général!H$73,IF($H$5=\"Course 2\",Général!H$75,IF($H$5=\"Course 3\",Général!H$77,Général!#REF!)))","v":"Univ. Nantes 1"},{"$f":"IF($I$5=\"Course 1\",Général!H$81,IF($I$5=\"Course 2\",Général!H$83,IF($I$5=\"Course 3\",Général!H$85,Général!#REF!)))","v":"AS UB St Brieuc"},{"$f":"IF($J$5=\"Course 1\",Général!H$89,IF($J$5=\"Course 2\",Général!H$91,IF($J$5=\"Course 3\",Général!H$93,Général!#REF!)))","v":"IMT Atlantique Nantes 1"},{"$f":"IF($K$5=\"Course 1\",Général!H$97,IF($K$5=\"Course 2\",Général!H$99,IF($K$5=\"Course 3\",Général!H$101,Général!#REF!)))","v":"IMT Atlantique Brest"},{"$f":"IF($L$5=\"Course 1\",Général!H$105,IF($L$5=\"Course 2\",Général!H$107,IF($L$5=\"Course 3\",Général!H$109,Général!#REF!)))","v":"Karlsruhe"},{"$f":"IF($M$5=\"Course 1\",Général!H$113,IF($M$5=\"Course 2\",Général!H$115,IF($M$5=\"Course 3\",Général!H$117,Général!#REF!)))","v":"EGSI La Rochelle"},{"$f":"IF($N$5=\"Course 1\",Général!H$121,IF($N$5=\"Course 2\",Général!H$123,IF($N$5=\"Course 3\",Général!H$125,Général!#REF!)))","v":"Hambourg"},{"$f":"IF($O$5=\"Course 1\",Général!H$129,IF($O$5=\"Course 2\",Général!H$131,IF($O$5=\"Course 3\",Général!H$133,Général!#REF!)))","v":"UBS Lorient 1"},{"$f":"IF($P$5=\"Course 1\",Général!H$137,IF($P$5=\"Course 2\",Général!H$139,IF($P$5=\"Course 3\",Général!H$141,Général!#REF!)))","v":"Dublin"},{"$f":"IF($Q$5=\"Course 1\",Général!H$145,IF($Q$5=\"Course 2\",Général!H$147,IF($Q$5=\"Course 3\",Général!H$149,Général!#REF!)))","v":"ENSTA Bretagne 1"},{"$f":"IF($R$5=\"Course 1\",Général!H$153,IF($R$5=\"Course 2\",Général!H$155,IF($R$5=\"Course 3\",Général!H$157,Général!#REF!)))","v":"AS Paris 1 Panthéon Sorbonne"},{"$f":"IF($S$5=\"Course 1\",Général!H$161,IF($S$5=\"Course 2\",Général!H$163,IF($S$5=\"Course 3\",Général!H$165,Général!#REF!)))","v":"UBS Lorient 1"},{"$f":"IF($T$5=\"Course 1\",Général!H$169,IF($T$5=\"Course 2\",Général!H$171,IF($T$5=\"Course 3\",Général!H$173,Général!#REF!)))","v":"UBS Lorient 1"},null,{"$f":"Général!B16","v":"ENSTA Paris"},5]
["8ème Equipage",null,{"$f":"IF($C$5=\"Course 1\",Général!I33,IF($C$5=\"Course 2\",Général!I35,IF($C$5=\"Course 3\",Général!I37,Général!#REF!)))","v":"ASUL Lannion"},{"$f":"IF($D$5=\"Course 1\",Général!I41,IF($D$5=\"Course 2\",Général!I43,IF($D$5=\"Course 3\",Général!I45,Général!#REF!)))","v":"ENSTA Bretagne 1"},{"$f":"IF($E$5=\"Course 1\",Général!I49,IF($E$5=\"Course 2\",Général!I51,IF($E$5=\"Course 3\",Général!I53,Général!#REF!)))","v":"Univ. Nantes 1"},{"$f":"IF($F$5=\"Course 1\",Général!I$57,IF($F$5=\"Course 2\",Général!I$59,IF($F$5=\"Course 3\",Général!I$61,Général!#REF!)))","v":"Southampton"},{"$f":"IF($G$5=\"Course 1\",Général!I$65,IF($G$5=\"Course 2\",Général!I$67,IF($G$5=\"Course 3\",Général!I$69,Général!#REF!)))","v":"Centrales Nantes"},{"$f":"IF($H$5=\"Course 1\",Général!I$73,IF($H$5=\"Course 2\",Général!I$75,IF($H$5=\"Course 3\",Général!I$77,Général!#REF!)))","v":"UBO 1"},{"$f":"IF($I$5=\"Course 1\",Général!I$81,IF($I$5=\"Course 2\",Général!I$83,IF($I$5=\"Course 3\",Général!I$85,Général!#REF!)))","v":"Univ. La Rochelle"},{"$f":"IF($J$5=\"Course 1\",Général!I$89,IF($J$5=\"Course 2\",Général!I$91,IF($J$5=\"Course 3\",Général!I$93,Général!#REF!)))","v":"UBS Lorient 1"},{"$f":"IF($K$5=\"Course 1\",Général!I$97,IF($K$5=\"Course 2\",Général!I$99,IF($K$5=\"Course 3\",Général!I$101,Général!#REF!)))","v":"UBS Lorient 1"},{"$f":"IF($L$5=\"Course 1\",Général!I$105,IF($L$5=\"Course 2\",Général!I$107,IF($L$5=\"Course 3\",Général!I$109,Général!#REF!)))","v":"IMT Atlantique Brest"},{"$f":"IF($M$5=\"Course 1\",Général!I$113,IF($M$5=\"Course 2\",Général!I$115,IF($M$5=\"Course 3\",Général!I$117,Général!#REF!)))","v":"IMT Atlantique Nantes 2"},{"$f":"IF($N$5=\"Course 1\",Général!I$121,IF($N$5=\"Course 2\",Général!I$123,IF($N$5=\"Course 3\",Général!I$125,Général!#REF!)))","v":"Centrales Nantes"},{"$f":"IF($O$5=\"Course 1\",Général!I$129,IF($O$5=\"Course 2\",Général!I$131,IF($O$5=\"Course 3\",Général!I$133,Général!#REF!)))","v":"UBO 2"},{"$f":"IF($P$5=\"Course 1\",Général!I$137,IF($P$5=\"Course 2\",Général!I$139,IF($P$5=\"Course 3\",Général!I$141,Général!#REF!)))","v":"Univ. Nantes 2"},{"$f":"IF($Q$5=\"Course 1\",Général!I$145,IF($Q$5=\"Course 2\",Général!I$147,IF($Q$5=\"Course 3\",Général!I$149,Général!#REF!)))","v":"Univ. Nantes 2"},{"$f":"IF($R$5=\"Course 1\",Général!I$153,IF($R$5=\"Course 2\",Général!I$155,IF($R$5=\"Course 3\",Général!I$157,Général!#REF!)))","v":"Southampton"},{"$f":"IF($S$5=\"Course 1\",Général!I$161,IF($S$5=\"Course 2\",Général!I$163,IF($S$5=\"Course 3\",Général!I$165,Général!#REF!)))","v":"Hannovre"},{"$f":"IF($T$5=\"Course 1\",Général!I$169,IF($T$5=\"Course 2\",Général!I$171,IF($T$5=\"Course 3\",Général!I$173,Général!#REF!)))","v":"Karlsruhe"},null,{"$f":"Général!B17","v":"IMT Atlantique Brest"},4]
["9ème Equipage",null,{"$f":"IF($C$5=\"Course 1\",Général!J33,IF($C$5=\"Course 2\",Général!J35,IF($C$5=\"Course 3\",Général!J37,Général!#REF!)))","v":"Southampton"},{"$f":"IF($D$5=\"Course 1\",Général!J41,IF($D$5=\"Course 2\",Général!J43,IF($D$5=\"Course 3\",Général!J45,Général!#REF!)))","v":"Univ. La Rochelle"},{"$f":"IF($E$5=\"Course 1\",Général!J49,IF($E$5=\"Course 2\",Général!J51,IF($E$5=\"Course 3\",Général!J53,Général!#REF!)))","v":"AS UB St Brieuc"},{"$f":"IF($F$5=\"Course 1\",Général!J$57,IF($F$5=\"Course 2\",Général!J$59,IF($F$5=\"Course 3\",Général!J$61,Général!#REF!)))","v":"IMT Atlantique Brest"},{"$f":"IF($G$5=\"Course 1\",Général!J$65,IF($G$5=\"Course 2\",Général!J$67,IF($G$5=\"Course 3\",Général!J$69,Général!#REF!)))","v":"ENSTA Paris"},{"$f":"IF($H$5=\"Course 1\",Général!J$73,IF($H$5=\"Course 2\",Général!J$75,IF($H$5=\"Course 3\",Général!$J77,Général!#REF!)))","v":"AS Paris 1 Panthéon Sorbonne"},{"$f":"IF($I$5=\"Course 1\",Général!J$81,IF($I$5=\"Course 2\",Général!J$83,IF($I$5=\"Course 3\",Général!J$85,Général!#REF!)))","v":"AS Paris 1 Panthéon Sorbonne"},{"$f":"IF($J$5=\"Course 1\",Général!J$89,IF($J$5=\"Course 2\",Général!J$91,IF($J$5=\"Course 3\",Général!J$93,Général!#REF!)))","v":"HYDRO Sailing Team Le Havre"},{"$f":"IF($K$5=\"Course 1\",Général!J$97,IF($K$5=\"Course 2\",Général!J$99,IF($K$5=\"Course 3\",Général!J$101,Général!#REF!)))","v":"UBS Lorient 2"},{"$f":"IF($L$5=\"Course 1\",Général!J$105,IF($L$5=\"Course 2\",Général!J$107,IF($L$5=\"Course 3\",Général!J$109,Général!#REF!)))","v":"UBS Lorient 2"},{"$f":"IF($M$5=\"Course 1\",Général!J$113,IF($M$5=\"Course 2\",Général!J$115,IF($M$5=\"Course 3\",Général!J$117,Général!#REF!)))","v":"UBS Lorient 2"},{"$f":"IF($N$5=\"Course 1\",Général!J$121,IF($N$5=\"Course 2\",Général!J$123,IF($N$5=\"Course 3\",Général!J$125,Général!#REF!)))","v":"UBS Lorient 1"},{"$f":"IF($O$5=\"Course 1\",Général!J$129,IF($O$5=\"Course 2\",Général!J$131,IF($O$5=\"Course 3\",Général!J$133,Général!#REF!)))","v":"ENSTA Bretagne 2"},{"$f":"IF($P$5=\"Course 1\",Général!J$137,IF($P$5=\"Course 2\",Général!J$139,IF($P$5=\"Course 3\",Général!J$141,Général!#REF!)))","v":"UNICAEN - ASSUCherbourg"},{"$f":"IF($Q$5=\"Course 1\",Général!J$145,IF($Q$5=\"Course 2\",Général!J$147,IF($Q$5=\"Course 3\",Général!J$149,Général!#REF!)))","v":"Karlsruhe"},{"$f":"IF($R$5=\"Course 1\",Général!J$153,IF($R$5=\"Course 2\",Général!J$155,IF($R$5=\"Course 3\",Général!J$157,Général!#REF!)))","v":"Hambourg"},{"$f":"IF($S$5=\"Course 1\",Général!J$161,IF($S$5=\"Course 2\",Général!J$163,IF($S$5=\"Course 3\",Général!J$165,Général!#REF!)))","v":"Univ. La Rochelle"},{"$f":"IF($T$5=\"Course 1\",Général!J$169,IF($T$5=\"Course 2\",Général!J$171,IF($T$5=\"Course 3\",Général!J$173,Général!#REF!)))","v":"IMT Atlantique Nantes 1"},null,{"$f":"Général!B18","v":"UBO 2"},6]
[null,null,null,null,null,null,null,null,null,null,null,null,null,null,null,null,null,null,null,null,null,{"$f":"Général!B19","v":"Dublin"},6]
[null,null,null,null,null,null,null,null,null,null,null,null,null,null,null,null,null,null,null,null,null,{"$f":"Général!B20","v":"Univ. Nantes 2"},5]
[null,null,null,null,null,null,null,null,null,null,null,null,null,null,null,null,null,null,null,null,null,{"$f":"Général!B21","v":"UBS Lorient 1"},18]
[null,null,null,null,null,null,null,null,null,null,null,null,null,null,null,null,null,null,null,null,null,{"$f":"Général!B22","v":"UBS Lorient 2"},5]
[null,null,null,null,null,null,null,null,null,null,null,null,null,null,null,null,null,null,null,null,null,{"$f":"Général!B23","v":"Univ.Orléans"},5]
[null,null,null,null,null,null,null,null,null,null,null,null,null,null,null,null,null,null,null,null,null,{"$f":"Général!B24","v":"Univ. La Rochelle"},6]
[null,null,null,null,null,null,null,null,null,null,null,null,null,null,null,null,null,null,null,null,null,{"$f":"Général!B25","v":"AS UB St Brieuc"},6]
[null,null,null,null,null,null,null,null,null,null,null,null,null,null,null,null,null,null,null,null,null,{"$f":"Général!B26","v":"Karlsruhe"},6]
[null,null,null,null,null,null,null,null,null,null,null,null,null,null,null,null,null,null,null,null,null,{"$f":"Général!B27","v":"Univ. Nantes 3"},5]
[null,null,null,null,null,null,null,null,null,null,null,null,null,null,null,null,null,null,null,null,null,{"$f":"Général!B28","v":"Centrales Nantes"},6]
[null,null,null,null,null,null,null,null,null,null,null,null,null,null,null,null,null,null,null,null,null,{"$f":"Général!B29","v":"Southampton"},5]
[null,null,null,null,null,null,null,null,null,null,null,null,null,null,null,null,null,null,null,null,null,{"$f":"Général!#REF!","v":{"$error":"#REF!"}},0]
[null,null,null,null,null,null,null,null,null,null,null,null,null,null,null,null,null,null,null,null,null,{"$f":"Général!#REF!","v":{"$error":"#REF!"}},0]
[null,null,null,null,null,null,null,null,null,null,null,null,null,null,null,null,null,null,null,null,null,{"$f":"Général!#REF!","v":{"$error":"#REF!"}},0]
[null,null,null,null,null,null,null,null,null,null,null,null,null,null,null,null,null,null,null,null,null,{"$f":"Général!#REF!","v":{"$error":"#REF!"}},0]
[null,null,null,null,null,null,null,null,null,null,null,null,null,null,null,null,null,null,null,null,null,{"$f":"Général!#REF!","v":{"$error":"#REF!"}},0]

{"sheet":"Eq.20","index":24,"n_rows":32,"n_cols":23,"rows_kept":32,"cut":false,"hidden":false,"merged":[[14,0,14,1],[15,0,15,1],[8,0,8,1],[9,0,9,1],[10,0,10,1],[11,0,11,1],[12,0,12,1],[13,0,13,1],[7,0,7,1],[0,0,1,5],[0,6,1,10],[3,0,3,1],[4,0,4,1],[5,0,5,1]]}
["Equipage ",null,null,null,null,null,{"$f":"Général!B22","v":"UBS Lorient 2"},null,null,null,null,null,null,null,null,null,null,null,null,null,null,{"$f":"Général!B3","v":"Univ. Nantes 1"},{"$f":"COUNTIF(C$8:T$16,V1)","v":6}]
[null,null,null,null,null,null,null,null,null,null,null,null,null,null,null,null,null,null,null,null,null,{"$f":"Général!B4","v":"AS Paris 1 Panthéon Sorbonne"},{"$f":"COUNTIF($C$8:$T$16,V2)","v":4}]
[null,null,null,null,null,null,null,null,null,null,null,null,null,null,null,null,null,null,null,null,null,{"$f":"Général!B5","v":"Hannovre"},{"$f":"COUNTIF($C$8:$T$16,V3)","v":5}]
[null,null,"FLIGHT 1","FLIGHT 2","FLIGHT 3","FLIGHT 4","FLIGHT 5","FLIGHT 6","FLIGHT 7","FLIGHT 8","FLIGHT 9","FLIGHT 10","FLIGHT 11","FLIGHT 12","FLIGHT 13","FLIGHT 14","FLIGHT 15","FLIGHT 16","FLIGHT 17","FLIGHT 18",null,{"$f":"Général!B6","v":"IMT Atlantique Nantes 1"},4]
["N° de course",null,{"$f":"IF(COUNTIF(Général!B33:J33,$G$1)=1,\"Course 1\",IF(COUNTIF(Général!B35:J35,$G$1)=1,\"Course 2\",IF(COUNTIF(Général!B37:J37,$G$1)=1,\"Course 3\",\"Course 4\")))","v":"Course 3"},{"$f":"IF(COUNTIF(Général!B41:J41,$G$1)=1,\"Course 1\",IF(COUNTIF(Général!B43:J43,$G$1)=1,\"Course 2\",IF(COUNTIF(Général!B45:J45,$G$1)=1,\"Course 3\",\"Course 4\")))","v":"Course 3"},{"$f":"IF(COUNTIF(Général!B49:J49,$G$1)=1,\"Course 1\",IF(COUNTIF(Général!B51:J51,$G$1)=1,\"Course 2\",IF(COUNTIF(Général!B53:J53,$G$1)=1,\"Course 3\",\"Course 4\")))","v":"Course 3"},{"$f":"IF(COUNTIF(Général!B57:J57,$G$1)=1,\"Course 1\",IF(COUNTIF(Général!B59:J59,$G$1)=1,\"Course 2\",IF(COUNTIF(Général!B61:J61,$G$1)=1,\"Course 3\",\"Course 4\")))","v":"Course 2"},{"$f":"IF(COUNTIF(Général!B65:J65,$G$1)=1,\"Course 1\",IF(COUNTIF(Général!B67:J67,$G$1)=1,\"Course 2\",IF(COUNTIF(Général!B69:J69,$G$1)=1,\"Course 3\",\"Course 4\")))","v":"Course 2"},{"$f":"IF(COUNTIF(Général!B73:J73,$G$1)=1,\"Course 1\",IF(COUNTIF(Général!B75:J75,$G$1)=1,\"Course 2\",IF(COUNTIF(Général!B77:J77,$G$1)=1,\"Course 3\",\"Course 4\")))","v":"Course 1"},{"$f":"IF(COUNTIF(Général!B81:J81,$G$1)=1,\"Course 1\",IF(COUNTIF(Général!B83:J83,$G$1)=1,\"Course 2\",IF(COUNTIF(Général!B85:J85,$G$1)=1,\"Course 3\",\"Course 4\")))","v":"Course 2"},{"$f":"IF(COUNTIF(Général!B89:J89,$G$1)=1,\"Course 1\",IF(COUNTIF(Général!B91:J91,$G$1)=1,\"Course 2\",IF(COUNTIF(Général!B93:J93,$G$1)=1,\"Course 3\",\"Course 4\")))","v":"Course 2"},{"$f":"IF(COUNTIF(Général!B97:J97,$G$1)=1,\"Course 1\",IF(COUNTIF(Général!B99:J99,$G$1)=1,\"Course 2\",IF(COUNTIF(Général!B101:J101,$G$1)=1,\"Course 3\",\"Course 4\")))","v":"Course 2"},{"$f":"IF(COUNTIF(Général!B105:J105,$G$1)=1,\"Course 1\",IF(COUNTIF(Général!B107:J107,$G$1)=1,\"Course 2\",IF(COUNTIF(Général!B109:J109,$G$1)=1,\"Course 3\",\"Course 4\")))","v":"Course 3"},{"$f":"IF(COUNTIF(Général!B113:J113,$G$1)=1,\"Course 1\",IF(COUNTIF(Général!B115:J115,$G$1)=1,\"Course 2\",IF(COUNTIF(Général!B117:J117,$G$1)=1,\"Course 3\",\"Course 4\")))","v":"Course 1"},{"$f":"IF(COUNTIF(Général!B121:J121,$G$1)=1,\"Course 1\",IF(COUNTIF(Général!B123:J123,$G$1)=1,\"Course 2\",IF(COUNTIF(Général!B125:J125,$G$1)=1,\"Course 3\",\"Course 4\")))","v":"Course 2"},{"$f":"IF(COUNTIF(Général!B129:J129,$G$1)=1,\"Course 1\",IF(COUNTIF(Général!B131:J131,$G$1)=1,\"Course 2\",IF(COUNTIF(Général!B133:J133,$G$1)=1,\"Course 3\",\"Course 4\")))","v":"Course 3"},{"$f":"IF(COUNTIF(Général!B137:J137,$G$1)=1,\"Course 1\",IF(COUNTIF(Général!B139:J139,$G$1)=1,\"Course 2\",IF(COUNTIF(Général!B141:J141,$G$1)=1,\"Course 3\",\"Course 4\")))","v":"Course 3"},{"$f":"IF(COUNTIF(Général!B145:J145,$G$1)=1,\"Course 1\",IF(COUNTIF(Général!B147:J147,$G$1)=1,\"Course 2\",IF(COUNTIF(Général!B149:J149,$G$1)=1,\"Course 3\",\"Course 4\")))","v":"Course 3"},{"$f":"IF(COUNTIF(Général!B153:J153,$G$1)=1,\"Course 1\",IF(COUNTIF(Général!B155:J155,$G$1)=1,\"Course 2\",IF(COUNTIF(Général!B157:J157,$G$1)=1,\"Course 3\",\"Course 4\")))","v":"Course 1"},{"$f":"IF(COUNTIF(Général!B161:J161,$G$1)=1,\"Course 1\",IF(COUNTIF(Général!B163:J163,$G$1)=1,\"Course 2\",IF(COUNTIF(Général!B165:J165,$G$1)=1,\"Course 3\",\"Course 4\")))","v":"Course 3"},{"$f":"IF(COUNTIF(Général!B169:J169,$G$1)=1,\"Course 1\",IF(COUNTIF(Général!B171:J171,$G$1)=1,\"Course 2\",IF(COUNTIF(Général!B173:J173,$G$1)=1,\"Course 3\",\"Course 4\")))","v":"Course 3"},null,{"$f":"Général!B7","v":"ENSTA Bretagne 2"},5]
["Bateau",null,{"$f":"IF(COUNTIF(Général!B33:B38,$G$1)=1,\"Boat 1\",IF(COUNTIF(Général!C33:C38,$G$1)=1,\"Boat 2\",IF(COUNTIF(Général!D33:D38,$G$1)=1,\"Boat 3\", IF(COUNTIF(Général!E33:E38,$G$1)=1,\"Boat 4\", IF(COUNTIF(Général!F33:F38,$G$1)=1,\"Boat 5\", IF(COUNTIF(Général!G33:G38,$G$1)=1,\"Boat 6\", IF(COUNTIF(Général!H33:H38,$G$1)=1,\"Boat 7\",IF(COUNTIF(Général!I33:I38,$G$1)=1,\"Boat 8\",\"Boat 9\"))))))))","v":"Boat 1"},{"$f":"IF(COUNTIF(Général!B41:B46,$G$1)=1,\"Boat 1\",IF(COUNTIF(Général!C41:C46,$G$1)=1,\"Boat 2\",IF(COUNTIF(Général!D41:D46,$G$1)=1,\"Boat 3\", IF(COUNTIF(Général!E41:E46,$G$1)=1,\"Boat 4\", IF(COUNTIF(Général!F41:F46,$G$1)=1,\"Boat 5\", IF(COUNTIF(Général!G41:G46,$G$1)=1,\"Boat 6\", IF(COUNTIF(Général!H41:H46,$G$1)=1,\"Boat 7\",IF(COUNTIF(Général!I33:I38,$G$1)=1,\"Boat 8\",\"Boat 9\"))))))))","v":"Boat 6"},{"$f":"IF(COUNTIF(Général!B49:B54,$G$1)=1,\"Boat 1\",IF(COUNTIF(Général!C49:C54,$G$1)=1,\"Boat 2\",IF(COUNTIF(Général!D49:D54,$G$1)=1,\"Boat 3\", IF(COUNTIF(Général!E49:E54,$G$1)=1,\"Boat 4\", IF(COUNTIF(Général!F49:F54,$G$1)=1,\"Boat 5\", IF(COUNTIF(Général!G49:G54,$G$1)=1,\"Boat 6\", IF(COUNTIF(Général!H49:H54,$G$1)=1,\"Boat 7\",IF(COUNTIF(Général!I33:I38,$G$1)=1,\"Boat 8\",\"Boat 9\"))))))))","v":"Boat 3"},{"$f":"IF(COUNTIF(Général!B57:B62,$G$1)=1,\"Boat 1\",IF(COUNTIF(Général!C57:C62,$G$1)=1,\"Boat 2\",IF(COUNTIF(Général!D57:D62,$G$1)=1,\"Boat 3\", IF(COUNTIF(Général!E57:E62,$G$1)=1,\"Boat 4\", IF(COUNTIF(Général!F57:F62,$G$1)=1,\"Boat 5\", IF(COUNTIF(Général!G57:G62,$G$1)=1,\"Boat 6\", IF(COUNTIF(Général!H57:H62,$G$1)=1,\"Boat 7\",IF(COUNTIF(Général!I33:I38,$G$1)=1,\"Boat 8\",\"Boat 9\"))))))))","v":"Boat 7"},{"$f":"IF(COUNTIF(Général!B65:B70,$G$1)=1,\"Boat 1\",IF(COUNTIF(Général!C65:C70,$G$1)=1,\"Boat 2\",IF(COUNTIF(Général!D65:D70,$G$1)=1,\"Boat 3\", IF(COUNTIF(Général!E65:E70,$G$1)=1,\"Boat 4\", IF(COUNTIF(Général!F65:F70,$G$1)=1,\"Boat 5\", IF(COUNTIF(Général!G65:G70,$G$1)=1,\"Boat 6\", IF(COUNTIF(Général!H65:H70,$G$1)=1,\"Boat 7\",IF(COUNTIF(Général!I33:I38,$G$1)=1,\"Boat 8\",\"Boat 9\"))))))))","v":"Boat 5"},{"$f":"IF(COUNTIF(Général!B73:B78,$G$1)=1,\"Boat 1\",IF(COUNTIF(Général!C73:C78,$G$1)=1,\"Boat 2\",IF(COUNTIF(Général!D73:D78,$G$1)=1,\"Boat 3\", IF(COUNTIF(Général!E73:E78,$G$1)=1,\"Boat 4\", IF(COUNTIF(Général!F73:F78,$G$1)=1,\"Boat 5\", IF(COUNTIF(Général!G73:G78,$G$1)=1,\"Boat 6\", IF(COUNTIF(Général!H73:H78,$G$1)=1,\"Boat 7\",IF(COUNTIF(Général!I33:I38,$G$1)=1,\"Boat 8\",\"Boat 9\"))))))))","v":"Boat 2"},{"$f":"IF(COUNTIF(Général!B81:B86,$G$1)=1,\"Boat 1\",IF(COUNTIF(Général!C81:C86,$G$1)=1,\"Boat 2\",IF(COUNTIF(Général!D81:D86,$G$1)=1,\"Boat 3\", IF(COUNTIF(Général!E81:E86,$G$1)=1,\"Boat 4\", IF(COUNTIF(Général!F81:F86,$G$1)=1,\"Boat 5\", IF(COUNTIF(Général!G81:G86,$G$1)=1,\"Boat 6\", IF(COUNTIF(Général!H81:H86,$G$1)=1,\"Boat 7\",IF(COUNTIF(Général!I33:I38,$G$1)=1,\"Boat 8\",\"Boat 9\"))))))))","v":"Boat 3"},{"$f":"IF(COUNTIF(Général!B89:B94,$G$1)=1,\"Boat 1\",IF(COUNTIF(Général!C89:C94,$G$1)=1,\"Boat 2\",IF(COUNTIF(Général!D89:D94,$G$1)=1,\"Boat 3\", IF(COUNTIF(Général!E89:E94,$G$1)=1,\"Boat 4\", IF(COUNTIF(Général!F89:F94,$G$1)=1,\"Boat 5\", IF(COUNTIF(Général!G89:G94,$G$1)=1,\"Boat 6\", IF(COUNTIF(Général!H89:H94,$G$1)=1,\"Boat 7\",IF(COUNTIF(Général!I33:I38,$G$1)=1,\"Boat 8\",\"Boat 9\"))))))))","v":"Boat 9"},{"$f":"IF(COUNTIF(Général!B97:B102,$G$1)=1,\"Boat 1\",IF(COUNTIF(Général!C97:C102,$G$1)=1,\"Boat 2\",IF(COUNTIF(Général!D97:D102,$G$1)=1,\"Boat 3\", IF(COUNTIF(Général!E97:E102,$G$1)=1,\"Boat 4\", IF(COUNTIF(Général!F97:F102,$G$1)=1,\"Boat 5\", IF(COUNTIF(Général!G97:G102,$G$1)=1,\"Boat 6\", IF(COUNTIF(Général!H97:H102,$G$1)=1,\"Boat 7\",IF(COUNTIF(Général!I33:I38,$G$1)=1,\"Boat 8\",\"Boat 9\"))))))))","v":"Boat 9"},{"$f":"IF(COUNTIF(Général!B105:B110,$G$1)=1,\"Boat 1\",IF(COUNTIF(Général!C105:C110,$G$1)=1,\"Boat 2\",IF(COUNTIF(Général!D105:D110,$G$1)=1,\"Boat 3\", IF(COUNTIF(Général!E105:E110,$G$1)=1,\"Boat 4\", IF(COUNTIF(Général!F105:F110,$G$1)=1,\"Boat 5\", IF(COUNTIF(Général!G105:G110,$G$1)=1,\"Boat 6\", IF(COUNTIF(Général!H105:H110,$G$1)=1,\"Boat 7\",IF(COUNTIF(Général!I33:I38,$G$1)=1,\"Boat 8\",\"Boat 9\"))))))))","v":"Boat 9"},{"$f":"IF(COUNTIF(Général!B113:B118,$G$1)=1,\"Boat 1\",IF(COUNTIF(Général!C113:C118,$G$1)=1,\"Boat 2\",IF(COUNTIF(Général!C113:D118,$G$1)=1,\"Boat 3\", IF(COUNTIF(Général!C113:E118,$G$1)=1,\"Boat 4\", IF(COUNTIF(Général!F113:F118,$G$1)=1,\"Boat 5\", IF(COUNTIF(Général!G113:G118,$G$1)=1,\"Boat 6\", IF(COUNTIF(Général!H113:H118,$G$1)=1,\"Boat 7\",IF(COUNTIF(Général!I33:I38,$G$1)=1,\"Boat 8\",\"Boat 9\"))))))))","v":"Boat 9"},{"$f":"IF(COUNTIF(Général!B121:B126,$G$1)=1,\"Boat 1\",IF(COUNTIF(Général!C121:C126,$G$1)=1,\"Boat 2\",IF(COUNTIF(Général!D121:D126,$G$1)=1,\"Boat 3\", IF(COUNTIF(Général!E121:E126,$G$1)=1,\"Boat 4\", IF(COUNTIF(Général!F121:F126,$G$1)=1,\"Boat 5\", IF(COUNTIF(Général!G121:G126,$G$1)=1,\"Boat 6\", IF(COUNTIF(Général!H121:H126,$G$1)=1,\"Boat 7\",IF(COUNTIF(Général!I33:I38,$G$1)=1,\"Boat 8\",\"Boat 9\"))))))))","v":"Boat 9"},{"$f":"IF(COUNTIF(Général!B129:B134,$G$1)=1,\"Boat 1\",IF(COUNTIF(Général!C129:C134,$G$1)=1,\"Boat 2\",IF(COUNTIF(Général!D131:D134,$G$1)=1,\"Boat 3\", IF(COUNTIF(Général!E129:E134,$G$1)=1,\"Boat 4\", IF(COUNTIF(Général!F129:F134,$G$1)=1,\"Boat 5\", IF(COUNTIF(Général!G129:G134,$G$1)=1,\"Boat 6\", IF(COUNTIF(Général!H129:H134,$G$1)=1,\"Boat 7\",IF(COUNTIF(Général!I33:I38,$G$1)=1,\"Boat 8\",\"Boat 9\"))))))))","v":"Boat 3"},{"$f":"IF(COUNTIF(Général!B137:B142,$G$1)=1,\"Boat 1\",IF(COUNTIF(Général!C137:C142,$G$1)=1,\"Boat 2\",IF(COUNTIF(Général!D137:D142,$G$1)=1,\"Boat 3\", IF(COUNTIF(Général!E137:E142,$G$1)=1,\"Boat 4\", IF(COUNTIF(Général!F145:F150,$G$1)=1,\"Boat 5\", IF(COUNTIF(Général!G145:G150,$G$1)=1,\"Boat 6\", IF(COUNTIF(Général!H145:H150,$G$1)=1,\"Boat 7\",IF(COUNTIF(Général!I33:I38,$G$1)=1,\"Boat 8\",\"Boat 9\"))))))))","v":"Boat 4"},{"$f":"IF(COUNTIF(Général!B145:B150,$G$1)=1,\"Boat 1\",IF(COUNTIF(Général!C145:C150,$G$1)=1,\"Boat 2\",IF(COUNTIF(Général!D145:D150,$G$1)=1,\"Boat 3\", IF(COUNTIF(Général!E145:E150,$G$1)=1,\"Boat 4\", IF(COUNTIF(Général!F145:F150,$G$1)=1,\"Boat 5\", IF(COUNTIF(Général!G145:G150,$G$1)=1,\"Boat 6\", IF(COUNTIF(Général!H145:H150,$G$1)=1,\"Boat 7\",IF(COUNTIF(Général!I33:I38,$G$1)=1,\"Boat 8\",\"Boat 9\"))))))))","v":"Boat 5"},{"$f":"IF(COUNTIF(Général!B153:B158,$G$1)=1,\"Boat 1\",IF(COUNTIF(Général!C153:C158,$G$1)=1,\"Boat 2\",IF(COUNTIF(Général!D153:D158,$G$1)=1,\"Boat 3\", IF(COUNTIF(Général!E153:E158,$G$1)=1,\"Boat 4\", IF(COUNTIF(Général!F153:F158,$G$1)=1,\"Boat 5\", IF(COUNTIF(Général!G153:G158,$G$1)=1,\"Boat 6\", IF(COUNTIF(Général!H153:H158,$G$1)=1,\"Boat 7\",IF(COUNTIF(Général!I33:I38,$G$1)=1,\"Boat 8\",\"Boat 9\"))))))))","v":"Boat 5"},{"$f":"IF(COUNTIF(Général!B161:B166,$G$1)=1,\"Boat 1\",IF(COUNTIF(Général!C161:C166,$G$1)=1,\"Boat 2\",IF(COUNTIF(Général!D161:D166,$G$1)=1,\"Boat 3\", IF(COUNTIF(Général!E161:E166,$G$1)=1,\"Boat 4\", IF(COUNTIF(Général!F161:F166,$G$1)=1,\"Boat 5\", IF(COUNTIF(Général!G161:G166,$G$1)=1,\"Boat 6\", IF(COUNTIF(Général!H161:H166,$G$1)=1,\"Boat 7\",IF(COUNTIF(Général!I33:I38,$G$1)=1,\"Boat 8\",\"Boat 9\"))))))))","v":"Boat 1"},{"$f":"IF(COUNTIF(Général!B169:B174,$G$1)=1,\"Boat 1\",IF(COUNTIF(Général!C169:C174,$G$1)=1,\"Boat 2\",IF(COUNTIF(Général!D169:D174,$G$1)=1,\"Boat 3\", IF(COUNTIF(Général!E169:E174,$G$1)=1,\"Boat 4\", IF(COUNTIF(Général!F169:F174,$G$1)=1,\"Boat 5\", IF(COUNTIF(Général!G169:G174,$G$1)=1,\"Boat 6\", IF(COUNTIF(Général!H169:H174,$G$1)=1,\"Boat 7\",IF(COUNTIF(Général!I33:I38,$G$1)=1,\"Boat 8\",\"Boat 9\"))))))))","v":"Boat 9"},null,{"$f":"Général!B8","v":"IMT Atlantique Nantes 2"},6]
[null,null,null,null,null,null,null,null,null,null,null,null,null,null,null,null,null,null,null,null,null,{"$f":"Général!B9","v":"Hambourg"},4]
["1er Equipage",null,{"$f":"IF($C$5=\"Course 1\",Général!B33,IF($C$5=\"Course 2\",Général!B35,IF($C$5=\"Course 3\",Général!B37,Général!#REF!)))","v":"UBS Lorient 2"},{"$f":"IF($D$5=\"Course 1\",Général!B41,IF($D$5=\"Course 2\",Général!B43,IF($D$5=\"Course 3\",Général!B45,Général!#REF!)))","v":"Univ. Nantes 2"},{"$f":"IF($E$5=\"Course 1\",Général!B49,IF($E$5=\"Course 2\",Général!B51,IF($E$5=\"Course 3\",Général!B53,Général!#REF!)))","v":"Univ.Orléans"},{"$f":"IF($F$5=\"Course 1\",Général!B$57,IF($F$5=\"Course 2\",Général!B$59,IF($F$5=\"Course 3\",Général!B$61,Général!#REF!)))","v":"Univ.Orléans"},{"$f":"IF($G$5=\"Course 1\",Général!B$65,IF($G$5=\"Course 2\",Général!B$67,IF($G$5=\"Course 3\",Général!B$69,Général!#REF!)))","v":"AS UB St Brieuc"},{"$f":"IF($H$5=\"Course 1\",Général!B$73,IF($H$5=\"Course 2\",Général!B$75,IF($H$5=\"Course 3\",Général!B$77,Général!#REF!)))","v":"ENSTA Bretagne 1"},{"$f":"IF($I$5=\"Course 1\",Général!B$81,IF($I$5=\"Course 2\",Général!B$83,IF($I$5=\"Course 3\",Général!B$85,Général!#REF!)))","v":"IMT Atlantique Nantes 1"},{"$f":"IF($J$5=\"Course 1\",Général!B$89,IF($J$5=\"Course 2\",Général!B$91,IF($J$5=\"Course 3\",Général!B$93,Général!#REF!)))","v":"UNICAEN - ASSUCherbourg"},{"$f":"IF($K$5=\"Course 1\",Général!B$97,IF($K$5=\"Course 2\",Général!B$99,IF($K$5=\"Course 3\",Général!B$101,Général!#REF!)))","v":"Univ. La Rochelle"},{"$f":"IF($L$5=\"Course 1\",Général!B$105,IF($L$5=\"Course 2\",Général!B$107,IF($L$5=\"Course 3\",Général!B$109,Général!#REF!)))","v":"Hambourg"},{"$f":"IF($M$5=\"Course 1\",Général!B$113,IF($M$5=\"Course 2\",Général!B$115,IF($M$5=\"Course 3\",Général!B$117,Général!#REF!)))","v":"Hambourg"},{"$f":"IF($N$5=\"Course 1\",Général!B$121,IF($N$5=\"Course 2\",Général!B$123,IF($N$5=\"Course 3\",Général!B$125,Général!#REF!)))","v":"IMT Atlantique Nantes 1"},{"$f":"IF($O$5=\"Course 1\",Général!B$129,IF($O$5=\"Course 2\",Général!B$131,IF($O$5=\"Course 3\",Général!B$133,Général!#REF!)))","v":"UBO 1"},{"$f":"IF($P$5=\"Course 1\",Général!B$137,IF($P$5=\"Course 2\",Général!B$139,IF($P$5=\"Course 3\",Général!B$141,Général!#REF!)))","v":"Univ. Nantes 1"},{"$f":"IF($Q$5=\"Course 1\",Général!B$145,IF($Q$5=\"Course 2\",Général!B$147,IF($Q$5=\"Course 3\",Général!B$149,Général!#REF!)))","v":"Hannovre"},{"$f":"IF($R$5=\"Course 1\",Général!B$153,IF($R$5=\"Course 2\",Général!B$155,IF($R$5=\"Course 3\",Général!B$157,Général!#REF!)))","v":"HYDRO Sailing Team Le Havre"},{"$f":"IF($S$5=\"Course 1\",Général!B$161,IF($S$5=\"Course 2\",Général!B$163,IF($S$5=\"Course 3\",Général!B$165,Général!#REF!)))","v":"UBS Lorient 2"},{"$f":"IF($T$5=\"Course 1\",Général!B$169,IF($T$5=\"Course 2\",Général!B$171,IF($T$5=\"Course 3\",Général!B$173,Général!#REF!)))","v":"IMT Atlantique Nantes 2"},null,{"$f":"Général!B10","v":"EGSI La Rochelle"},5]
["2nd Equipage",null,{"$f":"IF($C$5=\"Course 1\",Général!C33,IF($C$5=\"Course 2\",Général!C35,IF($C$5=\"Course 3\",Général!C37,Général!#REF!)))","v":"IMT Atlantique Nantes 2"},{"$f":"IF($D$5=\"Course 1\",Général!C41,IF($D$5=\"Course 2\",Général!C43,IF($D$5=\"Course 3\",Général!C45,Général!#REF!)))","v":"IMT Atlantique Nantes 2"},{"$f":"IF($E$5=\"Course 1\",Général!C49,IF($E$5=\"Course 2\",Général!C51,IF($E$5=\"Course 3\",Général!C53,Général!#REF!)))","v":"ENSTA Bretagne 2"},{"$f":"IF($F$5=\"Course 1\",Général!C$57,IF($F$5=\"Course 2\",Général!C$59,IF($F$5=\"Course 3\",Général!C$61,Général!#REF!)))","v":"AS Paris 1 Panthéon Sorbonne"},{"$f":"IF($G$5=\"Course 1\",Général!C$65,IF($G$5=\"Course 2\",Général!C$67,IF($G$5=\"Course 3\",Général!C$69,Général!#REF!)))","v":"AS Paris 1 Panthéon Sorbonne"},{"$f":"IF($H$5=\"Course 1\",Général!C$73,IF($H$5=\"Course 2\",Général!C$75,IF($H$5=\"Course 3\",Général!C$77,Général!#REF!)))","v":"UBS Lorient 2"},{"$f":"IF($I$5=\"Course 1\",Général!C$81,IF($I$5=\"Course 2\",Général!C$83,IF($I$5=\"Course 3\",Général!C$85,Général!#REF!)))","v":"Centrales Nantes"},{"$f":"IF($J$5=\"Course 1\",Général!C$89,IF($J$5=\"Course 2\",Général!C$91,IF($J$5=\"Course 3\",Général!C$93,Général!#REF!)))","v":"UBO 2"},{"$f":"IF($K$5=\"Course 1\",Général!C$97,IF($K$5=\"Course 2\",Général!C$99,IF($K$5=\"Course 3\",Général!C$101,Général!#REF!)))","v":"UBO 2"},{"$f":"IF($L$5=\"Course 1\",Général!C$105,IF($L$5=\"Course 2\",Général!C$107,IF($L$5=\"Course 3\",Général!C$109,Général!#REF!)))","v":"UBO 1"},{"$f":"IF($M$5=\"Course 1\",Général!C$113,IF($M$5=\"Course 2\",Général!C$115,IF($M$5=\"Course 3\",Général!C$117,Général!#REF!)))","v":"Univ. Nantes 3"},{"$f":"IF($N$5=\"Course 1\",Général!C$121,IF($N$5=\"Course 2\",Général!C$123,IF($N$5=\"Course 3\",Général!C$125,Général!#REF!)))","v":"Dublin"},{"$f":"IF($O$5=\"Course 1\",Général!C$129,IF($O$5=\"Course 2\",Général!C$131,IF($O$5=\"Course 3\",Général!C$133,Général!#REF!)))","v":"Univ. La Rochelle"},{"$f":"IF($P$5=\"Course 1\",Général!C$137,IF($P$5=\"Course 2\",Général!C$139,IF($P$5=\"Course 3\",Général!C$141,Général!#REF!)))","v":"AS UB St Brieuc"},{"$f":"IF($Q$5=\"Course 1\",Général!C$145,IF($Q$5=\"Course 2\",Général!C$147,IF($Q$5=\"Course 3\",Général!C$149,Général!#REF!)))","v":"UBS Lorient 1"},{"$f":"IF($R$5=\"Course 1\",Général!C$153,IF($R$5=\"Course 2\",Général!C$155,IF($R$5=\"Course 3\",Général!C$157,Général!#REF!)))","v":"Univ. Nantes 3"},{"$f":"IF($S$5=\"Course 1\",Général!C$161,IF($S$5=\"Course 2\",Général!C$163,IF($S$5=\"Course 3\",Général!C$165,Général!#REF!)))","v":"Hambourg"},{"$f":"IF($T$5=\"Course 1\",Général!C$169,IF($T$5=\"Course 2\",Général!C$171,IF($T$5=\"Course 3\",Général!C$173,Général!#REF!)))","v":"ENSTA Bretagne 2"},null,{"$f":"Général!B11","v":"HYDRO Sailing Team Le Havre"},6]
["3ème Equipage",null,{"$f":"IF($C$5=\"Course 1\",Général!D33,IF($C$5=\"Course 2\",Général!D35,IF($C$5=\"Course 3\",Général!D37,Général!#REF!)))","v":"UBS Lorient 1"},{"$f":"IF($D$5=\"Course 1\",Général!D41,IF($D$5=\"Course 2\",Général!D43,IF($D$5=\"Course 3\",Général!D45,Général!#REF!)))","v":"HYDRO Sailing Team Le Havre"},{"$f":"IF($E$5=\"Course 1\",Général!D49,IF($E$5=\"Course 2\",Général!D51,IF($E$5=\"Course 3\",Général!D53,Général!#REF!)))","v":"UBS Lorient 2"},{"$f":"IF($F$5=\"Course 1\",Général!D$57,IF($F$5=\"Course 2\",Général!D$59,IF($F$5=\"Course 3\",Général!D$61,Général!#REF!)))","v":"Karlsruhe"},{"$f":"IF($G$5=\"Course 1\",Général!D$65,IF($G$5=\"Course 2\",Général!D$67,IF($G$5=\"Course 3\",Général!D$69,Général!#REF!)))","v":"Karlsruhe"},{"$f":"IF($H$5=\"Course 1\",Général!D$73,IF($H$5=\"Course 2\",Général!D$75,IF($H$5=\"Course 3\",Général!D$77,Général!#REF!)))","v":"Univ. La Rochelle"},{"$f":"IF($I$5=\"Course 1\",Général!D$81,IF($I$5=\"Course 2\",Général!D$83,IF($I$5=\"Course 3\",Général!D$85,Général!#REF!)))","v":"UBS Lorient 2"},{"$f":"IF($J$5=\"Course 1\",Général!D$89,IF($J$5=\"Course 2\",Général!D$91,IF($J$5=\"Course 3\",Général!D$93,Général!#REF!)))","v":"EGSI La Rochelle"},{"$f":"IF($K$5=\"Course 1\",Général!D$97,IF($K$5=\"Course 2\",Général!D$99,IF($K$5=\"Course 3\",Général!D$101,Général!#REF!)))","v":"Univ. Nantes 1"},{"$f":"IF($L$5=\"Course 1\",Général!D$105,IF($L$5=\"Course 2\",Général!D$107,IF($L$5=\"Course 3\",Général!D$109,Général!#REF!)))","v":"UNICAEN - ASSUCherbourg"},{"$f":"IF($M$5=\"Course 1\",Général!D$113,IF($M$5=\"Course 2\",Général!D$115,IF($M$5=\"Course 3\",Général!D$117,Général!#REF!)))","v":"AS UB St Brieuc"},{"$f":"IF($N$5=\"Course 1\",Général!D$121,IF($N$5=\"Course 2\",Général!D$123,IF($N$5=\"Course 3\",Général!D$125,Général!#REF!)))","v":"Hannovre"},{"$f":"IF($O$5=\"Course 1\",Général!D$129,IF($O$5=\"Course 2\",Général!D$131,IF($O$5=\"Course 3\",Général!D$133,Général!#REF!)))","v":"UBS Lorient 2"},{"$f":"IF($P$5=\"Course 1\",Général!D$137,IF($P$5=\"Course 2\",Général!D$139,IF($P$5=\"Course 3\",Général!D$141,Général!#REF!)))","v":"IMT Atlantique Brest"},{"$f":"IF($Q$5=\"Course 1\",Général!D$145,IF($Q$5=\"Course 2\",Général!D$147,IF($Q$5=\"Course 3\",Général!D$149,Général!#REF!)))","v":"ENSTA Bretagne 2"},{"$f":"IF($R$5=\"Course 1\",Général!D$153,IF($R$5=\"Course 2\",Général!D$155,IF($R$5=\"Course 3\",Général!D$157,Général!#REF!)))","v":"Univ.Orléans"},{"$f":"IF($S$5=\"Course 1\",Général!D$161,IF($S$5=\"Course 2\",Général!D$163,IF($S$5=\"Course 3\",Général!D$165,Général!#REF!)))","v":"UBO 1"},{"$f":"IF($T$5=\"Course 1\",Général!D$169,IF($T$5=\"Course 2\",Général!D$171,IF($T$5=\"Course 3\",Général!D$173,Général!#REF!)))","v":"AS UB St Brieuc"},null,{"$f":"Général!B12","v":"UNICAEN - ASSUCherbourg"},7]
["4ème Equipage",null,{"$f":"IF($C$5=\"Course 1\",Général!E33,IF($C$5=\"Course 2\",Général!E35,IF($C$5=\"Course 3\",Général!E37,Général!#REF!)))","v":"Dublin"},{"$f":"IF($D$5=\"Course 1\",Général!E41,IF($D$5=\"Course 2\",Général!E43,IF($D$5=\"Course 3\",Général!E45,Général!#REF!)))","v":"AS Paris 1 Panthéon Sorbonne"},{"$f":"IF($E$5=\"Course 1\",Général!E49,IF($E$5=\"Course 2\",Général!E51,IF($E$5=\"Course 3\",Général!E53,Général!#REF!)))","v":"Univ. La Rochelle"},{"$f":"IF($F$5=\"Course 1\",Général!E$57,IF($F$5=\"Course 2\",Général!E$59,IF($F$5=\"Course 3\",Général!E$61,Général!#REF!)))","v":"ASUL Lannion"},{"$f":"IF($G$5=\"Course 1\",Général!E$65,IF($G$5=\"Course 2\",Général!E$67,IF($G$5=\"Course 3\",Général!E$69,Général!#REF!)))","v":"EGSI La Rochelle"},{"$f":"IF($H$5=\"Course 1\",Général!E$73,IF($H$5=\"Course 2\",Général!E$75,IF($H$5=\"Course 3\",Général!E$77,Général!#REF!)))","v":"HYDRO Sailing Team Le Havre"},{"$f":"IF($I$5=\"Course 1\",Général!E$81,IF($I$5=\"Course 2\",Général!E$83,IF($I$5=\"Course 3\",Général!E$85,Général!#REF!)))","v":"IMT Atlantique Brest"},{"$f":"IF($J$5=\"Course 1\",Général!E$89,IF($J$5=\"Course 2\",Général!E$91,IF($J$5=\"Course 3\",Général!E$93,Général!#REF!)))","v":"Univ. Nantes 1"},{"$f":"IF($K$5=\"Course 1\",Général!E$97,IF($K$5=\"Course 2\",Général!E$99,IF($K$5=\"Course 3\",Général!E$101,Général!#REF!)))","v":"Univ. Nantes 2"},{"$f":"IF($L$5=\"Course 1\",Général!E$105,IF($L$5=\"Course 2\",Général!E$107,IF($L$5=\"Course 3\",Général!E$109,Général!#REF!)))","v":"ENSTA Paris"},{"$f":"IF($M$5=\"Course 1\",Général!E$113,IF($M$5=\"Course 2\",Général!E$115,IF($M$5=\"Course 3\",Général!E$117,Général!#REF!)))","v":"ENSTA Paris"},{"$f":"IF($N$5=\"Course 1\",Général!E$121,IF($N$5=\"Course 2\",Général!E$123,IF($N$5=\"Course 3\",Général!E$125,Général!#REF!)))","v":"Univ. La Rochelle"},{"$f":"IF($O$5=\"Course 1\",Général!E$129,IF($O$5=\"Course 2\",Général!E$131,IF($O$5=\"Course 3\",Général!E$133,Général!#REF!)))","v":"AS UB St Brieuc"},{"$f":"IF($P$5=\"Course 1\",Général!E$137,IF($P$5=\"Course 2\",Général!E$139,IF($P$5=\"Course 3\",Général!E$141,Général!#REF!)))","v":"UBS Lorient 2"},{"$f":"IF($Q$5=\"Course 1\",Général!E$145,IF($Q$5=\"Course 2\",Général!E$147,IF($Q$5=\"Course 3\",Général!E$149,Général!#REF!)))","v":"UBO 1"},{"$f":"IF($R$5=\"Course 1\",Général!E$153,IF($R$5=\"Course 2\",Général!E$155,IF($R$5=\"Course 3\",Général!E$157,Général!#REF!)))","v":"IMT Atlantique Nantes 1"},{"$f":"IF($S$5=\"Course 1\",Général!E$161,IF($S$5=\"Course 2\",Général!E$163,IF($S$5=\"Course 3\",Général!E$165,Général!#REF!)))","v":"Univ. Nantes 3"},{"$f":"IF($T$5=\"Course 1\",Général!E$169,IF($T$5=\"Course 2\",Général!E$171,IF($T$5=\"Course 3\",Général!E$173,Général!#REF!)))","v":"ASUL Lannion"},null,{"$f":"Général!B13","v":"UBO 1"},5]
["5ème Equipage",null,{"$f":"IF($C$5=\"Course 1\",Général!F33,IF($C$5=\"Course 2\",Général!F35,IF($C$5=\"Course 3\",Général!F37,Général!#REF!)))","v":"ENSTA Bretagne 2"},{"$f":"IF($D$5=\"Course 1\",Général!F41,IF($D$5=\"Course 2\",Général!F43,IF($D$5=\"Course 3\",Général!F45,Général!#REF!)))","v":"IMT Atlantique Brest"},{"$f":"IF($E$5=\"Course 1\",Général!F49,IF($E$5=\"Course 2\",Général!F51,IF($E$5=\"Course 3\",Général!F53,Général!#REF!)))","v":"AS Paris 1 Panthéon Sorbonne"},{"$f":"IF($F$5=\"Course 1\",Général!F$57,IF($F$5=\"Course 2\",Général!F$59,IF($F$5=\"Course 3\",Général!F$61,Général!#REF!)))","v":"Centrales Nantes"},{"$f":"IF($G$5=\"Course 1\",Général!F$65,IF($G$5=\"Course 2\",Général!F$67,IF($G$5=\"Course 3\",Général!F$69,Général!#REF!)))","v":"UBS Lorient 2"},{"$f":"IF($H$5=\"Course 1\",Général!F$73,IF($H$5=\"Course 2\",Général!F$75,IF($H$5=\"Course 3\",Général!F$77,Général!#REF!)))","v":"Univ. Nantes 3"},{"$f":"IF($I$5=\"Course 1\",Général!F$81,IF($I$5=\"Course 2\",Général!F$83,IF($I$5=\"Course 3\",Général!F$85,Général!#REF!)))","v":"EGSI La Rochelle"},{"$f":"IF($J$5=\"Course 1\",Général!F$89,IF($J$5=\"Course 2\",Général!F$91,IF($J$5=\"Course 3\",Général!F$93,Général!#REF!)))","v":"Hannovre"},{"$f":"IF($K$5=\"Course 1\",Général!F$97,IF($K$5=\"Course 2\",Général!F$99,IF($K$5=\"Course 3\",Général!F$101,Général!#REF!)))","v":"Centrales Nantes"},{"$f":"IF($L$5=\"Course 1\",Général!F$105,IF($L$5=\"Course 2\",Général!$F107,IF($L$5=\"Course 3\",Général!F$109,Général!#REF!)))","v":"UBS Lorient 1"},{"$f":"IF($M$5=\"Course 1\",Général!F$113,IF($M$5=\"Course 2\",Général!F$115,IF($M$5=\"Course 3\",Général!F$117,Général!#REF!)))","v":"UBS Lorient 1"},{"$f":"IF($N$5=\"Course 1\",Général!F$121,IF($N$5=\"Course 2\",Général!F$123,IF($N$5=\"Course 3\",Général!F$125,Général!#REF!)))","v":"Univ. Nantes 2"},{"$f":"IF($O$5=\"Course 1\",Général!F$129,IF($O$5=\"Course 2\",Général!F$131,IF($O$5=\"Course 3\",Général!F$133,Général!#REF!)))","v":"Karlsruhe"},{"$f":"IF($P$5=\"Course 1\",Général!F$137,IF($P$5=\"Course 2\",Général!F$139,IF($P$5=\"Course 3\",Général!F$141,Général!#REF!)))","v":"Hannovre"},{"$f":"IF($Q$5=\"Course 1\",Général!F$145,IF($Q$5=\"Course 2\",Général!F$147,IF($Q$5=\"Course 3\",Général!F$149,Général!#REF!)))","v":"UBS Lorient 2"},{"$f":"IF($R$5=\"Course 1\",Général!F$153,IF($R$5=\"Course 2\",Général!F$155,IF($R$5=\"Course 3\",Général!F$157,Général!#REF!)))","v":"UBS Lorient 2"},{"$f":"IF($S$5=\"Course 1\",Général!F$161,IF($S$5=\"Course 2\",Général!F$163,IF($S$5=\"Course 3\",Général!F$165,Général!#REF!)))","v":"Univ. Nantes 1"},{"$f":"IF($T$5=\"Course 1\",Général!F$169,IF($T$5=\"Course 2\",Général!F$171,IF($T$5=\"Course 3\",Général!F$173,Général!#REF!)))","v":"Centrales Nantes"},null,{"$f":"Général!B14","v":"ENSTA Bretagne 1"},6]
["6ème Equipage",null,{"$f":"IF($C$5=\"Course 1\",Général!G33,IF($C$5=\"Course 2\",Général!G35,IF($C$5=\"Course 3\",Général!G37,Général!#REF!)))","v":"HYDRO Sailing Team Le Havre"},{"$f":"IF($D$5=\"Course 1\",Général!G41,IF($D$5=\"Course 2\",Général!G43,IF($D$5=\"Course 3\",Général!G45,Général!#REF!)))","v":"UBS Lorient 2"},{"$f":"IF($E$5=\"Course 1\",Général!G49,IF($E$5=\"Course 2\",Général!G51,IF($E$5=\"Course 3\",Général!G53,Général!#REF!)))","v":"ENSTA Paris"},{"$f":"IF($F$5=\"Course 1\",Général!G$57,IF($F$5=\"Course 2\",Général!G$59,IF($F$5=\"Course 3\",Général!G$61,Général!#REF!)))","v":"Dublin"},{"$f":"IF($G$5=\"Course 1\",Général!G$65,IF($G$5=\"Course 2\",Général!G$67,IF($G$5=\"Course 3\",Général!G$69,Général!#REF!)))","v":"UBO 2"},{"$f":"IF($H$5=\"Course 1\",Général!G$73,IF($H$5=\"Course 2\",Général!G$75,IF($H$5=\"Course 3\",Général!G$77,Général!#REF!)))","v":"AS UB St Brieuc"},{"$f":"IF($I$5=\"Course 1\",Général!G$81,IF($I$5=\"Course 2\",Général!G$83,IF($I$5=\"Course 3\",Général!G$85,Général!#REF!)))","v":"UNICAEN - ASSUCherbourg"},{"$f":"IF($J$5=\"Course 1\",Général!G$89,IF($J$5=\"Course 2\",Général!G$91,IF($J$5=\"Course 3\",Général!G$93,Général!#REF!)))","v":"Southampton"},{"$f":"IF($K$5=\"Course 1\",Général!G$97,IF($K$5=\"Course 2\",Général!G$99,IF($K$5=\"Course 3\",Général!G$101,Général!#REF!)))","v":"ENSTA Bretagne 1"},{"$f":"IF($L$5=\"Course 1\",Général!G$105,IF($L$5=\"Course 2\",Général!G$107,IF($L$5=\"Course 3\",Général!G$109,Général!#REF!)))","v":"ASUL Lannion"},{"$f":"IF($M$5=\"Course 1\",Général!G$113,IF($M$5=\"Course 2\",Général!G$115,IF($M$5=\"Course 3\",Général!G$117,Général!#REF!)))","v":"Centrales Nantes"},{"$f":"IF($N$5=\"Course 1\",Général!G$121,IF($N$5=\"Course 2\",Général!G$123,IF($N$5=\"Course 3\",Général!G$125,Général!#REF!)))","v":"Southampton"},{"$f":"IF($O$5=\"Course 1\",Général!G$129,IF($O$5=\"Course 2\",Général!G$131,IF($O$5=\"Course 3\",Général!G$133,Général!#REF!)))","v":"Centrales Nantes"},{"$f":"IF($P$5=\"Course 1\",Général!G$137,IF($P$5=\"Course 2\",Général!G$139,IF($P$5=\"Course 3\",Général!G$141,Général!#REF!)))","v":"IMT Atlantique Nantes 1"},{"$f":"IF($Q$5=\"Course 1\",Général!G$145,IF($Q$5=\"Course 2\",Général!G$147,IF($Q$5=\"Course 3\",Général!G$149,Général!#REF!)))","v":"Southampton"},{"$f":"IF($R$5=\"Course 1\",Général!G$153,IF($R$5=\"Course 2\",Général!G$155,IF($R$5=\"Course 3\",Général!G$157,Général!#REF!)))","v":"IMT Atlantique Brest"},{"$f":"IF($S$5=\"Course 1\",Général!G$161,IF($S$5=\"Course 2\",Général!G$163,IF($S$5=\"Course 3\",Général!G$165,Général!#REF!)))","v":"UBO 2"},{"$f":"IF($T$5=\"Course 1\",Général!G$169,IF($T$5=\"Course 2\",Général!G$171,IF($T$5=\"Course 3\",Général!G$173,Général!#REF!)))","v":"ENSTA Paris"},null,{"$f":"Général!B15","v":"ASUL Lannion"},5]
["7ème Equipage",null,{"$f":"IF($C$5=\"Course 1\",Général!H33,IF($C$5=\"Course 2\",Général!H35,IF($C$5=\"Course 3\",Général!H37,Général!#REF!)))","v":"UBO 2"},{"$f":"IF($D$5=\"Course 1\",Général!H41,IF($D$5=\"Course 2\",Général!H43,IF($D$5=\"Course 3\",Général!H45,Général!#REF!)))","v":"Hannovre"},{"$f":"IF($E$5=\"Course 1\",Général!H49,IF($E$5=\"Course 2\",Général!H51,IF($E$5=\"Course 3\",Général!H53,Général!#REF!)))","v":"Univ. Nantes 3"},{"$f":"IF($F$5=\"Course 1\",Général!H$57,IF($F$5=\"Course 2\",Général!H$59,IF($F$5=\"Course 3\",Général!H$61,Général!#REF!)))","v":"UBS Lorient 2"},{"$f":"IF($G$5=\"Course 1\",Général!H$65,IF($G$5=\"Course 2\",Général!H$67,IF($G$5=\"Course 3\",Général!H$69,Général!#REF!)))","v":"Southampton"},{"$f":"IF($H$5=\"Course 1\",Général!H$73,IF($H$5=\"Course 2\",Général!H$75,IF($H$5=\"Course 3\",Général!H$77,Général!#REF!)))","v":"IMT Atlantique Nantes 2"},{"$f":"IF($I$5=\"Course 1\",Général!H$81,IF($I$5=\"Course 2\",Général!H$83,IF($I$5=\"Course 3\",Général!H$85,Général!#REF!)))","v":"HYDRO Sailing Team Le Havre"},{"$f":"IF($J$5=\"Course 1\",Général!H$89,IF($J$5=\"Course 2\",Général!H$91,IF($J$5=\"Course 3\",Général!H$93,Général!#REF!)))","v":"Centrales Nantes"},{"$f":"IF($K$5=\"Course 1\",Général!H$97,IF($K$5=\"Course 2\",Général!H$99,IF($K$5=\"Course 3\",Général!H$101,Général!#REF!)))","v":"IMT Atlantique Brest"},{"$f":"IF($L$5=\"Course 1\",Général!H$105,IF($L$5=\"Course 2\",Général!H$107,IF($L$5=\"Course 3\",Général!H$109,Général!#REF!)))","v":"Karlsruhe"},{"$f":"IF($M$5=\"Course 1\",Général!H$113,IF($M$5=\"Course 2\",Général!H$115,IF($M$5=\"Course 3\",Général!H$117,Général!#REF!)))","v":"EGSI La Rochelle"},{"$f":"IF($N$5=\"Course 1\",Général!H$121,IF($N$5=\"Course 2\",Général!H$123,IF($N$5=\"Course 3\",Général!H$125,Général!#REF!)))","v":"ENSTA Paris"},{"$f":"IF($O$5=\"Course 1\",Général!H$129,IF($O$5=\"Course 2\",Général!H$131,IF($O$5=\"Course 3\",Général!H$133,Général!#REF!)))","v":"Univ.Orléans"},{"$f":"IF($P$5=\"Course 1\",Général!H$137,IF($P$5=\"Course 2\",Général!H$139,IF($P$5=\"Course 3\",Général!H$141,Général!#REF!)))","v":"ASUL Lannion"},{"$f":"IF($Q$5=\"Course 1\",Général!H$145,IF($Q$5=\"Course 2\",Général!H$147,IF($Q$5=\"Course 3\",Général!H$149,Général!#REF!)))","v":"ENSTA Bretagne 1"},{"$f":"IF($R$5=\"Course 1\",Général!H$153,IF($R$5=\"Course 2\",Général!H$155,IF($R$5=\"Course 3\",Général!H$157,Général!#REF!)))","v":"ENSTA Bretagne 1"},{"$f":"IF($S$5=\"Course 1\",Général!H$161,IF($S$5=\"Course 2\",Général!H$163,IF($S$5=\"Course 3\",Général!H$165,Général!#REF!)))","v":"UNICAEN - ASSUCherbourg"},{"$f":"IF($T$5=\"Course 1\",Général!H$169,IF($T$5=\"Course 2\",Général!H$171,IF($T$5=\"Course 3\",Général!H$173,Général!#REF!)))","v":"UNICAEN - ASSUCherbourg"},null,{"$f":"Général!B16","v":"ENSTA Paris"},6]
["8ème Equipage",null,{"$f":"IF($C$5=\"Course 1\",Général!I33,IF($C$5=\"Course 2\",Général!I35,IF($C$5=\"Course 3\",Général!I37,Général!#REF!)))","v":"ASUL Lannion"},{"$f":"IF($D$5=\"Course 1\",Général!I41,IF($D$5=\"Course 2\",Général!I43,IF($D$5=\"Course 3\",Général!I45,Général!#REF!)))","v":"Univ. Nantes 1"},{"$f":"IF($E$5=\"Course 1\",Général!I49,IF($E$5=\"Course 2\",Général!I51,IF($E$5=\"Course 3\",Général!I53,Général!#REF!)))","v":"Southampton"},{"$f":"IF($F$5=\"Course 1\",Général!I$57,IF($F$5=\"Course 2\",Général!I$59,IF($F$5=\"Course 3\",Général!I$61,Général!#REF!)))","v":"EGSI La Rochelle"},{"$f":"IF($G$5=\"Course 1\",Général!I$65,IF($G$5=\"Course 2\",Général!I$67,IF($G$5=\"Course 3\",Général!I$69,Général!#REF!)))","v":"HYDRO Sailing Team Le Havre"},{"$f":"IF($H$5=\"Course 1\",Général!I$73,IF($H$5=\"Course 2\",Général!I$75,IF($H$5=\"Course 3\",Général!I$77,Général!#REF!)))","v":"UNICAEN - ASSUCherbourg"},{"$f":"IF($I$5=\"Course 1\",Général!I$81,IF($I$5=\"Course 2\",Général!I$83,IF($I$5=\"Course 3\",Général!I$85,Général!#REF!)))","v":"UBO 1"},{"$f":"IF($J$5=\"Course 1\",Général!I$89,IF($J$5=\"Course 2\",Général!I$91,IF($J$5=\"Course 3\",Général!I$93,Général!#REF!)))","v":"UBS Lorient 2"},{"$f":"IF($K$5=\"Course 1\",Général!I$97,IF($K$5=\"Course 2\",Général!I$99,IF($K$5=\"Course 3\",Général!I$101,Général!#REF!)))","v":"UBS Lorient 1"},{"$f":"IF($L$5=\"Course 1\",Général!I$105,IF($L$5=\"Course 2\",Général!I$107,IF($L$5=\"Course 3\",Général!I$109,Général!#REF!)))","v":"IMT Atlantique Brest"},{"$f":"IF($M$5=\"Course 1\",Général!I$113,IF($M$5=\"Course 2\",Général!I$115,IF($M$5=\"Course 3\",Général!I$117,Général!#REF!)))","v":"IMT Atlantique Nantes 2"},{"$f":"IF($N$5=\"Course 1\",Général!I$121,IF($N$5=\"Course 2\",Général!I$123,IF($N$5=\"Course 3\",Général!I$125,Général!#REF!)))","v":"UBS Lorient 2"},{"$f":"IF($O$5=\"Course 1\",Général!I$129,IF($O$5=\"Course 2\",Général!I$131,IF($O$5=\"Course 3\",Général!I$133,Général!#REF!)))","v":"Univ. Nantes 2"},{"$f":"IF($P$5=\"Course 1\",Général!I$137,IF($P$5=\"Course 2\",Général!I$139,IF($P$5=\"Course 3\",Général!I$141,Général!#REF!)))","v":"ENSTA Paris"},{"$f":"IF($Q$5=\"Course 1\",Général!I$145,IF($Q$5=\"Course 2\",Général!I$147,IF($Q$5=\"Course 3\",Général!I$149,Général!#REF!)))","v":"Univ. Nantes 2"},{"$f":"IF($R$5=\"Course 1\",Général!I$153,IF($R$5=\"Course 2\",Général!I$155,IF($R$5=\"Course 3\",Général!I$157,Général!#REF!)))","v":"AS UB St Brieuc"},{"$f":"IF($S$5=\"Course 1\",Général!I$161,IF($S$5=\"Course 2\",Général!I$163,IF($S$5=\"Course 3\",Général!I$165,Général!#REF!)))","v":"ENSTA Bretagne 1"},{"$f":"IF($T$5=\"Course 1\",Général!I$169,IF($T$5=\"Course 2\",Général!I$171,IF($T$5=\"Course 3\",Général!I$173,Général!#REF!)))","v":"UBS Lorient 2"},null,{"$f":"Général!B17","v":"IMT Atlantique Brest"},7]
["9ème Equipage",null,{"$f":"IF($C$5=\"Course 1\",Général!J33,IF($C$5=\"Course 2\",Général!J35,IF($C$5=\"Course 3\",Général!J37,Général!#REF!)))","v":"Southampton"},{"$f":"IF($D$5=\"Course 1\",Général!J41,IF($D$5=\"Course 2\",Général!J43,IF($D$5=\"Course 3\",Général!J45,Général!#REF!)))","v":"Hambourg"},{"$f":"IF($E$5=\"Course 1\",Général!J49,IF($E$5=\"Course 2\",Général!J51,IF($E$5=\"Course 3\",Général!J53,Général!#REF!)))","v":"IMT Atlantique Brest"},{"$f":"IF($F$5=\"Course 1\",Général!J$57,IF($F$5=\"Course 2\",Général!J$59,IF($F$5=\"Course 3\",Général!J$61,Général!#REF!)))","v":"Univ. Nantes 1"},{"$f":"IF($G$5=\"Course 1\",Général!J$65,IF($G$5=\"Course 2\",Général!J$67,IF($G$5=\"Course 3\",Général!J$69,Général!#REF!)))","v":"ENSTA Bretagne 1"},{"$f":"IF($H$5=\"Course 1\",Général!J$73,IF($H$5=\"Course 2\",Général!J$75,IF($H$5=\"Course 3\",Général!$J77,Général!#REF!)))","v":"Dublin"},{"$f":"IF($I$5=\"Course 1\",Général!J$81,IF($I$5=\"Course 2\",Général!J$83,IF($I$5=\"Course 3\",Général!J$85,Général!#REF!)))","v":"ENSTA Bretagne 2"},{"$f":"IF($J$5=\"Course 1\",Général!J$89,IF($J$5=\"Course 2\",Général!J$91,IF($J$5=\"Course 3\",Général!J$93,Général!#REF!)))","v":"Univ. Nantes 3"},{"$f":"IF($K$5=\"Course 1\",Général!J$97,IF($K$5=\"Course 2\",Général!J$99,IF($K$5=\"Course 3\",Général!J$101,Général!#REF!)))","v":"UBS Lorient 2"},{"$f":"IF($L$5=\"Course 1\",Général!J$105,IF($L$5=\"Course 2\",Général!J$107,IF($L$5=\"Course 3\",Général!J$109,Général!#REF!)))","v":"UBS Lorient 2"},{"$f":"IF($M$5=\"Course 1\",Général!J$113,IF($M$5=\"Course 2\",Général!J$115,IF($M$5=\"Course 3\",Général!J$117,Général!#REF!)))","v":"UBS Lorient 2"},{"$f":"IF($N$5=\"Course 1\",Général!J$121,IF($N$5=\"Course 2\",Général!J$123,IF($N$5=\"Course 3\",Général!J$125,Général!#REF!)))","v":"Univ.Orléans"},{"$f":"IF($O$5=\"Course 1\",Général!J$129,IF($O$5=\"Course 2\",Général!J$131,IF($O$5=\"Course 3\",Général!J$133,Général!#REF!)))","v":"UNICAEN - ASSUCherbourg"},{"$f":"IF($P$5=\"Course 1\",Général!J$137,IF($P$5=\"Course 2\",Général!J$139,IF($P$5=\"Course 3\",Général!J$141,Général!#REF!)))","v":"UBO 2"},{"$f":"IF($Q$5=\"Course 1\",Général!J$145,IF($Q$5=\"Course 2\",Général!J$147,IF($Q$5=\"Course 3\",Général!J$149,Général!#REF!)))","v":"Karlsruhe"},{"$f":"IF($R$5=\"Course 1\",Général!J$153,IF($R$5=\"Course 2\",Général!J$155,IF($R$5=\"Course 3\",Général!J$157,Général!#REF!)))","v":"Karlsruhe"},{"$f":"IF($S$5=\"Course 1\",Général!J$161,IF($S$5=\"Course 2\",Général!J$163,IF($S$5=\"Course 3\",Général!J$165,Général!#REF!)))","v":"IMT Atlantique Nantes 2"},{"$f":"IF($T$5=\"Course 1\",Général!J$169,IF($T$5=\"Course 2\",Général!J$171,IF($T$5=\"Course 3\",Général!J$173,Général!#REF!)))","v":"Univ. La Rochelle"},null,{"$f":"Général!B18","v":"UBO 2"},6]
[null,null,null,null,null,null,null,null,null,null,null,null,null,null,null,null,null,null,null,null,null,{"$f":"Général!B19","v":"Dublin"},4]
[null,null,null,null,null,null,null,null,null,null,null,null,null,null,null,null,null,null,null,null,null,{"$f":"Général!B20","v":"Univ. Nantes 2"},5]
[null,null,null,null,null,null,null,null,null,null,null,null,null,null,null,null,null,null,null,null,null,{"$f":"Général!B21","v":"UBS Lorient 1"},5]
[null,null,null,null,null,null,null,null,null,null,null,null,null,null,null,null,null,null,null,null,null,{"$f":"Général!B22","v":"UBS Lorient 2"},18]
[null,null,null,null,null,null,null,null,null,null,null,null,null,null,null,null,null,null,null,null,null,{"$f":"Général!B23","v":"Univ.Orléans"},5]
[null,null,null,null,null,null,null,null,null,null,null,null,null,null,null,null,null,null,null,null,null,{"$f":"Général!B24","v":"Univ. La Rochelle"},6]
[null,null,null,null,null,null,null,null,null,null,null,null,null,null,null,null,null,null,null,null,null,{"$f":"Général!B25","v":"AS UB St Brieuc"},7]
[null,null,null,null,null,null,null,null,null,null,null,null,null,null,null,null,null,null,null,null,null,{"$f":"Général!B26","v":"Karlsruhe"},6]
[null,null,null,null,null,null,null,null,null,null,null,null,null,null,null,null,null,null,null,null,null,{"$f":"Général!B27","v":"Univ. Nantes 3"},6]
[null,null,null,null,null,null,null,null,null,null,null,null,null,null,null,null,null,null,null,null,null,{"$f":"Général!B28","v":"Centrales Nantes"},7]
[null,null,null,null,null,null,null,null,null,null,null,null,null,null,null,null,null,null,null,null,null,{"$f":"Général!B29","v":"Southampton"},6]
[null,null,null,null,null,null,null,null,null,null,null,null,null,null,null,null,null,null,null,null,null,{"$f":"Général!#REF!","v":{"$error":"#REF!"}},0]
[null,null,null,null,null,null,null,null,null,null,null,null,null,null,null,null,null,null,null,null,null,{"$f":"Général!#REF!","v":{"$error":"#REF!"}},0]
[null,null,null,null,null,null,null,null,null,null,null,null,null,null,null,null,null,null,null,null,null,{"$f":"Général!#REF!","v":{"$error":"#REF!"}},0]
[null,null,null,null,null,null,null,null,null,null,null,null,null,null,null,null,null,null,null,null,null,{"$f":"Général!#REF!","v":{"$error":"#REF!"}},0]
[null,null,null,null,null,null,null,null,null,null,null,null,null,null,null,null,null,null,null,null,null,{"$f":"Général!#REF!","v":{"$error":"#REF!"}},0]

{"sheet":"Eq.21","index":25,"n_rows":32,"n_cols":23,"rows_kept":32,"cut":false,"hidden":false,"merged":[[14,0,14,1],[15,0,15,1],[8,0,8,1],[9,0,9,1],[10,0,10,1],[11,0,11,1],[12,0,12,1],[13,0,13,1],[7,0,7,1],[0,0,1,5],[0,6,1,10],[3,0,3,1],[4,0,4,1],[5,0,5,1]]}
["Equipage ",null,null,null,null,null,{"$f":"Général!B23","v":"Univ.Orléans"},null,null,null,null,null,null,null,null,null,null,null,null,null,null,{"$f":"Général!B3","v":"Univ. Nantes 1"},{"$f":"COUNTIF(C$8:T$16,V1)","v":4}]
[null,null,null,null,null,null,null,null,null,null,null,null,null,null,null,null,null,null,null,null,null,{"$f":"Général!B4","v":"AS Paris 1 Panthéon Sorbonne"},{"$f":"COUNTIF($C$8:$T$16,V2)","v":7}]
[null,null,null,null,null,null,null,null,null,null,null,null,null,null,null,null,null,null,null,null,null,{"$f":"Général!B5","v":"Hannovre"},{"$f":"COUNTIF($C$8:$T$16,V3)","v":6}]
[null,null,"FLIGHT 1","FLIGHT 2","FLIGHT 3","FLIGHT 4","FLIGHT 5","FLIGHT 6","FLIGHT 7","FLIGHT 8","FLIGHT 9","FLIGHT 10","FLIGHT 11","FLIGHT 12","FLIGHT 13","FLIGHT 14","FLIGHT 15","FLIGHT 16","FLIGHT 17","FLIGHT 18",null,{"$f":"Général!B6","v":"IMT Atlantique Nantes 1"},6]
["N° de course",null,{"$f":"IF(COUNTIF(Général!B33:J33,$G$1)=1,\"Course 1\",IF(COUNTIF(Général!B35:J35,$G$1)=1,\"Course 2\",IF(COUNTIF(Général!B37:J37,$G$1)=1,\"Course 3\",\"Course 4\")))","v":"Course 1"},{"$f":"IF(COUNTIF(Général!B41:J41,$G$1)=1,\"Course 1\",IF(COUNTIF(Général!B43:J43,$G$1)=1,\"Course 2\",IF(COUNTIF(Général!B45:J45,$G$1)=1,\"Course 3\",\"Course 4\")))","v":"Course 1"},{"$f":"IF(COUNTIF(Général!B49:J49,$G$1)=1,\"Course 1\",IF(COUNTIF(Général!B51:J51,$G$1)=1,\"Course 2\",IF(COUNTIF(Général!B53:J53,$G$1)=1,\"Course 3\",\"Course 4\")))","v":"Course 3"},{"$f":"IF(COUNTIF(Général!B57:J57,$G$1)=1,\"Course 1\",IF(COUNTIF(Général!B59:J59,$G$1)=1,\"Course 2\",IF(COUNTIF(Général!B61:J61,$G$1)=1,\"Course 3\",\"Course 4\")))","v":"Course 2"},{"$f":"IF(COUNTIF(Général!B65:J65,$G$1)=1,\"Course 1\",IF(COUNTIF(Général!B67:J67,$G$1)=1,\"Course 2\",IF(COUNTIF(Général!B69:J69,$G$1)=1,\"Course 3\",\"Course 4\")))","v":"Course 1"},{"$f":"IF(COUNTIF(Général!B73:J73,$G$1)=1,\"Course 1\",IF(COUNTIF(Général!B75:J75,$G$1)=1,\"Course 2\",IF(COUNTIF(Général!B77:J77,$G$1)=1,\"Course 3\",\"Course 4\")))","v":"Course 3"},{"$f":"IF(COUNTIF(Général!B81:J81,$G$1)=1,\"Course 1\",IF(COUNTIF(Général!B83:J83,$G$1)=1,\"Course 2\",IF(COUNTIF(Général!B85:J85,$G$1)=1,\"Course 3\",\"Course 4\")))","v":"Course 1"},{"$f":"IF(COUNTIF(Général!B89:J89,$G$1)=1,\"Course 1\",IF(COUNTIF(Général!B91:J91,$G$1)=1,\"Course 2\",IF(COUNTIF(Général!B93:J93,$G$1)=1,\"Course 3\",\"Course 4\")))","v":"Course 1"},{"$f":"IF(COUNTIF(Général!B97:J97,$G$1)=1,\"Course 1\",IF(COUNTIF(Général!B99:J99,$G$1)=1,\"Course 2\",IF(COUNTIF(Général!B101:J101,$G$1)=1,\"Course 3\",\"Course 4\")))","v":"Course 3"},{"$f":"IF(COUNTIF(Général!B105:J105,$G$1)=1,\"Course 1\",IF(COUNTIF(Général!B107:J107,$G$1)=1,\"Course 2\",IF(COUNTIF(Général!B109:J109,$G$1)=1,\"Course 3\",\"Course 4\")))","v":"Course 2"},{"$f":"IF(COUNTIF(Général!B113:J113,$G$1)=1,\"Course 1\",IF(COUNTIF(Général!B115:J115,$G$1)=1,\"Course 2\",IF(COUNTIF(Général!B117:J117,$G$1)=1,\"Course 3\",\"Course 4\")))","v":"Course 2"},{"$f":"IF(COUNTIF(Général!B121:J121,$G$1)=1,\"Course 1\",IF(COUNTIF(Général!B123:J123,$G$1)=1,\"Course 2\",IF(COUNTIF(Général!B125:J125,$G$1)=1,\"Course 3\",\"Course 4\")))","v":"Course 2"},{"$f":"IF(COUNTIF(Général!B129:J129,$G$1)=1,\"Course 1\",IF(COUNTIF(Général!B131:J131,$G$1)=1,\"Course 2\",IF(COUNTIF(Général!B133:J133,$G$1)=1,\"Course 3\",\"Course 4\")))","v":"Course 3"},{"$f":"IF(COUNTIF(Général!B137:J137,$G$1)=1,\"Course 1\",IF(COUNTIF(Général!B139:J139,$G$1)=1,\"Course 2\",IF(COUNTIF(Général!B141:J141,$G$1)=1,\"Course 3\",\"Course 4\")))","v":"Course 2"},{"$f":"IF(COUNTIF(Général!B145:J145,$G$1)=1,\"Course 1\",IF(COUNTIF(Général!B147:J147,$G$1)=1,\"Course 2\",IF(COUNTIF(Général!B149:J149,$G$1)=1,\"Course 3\",\"Course 4\")))","v":"Course 1"},{"$f":"IF(COUNTIF(Général!B153:J153,$G$1)=1,\"Course 1\",IF(COUNTIF(Général!B155:J155,$G$1)=1,\"Course 2\",IF(COUNTIF(Général!B157:J157,$G$1)=1,\"Course 3\",\"Course 4\")))","v":"Course 1"},{"$f":"IF(COUNTIF(Général!B161:J161,$G$1)=1,\"Course 1\",IF(COUNTIF(Général!B163:J163,$G$1)=1,\"Course 2\",IF(COUNTIF(Général!B165:J165,$G$1)=1,\"Course 3\",\"Course 4\")))","v":"Course 2"},{"$f":"IF(COUNTIF(Général!B169:J169,$G$1)=1,\"Course 1\",IF(COUNTIF(Général!B171:J171,$G$1)=1,\"Course 2\",IF(COUNTIF(Général!B173:J173,$G$1)=1,\"Course 3\",\"Course 4\")))","v":"Course 2"},null,{"$f":"Général!B7","v":"ENSTA Bretagne 2"},5]
["Bateau",null,{"$f":"IF(COUNTIF(Général!B33:B38,$G$1)=1,\"Boat 1\",IF(COUNTIF(Général!C33:C38,$G$1)=1,\"Boat 2\",IF(COUNTIF(Général!D33:D38,$G$1)=1,\"Boat 3\", IF(COUNTIF(Général!E33:E38,$G$1)=1,\"Boat 4\", IF(COUNTIF(Général!F33:F38,$G$1)=1,\"Boat 5\", IF(COUNTIF(Général!G33:G38,$G$1)=1,\"Boat 6\", IF(COUNTIF(Général!H33:H38,$G$1)=1,\"Boat 7\",IF(COUNTIF(Général!I33:I38,$G$1)=1,\"Boat 8\",\"Boat 9\"))))))))","v":"Boat 9"},{"$f":"IF(COUNTIF(Général!B41:B46,$G$1)=1,\"Boat 1\",IF(COUNTIF(Général!C41:C46,$G$1)=1,\"Boat 2\",IF(COUNTIF(Général!D41:D46,$G$1)=1,\"Boat 3\", IF(COUNTIF(Général!E41:E46,$G$1)=1,\"Boat 4\", IF(COUNTIF(Général!F41:F46,$G$1)=1,\"Boat 5\", IF(COUNTIF(Général!G41:G46,$G$1)=1,\"Boat 6\", IF(COUNTIF(Général!H41:H46,$G$1)=1,\"Boat 7\",IF(COUNTIF(Général!I33:I38,$G$1)=1,\"Boat 8\",\"Boat 9\"))))))))","v":"Boat 9"},{"$f":"IF(COUNTIF(Général!B49:B54,$G$1)=1,\"Boat 1\",IF(COUNTIF(Général!C49:C54,$G$1)=1,\"Boat 2\",IF(COUNTIF(Général!D49:D54,$G$1)=1,\"Boat 3\", IF(COUNTIF(Général!E49:E54,$G$1)=1,\"Boat 4\", IF(COUNTIF(Général!F49:F54,$G$1)=1,\"Boat 5\", IF(COUNTIF(Général!G49:G54,$G$1)=1,\"Boat 6\", IF(COUNTIF(Général!H49:H54,$G$1)=1,\"Boat 7\",IF(COUNTIF(Général!I33:I38,$G$1)=1,\"Boat 8\",\"Boat 9\"))))))))","v":"Boat 1"},{"$f":"IF(COUNTIF(Général!B57:B62,$G$1)=1,\"Boat 1\",IF(COUNTIF(Général!C57:C62,$G$1)=1,\"Boat 2\",IF(COUNTIF(Général!D57:D62,$G$1)=1,\"Boat 3\", IF(COUNTIF(Général!E57:E62,$G$1)=1,\"Boat 4\", IF(COUNTIF(Général!F57:F62,$G$1)=1,\"Boat 5\", IF(COUNTIF(Général!G57:G62,$G$1)=1,\"Boat 6\", IF(COUNTIF(Général!H57:H62,$G$1)=1,\"Boat 7\",IF(COUNTIF(Général!I33:I38,$G$1)=1,\"Boat 8\",\"Boat 9\"))))))))","v":"Boat 1"},{"$f":"IF(COUNTIF(Général!B65:B70,$G$1)=1,\"Boat 1\",IF(COUNTIF(Général!C65:C70,$G$1)=1,\"Boat 2\",IF(COUNTIF(Général!D65:D70,$G$1)=1,\"Boat 3\", IF(COUNTIF(Général!E65:E70,$G$1)=1,\"Boat 4\", IF(COUNTIF(Général!F65:F70,$G$1)=1,\"Boat 5\", IF(COUNTIF(Général!G65:G70,$G$1)=1,\"Boat 6\", IF(COUNTIF(Général!H65:H70,$G$1)=1,\"Boat 7\",IF(COUNTIF(Général!I33:I38,$G$1)=1,\"Boat 8\",\"Boat 9\"))))))))","v":"Boat 5"},{"$f":"IF(COUNTIF(Général!B73:B78,$G$1)=1,\"Boat 1\",IF(COUNTIF(Général!C73:C78,$G$1)=1,\"Boat 2\",IF(COUNTIF(Général!D73:D78,$G$1)=1,\"Boat 3\", IF(COUNTIF(Général!E73:E78,$G$1)=1,\"Boat 4\", IF(COUNTIF(Général!F73:F78,$G$1)=1,\"Boat 5\", IF(COUNTIF(Général!G73:G78,$G$1)=1,\"Boat 6\", IF(COUNTIF(Général!H73:H78,$G$1)=1,\"Boat 7\",IF(COUNTIF(Général!I33:I38,$G$1)=1,\"Boat 8\",\"Boat 9\"))))))))","v":"Boat 3"},{"$f":"IF(COUNTIF(Général!B81:B86,$G$1)=1,\"Boat 1\",IF(COUNTIF(Général!C81:C86,$G$1)=1,\"Boat 2\",IF(COUNTIF(Général!D81:D86,$G$1)=1,\"Boat 3\", IF(COUNTIF(Général!E81:E86,$G$1)=1,\"Boat 4\", IF(COUNTIF(Général!F81:F86,$G$1)=1,\"Boat 5\", IF(COUNTIF(Général!G81:G86,$G$1)=1,\"Boat 6\", IF(COUNTIF(Général!H81:H86,$G$1)=1,\"Boat 7\",IF(COUNTIF(Général!I33:I38,$G$1)=1,\"Boat 8\",\"Boat 9\"))))))))","v":"Boat 3"},{"$f":"IF(COUNTIF(Général!B89:B94,$G$1)=1,\"Boat 1\",IF(COUNTIF(Général!C89:C94,$G$1)=1,\"Boat 2\",IF(COUNTIF(Général!D89:D94,$G$1)=1,\"Boat 3\", IF(COUNTIF(Général!E89:E94,$G$1)=1,\"Boat 4\", IF(COUNTIF(Général!F89:F94,$G$1)=1,\"Boat 5\", IF(COUNTIF(Général!G89:G94,$G$1)=1,\"Boat 6\", IF(COUNTIF(Général!H89:H94,$G$1)=1,\"Boat 7\",IF(COUNTIF(Général!I33:I38,$G$1)=1,\"Boat 8\",\"Boat 9\"))))))))","v":"Boat 2"},{"$f":"IF(COUNTIF(Général!B97:B102,$G$1)=1,\"Boat 1\",IF(COUNTIF(Général!C97:C102,$G$1)=1,\"Boat 2\",IF(COUNTIF(Général!D97:D102,$G$1)=1,\"Boat 3\", IF(COUNTIF(Général!E97:E102,$G$1)=1,\"Boat 4\", IF(COUNTIF(Général!F97:F102,$G$1)=1,\"Boat 5\", IF(COUNTIF(Général!G97:G102,$G$1)=1,\"Boat 6\", IF(COUNTIF(Général!H97:H102,$G$1)=1,\"Boat 7\",IF(COUNTIF(Général!I33:I38,$G$1)=1,\"Boat 8\",\"Boat 9\"))))))))","v":"Boat 4"},{"$f":"IF(COUNTIF(Général!B105:B110,$G$1)=1,\"Boat 1\",IF(COUNTIF(Général!C105:C110,$G$1)=1,\"Boat 2\",IF(COUNTIF(Général!D105:D110,$G$1)=1,\"Boat 3\", IF(COUNTIF(Général!E105:E110,$G$1)=1,\"Boat 4\", IF(COUNTIF(Général!F105:F110,$G$1)=1,\"Boat 5\", IF(COUNTIF(Général!G105:G110,$G$1)=1,\"Boat 6\", IF(COUNTIF(Général!H105:H110,$G$1)=1,\"Boat 7\",IF(COUNTIF(Général!I33:I38,$G$1)=1,\"Boat 8\",\"Boat 9\"))))))))","v":"Boat 7"},{"$f":"IF(COUNTIF(Général!B113:B118,$G$1)=1,\"Boat 1\",IF(COUNTIF(Général!C113:C118,$G$1)=1,\"Boat 2\",IF(COUNTIF(Général!C113:D118,$G$1)=1,\"Boat 3\", IF(COUNTIF(Général!C113:E118,$G$1)=1,\"Boat 4\", IF(COUNTIF(Général!F113:F118,$G$1)=1,\"Boat 5\", IF(COUNTIF(Général!G113:G118,$G$1)=1,\"Boat 6\", IF(COUNTIF(Général!H113:H118,$G$1)=1,\"Boat 7\",IF(COUNTIF(Général!I33:I38,$G$1)=1,\"Boat 8\",\"Boat 9\"))))))))","v":"Boat 6"},{"$f":"IF(COUNTIF(Général!B121:B126,$G$1)=1,\"Boat 1\",IF(COUNTIF(Général!C121:C126,$G$1)=1,\"Boat 2\",IF(COUNTIF(Général!D121:D126,$G$1)=1,\"Boat 3\", IF(COUNTIF(Général!E121:E126,$G$1)=1,\"Boat 4\", IF(COUNTIF(Général!F121:F126,$G$1)=1,\"Boat 5\", IF(COUNTIF(Général!G121:G126,$G$1)=1,\"Boat 6\", IF(COUNTIF(Général!H121:H126,$G$1)=1,\"Boat 7\",IF(COUNTIF(Général!I33:I38,$G$1)=1,\"Boat 8\",\"Boat 9\"))))))))","v":"Boat 9"},{"$f":"IF(COUNTIF(Général!B129:B134,$G$1)=1,\"Boat 1\",IF(COUNTIF(Général!C129:C134,$G$1)=1,\"Boat 2\",IF(COUNTIF(Général!D131:D134,$G$1)=1,\"Boat 3\", IF(COUNTIF(Général!E129:E134,$G$1)=1,\"Boat 4\", IF(COUNTIF(Général!F129:F134,$G$1)=1,\"Boat 5\", IF(COUNTIF(Général!G129:G134,$G$1)=1,\"Boat 6\", IF(COUNTIF(Général!H129:H134,$G$1)=1,\"Boat 7\",IF(COUNTIF(Général!I33:I38,$G$1)=1,\"Boat 8\",\"Boat 9\"))))))))","v":"Boat 7"},{"$f":"IF(COUNTIF(Général!B137:B142,$G$1)=1,\"Boat 1\",IF(COUNTIF(Général!C137:C142,$G$1)=1,\"Boat 2\",IF(COUNTIF(Général!D137:D142,$G$1)=1,\"Boat 3\", IF(COUNTIF(Général!E137:E142,$G$1)=1,\"Boat 4\", IF(COUNTIF(Général!F145:F150,$G$1)=1,\"Boat 5\", IF(COUNTIF(Général!G145:G150,$G$1)=1,\"Boat 6\", IF(COUNTIF(Général!H145:H150,$G$1)=1,\"Boat 7\",IF(COUNTIF(Général!I33:I38,$G$1)=1,\"Boat 8\",\"Boat 9\"))))))))","v":"Boat 5"},{"$f":"IF(COUNTIF(Général!B145:B150,$G$1)=1,\"Boat 1\",IF(COUNTIF(Général!C145:C150,$G$1)=1,\"Boat 2\",IF(COUNTIF(Général!D145:D150,$G$1)=1,\"Boat 3\", IF(COUNTIF(Général!E145:E150,$G$1)=1,\"Boat 4\", IF(COUNTIF(Général!F145:F150,$G$1)=1,\"Boat 5\", IF(COUNTIF(Général!G145:G150,$G$1)=1,\"Boat 6\", IF(COUNTIF(Général!H145:H150,$G$1)=1,\"Boat 7\",IF(COUNTIF(Général!I33:I38,$G$1)=1,\"Boat 8\",\"Boat 9\"))))))))","v":"Boat 5"},{"$f":"IF(COUNTIF(Général!B153:B158,$G$1)=1,\"Boat 1\",IF(COUNTIF(Général!C153:C158,$G$1)=1,\"Boat 2\",IF(COUNTIF(Général!D153:D158,$G$1)=1,\"Boat 3\", IF(COUNTIF(Général!E153:E158,$G$1)=1,\"Boat 4\", IF(COUNTIF(Général!F153:F158,$G$1)=1,\"Boat 5\", IF(COUNTIF(Général!G153:G158,$G$1)=1,\"Boat 6\", IF(COUNTIF(Général!H153:H158,$G$1)=1,\"Boat 7\",IF(COUNTIF(Général!I33:I38,$G$1)=1,\"Boat 8\",\"Boat 9\"))))))))","v":"Boat 3"},{"$f":"IF(COUNTIF(Général!B161:B166,$G$1)=1,\"Boat 1\",IF(COUNTIF(Général!C161:C166,$G$1)=1,\"Boat 2\",IF(COUNTIF(Général!D161:D166,$G$1)=1,\"Boat 3\", IF(COUNTIF(Général!E161:E166,$G$1)=1,\"Boat 4\", IF(COUNTIF(Général!F161:F166,$G$1)=1,\"Boat 5\", IF(COUNTIF(Général!G161:G166,$G$1)=1,\"Boat 6\", IF(COUNTIF(Général!H161:H166,$G$1)=1,\"Boat 7\",IF(COUNTIF(Général!I33:I38,$G$1)=1,\"Boat 8\",\"Boat 9\"))))))))","v":"Boat 2"},{"$f":"IF(COUNTIF(Général!B169:B174,$G$1)=1,\"Boat 1\",IF(COUNTIF(Général!C169:C174,$G$1)=1,\"Boat 2\",IF(COUNTIF(Général!D169:D174,$G$1)=1,\"Boat 3\", IF(COUNTIF(Général!E169:E174,$G$1)=1,\"Boat 4\", IF(COUNTIF(Général!F169:F174,$G$1)=1,\"Boat 5\", IF(COUNTIF(Général!G169:G174,$G$1)=1,\"Boat 6\", IF(COUNTIF(Général!H169:H174,$G$1)=1,\"Boat 7\",IF(COUNTIF(Général!I33:I38,$G$1)=1,\"Boat 8\",\"Boat 9\"))))))))","v":"Boat 4"},null,{"$f":"Général!B8","v":"IMT Atlantique Nantes 2"},4]
[null,null,null,null,null,null,null,null,null,null,null,null,null,null,null,null,null,null,null,null,null,{"$f":"Général!B9","v":"Hambourg"},5]
["1er Equipage",null,{"$f":"IF($C$5=\"Course 1\",Général!B33,IF($C$5=\"Course 2\",Général!B35,IF($C$5=\"Course 3\",Général!B37,Général!#REF!)))","v":"ENSTA Paris"},{"$f":"IF($D$5=\"Course 1\",Général!B41,IF($D$5=\"Course 2\",Général!B43,IF($D$5=\"Course 3\",Général!B45,Général!#REF!)))","v":"ENSTA Paris"},{"$f":"IF($E$5=\"Course 1\",Général!B49,IF($E$5=\"Course 2\",Général!B51,IF($E$5=\"Course 3\",Général!B53,Général!#REF!)))","v":"Univ.Orléans"},{"$f":"IF($F$5=\"Course 1\",Général!B$57,IF($F$5=\"Course 2\",Général!B$59,IF($F$5=\"Course 3\",Général!B$61,Général!#REF!)))","v":"Univ.Orléans"},{"$f":"IF($G$5=\"Course 1\",Général!B$65,IF($G$5=\"Course 2\",Général!B$67,IF($G$5=\"Course 3\",Général!B$69,Général!#REF!)))","v":"IMT Atlantique Brest"},{"$f":"IF($H$5=\"Course 1\",Général!B$73,IF($H$5=\"Course 2\",Général!B$75,IF($H$5=\"Course 3\",Général!B$77,Général!#REF!)))","v":"ENSTA Bretagne 2"},{"$f":"IF($I$5=\"Course 1\",Général!B$81,IF($I$5=\"Course 2\",Général!B$83,IF($I$5=\"Course 3\",Général!B$85,Général!#REF!)))","v":"Dublin"},{"$f":"IF($J$5=\"Course 1\",Général!B$89,IF($J$5=\"Course 2\",Général!B$91,IF($J$5=\"Course 3\",Général!B$93,Général!#REF!)))","v":"Dublin"},{"$f":"IF($K$5=\"Course 1\",Général!B$97,IF($K$5=\"Course 2\",Général!B$99,IF($K$5=\"Course 3\",Général!B$101,Général!#REF!)))","v":"Hambourg"},{"$f":"IF($L$5=\"Course 1\",Général!B$105,IF($L$5=\"Course 2\",Général!B$107,IF($L$5=\"Course 3\",Général!B$109,Général!#REF!)))","v":"UBO 2"},{"$f":"IF($M$5=\"Course 1\",Général!B$113,IF($M$5=\"Course 2\",Général!B$115,IF($M$5=\"Course 3\",Général!B$117,Général!#REF!)))","v":"UBO 2"},{"$f":"IF($N$5=\"Course 1\",Général!B$121,IF($N$5=\"Course 2\",Général!B$123,IF($N$5=\"Course 3\",Général!B$125,Général!#REF!)))","v":"IMT Atlantique Nantes 1"},{"$f":"IF($O$5=\"Course 1\",Général!B$129,IF($O$5=\"Course 2\",Général!B$131,IF($O$5=\"Course 3\",Général!B$133,Général!#REF!)))","v":"UBO 1"},{"$f":"IF($P$5=\"Course 1\",Général!B$137,IF($P$5=\"Course 2\",Général!B$139,IF($P$5=\"Course 3\",Général!B$141,Général!#REF!)))","v":"Southampton"},{"$f":"IF($Q$5=\"Course 1\",Général!B$145,IF($Q$5=\"Course 2\",Général!B$147,IF($Q$5=\"Course 3\",Général!B$149,Général!#REF!)))","v":"Univ. Nantes 1"},{"$f":"IF($R$5=\"Course 1\",Général!B$153,IF($R$5=\"Course 2\",Général!B$155,IF($R$5=\"Course 3\",Général!B$157,Général!#REF!)))","v":"HYDRO Sailing Team Le Havre"},{"$f":"IF($S$5=\"Course 1\",Général!B$161,IF($S$5=\"Course 2\",Général!B$163,IF($S$5=\"Course 3\",Général!B$165,Général!#REF!)))","v":"IMT Atlantique Nantes 1"},{"$f":"IF($T$5=\"Course 1\",Général!B$169,IF($T$5=\"Course 2\",Général!B$171,IF($T$5=\"Course 3\",Général!B$173,Général!#REF!)))","v":"UBO 2"},null,{"$f":"Général!B10","v":"EGSI La Rochelle"},6]
["2nd Equipage",null,{"$f":"IF($C$5=\"Course 1\",Général!C33,IF($C$5=\"Course 2\",Général!C35,IF($C$5=\"Course 3\",Général!C37,Général!#REF!)))","v":"Univ. Nantes 2"},{"$f":"IF($D$5=\"Course 1\",Général!C41,IF($D$5=\"Course 2\",Général!C43,IF($D$5=\"Course 3\",Général!C45,Général!#REF!)))","v":"UNICAEN - ASSUCherbourg"},{"$f":"IF($E$5=\"Course 1\",Général!C49,IF($E$5=\"Course 2\",Général!C51,IF($E$5=\"Course 3\",Général!C53,Général!#REF!)))","v":"ENSTA Bretagne 2"},{"$f":"IF($F$5=\"Course 1\",Général!C$57,IF($F$5=\"Course 2\",Général!C$59,IF($F$5=\"Course 3\",Général!C$61,Général!#REF!)))","v":"AS Paris 1 Panthéon Sorbonne"},{"$f":"IF($G$5=\"Course 1\",Général!C$65,IF($G$5=\"Course 2\",Général!C$67,IF($G$5=\"Course 3\",Général!C$69,Général!#REF!)))","v":"Dublin"},{"$f":"IF($H$5=\"Course 1\",Général!C$73,IF($H$5=\"Course 2\",Général!C$75,IF($H$5=\"Course 3\",Général!C$77,Général!#REF!)))","v":"ENSTA Paris"},{"$f":"IF($I$5=\"Course 1\",Général!C$81,IF($I$5=\"Course 2\",Général!C$83,IF($I$5=\"Course 3\",Général!C$85,Général!#REF!)))","v":"Hambourg"},{"$f":"IF($J$5=\"Course 1\",Général!C$89,IF($J$5=\"Course 2\",Général!C$91,IF($J$5=\"Course 3\",Général!C$93,Général!#REF!)))","v":"Univ.Orléans"},{"$f":"IF($K$5=\"Course 1\",Général!C$97,IF($K$5=\"Course 2\",Général!C$99,IF($K$5=\"Course 3\",Général!C$101,Général!#REF!)))","v":"EGSI La Rochelle"},{"$f":"IF($L$5=\"Course 1\",Général!C$105,IF($L$5=\"Course 2\",Général!C$107,IF($L$5=\"Course 3\",Général!C$109,Général!#REF!)))","v":"ENSTA Bretagne 1"},{"$f":"IF($M$5=\"Course 1\",Général!C$113,IF($M$5=\"Course 2\",Général!C$115,IF($M$5=\"Course 3\",Général!C$117,Général!#REF!)))","v":"Univ. Nantes 1"},{"$f":"IF($N$5=\"Course 1\",Général!C$121,IF($N$5=\"Course 2\",Général!C$123,IF($N$5=\"Course 3\",Général!C$125,Général!#REF!)))","v":"Dublin"},{"$f":"IF($O$5=\"Course 1\",Général!C$129,IF($O$5=\"Course 2\",Général!C$131,IF($O$5=\"Course 3\",Général!C$133,Général!#REF!)))","v":"Univ. La Rochelle"},{"$f":"IF($P$5=\"Course 1\",Général!C$137,IF($P$5=\"Course 2\",Général!C$139,IF($P$5=\"Course 3\",Général!C$141,Général!#REF!)))","v":"Centrales Nantes"},{"$f":"IF($Q$5=\"Course 1\",Général!C$145,IF($Q$5=\"Course 2\",Général!C$147,IF($Q$5=\"Course 3\",Général!C$149,Général!#REF!)))","v":"AS UB St Brieuc"},{"$f":"IF($R$5=\"Course 1\",Général!C$153,IF($R$5=\"Course 2\",Général!C$155,IF($R$5=\"Course 3\",Général!C$157,Général!#REF!)))","v":"Univ. Nantes 3"},{"$f":"IF($S$5=\"Course 1\",Général!C$161,IF($S$5=\"Course 2\",Général!C$163,IF($S$5=\"Course 3\",Général!C$165,Général!#REF!)))","v":"Univ.Orléans"},{"$f":"IF($T$5=\"Course 1\",Général!C$169,IF($T$5=\"Course 2\",Général!C$171,IF($T$5=\"Course 3\",Général!C$173,Général!#REF!)))","v":"Dublin"},null,{"$f":"Général!B11","v":"HYDRO Sailing Team Le Havre"},5]
["3ème Equipage",null,{"$f":"IF($C$5=\"Course 1\",Général!D33,IF($C$5=\"Course 2\",Général!D35,IF($C$5=\"Course 3\",Général!D37,Général!#REF!)))","v":"IMT Atlantique Nantes 1"},{"$f":"IF($D$5=\"Course 1\",Général!D41,IF($D$5=\"Course 2\",Général!D43,IF($D$5=\"Course 3\",Général!D45,Général!#REF!)))","v":"Univ. Nantes 3"},{"$f":"IF($E$5=\"Course 1\",Général!D49,IF($E$5=\"Course 2\",Général!D51,IF($E$5=\"Course 3\",Général!D53,Général!#REF!)))","v":"UBS Lorient 2"},{"$f":"IF($F$5=\"Course 1\",Général!D$57,IF($F$5=\"Course 2\",Général!D$59,IF($F$5=\"Course 3\",Général!D$61,Général!#REF!)))","v":"Karlsruhe"},{"$f":"IF($G$5=\"Course 1\",Général!D$65,IF($G$5=\"Course 2\",Général!D$67,IF($G$5=\"Course 3\",Général!D$69,Général!#REF!)))","v":"UBO 1"},{"$f":"IF($H$5=\"Course 1\",Général!D$73,IF($H$5=\"Course 2\",Général!D$75,IF($H$5=\"Course 3\",Général!D$77,Général!#REF!)))","v":"Univ.Orléans"},{"$f":"IF($I$5=\"Course 1\",Général!D$81,IF($I$5=\"Course 2\",Général!D$83,IF($I$5=\"Course 3\",Général!D$85,Général!#REF!)))","v":"Univ.Orléans"},{"$f":"IF($J$5=\"Course 1\",Général!D$89,IF($J$5=\"Course 2\",Général!D$91,IF($J$5=\"Course 3\",Général!D$93,Général!#REF!)))","v":"ASUL Lannion"},{"$f":"IF($K$5=\"Course 1\",Général!D$97,IF($K$5=\"Course 2\",Général!D$99,IF($K$5=\"Course 3\",Général!D$101,Général!#REF!)))","v":"Southampton"},{"$f":"IF($L$5=\"Course 1\",Général!D$105,IF($L$5=\"Course 2\",Général!D$107,IF($L$5=\"Course 3\",Général!D$109,Général!#REF!)))","v":"Univ. Nantes 2"},{"$f":"IF($M$5=\"Course 1\",Général!D$113,IF($M$5=\"Course 2\",Général!D$115,IF($M$5=\"Course 3\",Général!D$117,Général!#REF!)))","v":"Univ. Nantes 2"},{"$f":"IF($N$5=\"Course 1\",Général!D$121,IF($N$5=\"Course 2\",Général!D$123,IF($N$5=\"Course 3\",Général!D$125,Général!#REF!)))","v":"Hannovre"},{"$f":"IF($O$5=\"Course 1\",Général!D$129,IF($O$5=\"Course 2\",Général!D$131,IF($O$5=\"Course 3\",Général!D$133,Général!#REF!)))","v":"UBS Lorient 2"},{"$f":"IF($P$5=\"Course 1\",Général!D$137,IF($P$5=\"Course 2\",Général!D$139,IF($P$5=\"Course 3\",Général!D$141,Général!#REF!)))","v":"ENSTA Bretagne 1"},{"$f":"IF($Q$5=\"Course 1\",Général!D$145,IF($Q$5=\"Course 2\",Général!D$147,IF($Q$5=\"Course 3\",Général!D$149,Général!#REF!)))","v":"IMT Atlantique Nantes 2"},{"$f":"IF($R$5=\"Course 1\",Général!D$153,IF($R$5=\"Course 2\",Général!D$155,IF($R$5=\"Course 3\",Général!D$157,Général!#REF!)))","v":"Univ.Orléans"},{"$f":"IF($S$5=\"Course 1\",Général!D$161,IF($S$5=\"Course 2\",Général!D$163,IF($S$5=\"Course 3\",Général!D$165,Général!#REF!)))","v":"HYDRO Sailing Team Le Havre"},{"$f":"IF($T$5=\"Course 1\",Général!D$169,IF($T$5=\"Course 2\",Général!D$171,IF($T$5=\"Course 3\",Général!D$173,Général!#REF!)))","v":"Univ. Nantes 3"},null,{"$f":"Général!B12","v":"UNICAEN - ASSUCherbourg"},5]
["4ème Equipage",null,{"$f":"IF($C$5=\"Course 1\",Général!E33,IF($C$5=\"Course 2\",Général!E35,IF($C$5=\"Course 3\",Général!E37,Général!#REF!)))","v":"AS Paris 1 Panthéon Sorbonne"},{"$f":"IF($D$5=\"Course 1\",Général!E41,IF($D$5=\"Course 2\",Général!E43,IF($D$5=\"Course 3\",Général!E45,Général!#REF!)))","v":"Dublin"},{"$f":"IF($E$5=\"Course 1\",Général!E49,IF($E$5=\"Course 2\",Général!E51,IF($E$5=\"Course 3\",Général!E53,Général!#REF!)))","v":"Univ. La Rochelle"},{"$f":"IF($F$5=\"Course 1\",Général!E$57,IF($F$5=\"Course 2\",Général!E$59,IF($F$5=\"Course 3\",Général!E$61,Général!#REF!)))","v":"ASUL Lannion"},{"$f":"IF($G$5=\"Course 1\",Général!E$65,IF($G$5=\"Course 2\",Général!E$67,IF($G$5=\"Course 3\",Général!E$69,Général!#REF!)))","v":"UBS Lorient 1"},{"$f":"IF($H$5=\"Course 1\",Général!E$73,IF($H$5=\"Course 2\",Général!E$75,IF($H$5=\"Course 3\",Général!E$77,Général!#REF!)))","v":"EGSI La Rochelle"},{"$f":"IF($I$5=\"Course 1\",Général!E$81,IF($I$5=\"Course 2\",Général!E$83,IF($I$5=\"Course 3\",Général!E$85,Général!#REF!)))","v":"Hannovre"},{"$f":"IF($J$5=\"Course 1\",Général!E$89,IF($J$5=\"Course 2\",Général!E$91,IF($J$5=\"Course 3\",Général!E$93,Général!#REF!)))","v":"ENSTA Bretagne 1"},{"$f":"IF($K$5=\"Course 1\",Général!E$97,IF($K$5=\"Course 2\",Général!E$99,IF($K$5=\"Course 3\",Général!E$101,Général!#REF!)))","v":"Univ.Orléans"},{"$f":"IF($L$5=\"Course 1\",Général!E$105,IF($L$5=\"Course 2\",Général!E$107,IF($L$5=\"Course 3\",Général!E$109,Général!#REF!)))","v":"Univ. Nantes 3"},{"$f":"IF($M$5=\"Course 1\",Général!E$113,IF($M$5=\"Course 2\",Général!E$115,IF($M$5=\"Course 3\",Général!E$117,Général!#REF!)))","v":"Southampton"},{"$f":"IF($N$5=\"Course 1\",Général!E$121,IF($N$5=\"Course 2\",Général!E$123,IF($N$5=\"Course 3\",Général!E$125,Général!#REF!)))","v":"Univ. La Rochelle"},{"$f":"IF($O$5=\"Course 1\",Général!E$129,IF($O$5=\"Course 2\",Général!E$131,IF($O$5=\"Course 3\",Général!E$133,Général!#REF!)))","v":"AS UB St Brieuc"},{"$f":"IF($P$5=\"Course 1\",Général!E$137,IF($P$5=\"Course 2\",Général!E$139,IF($P$5=\"Course 3\",Général!E$141,Général!#REF!)))","v":"Hambourg"},{"$f":"IF($Q$5=\"Course 1\",Général!E$145,IF($Q$5=\"Course 2\",Général!E$147,IF($Q$5=\"Course 3\",Général!E$149,Général!#REF!)))","v":"UNICAEN - ASSUCherbourg"},{"$f":"IF($R$5=\"Course 1\",Général!E$153,IF($R$5=\"Course 2\",Général!E$155,IF($R$5=\"Course 3\",Général!E$157,Général!#REF!)))","v":"IMT Atlantique Nantes 1"},{"$f":"IF($S$5=\"Course 1\",Général!E$161,IF($S$5=\"Course 2\",Général!E$163,IF($S$5=\"Course 3\",Général!E$165,Général!#REF!)))","v":"Centrales Nantes"},{"$f":"IF($T$5=\"Course 1\",Général!E$169,IF($T$5=\"Course 2\",Général!E$171,IF($T$5=\"Course 3\",Général!E$173,Général!#REF!)))","v":"Univ.Orléans"},null,{"$f":"Général!B13","v":"UBO 1"},5]
["5ème Equipage",null,{"$f":"IF($C$5=\"Course 1\",Général!F33,IF($C$5=\"Course 2\",Général!F35,IF($C$5=\"Course 3\",Général!F37,Général!#REF!)))","v":"Hambourg"},{"$f":"IF($D$5=\"Course 1\",Général!F41,IF($D$5=\"Course 2\",Général!F43,IF($D$5=\"Course 3\",Général!F45,Général!#REF!)))","v":"ENSTA Bretagne 2"},{"$f":"IF($E$5=\"Course 1\",Général!F49,IF($E$5=\"Course 2\",Général!F51,IF($E$5=\"Course 3\",Général!F53,Général!#REF!)))","v":"AS Paris 1 Panthéon Sorbonne"},{"$f":"IF($F$5=\"Course 1\",Général!F$57,IF($F$5=\"Course 2\",Général!F$59,IF($F$5=\"Course 3\",Général!F$61,Général!#REF!)))","v":"Centrales Nantes"},{"$f":"IF($G$5=\"Course 1\",Général!F$65,IF($G$5=\"Course 2\",Général!F$67,IF($G$5=\"Course 3\",Général!F$69,Général!#REF!)))","v":"Univ.Orléans"},{"$f":"IF($H$5=\"Course 1\",Général!F$73,IF($H$5=\"Course 2\",Général!F$75,IF($H$5=\"Course 3\",Général!F$77,Général!#REF!)))","v":"Univ. Nantes 2"},{"$f":"IF($I$5=\"Course 1\",Général!F$81,IF($I$5=\"Course 2\",Général!F$83,IF($I$5=\"Course 3\",Général!F$85,Général!#REF!)))","v":"UBO 2"},{"$f":"IF($J$5=\"Course 1\",Général!F$89,IF($J$5=\"Course 2\",Général!F$91,IF($J$5=\"Course 3\",Général!F$93,Général!#REF!)))","v":"AS UB St Brieuc"},{"$f":"IF($K$5=\"Course 1\",Général!F$97,IF($K$5=\"Course 2\",Général!F$99,IF($K$5=\"Course 3\",Général!F$101,Général!#REF!)))","v":"IMT Atlantique Nantes 2"},{"$f":"IF($L$5=\"Course 1\",Général!F$105,IF($L$5=\"Course 2\",Général!$F107,IF($L$5=\"Course 3\",Général!F$109,Général!#REF!)))","v":"HYDRO Sailing Team Le Havre"},{"$f":"IF($M$5=\"Course 1\",Général!F$113,IF($M$5=\"Course 2\",Général!F$115,IF($M$5=\"Course 3\",Général!F$117,Général!#REF!)))","v":"HYDRO Sailing Team Le Havre"},{"$f":"IF($N$5=\"Course 1\",Général!F$121,IF($N$5=\"Course 2\",Général!F$123,IF($N$5=\"Course 3\",Général!F$125,Général!#REF!)))","v":"Univ. Nantes 2"},{"$f":"IF($O$5=\"Course 1\",Général!F$129,IF($O$5=\"Course 2\",Général!F$131,IF($O$5=\"Course 3\",Général!F$133,Général!#REF!)))","v":"Karlsruhe"},{"$f":"IF($P$5=\"Course 1\",Général!F$137,IF($P$5=\"Course 2\",Général!F$139,IF($P$5=\"Course 3\",Général!F$141,Général!#REF!)))","v":"UBO 1"},{"$f":"IF($Q$5=\"Course 1\",Général!F$145,IF($Q$5=\"Course 2\",Général!F$147,IF($Q$5=\"Course 3\",Général!F$149,Général!#REF!)))","v":"Univ.Orléans"},{"$f":"IF($R$5=\"Course 1\",Général!F$153,IF($R$5=\"Course 2\",Général!F$155,IF($R$5=\"Course 3\",Général!F$157,Général!#REF!)))","v":"UBS Lorient 2"},{"$f":"IF($S$5=\"Course 1\",Général!F$161,IF($S$5=\"Course 2\",Général!F$163,IF($S$5=\"Course 3\",Général!F$165,Général!#REF!)))","v":"ASUL Lannion"},{"$f":"IF($T$5=\"Course 1\",Général!F$169,IF($T$5=\"Course 2\",Général!F$171,IF($T$5=\"Course 3\",Général!F$173,Général!#REF!)))","v":"ENSTA Bretagne 1"},null,{"$f":"Général!B14","v":"ENSTA Bretagne 1"},6]
["6ème Equipage",null,{"$f":"IF($C$5=\"Course 1\",Général!G33,IF($C$5=\"Course 2\",Général!G35,IF($C$5=\"Course 3\",Général!G37,Général!#REF!)))","v":"UNICAEN - ASSUCherbourg"},{"$f":"IF($D$5=\"Course 1\",Général!G41,IF($D$5=\"Course 2\",Général!G43,IF($D$5=\"Course 3\",Général!G45,Général!#REF!)))","v":"Karlsruhe"},{"$f":"IF($E$5=\"Course 1\",Général!G49,IF($E$5=\"Course 2\",Général!G51,IF($E$5=\"Course 3\",Général!G53,Général!#REF!)))","v":"ENSTA Paris"},{"$f":"IF($F$5=\"Course 1\",Général!G$57,IF($F$5=\"Course 2\",Général!G$59,IF($F$5=\"Course 3\",Général!G$61,Général!#REF!)))","v":"Dublin"},{"$f":"IF($G$5=\"Course 1\",Général!G$65,IF($G$5=\"Course 2\",Général!G$67,IF($G$5=\"Course 3\",Général!G$69,Général!#REF!)))","v":"Hannovre"},{"$f":"IF($H$5=\"Course 1\",Général!G$73,IF($H$5=\"Course 2\",Général!G$75,IF($H$5=\"Course 3\",Général!G$77,Général!#REF!)))","v":"UBS Lorient 1"},{"$f":"IF($I$5=\"Course 1\",Général!G$81,IF($I$5=\"Course 2\",Général!G$83,IF($I$5=\"Course 3\",Général!G$85,Général!#REF!)))","v":"UBS Lorient 1"},{"$f":"IF($J$5=\"Course 1\",Général!G$89,IF($J$5=\"Course 2\",Général!G$91,IF($J$5=\"Course 3\",Général!G$93,Général!#REF!)))","v":"ENSTA Bretagne 2"},{"$f":"IF($K$5=\"Course 1\",Général!G$97,IF($K$5=\"Course 2\",Général!G$99,IF($K$5=\"Course 3\",Général!G$101,Général!#REF!)))","v":"Karlsruhe"},{"$f":"IF($L$5=\"Course 1\",Général!G$105,IF($L$5=\"Course 2\",Général!G$107,IF($L$5=\"Course 3\",Général!G$109,Général!#REF!)))","v":"AS Paris 1 Panthéon Sorbonne"},{"$f":"IF($M$5=\"Course 1\",Général!G$113,IF($M$5=\"Course 2\",Général!G$115,IF($M$5=\"Course 3\",Général!G$117,Général!#REF!)))","v":"Univ.Orléans"},{"$f":"IF($N$5=\"Course 1\",Général!G$121,IF($N$5=\"Course 2\",Général!G$123,IF($N$5=\"Course 3\",Général!G$125,Général!#REF!)))","v":"Southampton"},{"$f":"IF($O$5=\"Course 1\",Général!G$129,IF($O$5=\"Course 2\",Général!G$131,IF($O$5=\"Course 3\",Général!G$133,Général!#REF!)))","v":"Centrales Nantes"},{"$f":"IF($P$5=\"Course 1\",Général!G$137,IF($P$5=\"Course 2\",Général!G$139,IF($P$5=\"Course 3\",Général!G$141,Général!#REF!)))","v":"Univ. Nantes 3"},{"$f":"IF($Q$5=\"Course 1\",Général!G$145,IF($Q$5=\"Course 2\",Général!G$147,IF($Q$5=\"Course 3\",Général!G$149,Général!#REF!)))","v":"IMT Atlantique Nantes 1"},{"$f":"IF($R$5=\"Course 1\",Général!G$153,IF($R$5=\"Course 2\",Général!G$155,IF($R$5=\"Course 3\",Général!G$157,Général!#REF!)))","v":"IMT Atlantique Brest"},{"$f":"IF($S$5=\"Course 1\",Général!G$161,IF($S$5=\"Course 2\",Général!G$163,IF($S$5=\"Course 3\",Général!G$165,Général!#REF!)))","v":"EGSI La Rochelle"},{"$f":"IF($T$5=\"Course 1\",Général!G$169,IF($T$5=\"Course 2\",Général!G$171,IF($T$5=\"Course 3\",Général!G$173,Général!#REF!)))","v":"EGSI La Rochelle"},null,{"$f":"Général!B15","v":"ASUL Lannion"},4]
["7ème Equipage",null,{"$f":"IF($C$5=\"Course 1\",Général!H33,IF($C$5=\"Course 2\",Général!H35,IF($C$5=\"Course 3\",Général!H37,Général!#REF!)))","v":"Centrales Nantes"},{"$f":"IF($D$5=\"Course 1\",Général!H41,IF($D$5=\"Course 2\",Général!H43,IF($D$5=\"Course 3\",Général!H45,Général!#REF!)))","v":"UBO 2"},{"$f":"IF($E$5=\"Course 1\",Général!H49,IF($E$5=\"Course 2\",Général!H51,IF($E$5=\"Course 3\",Général!H53,Général!#REF!)))","v":"Univ. Nantes 3"},{"$f":"IF($F$5=\"Course 1\",Général!H$57,IF($F$5=\"Course 2\",Général!H$59,IF($F$5=\"Course 3\",Général!H$61,Général!#REF!)))","v":"UBS Lorient 2"},{"$f":"IF($G$5=\"Course 1\",Général!H$65,IF($G$5=\"Course 2\",Général!H$67,IF($G$5=\"Course 3\",Général!H$69,Général!#REF!)))","v":"IMT Atlantique Nantes 2"},{"$f":"IF($H$5=\"Course 1\",Général!H$73,IF($H$5=\"Course 2\",Général!H$75,IF($H$5=\"Course 3\",Général!H$77,Général!#REF!)))","v":"Univ. Nantes 1"},{"$f":"IF($I$5=\"Course 1\",Général!H$81,IF($I$5=\"Course 2\",Général!H$83,IF($I$5=\"Course 3\",Général!H$85,Général!#REF!)))","v":"AS UB St Brieuc"},{"$f":"IF($J$5=\"Course 1\",Général!H$89,IF($J$5=\"Course 2\",Général!H$91,IF($J$5=\"Course 3\",Général!H$93,Général!#REF!)))","v":"IMT Atlantique Brest"},{"$f":"IF($K$5=\"Course 1\",Général!H$97,IF($K$5=\"Course 2\",Général!H$99,IF($K$5=\"Course 3\",Général!H$101,Général!#REF!)))","v":"ENSTA Bretagne 2"},{"$f":"IF($L$5=\"Course 1\",Général!H$105,IF($L$5=\"Course 2\",Général!H$107,IF($L$5=\"Course 3\",Général!H$109,Général!#REF!)))","v":"Univ.Orléans"},{"$f":"IF($M$5=\"Course 1\",Général!H$113,IF($M$5=\"Course 2\",Général!H$115,IF($M$5=\"Course 3\",Général!H$117,Général!#REF!)))","v":"UBO 1"},{"$f":"IF($N$5=\"Course 1\",Général!H$121,IF($N$5=\"Course 2\",Général!H$123,IF($N$5=\"Course 3\",Général!H$125,Général!#REF!)))","v":"ENSTA Paris"},{"$f":"IF($O$5=\"Course 1\",Général!H$129,IF($O$5=\"Course 2\",Général!H$131,IF($O$5=\"Course 3\",Général!H$133,Général!#REF!)))","v":"Univ.Orléans"},{"$f":"IF($P$5=\"Course 1\",Général!H$137,IF($P$5=\"Course 2\",Général!H$139,IF($P$5=\"Course 3\",Général!H$141,Général!#REF!)))","v":"Univ.Orléans"},{"$f":"IF($Q$5=\"Course 1\",Général!H$145,IF($Q$5=\"Course 2\",Général!H$147,IF($Q$5=\"Course 3\",Général!H$149,Général!#REF!)))","v":"HYDRO Sailing Team Le Havre"},{"$f":"IF($R$5=\"Course 1\",Général!H$153,IF($R$5=\"Course 2\",Général!H$155,IF($R$5=\"Course 3\",Général!H$157,Général!#REF!)))","v":"ENSTA Bretagne 1"},{"$f":"IF($S$5=\"Course 1\",Général!H$161,IF($S$5=\"Course 2\",Général!H$163,IF($S$5=\"Course 3\",Général!H$165,Général!#REF!)))","v":"UBS Lorient 1"},{"$f":"IF($T$5=\"Course 1\",Général!H$169,IF($T$5=\"Course 2\",Général!H$171,IF($T$5=\"Course 3\",Général!H$173,Général!#REF!)))","v":"UBS Lorient 1"},null,{"$f":"Général!B16","v":"ENSTA Paris"},7]
["8ème Equipage",null,{"$f":"IF($C$5=\"Course 1\",Général!I33,IF($C$5=\"Course 2\",Général!I35,IF($C$5=\"Course 3\",Général!I37,Général!#REF!)))","v":"ENSTA Bretagne 1"},{"$f":"IF($D$5=\"Course 1\",Général!I41,IF($D$5=\"Course 2\",Général!I43,IF($D$5=\"Course 3\",Général!I45,Général!#REF!)))","v":"Univ.Orléans"},{"$f":"IF($E$5=\"Course 1\",Général!I49,IF($E$5=\"Course 2\",Général!I51,IF($E$5=\"Course 3\",Général!I53,Général!#REF!)))","v":"Southampton"},{"$f":"IF($F$5=\"Course 1\",Général!I$57,IF($F$5=\"Course 2\",Général!I$59,IF($F$5=\"Course 3\",Général!I$61,Général!#REF!)))","v":"EGSI La Rochelle"},{"$f":"IF($G$5=\"Course 1\",Général!I$65,IF($G$5=\"Course 2\",Général!I$67,IF($G$5=\"Course 3\",Général!I$69,Général!#REF!)))","v":"Centrales Nantes"},{"$f":"IF($H$5=\"Course 1\",Général!I$73,IF($H$5=\"Course 2\",Général!I$75,IF($H$5=\"Course 3\",Général!I$77,Général!#REF!)))","v":"UBO 1"},{"$f":"IF($I$5=\"Course 1\",Général!I$81,IF($I$5=\"Course 2\",Général!I$83,IF($I$5=\"Course 3\",Général!I$85,Général!#REF!)))","v":"Univ. La Rochelle"},{"$f":"IF($J$5=\"Course 1\",Général!I$89,IF($J$5=\"Course 2\",Général!I$91,IF($J$5=\"Course 3\",Général!I$93,Général!#REF!)))","v":"Hambourg"},{"$f":"IF($K$5=\"Course 1\",Général!I$97,IF($K$5=\"Course 2\",Général!I$99,IF($K$5=\"Course 3\",Général!I$101,Général!#REF!)))","v":"Hannovre"},{"$f":"IF($L$5=\"Course 1\",Général!I$105,IF($L$5=\"Course 2\",Général!I$107,IF($L$5=\"Course 3\",Général!I$109,Général!#REF!)))","v":"EGSI La Rochelle"},{"$f":"IF($M$5=\"Course 1\",Général!I$113,IF($M$5=\"Course 2\",Général!I$115,IF($M$5=\"Course 3\",Général!I$117,Général!#REF!)))","v":"Univ. La Rochelle"},{"$f":"IF($N$5=\"Course 1\",Général!I$121,IF($N$5=\"Course 2\",Général!I$123,IF($N$5=\"Course 3\",Général!I$125,Général!#REF!)))","v":"UBS Lorient 2"},{"$f":"IF($O$5=\"Course 1\",Général!I$129,IF($O$5=\"Course 2\",Général!I$131,IF($O$5=\"Course 3\",Général!I$133,Général!#REF!)))","v":"Univ. Nantes 2"},{"$f":"IF($P$5=\"Course 1\",Général!I$137,IF($P$5=\"Course 2\",Général!I$139,IF($P$5=\"Course 3\",Général!I$141,Général!#REF!)))","v":"AS Paris 1 Panthéon Sorbonne"},{"$f":"IF($Q$5=\"Course 1\",Général!I$145,IF($Q$5=\"Course 2\",Général!I$147,IF($Q$5=\"Course 3\",Général!I$149,Général!#REF!)))","v":"ENSTA Paris"},{"$f":"IF($R$5=\"Course 1\",Général!I$153,IF($R$5=\"Course 2\",Général!I$155,IF($R$5=\"Course 3\",Général!I$157,Général!#REF!)))","v":"AS UB St Brieuc"},{"$f":"IF($S$5=\"Course 1\",Général!I$161,IF($S$5=\"Course 2\",Général!I$163,IF($S$5=\"Course 3\",Général!I$165,Général!#REF!)))","v":"Hannovre"},{"$f":"IF($T$5=\"Course 1\",Général!I$169,IF($T$5=\"Course 2\",Général!I$171,IF($T$5=\"Course 3\",Général!I$173,Général!#REF!)))","v":"Karlsruhe"},null,{"$f":"Général!B17","v":"IMT Atlantique Brest"},4]
["9ème Equipage",null,{"$f":"IF($C$5=\"Course 1\",Général!J33,IF($C$5=\"Course 2\",Général!J35,IF($C$5=\"Course 3\",Général!J37,Général!#REF!)))","v":"Univ.Orléans"},{"$f":"IF($D$5=\"Course 1\",Général!J41,IF($D$5=\"Course 2\",Général!J43,IF($D$5=\"Course 3\",Général!J45,Général!#REF!)))","v":"Centrales Nantes"},{"$f":"IF($E$5=\"Course 1\",Général!J49,IF($E$5=\"Course 2\",Général!J51,IF($E$5=\"Course 3\",Général!J53,Général!#REF!)))","v":"IMT Atlantique Brest"},{"$f":"IF($F$5=\"Course 1\",Général!J$57,IF($F$5=\"Course 2\",Général!J$59,IF($F$5=\"Course 3\",Général!J$61,Général!#REF!)))","v":"Univ. Nantes 1"},{"$f":"IF($G$5=\"Course 1\",Général!J$65,IF($G$5=\"Course 2\",Général!J$67,IF($G$5=\"Course 3\",Général!J$69,Général!#REF!)))","v":"ENSTA Paris"},{"$f":"IF($H$5=\"Course 1\",Général!J$73,IF($H$5=\"Course 2\",Général!J$75,IF($H$5=\"Course 3\",Général!$J77,Général!#REF!)))","v":"AS Paris 1 Panthéon Sorbonne"},{"$f":"IF($I$5=\"Course 1\",Général!J$81,IF($I$5=\"Course 2\",Général!J$83,IF($I$5=\"Course 3\",Général!J$85,Général!#REF!)))","v":"AS Paris 1 Panthéon Sorbonne"},{"$f":"IF($J$5=\"Course 1\",Général!J$89,IF($J$5=\"Course 2\",Général!J$91,IF($J$5=\"Course 3\",Général!J$93,Général!#REF!)))","v":"Univ. Nantes 2"},{"$f":"IF($K$5=\"Course 1\",Général!J$97,IF($K$5=\"Course 2\",Général!J$99,IF($K$5=\"Course 3\",Général!J$101,Général!#REF!)))","v":"UNICAEN - ASSUCherbourg"},{"$f":"IF($L$5=\"Course 1\",Général!J$105,IF($L$5=\"Course 2\",Général!J$107,IF($L$5=\"Course 3\",Général!J$109,Général!#REF!)))","v":"Hannovre"},{"$f":"IF($M$5=\"Course 1\",Général!J$113,IF($M$5=\"Course 2\",Général!J$115,IF($M$5=\"Course 3\",Général!J$117,Général!#REF!)))","v":"ASUL Lannion"},{"$f":"IF($N$5=\"Course 1\",Général!J$121,IF($N$5=\"Course 2\",Général!J$123,IF($N$5=\"Course 3\",Général!J$125,Général!#REF!)))","v":"Univ.Orléans"},{"$f":"IF($O$5=\"Course 1\",Général!J$129,IF($O$5=\"Course 2\",Général!J$131,IF($O$5=\"Course 3\",Général!J$133,Général!#REF!)))","v":"UNICAEN - ASSUCherbourg"},{"$f":"IF($P$5=\"Course 1\",Général!J$137,IF($P$5=\"Course 2\",Général!J$139,IF($P$5=\"Course 3\",Général!J$141,Général!#REF!)))","v":"IMT Atlantique Nantes 2"},{"$f":"IF($Q$5=\"Course 1\",Général!J$145,IF($Q$5=\"Course 2\",Général!J$147,IF($Q$5=\"Course 3\",Général!J$149,Général!#REF!)))","v":"UBO 2"},{"$f":"IF($R$5=\"Course 1\",Général!J$153,IF($R$5=\"Course 2\",Général!J$155,IF($R$5=\"Course 3\",Général!J$157,Général!#REF!)))","v":"Karlsruhe"},{"$f":"IF($S$5=\"Course 1\",Général!J$161,IF($S$5=\"Course 2\",Général!J$163,IF($S$5=\"Course 3\",Général!J$165,Général!#REF!)))","v":"Univ. La Rochelle"},{"$f":"IF($T$5=\"Course 1\",Général!J$169,IF($T$5=\"Course 2\",Général!J$171,IF($T$5=\"Course 3\",Général!J$173,Général!#REF!)))","v":"IMT Atlantique Nantes 1"},null,{"$f":"Général!B18","v":"UBO 2"},6]
[null,null,null,null,null,null,null,null,null,null,null,null,null,null,null,null,null,null,null,null,null,{"$f":"Général!B19","v":"Dublin"},7]
[null,null,null,null,null,null,null,null,null,null,null,null,null,null,null,null,null,null,null,null,null,{"$f":"Général!B20","v":"Univ. Nantes 2"},7]
[null,null,null,null,null,null,null,null,null,null,null,null,null,null,null,null,null,null,null,null,null,{"$f":"Général!B21","v":"UBS Lorient 1"},5]
[null,null,null,null,null,null,null,null,null,null,null,null,null,null,null,null,null,null,null,null,null,{"$f":"Général!B22","v":"UBS Lorient 2"},5]
[null,null,null,null,null,null,null,null,null,null,null,null,null,null,null,null,null,null,null,null,null,{"$f":"Général!B23","v":"Univ.Orléans"},18]
[null,null,null,null,null,null,null,null,null,null,null,null,null,null,null,null,null,null,null,null,null,{"$f":"Général!B24","v":"Univ. La Rochelle"},6]
[null,null,null,null,null,null,null,null,null,null,null,null,null,null,null,null,null,null,null,null,null,{"$f":"Général!B25","v":"AS UB St Brieuc"},5]
[null,null,null,null,null,null,null,null,null,null,null,null,null,null,null,null,null,null,null,null,null,{"$f":"Général!B26","v":"Karlsruhe"},6]
[null,null,null,null,null,null,null,null,null,null,null,null,null,null,null,null,null,null,null,null,null,{"$f":"Général!B27","v":"Univ. Nantes 3"},6]
[null,null,null,null,null,null,null,null,null,null,null,null,null,null,null,null,null,null,null,null,null,{"$f":"Général!B28","v":"Centrales Nantes"},7]
[null,null,null,null,null,null,null,null,null,null,null,null,null,null,null,null,null,null,null,null,null,{"$f":"Général!B29","v":"Southampton"},5]
[null,null,null,null,null,null,null,null,null,null,null,null,null,null,null,null,null,null,null,null,null,{"$f":"Général!#REF!","v":{"$error":"#REF!"}},0]
[null,null,null,null,null,null,null,null,null,null,null,null,null,null,null,null,null,null,null,null,null,{"$f":"Général!#REF!","v":{"$error":"#REF!"}},0]
[null,null,null,null,null,null,null,null,null,null,null,null,null,null,null,null,null,null,null,null,null,{"$f":"Général!#REF!","v":{"$error":"#REF!"}},0]
[null,null,null,null,null,null,null,null,null,null,null,null,null,null,null,null,null,null,null,null,null,{"$f":"Général!#REF!","v":{"$error":"#REF!"}},0]
[null,null,null,null,null,null,null,null,null,null,null,null,null,null,null,null,null,null,null,null,null,{"$f":"Général!#REF!","v":{"$error":"#REF!"}},0]

{"sheet":"Eq.22","index":26,"n_rows":32,"n_cols":23,"rows_kept":32,"cut":false,"hidden":false,"merged":[[14,0,14,1],[15,0,15,1],[8,0,8,1],[9,0,9,1],[10,0,10,1],[11,0,11,1],[12,0,12,1],[13,0,13,1],[7,0,7,1],[0,0,1,5],[0,6,1,10],[3,0,3,1],[4,0,4,1],[5,0,5,1]]}
["Equipage ",null,null,null,null,null,{"$f":"Général!B24","v":"Univ. La Rochelle"},null,null,null,null,null,null,null,null,null,null,null,null,null,null,{"$f":"Général!B3","v":"Univ. Nantes 1"},{"$f":"COUNTIF(C$8:T$16,V1)","v":5}]
[null,null,null,null,null,null,null,null,null,null,null,null,null,null,null,null,null,null,null,null,null,{"$f":"Général!B4","v":"AS Paris 1 Panthéon Sorbonne"},{"$f":"COUNTIF($C$8:$T$16,V2)","v":4}]
[null,null,null,null,null,null,null,null,null,null,null,null,null,null,null,null,null,null,null,null,null,{"$f":"Général!B5","v":"Hannovre"},{"$f":"COUNTIF($C$8:$T$16,V3)","v":6}]
[null,null,"FLIGHT 1","FLIGHT 2","FLIGHT 3","FLIGHT 4","FLIGHT 5","FLIGHT 6","FLIGHT 7","FLIGHT 8","FLIGHT 9","FLIGHT 10","FLIGHT 11","FLIGHT 12","FLIGHT 13","FLIGHT 14","FLIGHT 15","FLIGHT 16","FLIGHT 17","FLIGHT 18",null,{"$f":"Général!B6","v":"IMT Atlantique Nantes 1"},6]
["N° de course",null,{"$f":"IF(COUNTIF(Général!B33:J33,$G$1)=1,\"Course 1\",IF(COUNTIF(Général!B35:J35,$G$1)=1,\"Course 2\",IF(COUNTIF(Général!B37:J37,$G$1)=1,\"Course 3\",\"Course 4\")))","v":"Course 2"},{"$f":"IF(COUNTIF(Général!B41:J41,$G$1)=1,\"Course 1\",IF(COUNTIF(Général!B43:J43,$G$1)=1,\"Course 2\",IF(COUNTIF(Général!B45:J45,$G$1)=1,\"Course 3\",\"Course 4\")))","v":"Course 2"},{"$f":"IF(COUNTIF(Général!B49:J49,$G$1)=1,\"Course 1\",IF(COUNTIF(Général!B51:J51,$G$1)=1,\"Course 2\",IF(COUNTIF(Général!B53:J53,$G$1)=1,\"Course 3\",\"Course 4\")))","v":"Course 3"},{"$f":"IF(COUNTIF(Général!B57:J57,$G$1)=1,\"Course 1\",IF(COUNTIF(Général!B59:J59,$G$1)=1,\"Course 2\",IF(COUNTIF(Général!B61:J61,$G$1)=1,\"Course 3\",\"Course 4\")))","v":"Course 3"},{"$f":"IF(COUNTIF(Général!B65:J65,$G$1)=1,\"Course 1\",IF(COUNTIF(Général!B67:J67,$G$1)=1,\"Course 2\",IF(COUNTIF(Général!B69:J69,$G$1)=1,\"Course 3\",\"Course 4\")))","v":"Course 3"},{"$f":"IF(COUNTIF(Général!B73:J73,$G$1)=1,\"Course 1\",IF(COUNTIF(Général!B75:J75,$G$1)=1,\"Course 2\",IF(COUNTIF(Général!B77:J77,$G$1)=1,\"Course 3\",\"Course 4\")))","v":"Course 1"},{"$f":"IF(COUNTIF(Général!B81:J81,$G$1)=1,\"Course 1\",IF(COUNTIF(Général!B83:J83,$G$1)=1,\"Course 2\",IF(COUNTIF(Général!B85:J85,$G$1)=1,\"Course 3\",\"Course 4\")))","v":"Course 1"},{"$f":"IF(COUNTIF(Général!B89:J89,$G$1)=1,\"Course 1\",IF(COUNTIF(Général!B91:J91,$G$1)=1,\"Course 2\",IF(COUNTIF(Général!B93:J93,$G$1)=1,\"Course 3\",\"Course 4\")))","v":"Course 3"},{"$f":"IF(COUNTIF(Général!B97:J97,$G$1)=1,\"Course 1\",IF(COUNTIF(Général!B99:J99,$G$1)=1,\"Course 2\",IF(COUNTIF(Général!B101:J101,$G$1)=1,\"Course 3\",\"Course 4\")))","v":"Course 2"},{"$f":"IF(COUNTIF(Général!B105:J105,$G$1)=1,\"Course 1\",IF(COUNTIF(Général!B107:J107,$G$1)=1,\"Course 2\",IF(COUNTIF(Général!B109:J109,$G$1)=1,\"Course 3\",\"Course 4\")))","v":"Course 1"},{"$f":"IF(COUNTIF(Général!B113:J113,$G$1)=1,\"Course 1\",IF(COUNTIF(Général!B115:J115,$G$1)=1,\"Course 2\",IF(COUNTIF(Général!B117:J117,$G$1)=1,\"Course 3\",\"Course 4\")))","v":"Course 2"},{"$f":"IF(COUNTIF(Général!B121:J121,$G$1)=1,\"Course 1\",IF(COUNTIF(Général!B123:J123,$G$1)=1,\"Course 2\",IF(COUNTIF(Général!B125:J125,$G$1)=1,\"Course 3\",\"Course 4\")))","v":"Course 2"},{"$f":"IF(COUNTIF(Général!B129:J129,$G$1)=1,\"Course 1\",IF(COUNTIF(Général!B131:J131,$G$1)=1,\"Course 2\",IF(COUNTIF(Général!B133:J133,$G$1)=1,\"Course 3\",\"Course 4\")))","v":"Course 3"},{"$f":"IF(COUNTIF(Général!B137:J137,$G$1)=1,\"Course 1\",IF(COUNTIF(Général!B139:J139,$G$1)=1,\"Course 2\",IF(COUNTIF(Général!B141:J141,$G$1)=1,\"Course 3\",\"Course 4\")))","v":"Course 1"},{"$f":"IF(COUNTIF(Général!B145:J145,$G$1)=1,\"Course 1\",IF(COUNTIF(Général!B147:J147,$G$1)=1,\"Course 2\",IF(COUNTIF(Général!B149:J149,$G$1)=1,\"Course 3\",\"Course 4\")))","v":"Course 2"},{"$f":"IF(COUNTIF(Général!B153:J153,$G$1)=1,\"Course 1\",IF(COUNTIF(Général!B155:J155,$G$1)=1,\"Course 2\",IF(COUNTIF(Général!B157:J157,$G$1)=1,\"Course 3\",\"Course 4\")))","v":"Course 3"},{"$f":"IF(COUNTIF(Général!B161:J161,$G$1)=1,\"Course 1\",IF(COUNTIF(Général!B163:J163,$G$1)=1,\"Course 2\",IF(COUNTIF(Général!B165:J165,$G$1)=1,\"Course 3\",\"Course 4\")))","v":"Course 2"},{"$f":"IF(COUNTIF(Général!B169:J169,$G$1)=1,\"Course 1\",IF(COUNTIF(Général!B171:J171,$G$1)=1,\"Course 2\",IF(COUNTIF(Général!B173:J173,$G$1)=1,\"Course 3\",\"Course 4\")))","v":"Course 3"},null,{"$f":"Général!B7","v":"ENSTA Bretagne 2"},7]
["Bateau",null,{"$f":"IF(COUNTIF(Général!B33:B38,$G$1)=1,\"Boat 1\",IF(COUNTIF(Général!C33:C38,$G$1)=1,\"Boat 2\",IF(COUNTIF(Général!D33:D38,$G$1)=1,\"Boat 3\", IF(COUNTIF(Général!E33:E38,$G$1)=1,\"Boat 4\", IF(COUNTIF(Général!F33:F38,$G$1)=1,\"Boat 5\", IF(COUNTIF(Général!G33:G38,$G$1)=1,\"Boat 6\", IF(COUNTIF(Général!H33:H38,$G$1)=1,\"Boat 7\",IF(COUNTIF(Général!I33:I38,$G$1)=1,\"Boat 8\",\"Boat 9\"))))))))","v":"Boat 7"},{"$f":"IF(COUNTIF(Général!B41:B46,$G$1)=1,\"Boat 1\",IF(COUNTIF(Général!C41:C46,$G$1)=1,\"Boat 2\",IF(COUNTIF(Général!D41:D46,$G$1)=1,\"Boat 3\", IF(COUNTIF(Général!E41:E46,$G$1)=1,\"Boat 4\", IF(COUNTIF(Général!F41:F46,$G$1)=1,\"Boat 5\", IF(COUNTIF(Général!G41:G46,$G$1)=1,\"Boat 6\", IF(COUNTIF(Général!H41:H46,$G$1)=1,\"Boat 7\",IF(COUNTIF(Général!I33:I38,$G$1)=1,\"Boat 8\",\"Boat 9\"))))))))","v":"Boat 9"},{"$f":"IF(COUNTIF(Général!B49:B54,$G$1)=1,\"Boat 1\",IF(COUNTIF(Général!C49:C54,$G$1)=1,\"Boat 2\",IF(COUNTIF(Général!D49:D54,$G$1)=1,\"Boat 3\", IF(COUNTIF(Général!E49:E54,$G$1)=1,\"Boat 4\", IF(COUNTIF(Général!F49:F54,$G$1)=1,\"Boat 5\", IF(COUNTIF(Général!G49:G54,$G$1)=1,\"Boat 6\", IF(COUNTIF(Général!H49:H54,$G$1)=1,\"Boat 7\",IF(COUNTIF(Général!I33:I38,$G$1)=1,\"Boat 8\",\"Boat 9\"))))))))","v":"Boat 4"},{"$f":"IF(COUNTIF(Général!B57:B62,$G$1)=1,\"Boat 1\",IF(COUNTIF(Général!C57:C62,$G$1)=1,\"Boat 2\",IF(COUNTIF(Général!D57:D62,$G$1)=1,\"Boat 3\", IF(COUNTIF(Général!E57:E62,$G$1)=1,\"Boat 4\", IF(COUNTIF(Général!F57:F62,$G$1)=1,\"Boat 5\", IF(COUNTIF(Général!G57:G62,$G$1)=1,\"Boat 6\", IF(COUNTIF(Général!H57:H62,$G$1)=1,\"Boat 7\",IF(COUNTIF(Général!I33:I38,$G$1)=1,\"Boat 8\",\"Boat 9\"))))))))","v":"Boat 1"},{"$f":"IF(COUNTIF(Général!B65:B70,$G$1)=1,\"Boat 1\",IF(COUNTIF(Général!C65:C70,$G$1)=1,\"Boat 2\",IF(COUNTIF(Général!D65:D70,$G$1)=1,\"Boat 3\", IF(COUNTIF(Général!E65:E70,$G$1)=1,\"Boat 4\", IF(COUNTIF(Général!F65:F70,$G$1)=1,\"Boat 5\", IF(COUNTIF(Général!G65:G70,$G$1)=1,\"Boat 6\", IF(COUNTIF(Général!H65:H70,$G$1)=1,\"Boat 7\",IF(COUNTIF(Général!I33:I38,$G$1)=1,\"Boat 8\",\"Boat 9\"))))))))","v":"Boat 3"},{"$f":"IF(COUNTIF(Général!B73:B78,$G$1)=1,\"Boat 1\",IF(COUNTIF(Général!C73:C78,$G$1)=1,\"Boat 2\",IF(COUNTIF(Général!D73:D78,$G$1)=1,\"Boat 3\", IF(COUNTIF(Général!E73:E78,$G$1)=1,\"Boat 4\", IF(COUNTIF(Général!F73:F78,$G$1)=1,\"Boat 5\", IF(COUNTIF(Général!G73:G78,$G$1)=1,\"Boat 6\", IF(COUNTIF(Général!H73:H78,$G$1)=1,\"Boat 7\",IF(COUNTIF(Général!I33:I38,$G$1)=1,\"Boat 8\",\"Boat 9\"))))))))","v":"Boat 3"},{"$f":"IF(COUNTIF(Général!B81:B86,$G$1)=1,\"Boat 1\",IF(COUNTIF(Général!C81:C86,$G$1)=1,\"Boat 2\",IF(COUNTIF(Général!D81:D86,$G$1)=1,\"Boat 3\", IF(COUNTIF(Général!E81:E86,$G$1)=1,\"Boat 4\", IF(COUNTIF(Général!F81:F86,$G$1)=1,\"Boat 5\", IF(COUNTIF(Général!G81:G86,$G$1)=1,\"Boat 6\", IF(COUNTIF(Général!H81:H86,$G$1)=1,\"Boat 7\",IF(COUNTIF(Général!I33:I38,$G$1)=1,\"Boat 8\",\"Boat 9\"))))))))","v":"Boat 9"},{"$f":"IF(COUNTIF(Général!B89:B94,$G$1)=1,\"Boat 1\",IF(COUNTIF(Général!C89:C94,$G$1)=1,\"Boat 2\",IF(COUNTIF(Général!D89:D94,$G$1)=1,\"Boat 3\", IF(COUNTIF(Général!E89:E94,$G$1)=1,\"Boat 4\", IF(COUNTIF(Général!F89:F94,$G$1)=1,\"Boat 5\", IF(COUNTIF(Général!G89:G94,$G$1)=1,\"Boat 6\", IF(COUNTIF(Général!H89:H94,$G$1)=1,\"Boat 7\",IF(COUNTIF(Général!I33:I38,$G$1)=1,\"Boat 8\",\"Boat 9\"))))))))","v":"Boat 5"},{"$f":"IF(COUNTIF(Général!B97:B102,$G$1)=1,\"Boat 1\",IF(COUNTIF(Général!C97:C102,$G$1)=1,\"Boat 2\",IF(COUNTIF(Général!D97:D102,$G$1)=1,\"Boat 3\", IF(COUNTIF(Général!E97:E102,$G$1)=1,\"Boat 4\", IF(COUNTIF(Général!F97:F102,$G$1)=1,\"Boat 5\", IF(COUNTIF(Général!G97:G102,$G$1)=1,\"Boat 6\", IF(COUNTIF(Général!H97:H102,$G$1)=1,\"Boat 7\",IF(COUNTIF(Général!I33:I38,$G$1)=1,\"Boat 8\",\"Boat 9\"))))))))","v":"Boat 1"},{"$f":"IF(COUNTIF(Général!B105:B110,$G$1)=1,\"Boat 1\",IF(COUNTIF(Général!C105:C110,$G$1)=1,\"Boat 2\",IF(COUNTIF(Général!D105:D110,$G$1)=1,\"Boat 3\", IF(COUNTIF(Général!E105:E110,$G$1)=1,\"Boat 4\", IF(COUNTIF(Général!F105:F110,$G$1)=1,\"Boat 5\", IF(COUNTIF(Général!G105:G110,$G$1)=1,\"Boat 6\", IF(COUNTIF(Général!H105:H110,$G$1)=1,\"Boat 7\",IF(COUNTIF(Général!I33:I38,$G$1)=1,\"Boat 8\",\"Boat 9\"))))))))","v":"Boat 6"},{"$f":"IF(COUNTIF(Général!B113:B118,$G$1)=1,\"Boat 1\",IF(COUNTIF(Général!C113:C118,$G$1)=1,\"Boat 2\",IF(COUNTIF(Général!C113:D118,$G$1)=1,\"Boat 3\", IF(COUNTIF(Général!C113:E118,$G$1)=1,\"Boat 4\", IF(COUNTIF(Général!F113:F118,$G$1)=1,\"Boat 5\", IF(COUNTIF(Général!G113:G118,$G$1)=1,\"Boat 6\", IF(COUNTIF(Général!H113:H118,$G$1)=1,\"Boat 7\",IF(COUNTIF(Général!I33:I38,$G$1)=1,\"Boat 8\",\"Boat 9\"))))))))","v":"Boat 9"},{"$f":"IF(COUNTIF(Général!B121:B126,$G$1)=1,\"Boat 1\",IF(COUNTIF(Général!C121:C126,$G$1)=1,\"Boat 2\",IF(COUNTIF(Général!D121:D126,$G$1)=1,\"Boat 3\", IF(COUNTIF(Général!E121:E126,$G$1)=1,\"Boat 4\", IF(COUNTIF(Général!F121:F126,$G$1)=1,\"Boat 5\", IF(COUNTIF(Général!G121:G126,$G$1)=1,\"Boat 6\", IF(COUNTIF(Général!H121:H126,$G$1)=1,\"Boat 7\",IF(COUNTIF(Général!I33:I38,$G$1)=1,\"Boat 8\",\"Boat 9\"))))))))","v":"Boat 4"},{"$f":"IF(COUNTIF(Général!B129:B134,$G$1)=1,\"Boat 1\",IF(COUNTIF(Général!C129:C134,$G$1)=1,\"Boat 2\",IF(COUNTIF(Général!D131:D134,$G$1)=1,\"Boat 3\", IF(COUNTIF(Général!E129:E134,$G$1)=1,\"Boat 4\", IF(COUNTIF(Général!F129:F134,$G$1)=1,\"Boat 5\", IF(COUNTIF(Général!G129:G134,$G$1)=1,\"Boat 6\", IF(COUNTIF(Général!H129:H134,$G$1)=1,\"Boat 7\",IF(COUNTIF(Général!I33:I38,$G$1)=1,\"Boat 8\",\"Boat 9\"))))))))","v":"Boat 2"},{"$f":"IF(COUNTIF(Général!B137:B142,$G$1)=1,\"Boat 1\",IF(COUNTIF(Général!C137:C142,$G$1)=1,\"Boat 2\",IF(COUNTIF(Général!D137:D142,$G$1)=1,\"Boat 3\", IF(COUNTIF(Général!E137:E142,$G$1)=1,\"Boat 4\", IF(COUNTIF(Général!F145:F150,$G$1)=1,\"Boat 5\", IF(COUNTIF(Général!G145:G150,$G$1)=1,\"Boat 6\", IF(COUNTIF(Général!H145:H150,$G$1)=1,\"Boat 7\",IF(COUNTIF(Général!I33:I38,$G$1)=1,\"Boat 8\",\"Boat 9\"))))))))","v":"Boat 2"},{"$f":"IF(COUNTIF(Général!B145:B150,$G$1)=1,\"Boat 1\",IF(COUNTIF(Général!C145:C150,$G$1)=1,\"Boat 2\",IF(COUNTIF(Général!D145:D150,$G$1)=1,\"Boat 3\", IF(COUNTIF(Général!E145:E150,$G$1)=1,\"Boat 4\", IF(COUNTIF(Général!F145:F150,$G$1)=1,\"Boat 5\", IF(COUNTIF(Général!G145:G150,$G$1)=1,\"Boat 6\", IF(COUNTIF(Général!H145:H150,$G$1)=1,\"Boat 7\",IF(COUNTIF(Général!I33:I38,$G$1)=1,\"Boat 8\",\"Boat 9\"))))))))","v":"Boat 5"},{"$f":"IF(COUNTIF(Général!B153:B158,$G$1)=1,\"Boat 1\",IF(COUNTIF(Général!C153:C158,$G$1)=1,\"Boat 2\",IF(COUNTIF(Général!D153:D158,$G$1)=1,\"Boat 3\", IF(COUNTIF(Général!E153:E158,$G$1)=1,\"Boat 4\", IF(COUNTIF(Général!F153:F158,$G$1)=1,\"Boat 5\", IF(COUNTIF(Général!G153:G158,$G$1)=1,\"Boat 6\", IF(COUNTIF(Général!H153:H158,$G$1)=1,\"Boat 7\",IF(COUNTIF(Général!I33:I38,$G$1)=1,\"Boat 8\",\"Boat 9\"))))))))","v":"Boat 6"},{"$f":"IF(COUNTIF(Général!B161:B166,$G$1)=1,\"Boat 1\",IF(COUNTIF(Général!C161:C166,$G$1)=1,\"Boat 2\",IF(COUNTIF(Général!D161:D166,$G$1)=1,\"Boat 3\", IF(COUNTIF(Général!E161:E166,$G$1)=1,\"Boat 4\", IF(COUNTIF(Général!F161:F166,$G$1)=1,\"Boat 5\", IF(COUNTIF(Général!G161:G166,$G$1)=1,\"Boat 6\", IF(COUNTIF(Général!H161:H166,$G$1)=1,\"Boat 7\",IF(COUNTIF(Général!I33:I38,$G$1)=1,\"Boat 8\",\"Boat 9\"))))))))","v":"Boat 9"},{"$f":"IF(COUNTIF(Général!B169:B174,$G$1)=1,\"Boat 1\",IF(COUNTIF(Général!C169:C174,$G$1)=1,\"Boat 2\",IF(COUNTIF(Général!D169:D174,$G$1)=1,\"Boat 3\", IF(COUNTIF(Général!E169:E174,$G$1)=1,\"Boat 4\", IF(COUNTIF(Général!F169:F174,$G$1)=1,\"Boat 5\", IF(COUNTIF(Général!G169:G174,$G$1)=1,\"Boat 6\", IF(COUNTIF(Général!H169:H174,$G$1)=1,\"Boat 7\",IF(COUNTIF(Général!I33:I38,$G$1)=1,\"Boat 8\",\"Boat 9\"))))))))","v":"Boat 9"},null,{"$f":"Général!B8","v":"IMT Atlantique Nantes 2"},5]
[null,null,null,null,null,null,null,null,null,null,null,null,null,null,null,null,null,null,null,null,null,{"$f":"Général!B9","v":"Hambourg"},4]
["1er Equipage",null,{"$f":"IF($C$5=\"Course 1\",Général!B33,IF($C$5=\"Course 2\",Général!B35,IF($C$5=\"Course 3\",Général!B37,Général!#REF!)))","v":"Univ. Nantes 1"},{"$f":"IF($D$5=\"Course 1\",Général!B41,IF($D$5=\"Course 2\",Général!B43,IF($D$5=\"Course 3\",Général!B45,Général!#REF!)))","v":"ASUL Lannion"},{"$f":"IF($E$5=\"Course 1\",Général!B49,IF($E$5=\"Course 2\",Général!B51,IF($E$5=\"Course 3\",Général!B53,Général!#REF!)))","v":"Univ.Orléans"},{"$f":"IF($F$5=\"Course 1\",Général!B$57,IF($F$5=\"Course 2\",Général!B$59,IF($F$5=\"Course 3\",Général!B$61,Général!#REF!)))","v":"Univ. La Rochelle"},{"$f":"IF($G$5=\"Course 1\",Général!B$65,IF($G$5=\"Course 2\",Général!B$67,IF($G$5=\"Course 3\",Général!B$69,Général!#REF!)))","v":"ENSTA Bretagne 2"},{"$f":"IF($H$5=\"Course 1\",Général!B$73,IF($H$5=\"Course 2\",Général!B$75,IF($H$5=\"Course 3\",Général!B$77,Général!#REF!)))","v":"ENSTA Bretagne 1"},{"$f":"IF($I$5=\"Course 1\",Général!B$81,IF($I$5=\"Course 2\",Général!B$83,IF($I$5=\"Course 3\",Général!B$85,Général!#REF!)))","v":"Dublin"},{"$f":"IF($J$5=\"Course 1\",Général!B$89,IF($J$5=\"Course 2\",Général!B$91,IF($J$5=\"Course 3\",Général!B$93,Général!#REF!)))","v":"AS Paris 1 Panthéon Sorbonne"},{"$f":"IF($K$5=\"Course 1\",Général!B$97,IF($K$5=\"Course 2\",Général!B$99,IF($K$5=\"Course 3\",Général!B$101,Général!#REF!)))","v":"Univ. La Rochelle"},{"$f":"IF($L$5=\"Course 1\",Général!B$105,IF($L$5=\"Course 2\",Général!B$107,IF($L$5=\"Course 3\",Général!B$109,Général!#REF!)))","v":"Centrales Nantes"},{"$f":"IF($M$5=\"Course 1\",Général!B$113,IF($M$5=\"Course 2\",Général!B$115,IF($M$5=\"Course 3\",Général!B$117,Général!#REF!)))","v":"UBO 2"},{"$f":"IF($N$5=\"Course 1\",Général!B$121,IF($N$5=\"Course 2\",Général!B$123,IF($N$5=\"Course 3\",Général!B$125,Général!#REF!)))","v":"IMT Atlantique Nantes 1"},{"$f":"IF($O$5=\"Course 1\",Général!B$129,IF($O$5=\"Course 2\",Général!B$131,IF($O$5=\"Course 3\",Général!B$133,Général!#REF!)))","v":"UBO 1"},{"$f":"IF($P$5=\"Course 1\",Général!B$137,IF($P$5=\"Course 2\",Général!B$139,IF($P$5=\"Course 3\",Général!B$141,Général!#REF!)))","v":"UBS Lorient 1"},{"$f":"IF($Q$5=\"Course 1\",Général!B$145,IF($Q$5=\"Course 2\",Général!B$147,IF($Q$5=\"Course 3\",Général!B$149,Général!#REF!)))","v":"EGSI La Rochelle"},{"$f":"IF($R$5=\"Course 1\",Général!B$153,IF($R$5=\"Course 2\",Général!B$155,IF($R$5=\"Course 3\",Général!B$157,Général!#REF!)))","v":"ASUL Lannion"},{"$f":"IF($S$5=\"Course 1\",Général!B$161,IF($S$5=\"Course 2\",Général!B$163,IF($S$5=\"Course 3\",Général!B$165,Général!#REF!)))","v":"IMT Atlantique Nantes 1"},{"$f":"IF($T$5=\"Course 1\",Général!B$169,IF($T$5=\"Course 2\",Général!B$171,IF($T$5=\"Course 3\",Général!B$173,Général!#REF!)))","v":"IMT Atlantique Nantes 2"},null,{"$f":"Général!B10","v":"EGSI La Rochelle"},6]
["2nd Equipage",null,{"$f":"IF($C$5=\"Course 1\",Général!C33,IF($C$5=\"Course 2\",Général!C35,IF($C$5=\"Course 3\",Général!C37,Général!#REF!)))","v":"Hannovre"},{"$f":"IF($D$5=\"Course 1\",Général!C41,IF($D$5=\"Course 2\",Général!C43,IF($D$5=\"Course 3\",Général!C45,Général!#REF!)))","v":"UBS Lorient 1"},{"$f":"IF($E$5=\"Course 1\",Général!C49,IF($E$5=\"Course 2\",Général!C51,IF($E$5=\"Course 3\",Général!C53,Général!#REF!)))","v":"ENSTA Bretagne 2"},{"$f":"IF($F$5=\"Course 1\",Général!C$57,IF($F$5=\"Course 2\",Général!C$59,IF($F$5=\"Course 3\",Général!C$61,Général!#REF!)))","v":"ENSTA Bretagne 2"},{"$f":"IF($G$5=\"Course 1\",Général!C$65,IF($G$5=\"Course 2\",Général!C$67,IF($G$5=\"Course 3\",Général!C$69,Général!#REF!)))","v":"IMT Atlantique Nantes 1"},{"$f":"IF($H$5=\"Course 1\",Général!C$73,IF($H$5=\"Course 2\",Général!C$75,IF($H$5=\"Course 3\",Général!C$77,Général!#REF!)))","v":"UBS Lorient 2"},{"$f":"IF($I$5=\"Course 1\",Général!C$81,IF($I$5=\"Course 2\",Général!C$83,IF($I$5=\"Course 3\",Général!C$85,Général!#REF!)))","v":"Hambourg"},{"$f":"IF($J$5=\"Course 1\",Général!C$89,IF($J$5=\"Course 2\",Général!C$91,IF($J$5=\"Course 3\",Général!C$93,Général!#REF!)))","v":"UBO 1"},{"$f":"IF($K$5=\"Course 1\",Général!C$97,IF($K$5=\"Course 2\",Général!C$99,IF($K$5=\"Course 3\",Général!C$101,Général!#REF!)))","v":"UBO 2"},{"$f":"IF($L$5=\"Course 1\",Général!C$105,IF($L$5=\"Course 2\",Général!C$107,IF($L$5=\"Course 3\",Général!C$109,Général!#REF!)))","v":"AS UB St Brieuc"},{"$f":"IF($M$5=\"Course 1\",Général!C$113,IF($M$5=\"Course 2\",Général!C$115,IF($M$5=\"Course 3\",Général!C$117,Général!#REF!)))","v":"Univ. Nantes 1"},{"$f":"IF($N$5=\"Course 1\",Général!C$121,IF($N$5=\"Course 2\",Général!C$123,IF($N$5=\"Course 3\",Général!C$125,Général!#REF!)))","v":"Dublin"},{"$f":"IF($O$5=\"Course 1\",Général!C$129,IF($O$5=\"Course 2\",Général!C$131,IF($O$5=\"Course 3\",Général!C$133,Général!#REF!)))","v":"Univ. La Rochelle"},{"$f":"IF($P$5=\"Course 1\",Général!C$137,IF($P$5=\"Course 2\",Général!C$139,IF($P$5=\"Course 3\",Général!C$141,Général!#REF!)))","v":"Univ. La Rochelle"},{"$f":"IF($Q$5=\"Course 1\",Général!C$145,IF($Q$5=\"Course 2\",Général!C$147,IF($Q$5=\"Course 3\",Général!C$149,Général!#REF!)))","v":"IMT Atlantique Brest"},{"$f":"IF($R$5=\"Course 1\",Général!C$153,IF($R$5=\"Course 2\",Général!C$155,IF($R$5=\"Course 3\",Général!C$157,Général!#REF!)))","v":"IMT Atlantique Nantes 2"},{"$f":"IF($S$5=\"Course 1\",Général!C$161,IF($S$5=\"Course 2\",Général!C$163,IF($S$5=\"Course 3\",Général!C$165,Général!#REF!)))","v":"Univ.Orléans"},{"$f":"IF($T$5=\"Course 1\",Général!C$169,IF($T$5=\"Course 2\",Général!C$171,IF($T$5=\"Course 3\",Général!C$173,Général!#REF!)))","v":"ENSTA Bretagne 2"},null,{"$f":"Général!B11","v":"HYDRO Sailing Team Le Havre"},6]
["3ème Equipage",null,{"$f":"IF($C$5=\"Course 1\",Général!D33,IF($C$5=\"Course 2\",Général!D35,IF($C$5=\"Course 3\",Général!D37,Général!#REF!)))","v":"IMT Atlantique Brest"},{"$f":"IF($D$5=\"Course 1\",Général!D41,IF($D$5=\"Course 2\",Général!D43,IF($D$5=\"Course 3\",Général!D45,Général!#REF!)))","v":"IMT Atlantique Nantes 1"},{"$f":"IF($E$5=\"Course 1\",Général!D49,IF($E$5=\"Course 2\",Général!D51,IF($E$5=\"Course 3\",Général!D53,Général!#REF!)))","v":"UBS Lorient 2"},{"$f":"IF($F$5=\"Course 1\",Général!D$57,IF($F$5=\"Course 2\",Général!D$59,IF($F$5=\"Course 3\",Général!D$61,Général!#REF!)))","v":"UBO 1"},{"$f":"IF($G$5=\"Course 1\",Général!D$65,IF($G$5=\"Course 2\",Général!D$67,IF($G$5=\"Course 3\",Général!D$69,Général!#REF!)))","v":"Univ. La Rochelle"},{"$f":"IF($H$5=\"Course 1\",Général!D$73,IF($H$5=\"Course 2\",Général!D$75,IF($H$5=\"Course 3\",Général!D$77,Général!#REF!)))","v":"Univ. La Rochelle"},{"$f":"IF($I$5=\"Course 1\",Général!D$81,IF($I$5=\"Course 2\",Général!D$83,IF($I$5=\"Course 3\",Général!D$85,Général!#REF!)))","v":"Univ.Orléans"},{"$f":"IF($J$5=\"Course 1\",Général!D$89,IF($J$5=\"Course 2\",Général!D$91,IF($J$5=\"Course 3\",Général!D$93,Général!#REF!)))","v":"ENSTA Paris"},{"$f":"IF($K$5=\"Course 1\",Général!D$97,IF($K$5=\"Course 2\",Général!D$99,IF($K$5=\"Course 3\",Général!D$101,Général!#REF!)))","v":"Univ. Nantes 1"},{"$f":"IF($L$5=\"Course 1\",Général!D$105,IF($L$5=\"Course 2\",Général!D$107,IF($L$5=\"Course 3\",Général!D$109,Général!#REF!)))","v":"Southampton"},{"$f":"IF($M$5=\"Course 1\",Général!D$113,IF($M$5=\"Course 2\",Général!D$115,IF($M$5=\"Course 3\",Général!D$117,Général!#REF!)))","v":"Univ. Nantes 2"},{"$f":"IF($N$5=\"Course 1\",Général!D$121,IF($N$5=\"Course 2\",Général!D$123,IF($N$5=\"Course 3\",Général!D$125,Général!#REF!)))","v":"Hannovre"},{"$f":"IF($O$5=\"Course 1\",Général!D$129,IF($O$5=\"Course 2\",Général!D$131,IF($O$5=\"Course 3\",Général!D$133,Général!#REF!)))","v":"UBS Lorient 2"},{"$f":"IF($P$5=\"Course 1\",Général!D$137,IF($P$5=\"Course 2\",Général!D$139,IF($P$5=\"Course 3\",Général!D$141,Général!#REF!)))","v":"ENSTA Bretagne 2"},{"$f":"IF($Q$5=\"Course 1\",Général!D$145,IF($Q$5=\"Course 2\",Général!D$147,IF($Q$5=\"Course 3\",Général!D$149,Général!#REF!)))","v":"Hambourg"},{"$f":"IF($R$5=\"Course 1\",Général!D$153,IF($R$5=\"Course 2\",Général!D$155,IF($R$5=\"Course 3\",Général!D$157,Général!#REF!)))","v":"Centrales Nantes"},{"$f":"IF($S$5=\"Course 1\",Général!D$161,IF($S$5=\"Course 2\",Général!D$163,IF($S$5=\"Course 3\",Général!D$165,Général!#REF!)))","v":"HYDRO Sailing Team Le Havre"},{"$f":"IF($T$5=\"Course 1\",Général!D$169,IF($T$5=\"Course 2\",Général!D$171,IF($T$5=\"Course 3\",Général!D$173,Général!#REF!)))","v":"AS UB St Brieuc"},null,{"$f":"Général!B12","v":"UNICAEN - ASSUCherbourg"},5]
["4ème Equipage",null,{"$f":"IF($C$5=\"Course 1\",Général!E33,IF($C$5=\"Course 2\",Général!E35,IF($C$5=\"Course 3\",Général!E37,Général!#REF!)))","v":"AS UB St Brieuc"},{"$f":"IF($D$5=\"Course 1\",Général!E41,IF($D$5=\"Course 2\",Général!E43,IF($D$5=\"Course 3\",Général!E45,Général!#REF!)))","v":"AS UB St Brieuc"},{"$f":"IF($E$5=\"Course 1\",Général!E49,IF($E$5=\"Course 2\",Général!E51,IF($E$5=\"Course 3\",Général!E53,Général!#REF!)))","v":"Univ. La Rochelle"},{"$f":"IF($F$5=\"Course 1\",Général!E$57,IF($F$5=\"Course 2\",Général!E$59,IF($F$5=\"Course 3\",Général!E$61,Général!#REF!)))","v":"UBO 2"},{"$f":"IF($G$5=\"Course 1\",Général!E$65,IF($G$5=\"Course 2\",Général!E$67,IF($G$5=\"Course 3\",Général!E$69,Général!#REF!)))","v":"ASUL Lannion"},{"$f":"IF($H$5=\"Course 1\",Général!E$73,IF($H$5=\"Course 2\",Général!E$75,IF($H$5=\"Course 3\",Général!E$77,Général!#REF!)))","v":"HYDRO Sailing Team Le Havre"},{"$f":"IF($I$5=\"Course 1\",Général!E$81,IF($I$5=\"Course 2\",Général!E$83,IF($I$5=\"Course 3\",Général!E$85,Général!#REF!)))","v":"Hannovre"},{"$f":"IF($J$5=\"Course 1\",Général!E$89,IF($J$5=\"Course 2\",Général!E$91,IF($J$5=\"Course 3\",Général!E$93,Général!#REF!)))","v":"Karlsruhe"},{"$f":"IF($K$5=\"Course 1\",Général!E$97,IF($K$5=\"Course 2\",Général!E$99,IF($K$5=\"Course 3\",Général!E$101,Général!#REF!)))","v":"Univ. Nantes 2"},{"$f":"IF($L$5=\"Course 1\",Général!E$105,IF($L$5=\"Course 2\",Général!E$107,IF($L$5=\"Course 3\",Général!E$109,Général!#REF!)))","v":"Univ. Nantes 1"},{"$f":"IF($M$5=\"Course 1\",Général!E$113,IF($M$5=\"Course 2\",Général!E$115,IF($M$5=\"Course 3\",Général!E$117,Général!#REF!)))","v":"Southampton"},{"$f":"IF($N$5=\"Course 1\",Général!E$121,IF($N$5=\"Course 2\",Général!E$123,IF($N$5=\"Course 3\",Général!E$125,Général!#REF!)))","v":"Univ. La Rochelle"},{"$f":"IF($O$5=\"Course 1\",Général!E$129,IF($O$5=\"Course 2\",Général!E$131,IF($O$5=\"Course 3\",Général!E$133,Général!#REF!)))","v":"AS UB St Brieuc"},{"$f":"IF($P$5=\"Course 1\",Général!E$137,IF($P$5=\"Course 2\",Général!E$139,IF($P$5=\"Course 3\",Général!E$141,Général!#REF!)))","v":"EGSI La Rochelle"},{"$f":"IF($Q$5=\"Course 1\",Général!E$145,IF($Q$5=\"Course 2\",Général!E$147,IF($Q$5=\"Course 3\",Général!E$149,Général!#REF!)))","v":"Centrales Nantes"},{"$f":"IF($R$5=\"Course 1\",Général!E$153,IF($R$5=\"Course 2\",Général!E$155,IF($R$5=\"Course 3\",Général!E$157,Général!#REF!)))","v":"Univ. Nantes 2"},{"$f":"IF($S$5=\"Course 1\",Général!E$161,IF($S$5=\"Course 2\",Général!E$163,IF($S$5=\"Course 3\",Général!E$165,Général!#REF!)))","v":"Centrales Nantes"},{"$f":"IF($T$5=\"Course 1\",Général!E$169,IF($T$5=\"Course 2\",Général!E$171,IF($T$5=\"Course 3\",Général!E$173,Général!#REF!)))","v":"ASUL Lannion"},null,{"$f":"Général!B13","v":"UBO 1"},6]
["5ème Equipage",null,{"$f":"IF($C$5=\"Course 1\",Général!F33,IF($C$5=\"Course 2\",Général!F35,IF($C$5=\"Course 3\",Général!F37,Général!#REF!)))","v":"EGSI La Rochelle"},{"$f":"IF($D$5=\"Course 1\",Général!F41,IF($D$5=\"Course 2\",Général!F43,IF($D$5=\"Course 3\",Général!F45,Général!#REF!)))","v":"Southampton"},{"$f":"IF($E$5=\"Course 1\",Général!F49,IF($E$5=\"Course 2\",Général!F51,IF($E$5=\"Course 3\",Général!F53,Général!#REF!)))","v":"AS Paris 1 Panthéon Sorbonne"},{"$f":"IF($F$5=\"Course 1\",Général!F$57,IF($F$5=\"Course 2\",Général!F$59,IF($F$5=\"Course 3\",Général!F$61,Général!#REF!)))","v":"ENSTA Bretagne 1"},{"$f":"IF($G$5=\"Course 1\",Général!F$65,IF($G$5=\"Course 2\",Général!F$67,IF($G$5=\"Course 3\",Général!F$69,Général!#REF!)))","v":"Univ. Nantes 3"},{"$f":"IF($H$5=\"Course 1\",Général!F$73,IF($H$5=\"Course 2\",Général!F$75,IF($H$5=\"Course 3\",Général!F$77,Général!#REF!)))","v":"Univ. Nantes 3"},{"$f":"IF($I$5=\"Course 1\",Général!F$81,IF($I$5=\"Course 2\",Général!F$83,IF($I$5=\"Course 3\",Général!F$85,Général!#REF!)))","v":"UBO 2"},{"$f":"IF($J$5=\"Course 1\",Général!F$89,IF($J$5=\"Course 2\",Général!F$91,IF($J$5=\"Course 3\",Général!F$93,Général!#REF!)))","v":"Univ. La Rochelle"},{"$f":"IF($K$5=\"Course 1\",Général!F$97,IF($K$5=\"Course 2\",Général!F$99,IF($K$5=\"Course 3\",Général!F$101,Général!#REF!)))","v":"Centrales Nantes"},{"$f":"IF($L$5=\"Course 1\",Général!F$105,IF($L$5=\"Course 2\",Général!$F107,IF($L$5=\"Course 3\",Général!F$109,Général!#REF!)))","v":"IMT Atlantique Nantes 2"},{"$f":"IF($M$5=\"Course 1\",Général!F$113,IF($M$5=\"Course 2\",Général!F$115,IF($M$5=\"Course 3\",Général!F$117,Général!#REF!)))","v":"HYDRO Sailing Team Le Havre"},{"$f":"IF($N$5=\"Course 1\",Général!F$121,IF($N$5=\"Course 2\",Général!F$123,IF($N$5=\"Course 3\",Général!F$125,Général!#REF!)))","v":"Univ. Nantes 2"},{"$f":"IF($O$5=\"Course 1\",Général!F$129,IF($O$5=\"Course 2\",Général!F$131,IF($O$5=\"Course 3\",Général!F$133,Général!#REF!)))","v":"Karlsruhe"},{"$f":"IF($P$5=\"Course 1\",Général!F$137,IF($P$5=\"Course 2\",Général!F$139,IF($P$5=\"Course 3\",Général!F$141,Général!#REF!)))","v":"Karlsruhe"},{"$f":"IF($Q$5=\"Course 1\",Général!F$145,IF($Q$5=\"Course 2\",Général!F$147,IF($Q$5=\"Course 3\",Général!F$149,Général!#REF!)))","v":"Univ. La Rochelle"},{"$f":"IF($R$5=\"Course 1\",Général!F$153,IF($R$5=\"Course 2\",Général!F$155,IF($R$5=\"Course 3\",Général!F$157,Général!#REF!)))","v":"ENSTA Paris"},{"$f":"IF($S$5=\"Course 1\",Général!F$161,IF($S$5=\"Course 2\",Général!F$163,IF($S$5=\"Course 3\",Général!F$165,Général!#REF!)))","v":"ASUL Lannion"},{"$f":"IF($T$5=\"Course 1\",Général!F$169,IF($T$5=\"Course 2\",Général!F$171,IF($T$5=\"Course 3\",Général!F$173,Général!#REF!)))","v":"Centrales Nantes"},null,{"$f":"Général!B14","v":"ENSTA Bretagne 1"},4]
["6ème Equipage",null,{"$f":"IF($C$5=\"Course 1\",Général!G33,IF($C$5=\"Course 2\",Général!G35,IF($C$5=\"Course 3\",Général!G37,Général!#REF!)))","v":"Karlsruhe"},{"$f":"IF($D$5=\"Course 1\",Général!G41,IF($D$5=\"Course 2\",Général!G43,IF($D$5=\"Course 3\",Général!G45,Général!#REF!)))","v":"UBO 1"},{"$f":"IF($E$5=\"Course 1\",Général!G49,IF($E$5=\"Course 2\",Général!G51,IF($E$5=\"Course 3\",Général!G53,Général!#REF!)))","v":"ENSTA Paris"},{"$f":"IF($F$5=\"Course 1\",Général!G$57,IF($F$5=\"Course 2\",Général!G$59,IF($F$5=\"Course 3\",Général!G$61,Général!#REF!)))","v":"Hannovre"},{"$f":"IF($G$5=\"Course 1\",Général!G$65,IF($G$5=\"Course 2\",Général!G$67,IF($G$5=\"Course 3\",Général!G$69,Général!#REF!)))","v":"Hambourg"},{"$f":"IF($H$5=\"Course 1\",Général!G$73,IF($H$5=\"Course 2\",Général!G$75,IF($H$5=\"Course 3\",Général!G$77,Général!#REF!)))","v":"AS UB St Brieuc"},{"$f":"IF($I$5=\"Course 1\",Général!G$81,IF($I$5=\"Course 2\",Général!G$83,IF($I$5=\"Course 3\",Général!G$85,Général!#REF!)))","v":"UBS Lorient 1"},{"$f":"IF($J$5=\"Course 1\",Général!G$89,IF($J$5=\"Course 2\",Général!G$91,IF($J$5=\"Course 3\",Général!G$93,Général!#REF!)))","v":"IMT Atlantique Nantes 2"},{"$f":"IF($K$5=\"Course 1\",Général!G$97,IF($K$5=\"Course 2\",Général!G$99,IF($K$5=\"Course 3\",Général!G$101,Général!#REF!)))","v":"ENSTA Bretagne 1"},{"$f":"IF($L$5=\"Course 1\",Général!G$105,IF($L$5=\"Course 2\",Général!G$107,IF($L$5=\"Course 3\",Général!G$109,Général!#REF!)))","v":"Univ. La Rochelle"},{"$f":"IF($M$5=\"Course 1\",Général!G$113,IF($M$5=\"Course 2\",Général!G$115,IF($M$5=\"Course 3\",Général!G$117,Général!#REF!)))","v":"Univ.Orléans"},{"$f":"IF($N$5=\"Course 1\",Général!G$121,IF($N$5=\"Course 2\",Général!G$123,IF($N$5=\"Course 3\",Général!G$125,Général!#REF!)))","v":"Southampton"},{"$f":"IF($O$5=\"Course 1\",Général!G$129,IF($O$5=\"Course 2\",Général!G$131,IF($O$5=\"Course 3\",Général!G$133,Général!#REF!)))","v":"Centrales Nantes"},{"$f":"IF($P$5=\"Course 1\",Général!G$137,IF($P$5=\"Course 2\",Général!G$139,IF($P$5=\"Course 3\",Général!G$141,Général!#REF!)))","v":"HYDRO Sailing Team Le Havre"},{"$f":"IF($Q$5=\"Course 1\",Général!G$145,IF($Q$5=\"Course 2\",Général!G$147,IF($Q$5=\"Course 3\",Général!G$149,Général!#REF!)))","v":"Dublin"},{"$f":"IF($R$5=\"Course 1\",Général!G$153,IF($R$5=\"Course 2\",Général!G$155,IF($R$5=\"Course 3\",Général!G$157,Général!#REF!)))","v":"Univ. La Rochelle"},{"$f":"IF($S$5=\"Course 1\",Général!G$161,IF($S$5=\"Course 2\",Général!G$163,IF($S$5=\"Course 3\",Général!G$165,Général!#REF!)))","v":"EGSI La Rochelle"},{"$f":"IF($T$5=\"Course 1\",Général!G$169,IF($T$5=\"Course 2\",Général!G$171,IF($T$5=\"Course 3\",Général!G$173,Général!#REF!)))","v":"ENSTA Paris"},null,{"$f":"Général!B15","v":"ASUL Lannion"},7]
["7ème Equipage",null,{"$f":"IF($C$5=\"Course 1\",Général!H33,IF($C$5=\"Course 2\",Général!H35,IF($C$5=\"Course 3\",Général!H37,Général!#REF!)))","v":"Univ. La Rochelle"},{"$f":"IF($D$5=\"Course 1\",Général!H41,IF($D$5=\"Course 2\",Général!H43,IF($D$5=\"Course 3\",Général!H45,Général!#REF!)))","v":"EGSI La Rochelle"},{"$f":"IF($E$5=\"Course 1\",Général!H49,IF($E$5=\"Course 2\",Général!H51,IF($E$5=\"Course 3\",Général!H53,Général!#REF!)))","v":"Univ. Nantes 3"},{"$f":"IF($F$5=\"Course 1\",Général!H$57,IF($F$5=\"Course 2\",Général!H$59,IF($F$5=\"Course 3\",Général!H$61,Général!#REF!)))","v":"Hambourg"},{"$f":"IF($G$5=\"Course 1\",Général!H$65,IF($G$5=\"Course 2\",Général!H$67,IF($G$5=\"Course 3\",Général!H$69,Général!#REF!)))","v":"Univ. Nantes 2"},{"$f":"IF($H$5=\"Course 1\",Général!H$73,IF($H$5=\"Course 2\",Général!H$75,IF($H$5=\"Course 3\",Général!H$77,Général!#REF!)))","v":"IMT Atlantique Nantes 2"},{"$f":"IF($I$5=\"Course 1\",Général!H$81,IF($I$5=\"Course 2\",Général!H$83,IF($I$5=\"Course 3\",Général!H$85,Général!#REF!)))","v":"AS UB St Brieuc"},{"$f":"IF($J$5=\"Course 1\",Général!H$89,IF($J$5=\"Course 2\",Général!H$91,IF($J$5=\"Course 3\",Général!H$93,Général!#REF!)))","v":"IMT Atlantique Nantes 1"},{"$f":"IF($K$5=\"Course 1\",Général!H$97,IF($K$5=\"Course 2\",Général!H$99,IF($K$5=\"Course 3\",Général!H$101,Général!#REF!)))","v":"IMT Atlantique Brest"},{"$f":"IF($L$5=\"Course 1\",Général!H$105,IF($L$5=\"Course 2\",Général!H$107,IF($L$5=\"Course 3\",Général!H$109,Général!#REF!)))","v":"ENSTA Bretagne 2"},{"$f":"IF($M$5=\"Course 1\",Général!H$113,IF($M$5=\"Course 2\",Général!H$115,IF($M$5=\"Course 3\",Général!H$117,Général!#REF!)))","v":"UBO 1"},{"$f":"IF($N$5=\"Course 1\",Général!H$121,IF($N$5=\"Course 2\",Général!H$123,IF($N$5=\"Course 3\",Général!H$125,Général!#REF!)))","v":"ENSTA Paris"},{"$f":"IF($O$5=\"Course 1\",Général!H$129,IF($O$5=\"Course 2\",Général!H$131,IF($O$5=\"Course 3\",Général!H$133,Général!#REF!)))","v":"Univ.Orléans"},{"$f":"IF($P$5=\"Course 1\",Général!H$137,IF($P$5=\"Course 2\",Général!H$139,IF($P$5=\"Course 3\",Général!H$141,Général!#REF!)))","v":"Dublin"},{"$f":"IF($Q$5=\"Course 1\",Général!H$145,IF($Q$5=\"Course 2\",Général!H$147,IF($Q$5=\"Course 3\",Général!H$149,Général!#REF!)))","v":"ASUL Lannion"},{"$f":"IF($R$5=\"Course 1\",Général!H$153,IF($R$5=\"Course 2\",Général!H$155,IF($R$5=\"Course 3\",Général!H$157,Général!#REF!)))","v":"Hannovre"},{"$f":"IF($S$5=\"Course 1\",Général!H$161,IF($S$5=\"Course 2\",Général!H$163,IF($S$5=\"Course 3\",Général!H$165,Général!#REF!)))","v":"UBS Lorient 1"},{"$f":"IF($T$5=\"Course 1\",Général!H$169,IF($T$5=\"Course 2\",Général!H$171,IF($T$5=\"Course 3\",Général!H$173,Général!#REF!)))","v":"UNICAEN - ASSUCherbourg"},null,{"$f":"Général!B16","v":"ENSTA Paris"},6]
["8ème Equipage",null,{"$f":"IF($C$5=\"Course 1\",Général!I33,IF($C$5=\"Course 2\",Général!I35,IF($C$5=\"Course 3\",Général!I37,Général!#REF!)))","v":"Univ. Nantes 3"},{"$f":"IF($D$5=\"Course 1\",Général!I41,IF($D$5=\"Course 2\",Général!I43,IF($D$5=\"Course 3\",Général!I45,Général!#REF!)))","v":"ENSTA Bretagne 1"},{"$f":"IF($E$5=\"Course 1\",Général!I49,IF($E$5=\"Course 2\",Général!I51,IF($E$5=\"Course 3\",Général!I53,Général!#REF!)))","v":"Southampton"},{"$f":"IF($F$5=\"Course 1\",Général!I$57,IF($F$5=\"Course 2\",Général!I$59,IF($F$5=\"Course 3\",Général!I$61,Général!#REF!)))","v":"HYDRO Sailing Team Le Havre"},{"$f":"IF($G$5=\"Course 1\",Général!I$65,IF($G$5=\"Course 2\",Général!I$67,IF($G$5=\"Course 3\",Général!I$69,Général!#REF!)))","v":"UNICAEN - ASSUCherbourg"},{"$f":"IF($H$5=\"Course 1\",Général!I$73,IF($H$5=\"Course 2\",Général!I$75,IF($H$5=\"Course 3\",Général!I$77,Général!#REF!)))","v":"UNICAEN - ASSUCherbourg"},{"$f":"IF($I$5=\"Course 1\",Général!I$81,IF($I$5=\"Course 2\",Général!I$83,IF($I$5=\"Course 3\",Général!I$85,Général!#REF!)))","v":"Univ. La Rochelle"},{"$f":"IF($J$5=\"Course 1\",Général!I$89,IF($J$5=\"Course 2\",Général!I$91,IF($J$5=\"Course 3\",Général!I$93,Général!#REF!)))","v":"UBS Lorient 1"},{"$f":"IF($K$5=\"Course 1\",Général!I$97,IF($K$5=\"Course 2\",Général!I$99,IF($K$5=\"Course 3\",Général!I$101,Général!#REF!)))","v":"UBS Lorient 1"},{"$f":"IF($L$5=\"Course 1\",Général!I$105,IF($L$5=\"Course 2\",Général!I$107,IF($L$5=\"Course 3\",Général!I$109,Général!#REF!)))","v":"IMT Atlantique Nantes 1"},{"$f":"IF($M$5=\"Course 1\",Général!I$113,IF($M$5=\"Course 2\",Général!I$115,IF($M$5=\"Course 3\",Général!I$117,Général!#REF!)))","v":"Univ. La Rochelle"},{"$f":"IF($N$5=\"Course 1\",Général!I$121,IF($N$5=\"Course 2\",Général!I$123,IF($N$5=\"Course 3\",Général!I$125,Général!#REF!)))","v":"UBS Lorient 2"},{"$f":"IF($O$5=\"Course 1\",Général!I$129,IF($O$5=\"Course 2\",Général!I$131,IF($O$5=\"Course 3\",Général!I$133,Général!#REF!)))","v":"Univ. Nantes 2"},{"$f":"IF($P$5=\"Course 1\",Général!I$137,IF($P$5=\"Course 2\",Général!I$139,IF($P$5=\"Course 3\",Général!I$141,Général!#REF!)))","v":"Univ. Nantes 2"},{"$f":"IF($Q$5=\"Course 1\",Général!I$145,IF($Q$5=\"Course 2\",Général!I$147,IF($Q$5=\"Course 3\",Général!I$149,Général!#REF!)))","v":"AS Paris 1 Panthéon Sorbonne"},{"$f":"IF($R$5=\"Course 1\",Général!I$153,IF($R$5=\"Course 2\",Général!I$155,IF($R$5=\"Course 3\",Général!I$157,Général!#REF!)))","v":"ENSTA Bretagne 2"},{"$f":"IF($S$5=\"Course 1\",Général!I$161,IF($S$5=\"Course 2\",Général!I$163,IF($S$5=\"Course 3\",Général!I$165,Général!#REF!)))","v":"Hannovre"},{"$f":"IF($T$5=\"Course 1\",Général!I$169,IF($T$5=\"Course 2\",Général!I$171,IF($T$5=\"Course 3\",Général!I$173,Général!#REF!)))","v":"UBS Lorient 2"},null,{"$f":"Général!B17","v":"IMT Atlantique Brest"},4]
["9ème Equipage",null,{"$f":"IF($C$5=\"Course 1\",Général!J33,IF($C$5=\"Course 2\",Général!J35,IF($C$5=\"Course 3\",Général!J37,Général!#REF!)))","v":"UBO 1"},{"$f":"IF($D$5=\"Course 1\",Général!J41,IF($D$5=\"Course 2\",Général!J43,IF($D$5=\"Course 3\",Général!J45,Général!#REF!)))","v":"Univ. La Rochelle"},{"$f":"IF($E$5=\"Course 1\",Général!J49,IF($E$5=\"Course 2\",Général!J51,IF($E$5=\"Course 3\",Général!J53,Général!#REF!)))","v":"IMT Atlantique Brest"},{"$f":"IF($F$5=\"Course 1\",Général!J$57,IF($F$5=\"Course 2\",Général!J$59,IF($F$5=\"Course 3\",Général!J$61,Général!#REF!)))","v":"ENSTA Paris"},{"$f":"IF($G$5=\"Course 1\",Général!J$65,IF($G$5=\"Course 2\",Général!J$67,IF($G$5=\"Course 3\",Général!J$69,Général!#REF!)))","v":"Univ. Nantes 1"},{"$f":"IF($H$5=\"Course 1\",Général!J$73,IF($H$5=\"Course 2\",Général!J$75,IF($H$5=\"Course 3\",Général!$J77,Général!#REF!)))","v":"Dublin"},{"$f":"IF($I$5=\"Course 1\",Général!J$81,IF($I$5=\"Course 2\",Général!J$83,IF($I$5=\"Course 3\",Général!J$85,Général!#REF!)))","v":"AS Paris 1 Panthéon Sorbonne"},{"$f":"IF($J$5=\"Course 1\",Général!J$89,IF($J$5=\"Course 2\",Général!J$91,IF($J$5=\"Course 3\",Général!J$93,Général!#REF!)))","v":"HYDRO Sailing Team Le Havre"},{"$f":"IF($K$5=\"Course 1\",Général!J$97,IF($K$5=\"Course 2\",Général!J$99,IF($K$5=\"Course 3\",Général!J$101,Général!#REF!)))","v":"UBS Lorient 2"},{"$f":"IF($L$5=\"Course 1\",Général!J$105,IF($L$5=\"Course 2\",Général!J$107,IF($L$5=\"Course 3\",Général!J$109,Général!#REF!)))","v":"Dublin"},{"$f":"IF($M$5=\"Course 1\",Général!J$113,IF($M$5=\"Course 2\",Général!J$115,IF($M$5=\"Course 3\",Général!J$117,Général!#REF!)))","v":"ASUL Lannion"},{"$f":"IF($N$5=\"Course 1\",Général!J$121,IF($N$5=\"Course 2\",Général!J$123,IF($N$5=\"Course 3\",Général!J$125,Général!#REF!)))","v":"Univ.Orléans"},{"$f":"IF($O$5=\"Course 1\",Général!J$129,IF($O$5=\"Course 2\",Général!J$131,IF($O$5=\"Course 3\",Général!J$133,Général!#REF!)))","v":"UNICAEN - ASSUCherbourg"},{"$f":"IF($P$5=\"Course 1\",Général!J$137,IF($P$5=\"Course 2\",Général!J$139,IF($P$5=\"Course 3\",Général!J$141,Général!#REF!)))","v":"UNICAEN - ASSUCherbourg"},{"$f":"IF($Q$5=\"Course 1\",Général!J$145,IF($Q$5=\"Course 2\",Général!J$147,IF($Q$5=\"Course 3\",Général!J$149,Général!#REF!)))","v":"Univ. Nantes 3"},{"$f":"IF($R$5=\"Course 1\",Général!J$153,IF($R$5=\"Course 2\",Général!J$155,IF($R$5=\"Course 3\",Général!J$157,Général!#REF!)))","v":"EGSI La Rochelle"},{"$f":"IF($S$5=\"Course 1\",Général!J$161,IF($S$5=\"Course 2\",Général!J$163,IF($S$5=\"Course 3\",Général!J$165,Général!#REF!)))","v":"Univ. La Rochelle"},{"$f":"IF($T$5=\"Course 1\",Général!J$169,IF($T$5=\"Course 2\",Général!J$171,IF($T$5=\"Course 3\",Général!J$173,Général!#REF!)))","v":"Univ. La Rochelle"},null,{"$f":"Général!B18","v":"UBO 2"},4]
[null,null,null,null,null,null,null,null,null,null,null,null,null,null,null,null,null,null,null,null,null,{"$f":"Général!B19","v":"Dublin"},6]
[null,null,null,null,null,null,null,null,null,null,null,null,null,null,null,null,null,null,null,null,null,{"$f":"Général!B20","v":"Univ. Nantes 2"},7]
[null,null,null,null,null,null,null,null,null,null,null,null,null,null,null,null,null,null,null,null,null,{"$f":"Général!B21","v":"UBS Lorient 1"},6]
[null,null,null,null,null,null,null,null,null,null,null,null,null,null,null,null,null,null,null,null,null,{"$f":"Général!B22","v":"UBS Lorient 2"},6]
[null,null,null,null,null,null,null,null,null,null,null,null,null,null,null,null,null,null,null,null,null,{"$f":"Général!B23","v":"Univ.Orléans"},6]
[null,null,null,null,null,null,null,null,null,null,null,null,null,null,null,null,null,null,null,null,null,{"$f":"Général!B24","v":"Univ. La Rochelle"},18]
[null,null,null,null,null,null,null,null,null,null,null,null,null,null,null,null,null,null,null,null,null,{"$f":"Général!B25","v":"AS UB St Brieuc"},7]
[null,null,null,null,null,null,null,null,null,null,null,null,null,null,null,null,null,null,null,null,null,{"$f":"Général!B26","v":"Karlsruhe"},4]
[null,null,null,null,null,null,null,null,null,null,null,null,null,null,null,null,null,null,null,null,null,{"$f":"Général!B27","v":"Univ. Nantes 3"},5]
[null,null,null,null,null,null,null,null,null,null,null,null,null,null,null,null,null,null,null,null,null,{"$f":"Général!B28","v":"Centrales Nantes"},7]
[null,null,null,null,null,null,null,null,null,null,null,null,null,null,null,null,null,null,null,null,null,{"$f":"Général!B29","v":"Southampton"},5]
[null,null,null,null,null,null,null,null,null,null,null,null,null,null,null,null,null,null,null,null,null,{"$f":"Général!#REF!","v":{"$error":"#REF!"}},0]
[null,null,null,null,null,null,null,null,null,null,null,null,null,null,null,null,null,null,null,null,null,{"$f":"Général!#REF!","v":{"$error":"#REF!"}},0]
[null,null,null,null,null,null,null,null,null,null,null,null,null,null,null,null,null,null,null,null,null,{"$f":"Général!#REF!","v":{"$error":"#REF!"}},0]
[null,null,null,null,null,null,null,null,null,null,null,null,null,null,null,null,null,null,null,null,null,{"$f":"Général!#REF!","v":{"$error":"#REF!"}},0]
[null,null,null,null,null,null,null,null,null,null,null,null,null,null,null,null,null,null,null,null,null,{"$f":"Général!#REF!","v":{"$error":"#REF!"}},0]

{"sheet":"Eq.23","index":27,"n_rows":32,"n_cols":23,"rows_kept":32,"cut":false,"hidden":false,"merged":[[14,0,14,1],[15,0,15,1],[8,0,8,1],[9,0,9,1],[10,0,10,1],[11,0,11,1],[12,0,12,1],[13,0,13,1],[7,0,7,1],[0,0,1,5],[0,6,1,10],[3,0,3,1],[4,0,4,1],[5,0,5,1]]}
["Equipage ",null,null,null,null,null,{"$f":"Général!B25","v":"AS UB St Brieuc"},null,null,null,null,null,null,null,null,null,null,null,null,null,null,{"$f":"Général!B3","v":"Univ. Nantes 1"},{"$f":"COUNTIF(C$8:T$16,V1)","v":6}]
[null,null,null,null,null,null,null,null,null,null,null,null,null,null,null,null,null,null,null,null,null,{"$f":"Général!B4","v":"AS Paris 1 Panthéon Sorbonne"},{"$f":"COUNTIF($C$8:$T$16,V2)","v":4}]
[null,null,null,null,null,null,null,null,null,null,null,null,null,null,null,null,null,null,null,null,null,{"$f":"Général!B5","v":"Hannovre"},{"$f":"COUNTIF($C$8:$T$16,V3)","v":4}]
[null,null,"FLIGHT 1","FLIGHT 2","FLIGHT 3","FLIGHT 4","FLIGHT 5","FLIGHT 6","FLIGHT 7","FLIGHT 8","FLIGHT 9","FLIGHT 10","FLIGHT 11","FLIGHT 12","FLIGHT 13","FLIGHT 14","FLIGHT 15","FLIGHT 16","FLIGHT 17","FLIGHT 18",null,{"$f":"Général!B6","v":"IMT Atlantique Nantes 1"},7]
["N° de course",null,{"$f":"IF(COUNTIF(Général!B33:J33,$G$1)=1,\"Course 1\",IF(COUNTIF(Général!B35:J35,$G$1)=1,\"Course 2\",IF(COUNTIF(Général!B37:J37,$G$1)=1,\"Course 3\",\"Course 4\")))","v":"Course 2"},{"$f":"IF(COUNTIF(Général!B41:J41,$G$1)=1,\"Course 1\",IF(COUNTIF(Général!B43:J43,$G$1)=1,\"Course 2\",IF(COUNTIF(Général!B45:J45,$G$1)=1,\"Course 3\",\"Course 4\")))","v":"Course 2"},{"$f":"IF(COUNTIF(Général!B49:J49,$G$1)=1,\"Course 1\",IF(COUNTIF(Général!B51:J51,$G$1)=1,\"Course 2\",IF(COUNTIF(Général!B53:J53,$G$1)=1,\"Course 3\",\"Course 4\")))","v":"Course 1"},{"$f":"IF(COUNTIF(Général!B57:J57,$G$1)=1,\"Course 1\",IF(COUNTIF(Général!B59:J59,$G$1)=1,\"Course 2\",IF(COUNTIF(Général!B61:J61,$G$1)=1,\"Course 3\",\"Course 4\")))","v":"Course 1"},{"$f":"IF(COUNTIF(Général!B65:J65,$G$1)=1,\"Course 1\",IF(COUNTIF(Général!B67:J67,$G$1)=1,\"Course 2\",IF(COUNTIF(Général!B69:J69,$G$1)=1,\"Course 3\",\"Course 4\")))","v":"Course 2"},{"$f":"IF(COUNTIF(Général!B73:J73,$G$1)=1,\"Course 1\",IF(COUNTIF(Général!B75:J75,$G$1)=1,\"Course 2\",IF(COUNTIF(Général!B77:J77,$G$1)=1,\"Course 3\",\"Course 4\")))","v":"Course 1"},{"$f":"IF(COUNTIF(Général!B81:J81,$G$1)=1,\"Course 1\",IF(COUNTIF(Général!B83:J83,$G$1)=1,\"Course 2\",IF(COUNTIF(Général!B85:J85,$G$1)=1,\"Course 3\",\"Course 4\")))","v":"Course 1"},{"$f":"IF(COUNTIF(Général!B89:J89,$G$1)=1,\"Course 1\",IF(COUNTIF(Général!B91:J91,$G$1)=1,\"Course 2\",IF(COUNTIF(Général!B93:J93,$G$1)=1,\"Course 3\",\"Course 4\")))","v":"Course 1"},{"$f":"IF(COUNTIF(Général!B97:J97,$G$1)=1,\"Course 1\",IF(COUNTIF(Général!B99:J99,$G$1)=1,\"Course 2\",IF(COUNTIF(Général!B101:J101,$G$1)=1,\"Course 3\",\"Course 4\")))","v":"Course 1"},{"$f":"IF(COUNTIF(Général!B105:J105,$G$1)=1,\"Course 1\",IF(COUNTIF(Général!B107:J107,$G$1)=1,\"Course 2\",IF(COUNTIF(Général!B109:J109,$G$1)=1,\"Course 3\",\"Course 4\")))","v":"Course 1"},{"$f":"IF(COUNTIF(Général!B113:J113,$G$1)=1,\"Course 1\",IF(COUNTIF(Général!B115:J115,$G$1)=1,\"Course 2\",IF(COUNTIF(Général!B117:J117,$G$1)=1,\"Course 3\",\"Course 4\")))","v":"Course 1"},{"$f":"IF(COUNTIF(Général!B121:J121,$G$1)=1,\"Course 1\",IF(COUNTIF(Général!B123:J123,$G$1)=1,\"Course 2\",IF(COUNTIF(Général!B125:J125,$G$1)=1,\"Course 3\",\"Course 4\")))","v":"Course 1"},{"$f":"IF(COUNTIF(Général!B129:J129,$G$1)=1,\"Course 1\",IF(COUNTIF(Général!B131:J131,$G$1)=1,\"Course 2\",IF(COUNTIF(Général!B133:J133,$G$1)=1,\"Course 3\",\"Course 4\")))","v":"Course 3"},{"$f":"IF(COUNTIF(Général!B137:J137,$G$1)=1,\"Course 1\",IF(COUNTIF(Général!B139:J139,$G$1)=1,\"Course 2\",IF(COUNTIF(Général!B141:J141,$G$1)=1,\"Course 3\",\"Course 4\")))","v":"Course 3"},{"$f":"IF(COUNTIF(Général!B145:J145,$G$1)=1,\"Course 1\",IF(COUNTIF(Général!B147:J147,$G$1)=1,\"Course 2\",IF(COUNTIF(Général!B149:J149,$G$1)=1,\"Course 3\",\"Course 4\")))","v":"Course 1"},{"$f":"IF(COUNTIF(Général!B153:J153,$G$1)=1,\"Course 1\",IF(COUNTIF(Général!B155:J155,$G$1)=1,\"Course 2\",IF(COUNTIF(Général!B157:J157,$G$1)=1,\"Course 3\",\"Course 4\")))","v":"Course 1"},{"$f":"IF(COUNTIF(Général!B161:J161,$G$1)=1,\"Course 1\",IF(COUNTIF(Général!B163:J163,$G$1)=1,\"Course 2\",IF(COUNTIF(Général!B165:J165,$G$1)=1,\"Course 3\",\"Course 4\")))","v":"Course 1"},{"$f":"IF(COUNTIF(Général!B169:J169,$G$1)=1,\"Course 1\",IF(COUNTIF(Général!B171:J171,$G$1)=1,\"Course 2\",IF(COUNTIF(Général!B173:J173,$G$1)=1,\"Course 3\",\"Course 4\")))","v":"Course 3"},null,{"$f":"Général!B7","v":"ENSTA Bretagne 2"},5]
["Bateau",null,{"$f":"IF(COUNTIF(Général!B33:B38,$G$1)=1,\"Boat 1\",IF(COUNTIF(Général!C33:C38,$G$1)=1,\"Boat 2\",IF(COUNTIF(Général!D33:D38,$G$1)=1,\"Boat 3\", IF(COUNTIF(Général!E33:E38,$G$1)=1,\"Boat 4\", IF(COUNTIF(Général!F33:F38,$G$1)=1,\"Boat 5\", IF(COUNTIF(Général!G33:G38,$G$1)=1,\"Boat 6\", IF(COUNTIF(Général!H33:H38,$G$1)=1,\"Boat 7\",IF(COUNTIF(Général!I33:I38,$G$1)=1,\"Boat 8\",\"Boat 9\"))))))))","v":"Boat 4"},{"$f":"IF(COUNTIF(Général!B41:B46,$G$1)=1,\"Boat 1\",IF(COUNTIF(Général!C41:C46,$G$1)=1,\"Boat 2\",IF(COUNTIF(Général!D41:D46,$G$1)=1,\"Boat 3\", IF(COUNTIF(Général!E41:E46,$G$1)=1,\"Boat 4\", IF(COUNTIF(Général!F41:F46,$G$1)=1,\"Boat 5\", IF(COUNTIF(Général!G41:G46,$G$1)=1,\"Boat 6\", IF(COUNTIF(Général!H41:H46,$G$1)=1,\"Boat 7\",IF(COUNTIF(Général!I33:I38,$G$1)=1,\"Boat 8\",\"Boat 9\"))))))))","v":"Boat 4"},{"$f":"IF(COUNTIF(Général!B49:B54,$G$1)=1,\"Boat 1\",IF(COUNTIF(Général!C49:C54,$G$1)=1,\"Boat 2\",IF(COUNTIF(Général!D49:D54,$G$1)=1,\"Boat 3\", IF(COUNTIF(Général!E49:E54,$G$1)=1,\"Boat 4\", IF(COUNTIF(Général!F49:F54,$G$1)=1,\"Boat 5\", IF(COUNTIF(Général!G49:G54,$G$1)=1,\"Boat 6\", IF(COUNTIF(Général!H49:H54,$G$1)=1,\"Boat 7\",IF(COUNTIF(Général!I33:I38,$G$1)=1,\"Boat 8\",\"Boat 9\"))))))))","v":"Boat 9"},{"$f":"IF(COUNTIF(Général!B57:B62,$G$1)=1,\"Boat 1\",IF(COUNTIF(Général!C57:C62,$G$1)=1,\"Boat 2\",IF(COUNTIF(Général!D57:D62,$G$1)=1,\"Boat 3\", IF(COUNTIF(Général!E57:E62,$G$1)=1,\"Boat 4\", IF(COUNTIF(Général!F57:F62,$G$1)=1,\"Boat 5\", IF(COUNTIF(Général!G57:G62,$G$1)=1,\"Boat 6\", IF(COUNTIF(Général!H57:H62,$G$1)=1,\"Boat 7\",IF(COUNTIF(Général!I33:I38,$G$1)=1,\"Boat 8\",\"Boat 9\"))))))))","v":"Boat 6"},{"$f":"IF(COUNTIF(Général!B65:B70,$G$1)=1,\"Boat 1\",IF(COUNTIF(Général!C65:C70,$G$1)=1,\"Boat 2\",IF(COUNTIF(Général!D65:D70,$G$1)=1,\"Boat 3\", IF(COUNTIF(Général!E65:E70,$G$1)=1,\"Boat 4\", IF(COUNTIF(Général!F65:F70,$G$1)=1,\"Boat 5\", IF(COUNTIF(Général!G65:G70,$G$1)=1,\"Boat 6\", IF(COUNTIF(Général!H65:H70,$G$1)=1,\"Boat 7\",IF(COUNTIF(Général!I33:I38,$G$1)=1,\"Boat 8\",\"Boat 9\"))))))))","v":"Boat 1"},{"$f":"IF(COUNTIF(Général!B73:B78,$G$1)=1,\"Boat 1\",IF(COUNTIF(Général!C73:C78,$G$1)=1,\"Boat 2\",IF(COUNTIF(Général!D73:D78,$G$1)=1,\"Boat 3\", IF(COUNTIF(Général!E73:E78,$G$1)=1,\"Boat 4\", IF(COUNTIF(Général!F73:F78,$G$1)=1,\"Boat 5\", IF(COUNTIF(Général!G73:G78,$G$1)=1,\"Boat 6\", IF(COUNTIF(Général!H73:H78,$G$1)=1,\"Boat 7\",IF(COUNTIF(Général!I33:I38,$G$1)=1,\"Boat 8\",\"Boat 9\"))))))))","v":"Boat 6"},{"$f":"IF(COUNTIF(Général!B81:B86,$G$1)=1,\"Boat 1\",IF(COUNTIF(Général!C81:C86,$G$1)=1,\"Boat 2\",IF(COUNTIF(Général!D81:D86,$G$1)=1,\"Boat 3\", IF(COUNTIF(Général!E81:E86,$G$1)=1,\"Boat 4\", IF(COUNTIF(Général!F81:F86,$G$1)=1,\"Boat 5\", IF(COUNTIF(Général!G81:G86,$G$1)=1,\"Boat 6\", IF(COUNTIF(Général!H81:H86,$G$1)=1,\"Boat 7\",IF(COUNTIF(Général!I33:I38,$G$1)=1,\"Boat 8\",\"Boat 9\"))))))))","v":"Boat 7"},{"$f":"IF(COUNTIF(Général!B89:B94,$G$1)=1,\"Boat 1\",IF(COUNTIF(Général!C89:C94,$G$1)=1,\"Boat 2\",IF(COUNTIF(Général!D89:D94,$G$1)=1,\"Boat 3\", IF(COUNTIF(Général!E89:E94,$G$1)=1,\"Boat 4\", IF(COUNTIF(Général!F89:F94,$G$1)=1,\"Boat 5\", IF(COUNTIF(Général!G89:G94,$G$1)=1,\"Boat 6\", IF(COUNTIF(Général!H89:H94,$G$1)=1,\"Boat 7\",IF(COUNTIF(Général!I33:I38,$G$1)=1,\"Boat 8\",\"Boat 9\"))))))))","v":"Boat 5"},{"$f":"IF(COUNTIF(Général!B97:B102,$G$1)=1,\"Boat 1\",IF(COUNTIF(Général!C97:C102,$G$1)=1,\"Boat 2\",IF(COUNTIF(Général!D97:D102,$G$1)=1,\"Boat 3\", IF(COUNTIF(Général!E97:E102,$G$1)=1,\"Boat 4\", IF(COUNTIF(Général!F97:F102,$G$1)=1,\"Boat 5\", IF(COUNTIF(Général!G97:G102,$G$1)=1,\"Boat 6\", IF(COUNTIF(Général!H97:H102,$G$1)=1,\"Boat 7\",IF(COUNTIF(Général!I33:I38,$G$1)=1,\"Boat 8\",\"Boat 9\"))))))))","v":"Boat 9"},{"$f":"IF(COUNTIF(Général!B105:B110,$G$1)=1,\"Boat 1\",IF(COUNTIF(Général!C105:C110,$G$1)=1,\"Boat 2\",IF(COUNTIF(Général!D105:D110,$G$1)=1,\"Boat 3\", IF(COUNTIF(Général!E105:E110,$G$1)=1,\"Boat 4\", IF(COUNTIF(Général!F105:F110,$G$1)=1,\"Boat 5\", IF(COUNTIF(Général!G105:G110,$G$1)=1,\"Boat 6\", IF(COUNTIF(Général!H105:H110,$G$1)=1,\"Boat 7\",IF(COUNTIF(Général!I33:I38,$G$1)=1,\"Boat 8\",\"Boat 9\"))))))))","v":"Boat 2"},{"$f":"IF(COUNTIF(Général!B113:B118,$G$1)=1,\"Boat 1\",IF(COUNTIF(Général!C113:C118,$G$1)=1,\"Boat 2\",IF(COUNTIF(Général!C113:D118,$G$1)=1,\"Boat 3\", IF(COUNTIF(Général!C113:E118,$G$1)=1,\"Boat 4\", IF(COUNTIF(Général!F113:F118,$G$1)=1,\"Boat 5\", IF(COUNTIF(Général!G113:G118,$G$1)=1,\"Boat 6\", IF(COUNTIF(Général!H113:H118,$G$1)=1,\"Boat 7\",IF(COUNTIF(Général!I33:I38,$G$1)=1,\"Boat 8\",\"Boat 9\"))))))))","v":"Boat 3"},{"$f":"IF(COUNTIF(Général!B121:B126,$G$1)=1,\"Boat 1\",IF(COUNTIF(Général!C121:C126,$G$1)=1,\"Boat 2\",IF(COUNTIF(Général!D121:D126,$G$1)=1,\"Boat 3\", IF(COUNTIF(Général!E121:E126,$G$1)=1,\"Boat 4\", IF(COUNTIF(Général!F121:F126,$G$1)=1,\"Boat 5\", IF(COUNTIF(Général!G121:G126,$G$1)=1,\"Boat 6\", IF(COUNTIF(Général!H121:H126,$G$1)=1,\"Boat 7\",IF(COUNTIF(Général!I33:I38,$G$1)=1,\"Boat 8\",\"Boat 9\"))))))))","v":"Boat 3"},{"$f":"IF(COUNTIF(Général!B129:B134,$G$1)=1,\"Boat 1\",IF(COUNTIF(Général!C129:C134,$G$1)=1,\"Boat 2\",IF(COUNTIF(Général!D131:D134,$G$1)=1,\"Boat 3\", IF(COUNTIF(Général!E129:E134,$G$1)=1,\"Boat 4\", IF(COUNTIF(Général!F129:F134,$G$1)=1,\"Boat 5\", IF(COUNTIF(Général!G129:G134,$G$1)=1,\"Boat 6\", IF(COUNTIF(Général!H129:H134,$G$1)=1,\"Boat 7\",IF(COUNTIF(Général!I33:I38,$G$1)=1,\"Boat 8\",\"Boat 9\"))))))))","v":"Boat 4"},{"$f":"IF(COUNTIF(Général!B137:B142,$G$1)=1,\"Boat 1\",IF(COUNTIF(Général!C137:C142,$G$1)=1,\"Boat 2\",IF(COUNTIF(Général!D137:D142,$G$1)=1,\"Boat 3\", IF(COUNTIF(Général!E137:E142,$G$1)=1,\"Boat 4\", IF(COUNTIF(Général!F145:F150,$G$1)=1,\"Boat 5\", IF(COUNTIF(Général!G145:G150,$G$1)=1,\"Boat 6\", IF(COUNTIF(Général!H145:H150,$G$1)=1,\"Boat 7\",IF(COUNTIF(Général!I33:I38,$G$1)=1,\"Boat 8\",\"Boat 9\"))))))))","v":"Boat 2"},{"$f":"IF(COUNTIF(Général!B145:B150,$G$1)=1,\"Boat 1\",IF(COUNTIF(Général!C145:C150,$G$1)=1,\"Boat 2\",IF(COUNTIF(Général!D145:D150,$G$1)=1,\"Boat 3\", IF(COUNTIF(Général!E145:E150,$G$1)=1,\"Boat 4\", IF(COUNTIF(Général!F145:F150,$G$1)=1,\"Boat 5\", IF(COUNTIF(Général!G145:G150,$G$1)=1,\"Boat 6\", IF(COUNTIF(Général!H145:H150,$G$1)=1,\"Boat 7\",IF(COUNTIF(Général!I33:I38,$G$1)=1,\"Boat 8\",\"Boat 9\"))))))))","v":"Boat 2"},{"$f":"IF(COUNTIF(Général!B153:B158,$G$1)=1,\"Boat 1\",IF(COUNTIF(Général!C153:C158,$G$1)=1,\"Boat 2\",IF(COUNTIF(Général!D153:D158,$G$1)=1,\"Boat 3\", IF(COUNTIF(Général!E153:E158,$G$1)=1,\"Boat 4\", IF(COUNTIF(Général!F153:F158,$G$1)=1,\"Boat 5\", IF(COUNTIF(Général!G153:G158,$G$1)=1,\"Boat 6\", IF(COUNTIF(Général!H153:H158,$G$1)=1,\"Boat 7\",IF(COUNTIF(Général!I33:I38,$G$1)=1,\"Boat 8\",\"Boat 9\"))))))))","v":"Boat 9"},{"$f":"IF(COUNTIF(Général!B161:B166,$G$1)=1,\"Boat 1\",IF(COUNTIF(Général!C161:C166,$G$1)=1,\"Boat 2\",IF(COUNTIF(Général!D161:D166,$G$1)=1,\"Boat 3\", IF(COUNTIF(Général!E161:E166,$G$1)=1,\"Boat 4\", IF(COUNTIF(Général!F161:F166,$G$1)=1,\"Boat 5\", IF(COUNTIF(Général!G161:G166,$G$1)=1,\"Boat 6\", IF(COUNTIF(Général!H161:H166,$G$1)=1,\"Boat 7\",IF(COUNTIF(Général!I33:I38,$G$1)=1,\"Boat 8\",\"Boat 9\"))))))))","v":"Boat 1"},{"$f":"IF(COUNTIF(Général!B169:B174,$G$1)=1,\"Boat 1\",IF(COUNTIF(Général!C169:C174,$G$1)=1,\"Boat 2\",IF(COUNTIF(Général!D169:D174,$G$1)=1,\"Boat 3\", IF(COUNTIF(Général!E169:E174,$G$1)=1,\"Boat 4\", IF(COUNTIF(Général!F169:F174,$G$1)=1,\"Boat 5\", IF(COUNTIF(Général!G169:G174,$G$1)=1,\"Boat 6\", IF(COUNTIF(Général!H169:H174,$G$1)=1,\"Boat 7\",IF(COUNTIF(Général!I33:I38,$G$1)=1,\"Boat 8\",\"Boat 9\"))))))))","v":"Boat 3"},null,{"$f":"Général!B8","v":"IMT Atlantique Nantes 2"},6]
[null,null,null,null,null,null,null,null,null,null,null,null,null,null,null,null,null,null,null,null,null,{"$f":"Général!B9","v":"Hambourg"},4]
["1er Equipage",null,{"$f":"IF($C$5=\"Course 1\",Général!B33,IF($C$5=\"Course 2\",Général!B35,IF($C$5=\"Course 3\",Général!B37,Général!#REF!)))","v":"Univ. Nantes 1"},{"$f":"IF($D$5=\"Course 1\",Général!B41,IF($D$5=\"Course 2\",Général!B43,IF($D$5=\"Course 3\",Général!B45,Général!#REF!)))","v":"ASUL Lannion"},{"$f":"IF($E$5=\"Course 1\",Général!B49,IF($E$5=\"Course 2\",Général!B51,IF($E$5=\"Course 3\",Général!B53,Général!#REF!)))","v":"UBS Lorient 1"},{"$f":"IF($F$5=\"Course 1\",Général!B$57,IF($F$5=\"Course 2\",Général!B$59,IF($F$5=\"Course 3\",Général!B$61,Général!#REF!)))","v":"IMT Atlantique Nantes 2"},{"$f":"IF($G$5=\"Course 1\",Général!B$65,IF($G$5=\"Course 2\",Général!B$67,IF($G$5=\"Course 3\",Général!B$69,Général!#REF!)))","v":"AS UB St Brieuc"},{"$f":"IF($H$5=\"Course 1\",Général!B$73,IF($H$5=\"Course 2\",Général!B$75,IF($H$5=\"Course 3\",Général!B$77,Général!#REF!)))","v":"ENSTA Bretagne 1"},{"$f":"IF($I$5=\"Course 1\",Général!B$81,IF($I$5=\"Course 2\",Général!B$83,IF($I$5=\"Course 3\",Général!B$85,Général!#REF!)))","v":"Dublin"},{"$f":"IF($J$5=\"Course 1\",Général!B$89,IF($J$5=\"Course 2\",Général!B$91,IF($J$5=\"Course 3\",Général!B$93,Général!#REF!)))","v":"Dublin"},{"$f":"IF($K$5=\"Course 1\",Général!B$97,IF($K$5=\"Course 2\",Général!B$99,IF($K$5=\"Course 3\",Général!B$101,Général!#REF!)))","v":"AS Paris 1 Panthéon Sorbonne"},{"$f":"IF($L$5=\"Course 1\",Général!B$105,IF($L$5=\"Course 2\",Général!B$107,IF($L$5=\"Course 3\",Général!B$109,Général!#REF!)))","v":"Centrales Nantes"},{"$f":"IF($M$5=\"Course 1\",Général!B$113,IF($M$5=\"Course 2\",Général!B$115,IF($M$5=\"Course 3\",Général!B$117,Général!#REF!)))","v":"Hambourg"},{"$f":"IF($N$5=\"Course 1\",Général!B$121,IF($N$5=\"Course 2\",Général!B$123,IF($N$5=\"Course 3\",Général!B$125,Général!#REF!)))","v":"Karlsruhe"},{"$f":"IF($O$5=\"Course 1\",Général!B$129,IF($O$5=\"Course 2\",Général!B$131,IF($O$5=\"Course 3\",Général!B$133,Général!#REF!)))","v":"UBO 1"},{"$f":"IF($P$5=\"Course 1\",Général!B$137,IF($P$5=\"Course 2\",Général!B$139,IF($P$5=\"Course 3\",Général!B$141,Général!#REF!)))","v":"Univ. Nantes 1"},{"$f":"IF($Q$5=\"Course 1\",Général!B$145,IF($Q$5=\"Course 2\",Général!B$147,IF($Q$5=\"Course 3\",Général!B$149,Général!#REF!)))","v":"Univ. Nantes 1"},{"$f":"IF($R$5=\"Course 1\",Général!B$153,IF($R$5=\"Course 2\",Général!B$155,IF($R$5=\"Course 3\",Général!B$157,Général!#REF!)))","v":"HYDRO Sailing Team Le Havre"},{"$f":"IF($S$5=\"Course 1\",Général!B$161,IF($S$5=\"Course 2\",Général!B$163,IF($S$5=\"Course 3\",Général!B$165,Général!#REF!)))","v":"AS UB St Brieuc"},{"$f":"IF($T$5=\"Course 1\",Général!B$169,IF($T$5=\"Course 2\",Général!B$171,IF($T$5=\"Course 3\",Général!B$173,Général!#REF!)))","v":"IMT Atlantique Nantes 2"},null,{"$f":"Général!B10","v":"EGSI La Rochelle"},4]
["2nd Equipage",null,{"$f":"IF($C$5=\"Course 1\",Général!C33,IF($C$5=\"Course 2\",Général!C35,IF($C$5=\"Course 3\",Général!C37,Général!#REF!)))","v":"Hannovre"},{"$f":"IF($D$5=\"Course 1\",Général!C41,IF($D$5=\"Course 2\",Général!C43,IF($D$5=\"Course 3\",Général!C45,Général!#REF!)))","v":"UBS Lorient 1"},{"$f":"IF($E$5=\"Course 1\",Général!C49,IF($E$5=\"Course 2\",Général!C51,IF($E$5=\"Course 3\",Général!C53,Général!#REF!)))","v":"UNICAEN - ASSUCherbourg"},{"$f":"IF($F$5=\"Course 1\",Général!C$57,IF($F$5=\"Course 2\",Général!C$59,IF($F$5=\"Course 3\",Général!C$61,Général!#REF!)))","v":"IMT Atlantique Nantes 1"},{"$f":"IF($G$5=\"Course 1\",Général!C$65,IF($G$5=\"Course 2\",Général!C$67,IF($G$5=\"Course 3\",Général!C$69,Général!#REF!)))","v":"AS Paris 1 Panthéon Sorbonne"},{"$f":"IF($H$5=\"Course 1\",Général!C$73,IF($H$5=\"Course 2\",Général!C$75,IF($H$5=\"Course 3\",Général!C$77,Général!#REF!)))","v":"UBS Lorient 2"},{"$f":"IF($I$5=\"Course 1\",Général!C$81,IF($I$5=\"Course 2\",Général!C$83,IF($I$5=\"Course 3\",Général!C$85,Général!#REF!)))","v":"Hambourg"},{"$f":"IF($J$5=\"Course 1\",Général!C$89,IF($J$5=\"Course 2\",Général!C$91,IF($J$5=\"Course 3\",Général!C$93,Général!#REF!)))","v":"Univ.Orléans"},{"$f":"IF($K$5=\"Course 1\",Général!C$97,IF($K$5=\"Course 2\",Général!C$99,IF($K$5=\"Course 3\",Général!C$101,Général!#REF!)))","v":"ASUL Lannion"},{"$f":"IF($L$5=\"Course 1\",Général!C$105,IF($L$5=\"Course 2\",Général!C$107,IF($L$5=\"Course 3\",Général!C$109,Général!#REF!)))","v":"AS UB St Brieuc"},{"$f":"IF($M$5=\"Course 1\",Général!C$113,IF($M$5=\"Course 2\",Général!C$115,IF($M$5=\"Course 3\",Général!C$117,Général!#REF!)))","v":"Univ. Nantes 3"},{"$f":"IF($N$5=\"Course 1\",Général!C$121,IF($N$5=\"Course 2\",Général!C$123,IF($N$5=\"Course 3\",Général!C$125,Général!#REF!)))","v":"HYDRO Sailing Team Le Havre"},{"$f":"IF($O$5=\"Course 1\",Général!C$129,IF($O$5=\"Course 2\",Général!C$131,IF($O$5=\"Course 3\",Général!C$133,Général!#REF!)))","v":"Univ. La Rochelle"},{"$f":"IF($P$5=\"Course 1\",Général!C$137,IF($P$5=\"Course 2\",Général!C$139,IF($P$5=\"Course 3\",Général!C$141,Général!#REF!)))","v":"AS UB St Brieuc"},{"$f":"IF($Q$5=\"Course 1\",Général!C$145,IF($Q$5=\"Course 2\",Général!C$147,IF($Q$5=\"Course 3\",Général!C$149,Général!#REF!)))","v":"AS UB St Brieuc"},{"$f":"IF($R$5=\"Course 1\",Général!C$153,IF($R$5=\"Course 2\",Général!C$155,IF($R$5=\"Course 3\",Général!C$157,Général!#REF!)))","v":"Univ. Nantes 3"},{"$f":"IF($S$5=\"Course 1\",Général!C$161,IF($S$5=\"Course 2\",Général!C$163,IF($S$5=\"Course 3\",Général!C$165,Général!#REF!)))","v":"AS Paris 1 Panthéon Sorbonne"},{"$f":"IF($T$5=\"Course 1\",Général!C$169,IF($T$5=\"Course 2\",Général!C$171,IF($T$5=\"Course 3\",Général!C$173,Général!#REF!)))","v":"ENSTA Bretagne 2"},null,{"$f":"Général!B11","v":"HYDRO Sailing Team Le Havre"},7]
["3ème Equipage",null,{"$f":"IF($C$5=\"Course 1\",Général!D33,IF($C$5=\"Course 2\",Général!D35,IF($C$5=\"Course 3\",Général!D37,Général!#REF!)))","v":"IMT Atlantique Brest"},{"$f":"IF($D$5=\"Course 1\",Général!D41,IF($D$5=\"Course 2\",Général!D43,IF($D$5=\"Course 3\",Général!D45,Général!#REF!)))","v":"IMT Atlantique Nantes 1"},{"$f":"IF($E$5=\"Course 1\",Général!D49,IF($E$5=\"Course 2\",Général!D51,IF($E$5=\"Course 3\",Général!D53,Général!#REF!)))","v":"HYDRO Sailing Team Le Havre"},{"$f":"IF($F$5=\"Course 1\",Général!D$57,IF($F$5=\"Course 2\",Général!D$59,IF($F$5=\"Course 3\",Général!D$61,Général!#REF!)))","v":"Univ. Nantes 2"},{"$f":"IF($G$5=\"Course 1\",Général!D$65,IF($G$5=\"Course 2\",Général!D$67,IF($G$5=\"Course 3\",Général!D$69,Général!#REF!)))","v":"Karlsruhe"},{"$f":"IF($H$5=\"Course 1\",Général!D$73,IF($H$5=\"Course 2\",Général!D$75,IF($H$5=\"Course 3\",Général!D$77,Général!#REF!)))","v":"Univ. La Rochelle"},{"$f":"IF($I$5=\"Course 1\",Général!D$81,IF($I$5=\"Course 2\",Général!D$83,IF($I$5=\"Course 3\",Général!D$85,Général!#REF!)))","v":"Univ.Orléans"},{"$f":"IF($J$5=\"Course 1\",Général!D$89,IF($J$5=\"Course 2\",Général!D$91,IF($J$5=\"Course 3\",Général!D$93,Général!#REF!)))","v":"ASUL Lannion"},{"$f":"IF($K$5=\"Course 1\",Général!D$97,IF($K$5=\"Course 2\",Général!D$99,IF($K$5=\"Course 3\",Général!D$101,Général!#REF!)))","v":"ENSTA Paris"},{"$f":"IF($L$5=\"Course 1\",Général!D$105,IF($L$5=\"Course 2\",Général!D$107,IF($L$5=\"Course 3\",Général!D$109,Général!#REF!)))","v":"Southampton"},{"$f":"IF($M$5=\"Course 1\",Général!D$113,IF($M$5=\"Course 2\",Général!D$115,IF($M$5=\"Course 3\",Général!D$117,Général!#REF!)))","v":"AS UB St Brieuc"},{"$f":"IF($N$5=\"Course 1\",Général!D$121,IF($N$5=\"Course 2\",Général!D$123,IF($N$5=\"Course 3\",Général!D$125,Général!#REF!)))","v":"AS UB St Brieuc"},{"$f":"IF($O$5=\"Course 1\",Général!D$129,IF($O$5=\"Course 2\",Général!D$131,IF($O$5=\"Course 3\",Général!D$133,Général!#REF!)))","v":"UBS Lorient 2"},{"$f":"IF($P$5=\"Course 1\",Général!D$137,IF($P$5=\"Course 2\",Général!D$139,IF($P$5=\"Course 3\",Général!D$141,Général!#REF!)))","v":"IMT Atlantique Brest"},{"$f":"IF($Q$5=\"Course 1\",Général!D$145,IF($Q$5=\"Course 2\",Général!D$147,IF($Q$5=\"Course 3\",Général!D$149,Général!#REF!)))","v":"IMT Atlantique Nantes 2"},{"$f":"IF($R$5=\"Course 1\",Général!D$153,IF($R$5=\"Course 2\",Général!D$155,IF($R$5=\"Course 3\",Général!D$157,Général!#REF!)))","v":"Univ.Orléans"},{"$f":"IF($S$5=\"Course 1\",Général!D$161,IF($S$5=\"Course 2\",Général!D$163,IF($S$5=\"Course 3\",Général!D$165,Général!#REF!)))","v":"Karlsruhe"},{"$f":"IF($T$5=\"Course 1\",Général!D$169,IF($T$5=\"Course 2\",Général!D$171,IF($T$5=\"Course 3\",Général!D$173,Général!#REF!)))","v":"AS UB St Brieuc"},null,{"$f":"Général!B12","v":"UNICAEN - ASSUCherbourg"},6]
["4ème Equipage",null,{"$f":"IF($C$5=\"Course 1\",Général!E33,IF($C$5=\"Course 2\",Général!E35,IF($C$5=\"Course 3\",Général!E37,Général!#REF!)))","v":"AS UB St Brieuc"},{"$f":"IF($D$5=\"Course 1\",Général!E41,IF($D$5=\"Course 2\",Général!E43,IF($D$5=\"Course 3\",Général!E45,Général!#REF!)))","v":"AS UB St Brieuc"},{"$f":"IF($E$5=\"Course 1\",Général!E49,IF($E$5=\"Course 2\",Général!E51,IF($E$5=\"Course 3\",Général!E53,Général!#REF!)))","v":"Centrales Nantes"},{"$f":"IF($F$5=\"Course 1\",Général!E$57,IF($F$5=\"Course 2\",Général!E$59,IF($F$5=\"Course 3\",Général!E$61,Général!#REF!)))","v":"UBS Lorient 1"},{"$f":"IF($G$5=\"Course 1\",Général!E$65,IF($G$5=\"Course 2\",Général!E$67,IF($G$5=\"Course 3\",Général!E$69,Général!#REF!)))","v":"EGSI La Rochelle"},{"$f":"IF($H$5=\"Course 1\",Général!E$73,IF($H$5=\"Course 2\",Général!E$75,IF($H$5=\"Course 3\",Général!E$77,Général!#REF!)))","v":"HYDRO Sailing Team Le Havre"},{"$f":"IF($I$5=\"Course 1\",Général!E$81,IF($I$5=\"Course 2\",Général!E$83,IF($I$5=\"Course 3\",Général!E$85,Général!#REF!)))","v":"Hannovre"},{"$f":"IF($J$5=\"Course 1\",Général!E$89,IF($J$5=\"Course 2\",Général!E$91,IF($J$5=\"Course 3\",Général!E$93,Général!#REF!)))","v":"ENSTA Bretagne 1"},{"$f":"IF($K$5=\"Course 1\",Général!E$97,IF($K$5=\"Course 2\",Général!E$99,IF($K$5=\"Course 3\",Général!E$101,Général!#REF!)))","v":"UBO 1"},{"$f":"IF($L$5=\"Course 1\",Général!E$105,IF($L$5=\"Course 2\",Général!E$107,IF($L$5=\"Course 3\",Général!E$109,Général!#REF!)))","v":"Univ. Nantes 1"},{"$f":"IF($M$5=\"Course 1\",Général!E$113,IF($M$5=\"Course 2\",Général!E$115,IF($M$5=\"Course 3\",Général!E$117,Général!#REF!)))","v":"ENSTA Paris"},{"$f":"IF($N$5=\"Course 1\",Général!E$121,IF($N$5=\"Course 2\",Général!E$123,IF($N$5=\"Course 3\",Général!E$125,Général!#REF!)))","v":"ENSTA Bretagne 2"},{"$f":"IF($O$5=\"Course 1\",Général!E$129,IF($O$5=\"Course 2\",Général!E$131,IF($O$5=\"Course 3\",Général!E$133,Général!#REF!)))","v":"AS UB St Brieuc"},{"$f":"IF($P$5=\"Course 1\",Général!E$137,IF($P$5=\"Course 2\",Général!E$139,IF($P$5=\"Course 3\",Général!E$141,Général!#REF!)))","v":"UBS Lorient 2"},{"$f":"IF($Q$5=\"Course 1\",Général!E$145,IF($Q$5=\"Course 2\",Général!E$147,IF($Q$5=\"Course 3\",Général!E$149,Général!#REF!)))","v":"UNICAEN - ASSUCherbourg"},{"$f":"IF($R$5=\"Course 1\",Général!E$153,IF($R$5=\"Course 2\",Général!E$155,IF($R$5=\"Course 3\",Général!E$157,Général!#REF!)))","v":"IMT Atlantique Nantes 1"},{"$f":"IF($S$5=\"Course 1\",Général!E$161,IF($S$5=\"Course 2\",Général!E$163,IF($S$5=\"Course 3\",Général!E$165,Général!#REF!)))","v":"Univ. Nantes 2"},{"$f":"IF($T$5=\"Course 1\",Général!E$169,IF($T$5=\"Course 2\",Général!E$171,IF($T$5=\"Course 3\",Général!E$173,Général!#REF!)))","v":"ASUL Lannion"},null,{"$f":"Général!B13","v":"UBO 1"},4]
["5ème Equipage",null,{"$f":"IF($C$5=\"Course 1\",Général!F33,IF($C$5=\"Course 2\",Général!F35,IF($C$5=\"Course 3\",Général!F37,Général!#REF!)))","v":"EGSI La Rochelle"},{"$f":"IF($D$5=\"Course 1\",Général!F41,IF($D$5=\"Course 2\",Général!F43,IF($D$5=\"Course 3\",Général!F45,Général!#REF!)))","v":"Southampton"},{"$f":"IF($E$5=\"Course 1\",Général!F49,IF($E$5=\"Course 2\",Général!F51,IF($E$5=\"Course 3\",Général!F53,Général!#REF!)))","v":"ENSTA Bretagne 1"},{"$f":"IF($F$5=\"Course 1\",Général!F$57,IF($F$5=\"Course 2\",Général!F$59,IF($F$5=\"Course 3\",Général!F$61,Général!#REF!)))","v":"UNICAEN - ASSUCherbourg"},{"$f":"IF($G$5=\"Course 1\",Général!F$65,IF($G$5=\"Course 2\",Général!F$67,IF($G$5=\"Course 3\",Général!F$69,Général!#REF!)))","v":"UBS Lorient 2"},{"$f":"IF($H$5=\"Course 1\",Général!F$73,IF($H$5=\"Course 2\",Général!F$75,IF($H$5=\"Course 3\",Général!F$77,Général!#REF!)))","v":"Univ. Nantes 3"},{"$f":"IF($I$5=\"Course 1\",Général!F$81,IF($I$5=\"Course 2\",Général!F$83,IF($I$5=\"Course 3\",Général!F$85,Général!#REF!)))","v":"UBO 2"},{"$f":"IF($J$5=\"Course 1\",Général!F$89,IF($J$5=\"Course 2\",Général!F$91,IF($J$5=\"Course 3\",Général!F$93,Général!#REF!)))","v":"AS UB St Brieuc"},{"$f":"IF($K$5=\"Course 1\",Général!F$97,IF($K$5=\"Course 2\",Général!F$99,IF($K$5=\"Course 3\",Général!F$101,Général!#REF!)))","v":"Dublin"},{"$f":"IF($L$5=\"Course 1\",Général!F$105,IF($L$5=\"Course 2\",Général!$F107,IF($L$5=\"Course 3\",Général!F$109,Général!#REF!)))","v":"IMT Atlantique Nantes 2"},{"$f":"IF($M$5=\"Course 1\",Général!F$113,IF($M$5=\"Course 2\",Général!F$115,IF($M$5=\"Course 3\",Général!F$117,Général!#REF!)))","v":"UBS Lorient 1"},{"$f":"IF($N$5=\"Course 1\",Général!F$121,IF($N$5=\"Course 2\",Général!F$123,IF($N$5=\"Course 3\",Général!F$125,Général!#REF!)))","v":"Univ. Nantes 3"},{"$f":"IF($O$5=\"Course 1\",Général!F$129,IF($O$5=\"Course 2\",Général!F$131,IF($O$5=\"Course 3\",Général!F$133,Général!#REF!)))","v":"Karlsruhe"},{"$f":"IF($P$5=\"Course 1\",Général!F$137,IF($P$5=\"Course 2\",Général!F$139,IF($P$5=\"Course 3\",Général!F$141,Général!#REF!)))","v":"Hannovre"},{"$f":"IF($Q$5=\"Course 1\",Général!F$145,IF($Q$5=\"Course 2\",Général!F$147,IF($Q$5=\"Course 3\",Général!F$149,Général!#REF!)))","v":"Univ.Orléans"},{"$f":"IF($R$5=\"Course 1\",Général!F$153,IF($R$5=\"Course 2\",Général!F$155,IF($R$5=\"Course 3\",Général!F$157,Général!#REF!)))","v":"UBS Lorient 2"},{"$f":"IF($S$5=\"Course 1\",Général!F$161,IF($S$5=\"Course 2\",Général!F$163,IF($S$5=\"Course 3\",Général!F$165,Général!#REF!)))","v":"ENSTA Paris"},{"$f":"IF($T$5=\"Course 1\",Général!F$169,IF($T$5=\"Course 2\",Général!F$171,IF($T$5=\"Course 3\",Général!F$173,Général!#REF!)))","v":"Centrales Nantes"},null,{"$f":"Général!B14","v":"ENSTA Bretagne 1"},6]
["6ème Equipage",null,{"$f":"IF($C$5=\"Course 1\",Général!G33,IF($C$5=\"Course 2\",Général!G35,IF($C$5=\"Course 3\",Général!G37,Général!#REF!)))","v":"Karlsruhe"},{"$f":"IF($D$5=\"Course 1\",Général!G41,IF($D$5=\"Course 2\",Général!G43,IF($D$5=\"Course 3\",Général!G45,Général!#REF!)))","v":"UBO 1"},{"$f":"IF($E$5=\"Course 1\",Général!G49,IF($E$5=\"Course 2\",Général!G51,IF($E$5=\"Course 3\",Général!G53,Général!#REF!)))","v":"ASUL Lannion"},{"$f":"IF($F$5=\"Course 1\",Général!G$57,IF($F$5=\"Course 2\",Général!G$59,IF($F$5=\"Course 3\",Général!G$61,Général!#REF!)))","v":"AS UB St Brieuc"},{"$f":"IF($G$5=\"Course 1\",Général!G$65,IF($G$5=\"Course 2\",Général!G$67,IF($G$5=\"Course 3\",Général!G$69,Général!#REF!)))","v":"UBO 2"},{"$f":"IF($H$5=\"Course 1\",Général!G$73,IF($H$5=\"Course 2\",Général!G$75,IF($H$5=\"Course 3\",Général!G$77,Général!#REF!)))","v":"AS UB St Brieuc"},{"$f":"IF($I$5=\"Course 1\",Général!G$81,IF($I$5=\"Course 2\",Général!G$83,IF($I$5=\"Course 3\",Général!G$85,Général!#REF!)))","v":"UBS Lorient 1"},{"$f":"IF($J$5=\"Course 1\",Général!G$89,IF($J$5=\"Course 2\",Général!G$91,IF($J$5=\"Course 3\",Général!G$93,Général!#REF!)))","v":"ENSTA Bretagne 2"},{"$f":"IF($K$5=\"Course 1\",Général!G$97,IF($K$5=\"Course 2\",Général!G$99,IF($K$5=\"Course 3\",Général!G$101,Général!#REF!)))","v":"Univ. Nantes 3"},{"$f":"IF($L$5=\"Course 1\",Général!G$105,IF($L$5=\"Course 2\",Général!G$107,IF($L$5=\"Course 3\",Général!G$109,Général!#REF!)))","v":"Univ. La Rochelle"},{"$f":"IF($M$5=\"Course 1\",Général!G$113,IF($M$5=\"Course 2\",Général!G$115,IF($M$5=\"Course 3\",Général!G$117,Général!#REF!)))","v":"Centrales Nantes"},{"$f":"IF($N$5=\"Course 1\",Général!G$121,IF($N$5=\"Course 2\",Général!G$123,IF($N$5=\"Course 3\",Général!G$125,Général!#REF!)))","v":"Univ. Nantes 1"},{"$f":"IF($O$5=\"Course 1\",Général!G$129,IF($O$5=\"Course 2\",Général!G$131,IF($O$5=\"Course 3\",Général!G$133,Général!#REF!)))","v":"Centrales Nantes"},{"$f":"IF($P$5=\"Course 1\",Général!G$137,IF($P$5=\"Course 2\",Général!G$139,IF($P$5=\"Course 3\",Général!G$141,Général!#REF!)))","v":"IMT Atlantique Nantes 1"},{"$f":"IF($Q$5=\"Course 1\",Général!G$145,IF($Q$5=\"Course 2\",Général!G$147,IF($Q$5=\"Course 3\",Général!G$149,Général!#REF!)))","v":"IMT Atlantique Nantes 1"},{"$f":"IF($R$5=\"Course 1\",Général!G$153,IF($R$5=\"Course 2\",Général!G$155,IF($R$5=\"Course 3\",Général!G$157,Général!#REF!)))","v":"IMT Atlantique Brest"},{"$f":"IF($S$5=\"Course 1\",Général!G$161,IF($S$5=\"Course 2\",Général!G$163,IF($S$5=\"Course 3\",Général!G$165,Général!#REF!)))","v":"Dublin"},{"$f":"IF($T$5=\"Course 1\",Général!G$169,IF($T$5=\"Course 2\",Général!G$171,IF($T$5=\"Course 3\",Général!G$173,Général!#REF!)))","v":"ENSTA Paris"},null,{"$f":"Général!B15","v":"ASUL Lannion"},6]
["7ème Equipage",null,{"$f":"IF($C$5=\"Course 1\",Général!H33,IF($C$5=\"Course 2\",Général!H35,IF($C$5=\"Course 3\",Général!H37,Général!#REF!)))","v":"Univ. La Rochelle"},{"$f":"IF($D$5=\"Course 1\",Général!H41,IF($D$5=\"Course 2\",Général!H43,IF($D$5=\"Course 3\",Général!H45,Général!#REF!)))","v":"EGSI La Rochelle"},{"$f":"IF($E$5=\"Course 1\",Général!H49,IF($E$5=\"Course 2\",Général!H51,IF($E$5=\"Course 3\",Général!H53,Général!#REF!)))","v":"Hannovre"},{"$f":"IF($F$5=\"Course 1\",Général!H$57,IF($F$5=\"Course 2\",Général!H$59,IF($F$5=\"Course 3\",Général!H$61,Général!#REF!)))","v":"Univ. Nantes 3"},{"$f":"IF($G$5=\"Course 1\",Général!H$65,IF($G$5=\"Course 2\",Général!H$67,IF($G$5=\"Course 3\",Général!H$69,Général!#REF!)))","v":"Southampton"},{"$f":"IF($H$5=\"Course 1\",Général!H$73,IF($H$5=\"Course 2\",Général!H$75,IF($H$5=\"Course 3\",Général!H$77,Général!#REF!)))","v":"IMT Atlantique Nantes 2"},{"$f":"IF($I$5=\"Course 1\",Général!H$81,IF($I$5=\"Course 2\",Général!H$83,IF($I$5=\"Course 3\",Général!H$85,Général!#REF!)))","v":"AS UB St Brieuc"},{"$f":"IF($J$5=\"Course 1\",Général!H$89,IF($J$5=\"Course 2\",Général!H$91,IF($J$5=\"Course 3\",Général!H$93,Général!#REF!)))","v":"IMT Atlantique Brest"},{"$f":"IF($K$5=\"Course 1\",Général!H$97,IF($K$5=\"Course 2\",Général!H$99,IF($K$5=\"Course 3\",Général!H$101,Général!#REF!)))","v":"IMT Atlantique Nantes 1"},{"$f":"IF($L$5=\"Course 1\",Général!H$105,IF($L$5=\"Course 2\",Général!H$107,IF($L$5=\"Course 3\",Général!H$109,Général!#REF!)))","v":"ENSTA Bretagne 2"},{"$f":"IF($M$5=\"Course 1\",Général!H$113,IF($M$5=\"Course 2\",Général!H$115,IF($M$5=\"Course 3\",Général!H$117,Général!#REF!)))","v":"EGSI La Rochelle"},{"$f":"IF($N$5=\"Course 1\",Général!H$121,IF($N$5=\"Course 2\",Général!H$123,IF($N$5=\"Course 3\",Général!H$125,Général!#REF!)))","v":"Hambourg"},{"$f":"IF($O$5=\"Course 1\",Général!H$129,IF($O$5=\"Course 2\",Général!H$131,IF($O$5=\"Course 3\",Général!H$133,Général!#REF!)))","v":"Univ.Orléans"},{"$f":"IF($P$5=\"Course 1\",Général!H$137,IF($P$5=\"Course 2\",Général!H$139,IF($P$5=\"Course 3\",Général!H$141,Général!#REF!)))","v":"ASUL Lannion"},{"$f":"IF($Q$5=\"Course 1\",Général!H$145,IF($Q$5=\"Course 2\",Général!H$147,IF($Q$5=\"Course 3\",Général!H$149,Général!#REF!)))","v":"HYDRO Sailing Team Le Havre"},{"$f":"IF($R$5=\"Course 1\",Général!H$153,IF($R$5=\"Course 2\",Général!H$155,IF($R$5=\"Course 3\",Général!H$157,Général!#REF!)))","v":"ENSTA Bretagne 1"},{"$f":"IF($S$5=\"Course 1\",Général!H$161,IF($S$5=\"Course 2\",Général!H$163,IF($S$5=\"Course 3\",Général!H$165,Général!#REF!)))","v":"IMT Atlantique Brest"},{"$f":"IF($T$5=\"Course 1\",Général!H$169,IF($T$5=\"Course 2\",Général!H$171,IF($T$5=\"Course 3\",Général!H$173,Général!#REF!)))","v":"UNICAEN - ASSUCherbourg"},null,{"$f":"Général!B16","v":"ENSTA Paris"},6]
["8ème Equipage",null,{"$f":"IF($C$5=\"Course 1\",Général!I33,IF($C$5=\"Course 2\",Général!I35,IF($C$5=\"Course 3\",Général!I37,Général!#REF!)))","v":"Univ. Nantes 3"},{"$f":"IF($D$5=\"Course 1\",Général!I41,IF($D$5=\"Course 2\",Général!I43,IF($D$5=\"Course 3\",Général!I45,Général!#REF!)))","v":"ENSTA Bretagne 1"},{"$f":"IF($E$5=\"Course 1\",Général!I49,IF($E$5=\"Course 2\",Général!I51,IF($E$5=\"Course 3\",Général!I53,Général!#REF!)))","v":"Univ. Nantes 1"},{"$f":"IF($F$5=\"Course 1\",Général!I$57,IF($F$5=\"Course 2\",Général!I$59,IF($F$5=\"Course 3\",Général!I$61,Général!#REF!)))","v":"Southampton"},{"$f":"IF($G$5=\"Course 1\",Général!I$65,IF($G$5=\"Course 2\",Général!I$67,IF($G$5=\"Course 3\",Général!I$69,Général!#REF!)))","v":"HYDRO Sailing Team Le Havre"},{"$f":"IF($H$5=\"Course 1\",Général!I$73,IF($H$5=\"Course 2\",Général!I$75,IF($H$5=\"Course 3\",Général!I$77,Général!#REF!)))","v":"UNICAEN - ASSUCherbourg"},{"$f":"IF($I$5=\"Course 1\",Général!I$81,IF($I$5=\"Course 2\",Général!I$83,IF($I$5=\"Course 3\",Général!I$85,Général!#REF!)))","v":"Univ. La Rochelle"},{"$f":"IF($J$5=\"Course 1\",Général!I$89,IF($J$5=\"Course 2\",Général!I$91,IF($J$5=\"Course 3\",Général!I$93,Général!#REF!)))","v":"Hambourg"},{"$f":"IF($K$5=\"Course 1\",Général!I$97,IF($K$5=\"Course 2\",Général!I$99,IF($K$5=\"Course 3\",Général!I$101,Général!#REF!)))","v":"AS UB St Brieuc"},{"$f":"IF($L$5=\"Course 1\",Général!I$105,IF($L$5=\"Course 2\",Général!I$107,IF($L$5=\"Course 3\",Général!I$109,Général!#REF!)))","v":"IMT Atlantique Nantes 1"},{"$f":"IF($M$5=\"Course 1\",Général!I$113,IF($M$5=\"Course 2\",Général!I$115,IF($M$5=\"Course 3\",Général!I$117,Général!#REF!)))","v":"IMT Atlantique Nantes 2"},{"$f":"IF($N$5=\"Course 1\",Général!I$121,IF($N$5=\"Course 2\",Général!I$123,IF($N$5=\"Course 3\",Général!I$125,Général!#REF!)))","v":"Centrales Nantes"},{"$f":"IF($O$5=\"Course 1\",Général!I$129,IF($O$5=\"Course 2\",Général!I$131,IF($O$5=\"Course 3\",Général!I$133,Général!#REF!)))","v":"Univ. Nantes 2"},{"$f":"IF($P$5=\"Course 1\",Général!I$137,IF($P$5=\"Course 2\",Général!I$139,IF($P$5=\"Course 3\",Général!I$141,Général!#REF!)))","v":"ENSTA Paris"},{"$f":"IF($Q$5=\"Course 1\",Général!I$145,IF($Q$5=\"Course 2\",Général!I$147,IF($Q$5=\"Course 3\",Général!I$149,Général!#REF!)))","v":"ENSTA Paris"},{"$f":"IF($R$5=\"Course 1\",Général!I$153,IF($R$5=\"Course 2\",Général!I$155,IF($R$5=\"Course 3\",Général!I$157,Général!#REF!)))","v":"AS UB St Brieuc"},{"$f":"IF($S$5=\"Course 1\",Général!I$161,IF($S$5=\"Course 2\",Général!I$163,IF($S$5=\"Course 3\",Général!I$165,Général!#REF!)))","v":"ENSTA Bretagne 2"},{"$f":"IF($T$5=\"Course 1\",Général!I$169,IF($T$5=\"Course 2\",Général!I$171,IF($T$5=\"Course 3\",Général!I$173,Général!#REF!)))","v":"UBS Lorient 2"},null,{"$f":"Général!B17","v":"IMT Atlantique Brest"},6]
["9ème Equipage",null,{"$f":"IF($C$5=\"Course 1\",Général!J33,IF($C$5=\"Course 2\",Général!J35,IF($C$5=\"Course 3\",Général!J37,Général!#REF!)))","v":"UBO 1"},{"$f":"IF($D$5=\"Course 1\",Général!J41,IF($D$5=\"Course 2\",Général!J43,IF($D$5=\"Course 3\",Général!J45,Général!#REF!)))","v":"Univ. La Rochelle"},{"$f":"IF($E$5=\"Course 1\",Général!J49,IF($E$5=\"Course 2\",Général!J51,IF($E$5=\"Course 3\",Général!J53,Général!#REF!)))","v":"AS UB St Brieuc"},{"$f":"IF($F$5=\"Course 1\",Général!J$57,IF($F$5=\"Course 2\",Général!J$59,IF($F$5=\"Course 3\",Général!J$61,Général!#REF!)))","v":"IMT Atlantique Brest"},{"$f":"IF($G$5=\"Course 1\",Général!J$65,IF($G$5=\"Course 2\",Général!J$67,IF($G$5=\"Course 3\",Général!J$69,Général!#REF!)))","v":"ENSTA Bretagne 1"},{"$f":"IF($H$5=\"Course 1\",Général!J$73,IF($H$5=\"Course 2\",Général!J$75,IF($H$5=\"Course 3\",Général!$J77,Général!#REF!)))","v":"Dublin"},{"$f":"IF($I$5=\"Course 1\",Général!J$81,IF($I$5=\"Course 2\",Général!J$83,IF($I$5=\"Course 3\",Général!J$85,Général!#REF!)))","v":"AS Paris 1 Panthéon Sorbonne"},{"$f":"IF($J$5=\"Course 1\",Général!J$89,IF($J$5=\"Course 2\",Général!J$91,IF($J$5=\"Course 3\",Général!J$93,Général!#REF!)))","v":"Univ. Nantes 2"},{"$f":"IF($K$5=\"Course 1\",Général!J$97,IF($K$5=\"Course 2\",Général!J$99,IF($K$5=\"Course 3\",Général!J$101,Général!#REF!)))","v":"HYDRO Sailing Team Le Havre"},{"$f":"IF($L$5=\"Course 1\",Général!J$105,IF($L$5=\"Course 2\",Général!J$107,IF($L$5=\"Course 3\",Général!J$109,Général!#REF!)))","v":"Dublin"},{"$f":"IF($M$5=\"Course 1\",Général!J$113,IF($M$5=\"Course 2\",Général!J$115,IF($M$5=\"Course 3\",Général!J$117,Général!#REF!)))","v":"UBS Lorient 2"},{"$f":"IF($N$5=\"Course 1\",Général!J$121,IF($N$5=\"Course 2\",Général!J$123,IF($N$5=\"Course 3\",Général!J$125,Général!#REF!)))","v":"UBS Lorient 1"},{"$f":"IF($O$5=\"Course 1\",Général!J$129,IF($O$5=\"Course 2\",Général!J$131,IF($O$5=\"Course 3\",Général!J$133,Général!#REF!)))","v":"UNICAEN - ASSUCherbourg"},{"$f":"IF($P$5=\"Course 1\",Général!J$137,IF($P$5=\"Course 2\",Général!J$139,IF($P$5=\"Course 3\",Général!J$141,Général!#REF!)))","v":"UBO 2"},{"$f":"IF($Q$5=\"Course 1\",Général!J$145,IF($Q$5=\"Course 2\",Général!J$147,IF($Q$5=\"Course 3\",Général!J$149,Général!#REF!)))","v":"UBO 2"},{"$f":"IF($R$5=\"Course 1\",Général!J$153,IF($R$5=\"Course 2\",Général!J$155,IF($R$5=\"Course 3\",Général!J$157,Général!#REF!)))","v":"Karlsruhe"},{"$f":"IF($S$5=\"Course 1\",Général!J$161,IF($S$5=\"Course 2\",Général!J$163,IF($S$5=\"Course 3\",Général!J$165,Général!#REF!)))","v":"Southampton"},{"$f":"IF($T$5=\"Course 1\",Général!J$169,IF($T$5=\"Course 2\",Général!J$171,IF($T$5=\"Course 3\",Général!J$173,Général!#REF!)))","v":"Univ. La Rochelle"},null,{"$f":"Général!B18","v":"UBO 2"},4]
[null,null,null,null,null,null,null,null,null,null,null,null,null,null,null,null,null,null,null,null,null,{"$f":"Général!B19","v":"Dublin"},6]
[null,null,null,null,null,null,null,null,null,null,null,null,null,null,null,null,null,null,null,null,null,{"$f":"Général!B20","v":"Univ. Nantes 2"},4]
[null,null,null,null,null,null,null,null,null,null,null,null,null,null,null,null,null,null,null,null,null,{"$f":"Général!B21","v":"UBS Lorient 1"},6]
[null,null,null,null,null,null,null,null,null,null,null,null,null,null,null,null,null,null,null,null,null,{"$f":"Général!B22","v":"UBS Lorient 2"},7]
[null,null,null,null,null,null,null,null,null,null,null,null,null,null,null,null,null,null,null,null,null,{"$f":"Général!B23","v":"Univ.Orléans"},5]
[null,null,null,null,null,null,null,null,null,null,null,null,null,null,null,null,null,null,null,null,null,{"$f":"Général!B24","v":"Univ. La Rochelle"},7]
[null,null,null,null,null,null,null,null,null,null,null,null,null,null,null,null,null,null,null,null,null,{"$f":"Général!B25","v":"AS UB St Brieuc"},18]
[null,null,null,null,null,null,null,null,null,null,null,null,null,null,null,null,null,null,null,null,null,{"$f":"Général!B26","v":"Karlsruhe"},6]
[null,null,null,null,null,null,null,null,null,null,null,null,null,null,null,null,null,null,null,null,null,{"$f":"Général!B27","v":"Univ. Nantes 3"},7]
[null,null,null,null,null,null,null,null,null,null,null,null,null,null,null,null,null,null,null,null,null,{"$f":"Général!B28","v":"Centrales Nantes"},6]
[null,null,null,null,null,null,null,null,null,null,null,null,null,null,null,null,null,null,null,null,null,{"$f":"Général!B29","v":"Southampton"},5]
[null,null,null,null,null,null,null,null,null,null,null,null,null,null,null,null,null,null,null,null,null,{"$f":"Général!#REF!","v":{"$error":"#REF!"}},0]
[null,null,null,null,null,null,null,null,null,null,null,null,null,null,null,null,null,null,null,null,null,{"$f":"Général!#REF!","v":{"$error":"#REF!"}},0]
[null,null,null,null,null,null,null,null,null,null,null,null,null,null,null,null,null,null,null,null,null,{"$f":"Général!#REF!","v":{"$error":"#REF!"}},0]
[null,null,null,null,null,null,null,null,null,null,null,null,null,null,null,null,null,null,null,null,null,{"$f":"Général!#REF!","v":{"$error":"#REF!"}},0]
[null,null,null,null,null,null,null,null,null,null,null,null,null,null,null,null,null,null,null,null,null,{"$f":"Général!#REF!","v":{"$error":"#REF!"}},0]

{"sheet":"Eq.24","index":28,"n_rows":32,"n_cols":23,"rows_kept":32,"cut":false,"hidden":false,"merged":[[14,0,14,1],[15,0,15,1],[8,0,8,1],[9,0,9,1],[10,0,10,1],[11,0,11,1],[12,0,12,1],[13,0,13,1],[7,0,7,1],[0,0,1,5],[0,6,1,10],[3,0,3,1],[4,0,4,1],[5,0,5,1]]}
["Equipage ",null,null,null,null,null,{"$f":"Général!B26","v":"Karlsruhe"},null,null,null,null,null,null,null,null,null,null,null,null,null,null,{"$f":"Général!B3","v":"Univ. Nantes 1"},{"$f":"COUNTIF(C$8:T$16,V1)","v":4}]
[null,null,null,null,null,null,null,null,null,null,null,null,null,null,null,null,null,null,null,null,null,{"$f":"Général!B4","v":"AS Paris 1 Panthéon Sorbonne"},{"$f":"COUNTIF($C$8:$T$16,V2)","v":5}]
[null,null,null,null,null,null,null,null,null,null,null,null,null,null,null,null,null,null,null,null,null,{"$f":"Général!B5","v":"Hannovre"},{"$f":"COUNTIF($C$8:$T$16,V3)","v":5}]
[null,null,"FLIGHT 1","FLIGHT 2","FLIGHT 3","FLIGHT 4","FLIGHT 5","FLIGHT 6","FLIGHT 7","FLIGHT 8","FLIGHT 9","FLIGHT 10","FLIGHT 11","FLIGHT 12","FLIGHT 13","FLIGHT 14","FLIGHT 15","FLIGHT 16","FLIGHT 17","FLIGHT 18",null,{"$f":"Général!B6","v":"IMT Atlantique Nantes 1"},6]
["N° de course",null,{"$f":"IF(COUNTIF(Général!B33:J33,$G$1)=1,\"Course 1\",IF(COUNTIF(Général!B35:J35,$G$1)=1,\"Course 2\",IF(COUNTIF(Général!B37:J37,$G$1)=1,\"Course 3\",\"Course 4\")))","v":"Course 2"},{"$f":"IF(COUNTIF(Général!B41:J41,$G$1)=1,\"Course 1\",IF(COUNTIF(Général!B43:J43,$G$1)=1,\"Course 2\",IF(COUNTIF(Général!B45:J45,$G$1)=1,\"Course 3\",\"Course 4\")))","v":"Course 1"},{"$f":"IF(COUNTIF(Général!B49:J49,$G$1)=1,\"Course 1\",IF(COUNTIF(Général!B51:J51,$G$1)=1,\"Course 2\",IF(COUNTIF(Général!B53:J53,$G$1)=1,\"Course 3\",\"Course 4\")))","v":"Course 2"},{"$f":"IF(COUNTIF(Général!B57:J57,$G$1)=1,\"Course 1\",IF(COUNTIF(Général!B59:J59,$G$1)=1,\"Course 2\",IF(COUNTIF(Général!B61:J61,$G$1)=1,\"Course 3\",\"Course 4\")))","v":"Course 2"},{"$f":"IF(COUNTIF(Général!B65:J65,$G$1)=1,\"Course 1\",IF(COUNTIF(Général!B67:J67,$G$1)=1,\"Course 2\",IF(COUNTIF(Général!B69:J69,$G$1)=1,\"Course 3\",\"Course 4\")))","v":"Course 2"},{"$f":"IF(COUNTIF(Général!B73:J73,$G$1)=1,\"Course 1\",IF(COUNTIF(Général!B75:J75,$G$1)=1,\"Course 2\",IF(COUNTIF(Général!B77:J77,$G$1)=1,\"Course 3\",\"Course 4\")))","v":"Course 2"},{"$f":"IF(COUNTIF(Général!B81:J81,$G$1)=1,\"Course 1\",IF(COUNTIF(Général!B83:J83,$G$1)=1,\"Course 2\",IF(COUNTIF(Général!B85:J85,$G$1)=1,\"Course 3\",\"Course 4\")))","v":"Course 3"},{"$f":"IF(COUNTIF(Général!B89:J89,$G$1)=1,\"Course 1\",IF(COUNTIF(Général!B91:J91,$G$1)=1,\"Course 2\",IF(COUNTIF(Général!B93:J93,$G$1)=1,\"Course 3\",\"Course 4\")))","v":"Course 3"},{"$f":"IF(COUNTIF(Général!B97:J97,$G$1)=1,\"Course 1\",IF(COUNTIF(Général!B99:J99,$G$1)=1,\"Course 2\",IF(COUNTIF(Général!B101:J101,$G$1)=1,\"Course 3\",\"Course 4\")))","v":"Course 3"},{"$f":"IF(COUNTIF(Général!B105:J105,$G$1)=1,\"Course 1\",IF(COUNTIF(Général!B107:J107,$G$1)=1,\"Course 2\",IF(COUNTIF(Général!B109:J109,$G$1)=1,\"Course 3\",\"Course 4\")))","v":"Course 3"},{"$f":"IF(COUNTIF(Général!B113:J113,$G$1)=1,\"Course 1\",IF(COUNTIF(Général!B115:J115,$G$1)=1,\"Course 2\",IF(COUNTIF(Général!B117:J117,$G$1)=1,\"Course 3\",\"Course 4\")))","v":"Course 3"},{"$f":"IF(COUNTIF(Général!B121:J121,$G$1)=1,\"Course 1\",IF(COUNTIF(Général!B123:J123,$G$1)=1,\"Course 2\",IF(COUNTIF(Général!B125:J125,$G$1)=1,\"Course 3\",\"Course 4\")))","v":"Course 1"},{"$f":"IF(COUNTIF(Général!B129:J129,$G$1)=1,\"Course 1\",IF(COUNTIF(Général!B131:J131,$G$1)=1,\"Course 2\",IF(COUNTIF(Général!B133:J133,$G$1)=1,\"Course 3\",\"Course 4\")))","v":"Course 3"},{"$f":"IF(COUNTIF(Général!B137:J137,$G$1)=1,\"Course 1\",IF(COUNTIF(Général!B139:J139,$G$1)=1,\"Course 2\",IF(COUNTIF(Général!B141:J141,$G$1)=1,\"Course 3\",\"Course 4\")))","v":"Course 1"},{"$f":"IF(COUNTIF(Général!B145:J145,$G$1)=1,\"Course 1\",IF(COUNTIF(Général!B147:J147,$G$1)=1,\"Course 2\",IF(COUNTIF(Général!B149:J149,$G$1)=1,\"Course 3\",\"Course 4\")))","v":"Course 3"},{"$f":"IF(COUNTIF(Général!B153:J153,$G$1)=1,\"Course 1\",IF(COUNTIF(Général!B155:J155,$G$1)=1,\"Course 2\",IF(COUNTIF(Général!B157:J157,$G$1)=1,\"Course 3\",\"Course 4\")))","v":"Course 1"},{"$f":"IF(COUNTIF(Général!B161:J161,$G$1)=1,\"Course 1\",IF(COUNTIF(Général!B163:J163,$G$1)=1,\"Course 2\",IF(COUNTIF(Général!B165:J165,$G$1)=1,\"Course 3\",\"Course 4\")))","v":"Course 1"},{"$f":"IF(COUNTIF(Général!B169:J169,$G$1)=1,\"Course 1\",IF(COUNTIF(Général!B171:J171,$G$1)=1,\"Course 2\",IF(COUNTIF(Général!B173:J173,$G$1)=1,\"Course 3\",\"Course 4\")))","v":"Course 2"},null,{"$f":"Général!B7","v":"ENSTA Bretagne 2"},7]
["Bateau",null,{"$f":"IF(COUNTIF(Général!B33:B38,$G$1)=1,\"Boat 1\",IF(COUNTIF(Général!C33:C38,$G$1)=1,\"Boat 2\",IF(COUNTIF(Général!D33:D38,$G$1)=1,\"Boat 3\", IF(COUNTIF(Général!E33:E38,$G$1)=1,\"Boat 4\", IF(COUNTIF(Général!F33:F38,$G$1)=1,\"Boat 5\", IF(COUNTIF(Général!G33:G38,$G$1)=1,\"Boat 6\", IF(COUNTIF(Général!H33:H38,$G$1)=1,\"Boat 7\",IF(COUNTIF(Général!I33:I38,$G$1)=1,\"Boat 8\",\"Boat 9\"))))))))","v":"Boat 6"},{"$f":"IF(COUNTIF(Général!B41:B46,$G$1)=1,\"Boat 1\",IF(COUNTIF(Général!C41:C46,$G$1)=1,\"Boat 2\",IF(COUNTIF(Général!D41:D46,$G$1)=1,\"Boat 3\", IF(COUNTIF(Général!E41:E46,$G$1)=1,\"Boat 4\", IF(COUNTIF(Général!F41:F46,$G$1)=1,\"Boat 5\", IF(COUNTIF(Général!G41:G46,$G$1)=1,\"Boat 6\", IF(COUNTIF(Général!H41:H46,$G$1)=1,\"Boat 7\",IF(COUNTIF(Général!I33:I38,$G$1)=1,\"Boat 8\",\"Boat 9\"))))))))","v":"Boat 6"},{"$f":"IF(COUNTIF(Général!B49:B54,$G$1)=1,\"Boat 1\",IF(COUNTIF(Général!C49:C54,$G$1)=1,\"Boat 2\",IF(COUNTIF(Général!D49:D54,$G$1)=1,\"Boat 3\", IF(COUNTIF(Général!E49:E54,$G$1)=1,\"Boat 4\", IF(COUNTIF(Général!F49:F54,$G$1)=1,\"Boat 5\", IF(COUNTIF(Général!G49:G54,$G$1)=1,\"Boat 6\", IF(COUNTIF(Général!H49:H54,$G$1)=1,\"Boat 7\",IF(COUNTIF(Général!I33:I38,$G$1)=1,\"Boat 8\",\"Boat 9\"))))))))","v":"Boat 2"},{"$f":"IF(COUNTIF(Général!B57:B62,$G$1)=1,\"Boat 1\",IF(COUNTIF(Général!C57:C62,$G$1)=1,\"Boat 2\",IF(COUNTIF(Général!D57:D62,$G$1)=1,\"Boat 3\", IF(COUNTIF(Général!E57:E62,$G$1)=1,\"Boat 4\", IF(COUNTIF(Général!F57:F62,$G$1)=1,\"Boat 5\", IF(COUNTIF(Général!G57:G62,$G$1)=1,\"Boat 6\", IF(COUNTIF(Général!H57:H62,$G$1)=1,\"Boat 7\",IF(COUNTIF(Général!I33:I38,$G$1)=1,\"Boat 8\",\"Boat 9\"))))))))","v":"Boat 3"},{"$f":"IF(COUNTIF(Général!B65:B70,$G$1)=1,\"Boat 1\",IF(COUNTIF(Général!C65:C70,$G$1)=1,\"Boat 2\",IF(COUNTIF(Général!D65:D70,$G$1)=1,\"Boat 3\", IF(COUNTIF(Général!E65:E70,$G$1)=1,\"Boat 4\", IF(COUNTIF(Général!F65:F70,$G$1)=1,\"Boat 5\", IF(COUNTIF(Général!G65:G70,$G$1)=1,\"Boat 6\", IF(COUNTIF(Général!H65:H70,$G$1)=1,\"Boat 7\",IF(COUNTIF(Général!I33:I38,$G$1)=1,\"Boat 8\",\"Boat 9\"))))))))","v":"Boat 3"},{"$f":"IF(COUNTIF(Général!B73:B78,$G$1)=1,\"Boat 1\",IF(COUNTIF(Général!C73:C78,$G$1)=1,\"Boat 2\",IF(COUNTIF(Général!D73:D78,$G$1)=1,\"Boat 3\", IF(COUNTIF(Général!E73:E78,$G$1)=1,\"Boat 4\", IF(COUNTIF(Général!F73:F78,$G$1)=1,\"Boat 5\", IF(COUNTIF(Général!G73:G78,$G$1)=1,\"Boat 6\", IF(COUNTIF(Général!H73:H78,$G$1)=1,\"Boat 7\",IF(COUNTIF(Général!I33:I38,$G$1)=1,\"Boat 8\",\"Boat 9\"))))))))","v":"Boat 9"},{"$f":"IF(COUNTIF(Général!B81:B86,$G$1)=1,\"Boat 1\",IF(COUNTIF(Général!C81:C86,$G$1)=1,\"Boat 2\",IF(COUNTIF(Général!D81:D86,$G$1)=1,\"Boat 3\", IF(COUNTIF(Général!E81:E86,$G$1)=1,\"Boat 4\", IF(COUNTIF(Général!F81:F86,$G$1)=1,\"Boat 5\", IF(COUNTIF(Général!G81:G86,$G$1)=1,\"Boat 6\", IF(COUNTIF(Général!H81:H86,$G$1)=1,\"Boat 7\",IF(COUNTIF(Général!I33:I38,$G$1)=1,\"Boat 8\",\"Boat 9\"))))))))","v":"Boat 9"},{"$f":"IF(COUNTIF(Général!B89:B94,$G$1)=1,\"Boat 1\",IF(COUNTIF(Général!C89:C94,$G$1)=1,\"Boat 2\",IF(COUNTIF(Général!D89:D94,$G$1)=1,\"Boat 3\", IF(COUNTIF(Général!E89:E94,$G$1)=1,\"Boat 4\", IF(COUNTIF(Général!F89:F94,$G$1)=1,\"Boat 5\", IF(COUNTIF(Général!G89:G94,$G$1)=1,\"Boat 6\", IF(COUNTIF(Général!H89:H94,$G$1)=1,\"Boat 7\",IF(COUNTIF(Général!I33:I38,$G$1)=1,\"Boat 8\",\"Boat 9\"))))))))","v":"Boat 4"},{"$f":"IF(COUNTIF(Général!B97:B102,$G$1)=1,\"Boat 1\",IF(COUNTIF(Général!C97:C102,$G$1)=1,\"Boat 2\",IF(COUNTIF(Général!D97:D102,$G$1)=1,\"Boat 3\", IF(COUNTIF(Général!E97:E102,$G$1)=1,\"Boat 4\", IF(COUNTIF(Général!F97:F102,$G$1)=1,\"Boat 5\", IF(COUNTIF(Général!G97:G102,$G$1)=1,\"Boat 6\", IF(COUNTIF(Général!H97:H102,$G$1)=1,\"Boat 7\",IF(COUNTIF(Général!I33:I38,$G$1)=1,\"Boat 8\",\"Boat 9\"))))))))","v":"Boat 6"},{"$f":"IF(COUNTIF(Général!B105:B110,$G$1)=1,\"Boat 1\",IF(COUNTIF(Général!C105:C110,$G$1)=1,\"Boat 2\",IF(COUNTIF(Général!D105:D110,$G$1)=1,\"Boat 3\", IF(COUNTIF(Général!E105:E110,$G$1)=1,\"Boat 4\", IF(COUNTIF(Général!F105:F110,$G$1)=1,\"Boat 5\", IF(COUNTIF(Général!G105:G110,$G$1)=1,\"Boat 6\", IF(COUNTIF(Général!H105:H110,$G$1)=1,\"Boat 7\",IF(COUNTIF(Général!I33:I38,$G$1)=1,\"Boat 8\",\"Boat 9\"))))))))","v":"Boat 7"},{"$f":"IF(COUNTIF(Général!B113:B118,$G$1)=1,\"Boat 1\",IF(COUNTIF(Général!C113:C118,$G$1)=1,\"Boat 2\",IF(COUNTIF(Général!C113:D118,$G$1)=1,\"Boat 3\", IF(COUNTIF(Général!C113:E118,$G$1)=1,\"Boat 4\", IF(COUNTIF(Général!F113:F118,$G$1)=1,\"Boat 5\", IF(COUNTIF(Général!G113:G118,$G$1)=1,\"Boat 6\", IF(COUNTIF(Général!H113:H118,$G$1)=1,\"Boat 7\",IF(COUNTIF(Général!I33:I38,$G$1)=1,\"Boat 8\",\"Boat 9\"))))))))","v":"Boat 1"},{"$f":"IF(COUNTIF(Général!B121:B126,$G$1)=1,\"Boat 1\",IF(COUNTIF(Général!C121:C126,$G$1)=1,\"Boat 2\",IF(COUNTIF(Général!D121:D126,$G$1)=1,\"Boat 3\", IF(COUNTIF(Général!E121:E126,$G$1)=1,\"Boat 4\", IF(COUNTIF(Général!F121:F126,$G$1)=1,\"Boat 5\", IF(COUNTIF(Général!G121:G126,$G$1)=1,\"Boat 6\", IF(COUNTIF(Général!H121:H126,$G$1)=1,\"Boat 7\",IF(COUNTIF(Général!I33:I38,$G$1)=1,\"Boat 8\",\"Boat 9\"))))))))","v":"Boat 1"},{"$f":"IF(COUNTIF(Général!B129:B134,$G$1)=1,\"Boat 1\",IF(COUNTIF(Général!C129:C134,$G$1)=1,\"Boat 2\",IF(COUNTIF(Général!D131:D134,$G$1)=1,\"Boat 3\", IF(COUNTIF(Général!E129:E134,$G$1)=1,\"Boat 4\", IF(COUNTIF(Général!F129:F134,$G$1)=1,\"Boat 5\", IF(COUNTIF(Général!G129:G134,$G$1)=1,\"Boat 6\", IF(COUNTIF(Général!H129:H134,$G$1)=1,\"Boat 7\",IF(COUNTIF(Général!I33:I38,$G$1)=1,\"Boat 8\",\"Boat 9\"))))))))","v":"Boat 5"},{"$f":"IF(COUNTIF(Général!B137:B142,$G$1)=1,\"Boat 1\",IF(COUNTIF(Général!C137:C142,$G$1)=1,\"Boat 2\",IF(COUNTIF(Général!D137:D142,$G$1)=1,\"Boat 3\", IF(COUNTIF(Général!E137:E142,$G$1)=1,\"Boat 4\", IF(COUNTIF(Général!F145:F150,$G$1)=1,\"Boat 5\", IF(COUNTIF(Général!G145:G150,$G$1)=1,\"Boat 6\", IF(COUNTIF(Général!H145:H150,$G$1)=1,\"Boat 7\",IF(COUNTIF(Général!I33:I38,$G$1)=1,\"Boat 8\",\"Boat 9\"))))))))","v":"Boat 9"},{"$f":"IF(COUNTIF(Général!B145:B150,$G$1)=1,\"Boat 1\",IF(COUNTIF(Général!C145:C150,$G$1)=1,\"Boat 2\",IF(COUNTIF(Général!D145:D150,$G$1)=1,\"Boat 3\", IF(COUNTIF(Général!E145:E150,$G$1)=1,\"Boat 4\", IF(COUNTIF(Général!F145:F150,$G$1)=1,\"Boat 5\", IF(COUNTIF(Général!G145:G150,$G$1)=1,\"Boat 6\", IF(COUNTIF(Général!H145:H150,$G$1)=1,\"Boat 7\",IF(COUNTIF(Général!I33:I38,$G$1)=1,\"Boat 8\",\"Boat 9\"))))))))","v":"Boat 9"},{"$f":"IF(COUNTIF(Général!B153:B158,$G$1)=1,\"Boat 1\",IF(COUNTIF(Général!C153:C158,$G$1)=1,\"Boat 2\",IF(COUNTIF(Général!D153:D158,$G$1)=1,\"Boat 3\", IF(COUNTIF(Général!E153:E158,$G$1)=1,\"Boat 4\", IF(COUNTIF(Général!F153:F158,$G$1)=1,\"Boat 5\", IF(COUNTIF(Général!G153:G158,$G$1)=1,\"Boat 6\", IF(COUNTIF(Général!H153:H158,$G$1)=1,\"Boat 7\",IF(COUNTIF(Général!I33:I38,$G$1)=1,\"Boat 8\",\"Boat 9\"))))))))","v":"Boat 9"},{"$f":"IF(COUNTIF(Général!B161:B166,$G$1)=1,\"Boat 1\",IF(COUNTIF(Général!C161:C166,$G$1)=1,\"Boat 2\",IF(COUNTIF(Général!D161:D166,$G$1)=1,\"Boat 3\", IF(COUNTIF(Général!E161:E166,$G$1)=1,\"Boat 4\", IF(COUNTIF(Général!F161:F166,$G$1)=1,\"Boat 5\", IF(COUNTIF(Général!G161:G166,$G$1)=1,\"Boat 6\", IF(COUNTIF(Général!H161:H166,$G$1)=1,\"Boat 7\",IF(COUNTIF(Général!I33:I38,$G$1)=1,\"Boat 8\",\"Boat 9\"))))))))","v":"Boat 3"},{"$f":"IF(COUNTIF(Général!B169:B174,$G$1)=1,\"Boat 1\",IF(COUNTIF(Général!C169:C174,$G$1)=1,\"Boat 2\",IF(COUNTIF(Général!D169:D174,$G$1)=1,\"Boat 3\", IF(COUNTIF(Général!E169:E174,$G$1)=1,\"Boat 4\", IF(COUNTIF(Général!F169:F174,$G$1)=1,\"Boat 5\", IF(COUNTIF(Général!G169:G174,$G$1)=1,\"Boat 6\", IF(COUNTIF(Général!H169:H174,$G$1)=1,\"Boat 7\",IF(COUNTIF(Général!I33:I38,$G$1)=1,\"Boat 8\",\"Boat 9\"))))))))","v":"Boat 9"},null,{"$f":"Général!B8","v":"IMT Atlantique Nantes 2"},4]
[null,null,null,null,null,null,null,null,null,null,null,null,null,null,null,null,null,null,null,null,null,{"$f":"Général!B9","v":"Hambourg"},5]
["1er Equipage",null,{"$f":"IF($C$5=\"Course 1\",Général!B33,IF($C$5=\"Course 2\",Général!B35,IF($C$5=\"Course 3\",Général!B37,Général!#REF!)))","v":"Univ. Nantes 1"},{"$f":"IF($D$5=\"Course 1\",Général!B41,IF($D$5=\"Course 2\",Général!B43,IF($D$5=\"Course 3\",Général!B45,Général!#REF!)))","v":"ENSTA Paris"},{"$f":"IF($E$5=\"Course 1\",Général!B49,IF($E$5=\"Course 2\",Général!B51,IF($E$5=\"Course 3\",Général!B53,Général!#REF!)))","v":"IMT Atlantique Nantes 2"},{"$f":"IF($F$5=\"Course 1\",Général!B$57,IF($F$5=\"Course 2\",Général!B$59,IF($F$5=\"Course 3\",Général!B$61,Général!#REF!)))","v":"Univ.Orléans"},{"$f":"IF($G$5=\"Course 1\",Général!B$65,IF($G$5=\"Course 2\",Général!B$67,IF($G$5=\"Course 3\",Général!B$69,Général!#REF!)))","v":"AS UB St Brieuc"},{"$f":"IF($H$5=\"Course 1\",Général!B$73,IF($H$5=\"Course 2\",Général!B$75,IF($H$5=\"Course 3\",Général!B$77,Général!#REF!)))","v":"IMT Atlantique Brest"},{"$f":"IF($I$5=\"Course 1\",Général!B$81,IF($I$5=\"Course 2\",Général!B$83,IF($I$5=\"Course 3\",Général!B$85,Général!#REF!)))","v":"Univ. Nantes 3"},{"$f":"IF($J$5=\"Course 1\",Général!B$89,IF($J$5=\"Course 2\",Général!B$91,IF($J$5=\"Course 3\",Général!B$93,Général!#REF!)))","v":"AS Paris 1 Panthéon Sorbonne"},{"$f":"IF($K$5=\"Course 1\",Général!B$97,IF($K$5=\"Course 2\",Général!B$99,IF($K$5=\"Course 3\",Général!B$101,Général!#REF!)))","v":"Hambourg"},{"$f":"IF($L$5=\"Course 1\",Général!B$105,IF($L$5=\"Course 2\",Général!B$107,IF($L$5=\"Course 3\",Général!B$109,Général!#REF!)))","v":"Hambourg"},{"$f":"IF($M$5=\"Course 1\",Général!B$113,IF($M$5=\"Course 2\",Général!B$115,IF($M$5=\"Course 3\",Général!B$117,Général!#REF!)))","v":"Karlsruhe"},{"$f":"IF($N$5=\"Course 1\",Général!B$121,IF($N$5=\"Course 2\",Général!B$123,IF($N$5=\"Course 3\",Général!B$125,Général!#REF!)))","v":"Karlsruhe"},{"$f":"IF($O$5=\"Course 1\",Général!B$129,IF($O$5=\"Course 2\",Général!B$131,IF($O$5=\"Course 3\",Général!B$133,Général!#REF!)))","v":"UBO 1"},{"$f":"IF($P$5=\"Course 1\",Général!B$137,IF($P$5=\"Course 2\",Général!B$139,IF($P$5=\"Course 3\",Général!B$141,Général!#REF!)))","v":"UBS Lorient 1"},{"$f":"IF($Q$5=\"Course 1\",Général!B$145,IF($Q$5=\"Course 2\",Général!B$147,IF($Q$5=\"Course 3\",Général!B$149,Général!#REF!)))","v":"Hannovre"},{"$f":"IF($R$5=\"Course 1\",Général!B$153,IF($R$5=\"Course 2\",Général!B$155,IF($R$5=\"Course 3\",Général!B$157,Général!#REF!)))","v":"HYDRO Sailing Team Le Havre"},{"$f":"IF($S$5=\"Course 1\",Général!B$161,IF($S$5=\"Course 2\",Général!B$163,IF($S$5=\"Course 3\",Général!B$165,Général!#REF!)))","v":"AS UB St Brieuc"},{"$f":"IF($T$5=\"Course 1\",Général!B$169,IF($T$5=\"Course 2\",Général!B$171,IF($T$5=\"Course 3\",Général!B$173,Général!#REF!)))","v":"UBO 2"},null,{"$f":"Général!B10","v":"EGSI La Rochelle"},7]
["2nd Equipage",null,{"$f":"IF($C$5=\"Course 1\",Général!C33,IF($C$5=\"Course 2\",Général!C35,IF($C$5=\"Course 3\",Général!C37,Général!#REF!)))","v":"Hannovre"},{"$f":"IF($D$5=\"Course 1\",Général!C41,IF($D$5=\"Course 2\",Général!C43,IF($D$5=\"Course 3\",Général!C45,Général!#REF!)))","v":"UNICAEN - ASSUCherbourg"},{"$f":"IF($E$5=\"Course 1\",Général!C49,IF($E$5=\"Course 2\",Général!C51,IF($E$5=\"Course 3\",Général!C53,Général!#REF!)))","v":"Karlsruhe"},{"$f":"IF($F$5=\"Course 1\",Général!C$57,IF($F$5=\"Course 2\",Général!C$59,IF($F$5=\"Course 3\",Général!C$61,Général!#REF!)))","v":"AS Paris 1 Panthéon Sorbonne"},{"$f":"IF($G$5=\"Course 1\",Général!C$65,IF($G$5=\"Course 2\",Général!C$67,IF($G$5=\"Course 3\",Général!C$69,Général!#REF!)))","v":"AS Paris 1 Panthéon Sorbonne"},{"$f":"IF($H$5=\"Course 1\",Général!C$73,IF($H$5=\"Course 2\",Général!C$75,IF($H$5=\"Course 3\",Général!C$77,Général!#REF!)))","v":"ASUL Lannion"},{"$f":"IF($I$5=\"Course 1\",Général!C$81,IF($I$5=\"Course 2\",Général!C$83,IF($I$5=\"Course 3\",Général!C$85,Général!#REF!)))","v":"Southampton"},{"$f":"IF($J$5=\"Course 1\",Général!C$89,IF($J$5=\"Course 2\",Général!C$91,IF($J$5=\"Course 3\",Général!C$93,Général!#REF!)))","v":"UBO 1"},{"$f":"IF($K$5=\"Course 1\",Général!C$97,IF($K$5=\"Course 2\",Général!C$99,IF($K$5=\"Course 3\",Général!C$101,Général!#REF!)))","v":"EGSI La Rochelle"},{"$f":"IF($L$5=\"Course 1\",Général!C$105,IF($L$5=\"Course 2\",Général!C$107,IF($L$5=\"Course 3\",Général!C$109,Général!#REF!)))","v":"UBO 1"},{"$f":"IF($M$5=\"Course 1\",Général!C$113,IF($M$5=\"Course 2\",Général!C$115,IF($M$5=\"Course 3\",Général!C$117,Général!#REF!)))","v":"ENSTA Bretagne 1"},{"$f":"IF($N$5=\"Course 1\",Général!C$121,IF($N$5=\"Course 2\",Général!C$123,IF($N$5=\"Course 3\",Général!C$125,Général!#REF!)))","v":"HYDRO Sailing Team Le Havre"},{"$f":"IF($O$5=\"Course 1\",Général!C$129,IF($O$5=\"Course 2\",Général!C$131,IF($O$5=\"Course 3\",Général!C$133,Général!#REF!)))","v":"Univ. La Rochelle"},{"$f":"IF($P$5=\"Course 1\",Général!C$137,IF($P$5=\"Course 2\",Général!C$139,IF($P$5=\"Course 3\",Général!C$141,Général!#REF!)))","v":"Univ. La Rochelle"},{"$f":"IF($Q$5=\"Course 1\",Général!C$145,IF($Q$5=\"Course 2\",Général!C$147,IF($Q$5=\"Course 3\",Général!C$149,Général!#REF!)))","v":"UBS Lorient 1"},{"$f":"IF($R$5=\"Course 1\",Général!C$153,IF($R$5=\"Course 2\",Général!C$155,IF($R$5=\"Course 3\",Général!C$157,Général!#REF!)))","v":"Univ. Nantes 3"},{"$f":"IF($S$5=\"Course 1\",Général!C$161,IF($S$5=\"Course 2\",Général!C$163,IF($S$5=\"Course 3\",Général!C$165,Général!#REF!)))","v":"AS Paris 1 Panthéon Sorbonne"},{"$f":"IF($T$5=\"Course 1\",Général!C$169,IF($T$5=\"Course 2\",Général!C$171,IF($T$5=\"Course 3\",Général!C$173,Général!#REF!)))","v":"Dublin"},null,{"$f":"Général!B11","v":"HYDRO Sailing Team Le Havre"},5]
["3ème Equipage",null,{"$f":"IF($C$5=\"Course 1\",Général!D33,IF($C$5=\"Course 2\",Général!D35,IF($C$5=\"Course 3\",Général!D37,Général!#REF!)))","v":"IMT Atlantique Brest"},{"$f":"IF($D$5=\"Course 1\",Général!D41,IF($D$5=\"Course 2\",Général!D43,IF($D$5=\"Course 3\",Général!D45,Général!#REF!)))","v":"Univ. Nantes 3"},{"$f":"IF($E$5=\"Course 1\",Général!D49,IF($E$5=\"Course 2\",Général!D51,IF($E$5=\"Course 3\",Général!D53,Général!#REF!)))","v":"Dublin"},{"$f":"IF($F$5=\"Course 1\",Général!D$57,IF($F$5=\"Course 2\",Général!D$59,IF($F$5=\"Course 3\",Général!D$61,Général!#REF!)))","v":"Karlsruhe"},{"$f":"IF($G$5=\"Course 1\",Général!D$65,IF($G$5=\"Course 2\",Général!D$67,IF($G$5=\"Course 3\",Général!D$69,Général!#REF!)))","v":"Karlsruhe"},{"$f":"IF($H$5=\"Course 1\",Général!D$73,IF($H$5=\"Course 2\",Général!D$75,IF($H$5=\"Course 3\",Général!D$77,Général!#REF!)))","v":"Centrales Nantes"},{"$f":"IF($I$5=\"Course 1\",Général!D$81,IF($I$5=\"Course 2\",Général!D$83,IF($I$5=\"Course 3\",Général!D$85,Général!#REF!)))","v":"ASUL Lannion"},{"$f":"IF($J$5=\"Course 1\",Général!D$89,IF($J$5=\"Course 2\",Général!D$91,IF($J$5=\"Course 3\",Général!D$93,Général!#REF!)))","v":"ENSTA Paris"},{"$f":"IF($K$5=\"Course 1\",Général!D$97,IF($K$5=\"Course 2\",Général!D$99,IF($K$5=\"Course 3\",Général!D$101,Général!#REF!)))","v":"Southampton"},{"$f":"IF($L$5=\"Course 1\",Général!D$105,IF($L$5=\"Course 2\",Général!D$107,IF($L$5=\"Course 3\",Général!D$109,Général!#REF!)))","v":"UNICAEN - ASSUCherbourg"},{"$f":"IF($M$5=\"Course 1\",Général!D$113,IF($M$5=\"Course 2\",Général!D$115,IF($M$5=\"Course 3\",Général!D$117,Général!#REF!)))","v":"UNICAEN - ASSUCherbourg"},{"$f":"IF($N$5=\"Course 1\",Général!D$121,IF($N$5=\"Course 2\",Général!D$123,IF($N$5=\"Course 3\",Général!D$125,Général!#REF!)))","v":"AS UB St Brieuc"},{"$f":"IF($O$5=\"Course 1\",Général!D$129,IF($O$5=\"Course 2\",Général!D$131,IF($O$5=\"Course 3\",Général!D$133,Général!#REF!)))","v":"UBS Lorient 2"},{"$f":"IF($P$5=\"Course 1\",Général!D$137,IF($P$5=\"Course 2\",Général!D$139,IF($P$5=\"Course 3\",Général!D$141,Général!#REF!)))","v":"ENSTA Bretagne 2"},{"$f":"IF($Q$5=\"Course 1\",Général!D$145,IF($Q$5=\"Course 2\",Général!D$147,IF($Q$5=\"Course 3\",Général!D$149,Général!#REF!)))","v":"ENSTA Bretagne 2"},{"$f":"IF($R$5=\"Course 1\",Général!D$153,IF($R$5=\"Course 2\",Général!D$155,IF($R$5=\"Course 3\",Général!D$157,Général!#REF!)))","v":"Univ.Orléans"},{"$f":"IF($S$5=\"Course 1\",Général!D$161,IF($S$5=\"Course 2\",Général!D$163,IF($S$5=\"Course 3\",Général!D$165,Général!#REF!)))","v":"Karlsruhe"},{"$f":"IF($T$5=\"Course 1\",Général!D$169,IF($T$5=\"Course 2\",Général!D$171,IF($T$5=\"Course 3\",Général!D$173,Général!#REF!)))","v":"Univ. Nantes 3"},null,{"$f":"Général!B12","v":"UNICAEN - ASSUCherbourg"},6]
["4ème Equipage",null,{"$f":"IF($C$5=\"Course 1\",Général!E33,IF($C$5=\"Course 2\",Général!E35,IF($C$5=\"Course 3\",Général!E37,Général!#REF!)))","v":"AS UB St Brieuc"},{"$f":"IF($D$5=\"Course 1\",Général!E41,IF($D$5=\"Course 2\",Général!E43,IF($D$5=\"Course 3\",Général!E45,Général!#REF!)))","v":"Dublin"},{"$f":"IF($E$5=\"Course 1\",Général!E49,IF($E$5=\"Course 2\",Général!E51,IF($E$5=\"Course 3\",Général!E53,Général!#REF!)))","v":"UBO 2"},{"$f":"IF($F$5=\"Course 1\",Général!E$57,IF($F$5=\"Course 2\",Général!E$59,IF($F$5=\"Course 3\",Général!E$61,Général!#REF!)))","v":"ASUL Lannion"},{"$f":"IF($G$5=\"Course 1\",Général!E$65,IF($G$5=\"Course 2\",Général!E$67,IF($G$5=\"Course 3\",Général!E$69,Général!#REF!)))","v":"EGSI La Rochelle"},{"$f":"IF($H$5=\"Course 1\",Général!E$73,IF($H$5=\"Course 2\",Général!E$75,IF($H$5=\"Course 3\",Général!E$77,Général!#REF!)))","v":"Hannovre"},{"$f":"IF($I$5=\"Course 1\",Général!E$81,IF($I$5=\"Course 2\",Général!E$83,IF($I$5=\"Course 3\",Général!E$85,Général!#REF!)))","v":"ENSTA Bretagne 1"},{"$f":"IF($J$5=\"Course 1\",Général!E$89,IF($J$5=\"Course 2\",Général!E$91,IF($J$5=\"Course 3\",Général!E$93,Général!#REF!)))","v":"Karlsruhe"},{"$f":"IF($K$5=\"Course 1\",Général!E$97,IF($K$5=\"Course 2\",Général!E$99,IF($K$5=\"Course 3\",Général!E$101,Général!#REF!)))","v":"Univ.Orléans"},{"$f":"IF($L$5=\"Course 1\",Général!E$105,IF($L$5=\"Course 2\",Général!E$107,IF($L$5=\"Course 3\",Général!E$109,Général!#REF!)))","v":"ENSTA Paris"},{"$f":"IF($M$5=\"Course 1\",Général!E$113,IF($M$5=\"Course 2\",Général!E$115,IF($M$5=\"Course 3\",Général!E$117,Général!#REF!)))","v":"ENSTA Bretagne 2"},{"$f":"IF($N$5=\"Course 1\",Général!E$121,IF($N$5=\"Course 2\",Général!E$123,IF($N$5=\"Course 3\",Général!E$125,Général!#REF!)))","v":"ENSTA Bretagne 2"},{"$f":"IF($O$5=\"Course 1\",Général!E$129,IF($O$5=\"Course 2\",Général!E$131,IF($O$5=\"Course 3\",Général!E$133,Général!#REF!)))","v":"AS UB St Brieuc"},{"$f":"IF($P$5=\"Course 1\",Général!E$137,IF($P$5=\"Course 2\",Général!E$139,IF($P$5=\"Course 3\",Général!E$141,Général!#REF!)))","v":"EGSI La Rochelle"},{"$f":"IF($Q$5=\"Course 1\",Général!E$145,IF($Q$5=\"Course 2\",Général!E$147,IF($Q$5=\"Course 3\",Général!E$149,Général!#REF!)))","v":"UBO 1"},{"$f":"IF($R$5=\"Course 1\",Général!E$153,IF($R$5=\"Course 2\",Général!E$155,IF($R$5=\"Course 3\",Général!E$157,Général!#REF!)))","v":"IMT Atlantique Nantes 1"},{"$f":"IF($S$5=\"Course 1\",Général!E$161,IF($S$5=\"Course 2\",Général!E$163,IF($S$5=\"Course 3\",Général!E$165,Général!#REF!)))","v":"Univ. Nantes 2"},{"$f":"IF($T$5=\"Course 1\",Général!E$169,IF($T$5=\"Course 2\",Général!E$171,IF($T$5=\"Course 3\",Général!E$173,Général!#REF!)))","v":"Univ.Orléans"},null,{"$f":"Général!B13","v":"UBO 1"},6]
["5ème Equipage",null,{"$f":"IF($C$5=\"Course 1\",Général!F33,IF($C$5=\"Course 2\",Général!F35,IF($C$5=\"Course 3\",Général!F37,Général!#REF!)))","v":"EGSI La Rochelle"},{"$f":"IF($D$5=\"Course 1\",Général!F41,IF($D$5=\"Course 2\",Général!F43,IF($D$5=\"Course 3\",Général!F45,Général!#REF!)))","v":"ENSTA Bretagne 2"},{"$f":"IF($E$5=\"Course 1\",Général!F49,IF($E$5=\"Course 2\",Général!F51,IF($E$5=\"Course 3\",Général!F53,Général!#REF!)))","v":"IMT Atlantique Nantes 1"},{"$f":"IF($F$5=\"Course 1\",Général!F$57,IF($F$5=\"Course 2\",Général!F$59,IF($F$5=\"Course 3\",Général!F$61,Général!#REF!)))","v":"Centrales Nantes"},{"$f":"IF($G$5=\"Course 1\",Général!F$65,IF($G$5=\"Course 2\",Général!F$67,IF($G$5=\"Course 3\",Général!F$69,Général!#REF!)))","v":"UBS Lorient 2"},{"$f":"IF($H$5=\"Course 1\",Général!F$73,IF($H$5=\"Course 2\",Général!F$75,IF($H$5=\"Course 3\",Général!F$77,Général!#REF!)))","v":"UBO 2"},{"$f":"IF($I$5=\"Course 1\",Général!F$81,IF($I$5=\"Course 2\",Général!F$83,IF($I$5=\"Course 3\",Général!F$85,Général!#REF!)))","v":"ENSTA Paris"},{"$f":"IF($J$5=\"Course 1\",Général!F$89,IF($J$5=\"Course 2\",Général!F$91,IF($J$5=\"Course 3\",Général!F$93,Général!#REF!)))","v":"Univ. La Rochelle"},{"$f":"IF($K$5=\"Course 1\",Général!F$97,IF($K$5=\"Course 2\",Général!F$99,IF($K$5=\"Course 3\",Général!F$101,Général!#REF!)))","v":"IMT Atlantique Nantes 2"},{"$f":"IF($L$5=\"Course 1\",Général!F$105,IF($L$5=\"Course 2\",Général!$F107,IF($L$5=\"Course 3\",Général!F$109,Général!#REF!)))","v":"UBS Lorient 1"},{"$f":"IF($M$5=\"Course 1\",Général!F$113,IF($M$5=\"Course 2\",Général!F$115,IF($M$5=\"Course 3\",Général!F$117,Général!#REF!)))","v":"IMT Atlantique Nantes 1"},{"$f":"IF($N$5=\"Course 1\",Général!F$121,IF($N$5=\"Course 2\",Général!F$123,IF($N$5=\"Course 3\",Général!F$125,Général!#REF!)))","v":"Univ. Nantes 3"},{"$f":"IF($O$5=\"Course 1\",Général!F$129,IF($O$5=\"Course 2\",Général!F$131,IF($O$5=\"Course 3\",Général!F$133,Général!#REF!)))","v":"Karlsruhe"},{"$f":"IF($P$5=\"Course 1\",Général!F$137,IF($P$5=\"Course 2\",Général!F$139,IF($P$5=\"Course 3\",Général!F$141,Général!#REF!)))","v":"Karlsruhe"},{"$f":"IF($Q$5=\"Course 1\",Général!F$145,IF($Q$5=\"Course 2\",Général!F$147,IF($Q$5=\"Course 3\",Général!F$149,Général!#REF!)))","v":"UBS Lorient 2"},{"$f":"IF($R$5=\"Course 1\",Général!F$153,IF($R$5=\"Course 2\",Général!F$155,IF($R$5=\"Course 3\",Général!F$157,Général!#REF!)))","v":"UBS Lorient 2"},{"$f":"IF($S$5=\"Course 1\",Général!F$161,IF($S$5=\"Course 2\",Général!F$163,IF($S$5=\"Course 3\",Général!F$165,Général!#REF!)))","v":"ENSTA Paris"},{"$f":"IF($T$5=\"Course 1\",Général!F$169,IF($T$5=\"Course 2\",Général!F$171,IF($T$5=\"Course 3\",Général!F$173,Général!#REF!)))","v":"ENSTA Bretagne 1"},null,{"$f":"Général!B14","v":"ENSTA Bretagne 1"},6]
["6ème Equipage",null,{"$f":"IF($C$5=\"Course 1\",Général!G33,IF($C$5=\"Course 2\",Général!G35,IF($C$5=\"Course 3\",Général!G37,Général!#REF!)))","v":"Karlsruhe"},{"$f":"IF($D$5=\"Course 1\",Général!G41,IF($D$5=\"Course 2\",Général!G43,IF($D$5=\"Course 3\",Général!G45,Général!#REF!)))","v":"Karlsruhe"},{"$f":"IF($E$5=\"Course 1\",Général!G49,IF($E$5=\"Course 2\",Général!G51,IF($E$5=\"Course 3\",Général!G53,Général!#REF!)))","v":"Univ. Nantes 2"},{"$f":"IF($F$5=\"Course 1\",Général!G$57,IF($F$5=\"Course 2\",Général!G$59,IF($F$5=\"Course 3\",Général!G$61,Général!#REF!)))","v":"Dublin"},{"$f":"IF($G$5=\"Course 1\",Général!G$65,IF($G$5=\"Course 2\",Général!G$67,IF($G$5=\"Course 3\",Général!G$69,Général!#REF!)))","v":"UBO 2"},{"$f":"IF($H$5=\"Course 1\",Général!G$73,IF($H$5=\"Course 2\",Général!G$75,IF($H$5=\"Course 3\",Général!G$77,Général!#REF!)))","v":"Hambourg"},{"$f":"IF($I$5=\"Course 1\",Général!G$81,IF($I$5=\"Course 2\",Général!G$83,IF($I$5=\"Course 3\",Général!G$85,Général!#REF!)))","v":"IMT Atlantique Nantes 2"},{"$f":"IF($J$5=\"Course 1\",Général!G$89,IF($J$5=\"Course 2\",Général!G$91,IF($J$5=\"Course 3\",Général!G$93,Général!#REF!)))","v":"IMT Atlantique Nantes 2"},{"$f":"IF($K$5=\"Course 1\",Général!G$97,IF($K$5=\"Course 2\",Général!G$99,IF($K$5=\"Course 3\",Général!G$101,Général!#REF!)))","v":"Karlsruhe"},{"$f":"IF($L$5=\"Course 1\",Général!G$105,IF($L$5=\"Course 2\",Général!G$107,IF($L$5=\"Course 3\",Général!G$109,Général!#REF!)))","v":"ASUL Lannion"},{"$f":"IF($M$5=\"Course 1\",Général!G$113,IF($M$5=\"Course 2\",Général!G$115,IF($M$5=\"Course 3\",Général!G$117,Général!#REF!)))","v":"AS Paris 1 Panthéon Sorbonne"},{"$f":"IF($N$5=\"Course 1\",Général!G$121,IF($N$5=\"Course 2\",Général!G$123,IF($N$5=\"Course 3\",Général!G$125,Général!#REF!)))","v":"Univ. Nantes 1"},{"$f":"IF($O$5=\"Course 1\",Général!G$129,IF($O$5=\"Course 2\",Général!G$131,IF($O$5=\"Course 3\",Général!G$133,Général!#REF!)))","v":"Centrales Nantes"},{"$f":"IF($P$5=\"Course 1\",Général!G$137,IF($P$5=\"Course 2\",Général!G$139,IF($P$5=\"Course 3\",Général!G$141,Général!#REF!)))","v":"HYDRO Sailing Team Le Havre"},{"$f":"IF($Q$5=\"Course 1\",Général!G$145,IF($Q$5=\"Course 2\",Général!G$147,IF($Q$5=\"Course 3\",Général!G$149,Général!#REF!)))","v":"Southampton"},{"$f":"IF($R$5=\"Course 1\",Général!G$153,IF($R$5=\"Course 2\",Général!G$155,IF($R$5=\"Course 3\",Général!G$157,Général!#REF!)))","v":"IMT Atlantique Brest"},{"$f":"IF($S$5=\"Course 1\",Général!G$161,IF($S$5=\"Course 2\",Général!G$163,IF($S$5=\"Course 3\",Général!G$165,Général!#REF!)))","v":"Dublin"},{"$f":"IF($T$5=\"Course 1\",Général!G$169,IF($T$5=\"Course 2\",Général!G$171,IF($T$5=\"Course 3\",Général!G$173,Général!#REF!)))","v":"EGSI La Rochelle"},null,{"$f":"Général!B15","v":"ASUL Lannion"},4]
["7ème Equipage",null,{"$f":"IF($C$5=\"Course 1\",Général!H33,IF($C$5=\"Course 2\",Général!H35,IF($C$5=\"Course 3\",Général!H37,Général!#REF!)))","v":"Univ. La Rochelle"},{"$f":"IF($D$5=\"Course 1\",Général!H41,IF($D$5=\"Course 2\",Général!H43,IF($D$5=\"Course 3\",Général!H45,Général!#REF!)))","v":"UBO 2"},{"$f":"IF($E$5=\"Course 1\",Général!H49,IF($E$5=\"Course 2\",Général!H51,IF($E$5=\"Course 3\",Général!H53,Général!#REF!)))","v":"UBO 1"},{"$f":"IF($F$5=\"Course 1\",Général!H$57,IF($F$5=\"Course 2\",Général!H$59,IF($F$5=\"Course 3\",Général!H$61,Général!#REF!)))","v":"UBS Lorient 2"},{"$f":"IF($G$5=\"Course 1\",Général!H$65,IF($G$5=\"Course 2\",Général!H$67,IF($G$5=\"Course 3\",Général!H$69,Général!#REF!)))","v":"Southampton"},{"$f":"IF($H$5=\"Course 1\",Général!H$73,IF($H$5=\"Course 2\",Général!H$75,IF($H$5=\"Course 3\",Général!H$77,Général!#REF!)))","v":"Southampton"},{"$f":"IF($I$5=\"Course 1\",Général!H$81,IF($I$5=\"Course 2\",Général!H$83,IF($I$5=\"Course 3\",Général!H$85,Général!#REF!)))","v":"Univ. Nantes 1"},{"$f":"IF($J$5=\"Course 1\",Général!H$89,IF($J$5=\"Course 2\",Général!H$91,IF($J$5=\"Course 3\",Général!H$93,Général!#REF!)))","v":"IMT Atlantique Nantes 1"},{"$f":"IF($K$5=\"Course 1\",Général!H$97,IF($K$5=\"Course 2\",Général!H$99,IF($K$5=\"Course 3\",Général!H$101,Général!#REF!)))","v":"ENSTA Bretagne 2"},{"$f":"IF($L$5=\"Course 1\",Général!H$105,IF($L$5=\"Course 2\",Général!H$107,IF($L$5=\"Course 3\",Général!H$109,Général!#REF!)))","v":"Karlsruhe"},{"$f":"IF($M$5=\"Course 1\",Général!H$113,IF($M$5=\"Course 2\",Général!H$115,IF($M$5=\"Course 3\",Général!H$117,Général!#REF!)))","v":"Dublin"},{"$f":"IF($N$5=\"Course 1\",Général!H$121,IF($N$5=\"Course 2\",Général!H$123,IF($N$5=\"Course 3\",Général!H$125,Général!#REF!)))","v":"Hambourg"},{"$f":"IF($O$5=\"Course 1\",Général!H$129,IF($O$5=\"Course 2\",Général!H$131,IF($O$5=\"Course 3\",Général!H$133,Général!#REF!)))","v":"Univ.Orléans"},{"$f":"IF($P$5=\"Course 1\",Général!H$137,IF($P$5=\"Course 2\",Général!H$139,IF($P$5=\"Course 3\",Général!H$141,Général!#REF!)))","v":"Dublin"},{"$f":"IF($Q$5=\"Course 1\",Général!H$145,IF($Q$5=\"Course 2\",Général!H$147,IF($Q$5=\"Course 3\",Général!H$149,Général!#REF!)))","v":"ENSTA Bretagne 1"},{"$f":"IF($R$5=\"Course 1\",Général!H$153,IF($R$5=\"Course 2\",Général!H$155,IF($R$5=\"Course 3\",Général!H$157,Général!#REF!)))","v":"ENSTA Bretagne 1"},{"$f":"IF($S$5=\"Course 1\",Général!H$161,IF($S$5=\"Course 2\",Général!H$163,IF($S$5=\"Course 3\",Général!H$165,Général!#REF!)))","v":"IMT Atlantique Brest"},{"$f":"IF($T$5=\"Course 1\",Général!H$169,IF($T$5=\"Course 2\",Général!H$171,IF($T$5=\"Course 3\",Général!H$173,Général!#REF!)))","v":"UBS Lorient 1"},null,{"$f":"Général!B16","v":"ENSTA Paris"},5]
["8ème Equipage",null,{"$f":"IF($C$5=\"Course 1\",Général!I33,IF($C$5=\"Course 2\",Général!I35,IF($C$5=\"Course 3\",Général!I37,Général!#REF!)))","v":"Univ. Nantes 3"},{"$f":"IF($D$5=\"Course 1\",Général!I41,IF($D$5=\"Course 2\",Général!I43,IF($D$5=\"Course 3\",Général!I45,Général!#REF!)))","v":"Univ.Orléans"},{"$f":"IF($E$5=\"Course 1\",Général!I49,IF($E$5=\"Course 2\",Général!I51,IF($E$5=\"Course 3\",Général!I53,Général!#REF!)))","v":"EGSI La Rochelle"},{"$f":"IF($F$5=\"Course 1\",Général!I$57,IF($F$5=\"Course 2\",Général!I$59,IF($F$5=\"Course 3\",Général!I$61,Général!#REF!)))","v":"EGSI La Rochelle"},{"$f":"IF($G$5=\"Course 1\",Général!I$65,IF($G$5=\"Course 2\",Général!I$67,IF($G$5=\"Course 3\",Général!I$69,Général!#REF!)))","v":"HYDRO Sailing Team Le Havre"},{"$f":"IF($H$5=\"Course 1\",Général!I$73,IF($H$5=\"Course 2\",Général!I$75,IF($H$5=\"Course 3\",Général!I$77,Général!#REF!)))","v":"Karlsruhe"},{"$f":"IF($I$5=\"Course 1\",Général!I$81,IF($I$5=\"Course 2\",Général!I$83,IF($I$5=\"Course 3\",Général!I$85,Général!#REF!)))","v":"Karlsruhe"},{"$f":"IF($J$5=\"Course 1\",Général!I$89,IF($J$5=\"Course 2\",Général!I$91,IF($J$5=\"Course 3\",Général!I$93,Général!#REF!)))","v":"UBS Lorient 1"},{"$f":"IF($K$5=\"Course 1\",Général!I$97,IF($K$5=\"Course 2\",Général!I$99,IF($K$5=\"Course 3\",Général!I$101,Général!#REF!)))","v":"Hannovre"},{"$f":"IF($L$5=\"Course 1\",Général!I$105,IF($L$5=\"Course 2\",Général!I$107,IF($L$5=\"Course 3\",Général!I$109,Général!#REF!)))","v":"IMT Atlantique Brest"},{"$f":"IF($M$5=\"Course 1\",Général!I$113,IF($M$5=\"Course 2\",Général!I$115,IF($M$5=\"Course 3\",Général!I$117,Général!#REF!)))","v":"IMT Atlantique Brest"},{"$f":"IF($N$5=\"Course 1\",Général!I$121,IF($N$5=\"Course 2\",Général!I$123,IF($N$5=\"Course 3\",Général!I$125,Général!#REF!)))","v":"Centrales Nantes"},{"$f":"IF($O$5=\"Course 1\",Général!I$129,IF($O$5=\"Course 2\",Général!I$131,IF($O$5=\"Course 3\",Général!I$133,Général!#REF!)))","v":"Univ. Nantes 2"},{"$f":"IF($P$5=\"Course 1\",Général!I$137,IF($P$5=\"Course 2\",Général!I$139,IF($P$5=\"Course 3\",Général!I$141,Général!#REF!)))","v":"Univ. Nantes 2"},{"$f":"IF($Q$5=\"Course 1\",Général!I$145,IF($Q$5=\"Course 2\",Général!I$147,IF($Q$5=\"Course 3\",Général!I$149,Général!#REF!)))","v":"Univ. Nantes 2"},{"$f":"IF($R$5=\"Course 1\",Général!I$153,IF($R$5=\"Course 2\",Général!I$155,IF($R$5=\"Course 3\",Général!I$157,Général!#REF!)))","v":"AS UB St Brieuc"},{"$f":"IF($S$5=\"Course 1\",Général!I$161,IF($S$5=\"Course 2\",Général!I$163,IF($S$5=\"Course 3\",Général!I$165,Général!#REF!)))","v":"ENSTA Bretagne 2"},{"$f":"IF($T$5=\"Course 1\",Général!I$169,IF($T$5=\"Course 2\",Général!I$171,IF($T$5=\"Course 3\",Général!I$173,Général!#REF!)))","v":"Karlsruhe"},null,{"$f":"Général!B17","v":"IMT Atlantique Brest"},6]
["9ème Equipage",null,{"$f":"IF($C$5=\"Course 1\",Général!J33,IF($C$5=\"Course 2\",Général!J35,IF($C$5=\"Course 3\",Général!J37,Général!#REF!)))","v":"UBO 1"},{"$f":"IF($D$5=\"Course 1\",Général!J41,IF($D$5=\"Course 2\",Général!J43,IF($D$5=\"Course 3\",Général!J45,Général!#REF!)))","v":"Centrales Nantes"},{"$f":"IF($E$5=\"Course 1\",Général!J49,IF($E$5=\"Course 2\",Général!J51,IF($E$5=\"Course 3\",Général!J53,Général!#REF!)))","v":"Hambourg"},{"$f":"IF($F$5=\"Course 1\",Général!J$57,IF($F$5=\"Course 2\",Général!J$59,IF($F$5=\"Course 3\",Général!J$61,Général!#REF!)))","v":"Univ. Nantes 1"},{"$f":"IF($G$5=\"Course 1\",Général!J$65,IF($G$5=\"Course 2\",Général!J$67,IF($G$5=\"Course 3\",Général!J$69,Général!#REF!)))","v":"ENSTA Bretagne 1"},{"$f":"IF($H$5=\"Course 1\",Général!J$73,IF($H$5=\"Course 2\",Général!J$75,IF($H$5=\"Course 3\",Général!$J77,Général!#REF!)))","v":"IMT Atlantique Nantes 1"},{"$f":"IF($I$5=\"Course 1\",Général!J$81,IF($I$5=\"Course 2\",Général!J$83,IF($I$5=\"Course 3\",Général!J$85,Général!#REF!)))","v":"Univ. Nantes 2"},{"$f":"IF($J$5=\"Course 1\",Général!J$89,IF($J$5=\"Course 2\",Général!J$91,IF($J$5=\"Course 3\",Général!J$93,Général!#REF!)))","v":"HYDRO Sailing Team Le Havre"},{"$f":"IF($K$5=\"Course 1\",Général!J$97,IF($K$5=\"Course 2\",Général!J$99,IF($K$5=\"Course 3\",Général!J$101,Général!#REF!)))","v":"UNICAEN - ASSUCherbourg"},{"$f":"IF($L$5=\"Course 1\",Général!J$105,IF($L$5=\"Course 2\",Général!J$107,IF($L$5=\"Course 3\",Général!J$109,Général!#REF!)))","v":"UBS Lorient 2"},{"$f":"IF($M$5=\"Course 1\",Général!J$113,IF($M$5=\"Course 2\",Général!J$115,IF($M$5=\"Course 3\",Général!J$117,Général!#REF!)))","v":"Hannovre"},{"$f":"IF($N$5=\"Course 1\",Général!J$121,IF($N$5=\"Course 2\",Général!J$123,IF($N$5=\"Course 3\",Général!J$125,Général!#REF!)))","v":"UBS Lorient 1"},{"$f":"IF($O$5=\"Course 1\",Général!J$129,IF($O$5=\"Course 2\",Général!J$131,IF($O$5=\"Course 3\",Général!J$133,Général!#REF!)))","v":"UNICAEN - ASSUCherbourg"},{"$f":"IF($P$5=\"Course 1\",Général!J$137,IF($P$5=\"Course 2\",Général!J$139,IF($P$5=\"Course 3\",Général!J$141,Général!#REF!)))","v":"UNICAEN - ASSUCherbourg"},{"$f":"IF($Q$5=\"Course 1\",Général!J$145,IF($Q$5=\"Course 2\",Général!J$147,IF($Q$5=\"Course 3\",Général!J$149,Général!#REF!)))","v":"Karlsruhe"},{"$f":"IF($R$5=\"Course 1\",Général!J$153,IF($R$5=\"Course 2\",Général!J$155,IF($R$5=\"Course 3\",Général!J$157,Général!#REF!)))","v":"Karlsruhe"},{"$f":"IF($S$5=\"Course 1\",Général!J$161,IF($S$5=\"Course 2\",Général!J$163,IF($S$5=\"Course 3\",Général!J$165,Général!#REF!)))","v":"Southampton"},{"$f":"IF($T$5=\"Course 1\",Général!J$169,IF($T$5=\"Course 2\",Général!J$171,IF($T$5=\"Course 3\",Général!J$173,Général!#REF!)))","v":"IMT Atlantique Nantes 1"},null,{"$f":"Général!B18","v":"UBO 2"},5]
[null,null,null,null,null,null,null,null,null,null,null,null,null,null,null,null,null,null,null,null,null,{"$f":"Général!B19","v":"Dublin"},7]
[null,null,null,null,null,null,null,null,null,null,null,null,null,null,null,null,null,null,null,null,null,{"$f":"Général!B20","v":"Univ. Nantes 2"},6]
[null,null,null,null,null,null,null,null,null,null,null,null,null,null,null,null,null,null,null,null,null,{"$f":"Général!B21","v":"UBS Lorient 1"},6]
[null,null,null,null,null,null,null,null,null,null,null,null,null,null,null,null,null,null,null,null,null,{"$f":"Général!B22","v":"UBS Lorient 2"},6]
[null,null,null,null,null,null,null,null,null,null,null,null,null,null,null,null,null,null,null,null,null,{"$f":"Général!B23","v":"Univ.Orléans"},6]
[null,null,null,null,null,null,null,null,null,null,null,null,null,null,null,null,null,null,null,null,null,{"$f":"Général!B24","v":"Univ. La Rochelle"},4]
[null,null,null,null,null,null,null,null,null,null,null,null,null,null,null,null,null,null,null,null,null,{"$f":"Général!B25","v":"AS UB St Brieuc"},6]
[null,null,null,null,null,null,null,null,null,null,null,null,null,null,null,null,null,null,null,null,null,{"$f":"Général!B26","v":"Karlsruhe"},18]
[null,null,null,null,null,null,null,null,null,null,null,null,null,null,null,null,null,null,null,null,null,{"$f":"Général!B27","v":"Univ. Nantes 3"},6]
[null,null,null,null,null,null,null,null,null,null,null,null,null,null,null,null,null,null,null,null,null,{"$f":"Général!B28","v":"Centrales Nantes"},5]
[null,null,null,null,null,null,null,null,null,null,null,null,null,null,null,null,null,null,null,null,null,{"$f":"Général!B29","v":"Southampton"},6]
[null,null,null,null,null,null,null,null,null,null,null,null,null,null,null,null,null,null,null,null,null,{"$f":"Général!#REF!","v":{"$error":"#REF!"}},0]
[null,null,null,null,null,null,null,null,null,null,null,null,null,null,null,null,null,null,null,null,null,{"$f":"Général!#REF!","v":{"$error":"#REF!"}},0]
[null,null,null,null,null,null,null,null,null,null,null,null,null,null,null,null,null,null,null,null,null,{"$f":"Général!#REF!","v":{"$error":"#REF!"}},0]
[null,null,null,null,null,null,null,null,null,null,null,null,null,null,null,null,null,null,null,null,null,{"$f":"Général!#REF!","v":{"$error":"#REF!"}},0]
[null,null,null,null,null,null,null,null,null,null,null,null,null,null,null,null,null,null,null,null,null,{"$f":"Général!#REF!","v":{"$error":"#REF!"}},0]

{"sheet":"Eq.25","index":29,"n_rows":32,"n_cols":23,"rows_kept":32,"cut":false,"hidden":false,"merged":[[14,0,14,1],[15,0,15,1],[8,0,8,1],[9,0,9,1],[10,0,10,1],[11,0,11,1],[12,0,12,1],[13,0,13,1],[7,0,7,1],[0,0,1,5],[0,6,1,10],[3,0,3,1],[4,0,4,1],[5,0,5,1]]}
["Equipage ",null,null,null,null,null,{"$f":"Général!B27","v":"Univ. Nantes 3"},null,null,null,null,null,null,null,null,null,null,null,null,null,null,{"$f":"Général!B3","v":"Univ. Nantes 1"},{"$f":"COUNTIF(C$8:T$16,V1)","v":6}]
[null,null,null,null,null,null,null,null,null,null,null,null,null,null,null,null,null,null,null,null,null,{"$f":"Général!B4","v":"AS Paris 1 Panthéon Sorbonne"},{"$f":"COUNTIF($C$8:$T$16,V2)","v":6}]
[null,null,null,null,null,null,null,null,null,null,null,null,null,null,null,null,null,null,null,null,null,{"$f":"Général!B5","v":"Hannovre"},{"$f":"COUNTIF($C$8:$T$16,V3)","v":4}]
[null,null,"FLIGHT 1","FLIGHT 2","FLIGHT 3","FLIGHT 4","FLIGHT 5","FLIGHT 6","FLIGHT 7","FLIGHT 8","FLIGHT 9","FLIGHT 10","FLIGHT 11","FLIGHT 12","FLIGHT 13","FLIGHT 14","FLIGHT 15","FLIGHT 16","FLIGHT 17","FLIGHT 18",null,{"$f":"Général!B6","v":"IMT Atlantique Nantes 1"},6]
["N° de course",null,{"$f":"IF(COUNTIF(Général!B33:J33,$G$1)=1,\"Course 1\",IF(COUNTIF(Général!B35:J35,$G$1)=1,\"Course 2\",IF(COUNTIF(Général!B37:J37,$G$1)=1,\"Course 3\",\"Course 4\")))","v":"Course 2"},{"$f":"IF(COUNTIF(Général!B41:J41,$G$1)=1,\"Course 1\",IF(COUNTIF(Général!B43:J43,$G$1)=1,\"Course 2\",IF(COUNTIF(Général!B45:J45,$G$1)=1,\"Course 3\",\"Course 4\")))","v":"Course 1"},{"$f":"IF(COUNTIF(Général!B49:J49,$G$1)=1,\"Course 1\",IF(COUNTIF(Général!B51:J51,$G$1)=1,\"Course 2\",IF(COUNTIF(Général!B53:J53,$G$1)=1,\"Course 3\",\"Course 4\")))","v":"Course 3"},{"$f":"IF(COUNTIF(Général!B57:J57,$G$1)=1,\"Course 1\",IF(COUNTIF(Général!B59:J59,$G$1)=1,\"Course 2\",IF(COUNTIF(Général!B61:J61,$G$1)=1,\"Course 3\",\"Course 4\")))","v":"Course 1"},{"$f":"IF(COUNTIF(Général!B65:J65,$G$1)=1,\"Course 1\",IF(COUNTIF(Général!B67:J67,$G$1)=1,\"Course 2\",IF(COUNTIF(Général!B69:J69,$G$1)=1,\"Course 3\",\"Course 4\")))","v":"Course 3"},{"$f":"IF(COUNTIF(Général!B73:J73,$G$1)=1,\"Course 1\",IF(COUNTIF(Général!B75:J75,$G$1)=1,\"Course 2\",IF(COUNTIF(Général!B77:J77,$G$1)=1,\"Course 3\",\"Course 4\")))","v":"Course 1"},{"$f":"IF(COUNTIF(Général!B81:J81,$G$1)=1,\"Course 1\",IF(COUNTIF(Général!B83:J83,$G$1)=1,\"Course 2\",IF(COUNTIF(Général!B85:J85,$G$1)=1,\"Course 3\",\"Course 4\")))","v":"Course 3"},{"$f":"IF(COUNTIF(Général!B89:J89,$G$1)=1,\"Course 1\",IF(COUNTIF(Général!B91:J91,$G$1)=1,\"Course 2\",IF(COUNTIF(Général!B93:J93,$G$1)=1,\"Course 3\",\"Course 4\")))","v":"Course 2"},{"$f":"IF(COUNTIF(Général!B97:J97,$G$1)=1,\"Course 1\",IF(COUNTIF(Général!B99:J99,$G$1)=1,\"Course 2\",IF(COUNTIF(Général!B101:J101,$G$1)=1,\"Course 3\",\"Course 4\")))","v":"Course 1"},{"$f":"IF(COUNTIF(Général!B105:J105,$G$1)=1,\"Course 1\",IF(COUNTIF(Général!B107:J107,$G$1)=1,\"Course 2\",IF(COUNTIF(Général!B109:J109,$G$1)=1,\"Course 3\",\"Course 4\")))","v":"Course 2"},{"$f":"IF(COUNTIF(Général!B113:J113,$G$1)=1,\"Course 1\",IF(COUNTIF(Général!B115:J115,$G$1)=1,\"Course 2\",IF(COUNTIF(Général!B117:J117,$G$1)=1,\"Course 3\",\"Course 4\")))","v":"Course 1"},{"$f":"IF(COUNTIF(Général!B121:J121,$G$1)=1,\"Course 1\",IF(COUNTIF(Général!B123:J123,$G$1)=1,\"Course 2\",IF(COUNTIF(Général!B125:J125,$G$1)=1,\"Course 3\",\"Course 4\")))","v":"Course 1"},{"$f":"IF(COUNTIF(Général!B129:J129,$G$1)=1,\"Course 1\",IF(COUNTIF(Général!B131:J131,$G$1)=1,\"Course 2\",IF(COUNTIF(Général!B133:J133,$G$1)=1,\"Course 3\",\"Course 4\")))","v":"Course 1"},{"$f":"IF(COUNTIF(Général!B137:J137,$G$1)=1,\"Course 1\",IF(COUNTIF(Général!B139:J139,$G$1)=1,\"Course 2\",IF(COUNTIF(Général!B141:J141,$G$1)=1,\"Course 3\",\"Course 4\")))","v":"Course 2"},{"$f":"IF(COUNTIF(Général!B145:J145,$G$1)=1,\"Course 1\",IF(COUNTIF(Général!B147:J147,$G$1)=1,\"Course 2\",IF(COUNTIF(Général!B149:J149,$G$1)=1,\"Course 3\",\"Course 4\")))","v":"Course 2"},{"$f":"IF(COUNTIF(Général!B153:J153,$G$1)=1,\"Course 1\",IF(COUNTIF(Général!B155:J155,$G$1)=1,\"Course 2\",IF(COUNTIF(Général!B157:J157,$G$1)=1,\"Course 3\",\"Course 4\")))","v":"Course 1"},{"$f":"IF(COUNTIF(Général!B161:J161,$G$1)=1,\"Course 1\",IF(COUNTIF(Général!B163:J163,$G$1)=1,\"Course 2\",IF(COUNTIF(Général!B165:J165,$G$1)=1,\"Course 3\",\"Course 4\")))","v":"Course 3"},{"$f":"IF(COUNTIF(Général!B169:J169,$G$1)=1,\"Course 1\",IF(COUNTIF(Général!B171:J171,$G$1)=1,\"Course 2\",IF(COUNTIF(Général!B173:J173,$G$1)=1,\"Course 3\",\"Course 4\")))","v":"Course 2"},null,{"$f":"Général!B7","v":"ENSTA Bretagne 2"},5]
["Bateau",null,{"$f":"IF(COUNTIF(Général!B33:B38,$G$1)=1,\"Boat 1\",IF(COUNTIF(Général!C33:C38,$G$1)=1,\"Boat 2\",IF(COUNTIF(Général!D33:D38,$G$1)=1,\"Boat 3\", IF(COUNTIF(Général!E33:E38,$G$1)=1,\"Boat 4\", IF(COUNTIF(Général!F33:F38,$G$1)=1,\"Boat 5\", IF(COUNTIF(Général!G33:G38,$G$1)=1,\"Boat 6\", IF(COUNTIF(Général!H33:H38,$G$1)=1,\"Boat 7\",IF(COUNTIF(Général!I33:I38,$G$1)=1,\"Boat 8\",\"Boat 9\"))))))))","v":"Boat 8"},{"$f":"IF(COUNTIF(Général!B41:B46,$G$1)=1,\"Boat 1\",IF(COUNTIF(Général!C41:C46,$G$1)=1,\"Boat 2\",IF(COUNTIF(Général!D41:D46,$G$1)=1,\"Boat 3\", IF(COUNTIF(Général!E41:E46,$G$1)=1,\"Boat 4\", IF(COUNTIF(Général!F41:F46,$G$1)=1,\"Boat 5\", IF(COUNTIF(Général!G41:G46,$G$1)=1,\"Boat 6\", IF(COUNTIF(Général!H41:H46,$G$1)=1,\"Boat 7\",IF(COUNTIF(Général!I33:I38,$G$1)=1,\"Boat 8\",\"Boat 9\"))))))))","v":"Boat 3"},{"$f":"IF(COUNTIF(Général!B49:B54,$G$1)=1,\"Boat 1\",IF(COUNTIF(Général!C49:C54,$G$1)=1,\"Boat 2\",IF(COUNTIF(Général!D49:D54,$G$1)=1,\"Boat 3\", IF(COUNTIF(Général!E49:E54,$G$1)=1,\"Boat 4\", IF(COUNTIF(Général!F49:F54,$G$1)=1,\"Boat 5\", IF(COUNTIF(Général!G49:G54,$G$1)=1,\"Boat 6\", IF(COUNTIF(Général!H49:H54,$G$1)=1,\"Boat 7\",IF(COUNTIF(Général!I33:I38,$G$1)=1,\"Boat 8\",\"Boat 9\"))))))))","v":"Boat 7"},{"$f":"IF(COUNTIF(Général!B57:B62,$G$1)=1,\"Boat 1\",IF(COUNTIF(Général!C57:C62,$G$1)=1,\"Boat 2\",IF(COUNTIF(Général!D57:D62,$G$1)=1,\"Boat 3\", IF(COUNTIF(Général!E57:E62,$G$1)=1,\"Boat 4\", IF(COUNTIF(Général!F57:F62,$G$1)=1,\"Boat 5\", IF(COUNTIF(Général!G57:G62,$G$1)=1,\"Boat 6\", IF(COUNTIF(Général!H57:H62,$G$1)=1,\"Boat 7\",IF(COUNTIF(Général!I33:I38,$G$1)=1,\"Boat 8\",\"Boat 9\"))))))))","v":"Boat 7"},{"$f":"IF(COUNTIF(Général!B65:B70,$G$1)=1,\"Boat 1\",IF(COUNTIF(Général!C65:C70,$G$1)=1,\"Boat 2\",IF(COUNTIF(Général!D65:D70,$G$1)=1,\"Boat 3\", IF(COUNTIF(Général!E65:E70,$G$1)=1,\"Boat 4\", IF(COUNTIF(Général!F65:F70,$G$1)=1,\"Boat 5\", IF(COUNTIF(Général!G65:G70,$G$1)=1,\"Boat 6\", IF(COUNTIF(Général!H65:H70,$G$1)=1,\"Boat 7\",IF(COUNTIF(Général!I33:I38,$G$1)=1,\"Boat 8\",\"Boat 9\"))))))))","v":"Boat 5"},{"$f":"IF(COUNTIF(Général!B73:B78,$G$1)=1,\"Boat 1\",IF(COUNTIF(Général!C73:C78,$G$1)=1,\"Boat 2\",IF(COUNTIF(Général!D73:D78,$G$1)=1,\"Boat 3\", IF(COUNTIF(Général!E73:E78,$G$1)=1,\"Boat 4\", IF(COUNTIF(Général!F73:F78,$G$1)=1,\"Boat 5\", IF(COUNTIF(Général!G73:G78,$G$1)=1,\"Boat 6\", IF(COUNTIF(Général!H73:H78,$G$1)=1,\"Boat 7\",IF(COUNTIF(Général!I33:I38,$G$1)=1,\"Boat 8\",\"Boat 9\"))))))))","v":"Boat 5"},{"$f":"IF(COUNTIF(Général!B81:B86,$G$1)=1,\"Boat 1\",IF(COUNTIF(Général!C81:C86,$G$1)=1,\"Boat 2\",IF(COUNTIF(Général!D81:D86,$G$1)=1,\"Boat 3\", IF(COUNTIF(Général!E81:E86,$G$1)=1,\"Boat 4\", IF(COUNTIF(Général!F81:F86,$G$1)=1,\"Boat 5\", IF(COUNTIF(Général!G81:G86,$G$1)=1,\"Boat 6\", IF(COUNTIF(Général!H81:H86,$G$1)=1,\"Boat 7\",IF(COUNTIF(Général!I33:I38,$G$1)=1,\"Boat 8\",\"Boat 9\"))))))))","v":"Boat 1"},{"$f":"IF(COUNTIF(Général!B89:B94,$G$1)=1,\"Boat 1\",IF(COUNTIF(Général!C89:C94,$G$1)=1,\"Boat 2\",IF(COUNTIF(Général!D89:D94,$G$1)=1,\"Boat 3\", IF(COUNTIF(Général!E89:E94,$G$1)=1,\"Boat 4\", IF(COUNTIF(Général!F89:F94,$G$1)=1,\"Boat 5\", IF(COUNTIF(Général!G89:G94,$G$1)=1,\"Boat 6\", IF(COUNTIF(Général!H89:H94,$G$1)=1,\"Boat 7\",IF(COUNTIF(Général!I33:I38,$G$1)=1,\"Boat 8\",\"Boat 9\"))))))))","v":"Boat 8"},{"$f":"IF(COUNTIF(Général!B97:B102,$G$1)=1,\"Boat 1\",IF(COUNTIF(Général!C97:C102,$G$1)=1,\"Boat 2\",IF(COUNTIF(Général!D97:D102,$G$1)=1,\"Boat 3\", IF(COUNTIF(Général!E97:E102,$G$1)=1,\"Boat 4\", IF(COUNTIF(Général!F97:F102,$G$1)=1,\"Boat 5\", IF(COUNTIF(Général!G97:G102,$G$1)=1,\"Boat 6\", IF(COUNTIF(Général!H97:H102,$G$1)=1,\"Boat 7\",IF(COUNTIF(Général!I33:I38,$G$1)=1,\"Boat 8\",\"Boat 9\"))))))))","v":"Boat 6"},{"$f":"IF(COUNTIF(Général!B105:B110,$G$1)=1,\"Boat 1\",IF(COUNTIF(Général!C105:C110,$G$1)=1,\"Boat 2\",IF(COUNTIF(Général!D105:D110,$G$1)=1,\"Boat 3\", IF(COUNTIF(Général!E105:E110,$G$1)=1,\"Boat 4\", IF(COUNTIF(Général!F105:F110,$G$1)=1,\"Boat 5\", IF(COUNTIF(Général!G105:G110,$G$1)=1,\"Boat 6\", IF(COUNTIF(Général!H105:H110,$G$1)=1,\"Boat 7\",IF(COUNTIF(Général!I33:I38,$G$1)=1,\"Boat 8\",\"Boat 9\"))))))))","v":"Boat 4"},{"$f":"IF(COUNTIF(Général!B113:B118,$G$1)=1,\"Boat 1\",IF(COUNTIF(Général!C113:C118,$G$1)=1,\"Boat 2\",IF(COUNTIF(Général!C113:D118,$G$1)=1,\"Boat 3\", IF(COUNTIF(Général!C113:E118,$G$1)=1,\"Boat 4\", IF(COUNTIF(Général!F113:F118,$G$1)=1,\"Boat 5\", IF(COUNTIF(Général!G113:G118,$G$1)=1,\"Boat 6\", IF(COUNTIF(Général!H113:H118,$G$1)=1,\"Boat 7\",IF(COUNTIF(Général!I33:I38,$G$1)=1,\"Boat 8\",\"Boat 9\"))))))))","v":"Boat 2"},{"$f":"IF(COUNTIF(Général!B121:B126,$G$1)=1,\"Boat 1\",IF(COUNTIF(Général!C121:C126,$G$1)=1,\"Boat 2\",IF(COUNTIF(Général!D121:D126,$G$1)=1,\"Boat 3\", IF(COUNTIF(Général!E121:E126,$G$1)=1,\"Boat 4\", IF(COUNTIF(Général!F121:F126,$G$1)=1,\"Boat 5\", IF(COUNTIF(Général!G121:G126,$G$1)=1,\"Boat 6\", IF(COUNTIF(Général!H121:H126,$G$1)=1,\"Boat 7\",IF(COUNTIF(Général!I33:I38,$G$1)=1,\"Boat 8\",\"Boat 9\"))))))))","v":"Boat 5"},{"$f":"IF(COUNTIF(Général!B129:B134,$G$1)=1,\"Boat 1\",IF(COUNTIF(Général!C129:C134,$G$1)=1,\"Boat 2\",IF(COUNTIF(Général!D131:D134,$G$1)=1,\"Boat 3\", IF(COUNTIF(Général!E129:E134,$G$1)=1,\"Boat 4\", IF(COUNTIF(Général!F129:F134,$G$1)=1,\"Boat 5\", IF(COUNTIF(Général!G129:G134,$G$1)=1,\"Boat 6\", IF(COUNTIF(Général!H129:H134,$G$1)=1,\"Boat 7\",IF(COUNTIF(Général!I33:I38,$G$1)=1,\"Boat 8\",\"Boat 9\"))))))))","v":"Boat 2"},{"$f":"IF(COUNTIF(Général!B137:B142,$G$1)=1,\"Boat 1\",IF(COUNTIF(Général!C137:C142,$G$1)=1,\"Boat 2\",IF(COUNTIF(Général!D137:D142,$G$1)=1,\"Boat 3\", IF(COUNTIF(Général!E137:E142,$G$1)=1,\"Boat 4\", IF(COUNTIF(Général!F145:F150,$G$1)=1,\"Boat 5\", IF(COUNTIF(Général!G145:G150,$G$1)=1,\"Boat 6\", IF(COUNTIF(Général!H145:H150,$G$1)=1,\"Boat 7\",IF(COUNTIF(Général!I33:I38,$G$1)=1,\"Boat 8\",\"Boat 9\"))))))))","v":"Boat 8"},{"$f":"IF(COUNTIF(Général!B145:B150,$G$1)=1,\"Boat 1\",IF(COUNTIF(Général!C145:C150,$G$1)=1,\"Boat 2\",IF(COUNTIF(Général!D145:D150,$G$1)=1,\"Boat 3\", IF(COUNTIF(Général!E145:E150,$G$1)=1,\"Boat 4\", IF(COUNTIF(Général!F145:F150,$G$1)=1,\"Boat 5\", IF(COUNTIF(Général!G145:G150,$G$1)=1,\"Boat 6\", IF(COUNTIF(Général!H145:H150,$G$1)=1,\"Boat 7\",IF(COUNTIF(Général!I33:I38,$G$1)=1,\"Boat 8\",\"Boat 9\"))))))))","v":"Boat 8"},{"$f":"IF(COUNTIF(Général!B153:B158,$G$1)=1,\"Boat 1\",IF(COUNTIF(Général!C153:C158,$G$1)=1,\"Boat 2\",IF(COUNTIF(Général!D153:D158,$G$1)=1,\"Boat 3\", IF(COUNTIF(Général!E153:E158,$G$1)=1,\"Boat 4\", IF(COUNTIF(Général!F153:F158,$G$1)=1,\"Boat 5\", IF(COUNTIF(Général!G153:G158,$G$1)=1,\"Boat 6\", IF(COUNTIF(Général!H153:H158,$G$1)=1,\"Boat 7\",IF(COUNTIF(Général!I33:I38,$G$1)=1,\"Boat 8\",\"Boat 9\"))))))))","v":"Boat 2"},{"$f":"IF(COUNTIF(Général!B161:B166,$G$1)=1,\"Boat 1\",IF(COUNTIF(Général!C161:C166,$G$1)=1,\"Boat 2\",IF(COUNTIF(Général!D161:D166,$G$1)=1,\"Boat 3\", IF(COUNTIF(Général!E161:E166,$G$1)=1,\"Boat 4\", IF(COUNTIF(Général!F161:F166,$G$1)=1,\"Boat 5\", IF(COUNTIF(Général!G161:G166,$G$1)=1,\"Boat 6\", IF(COUNTIF(Général!H161:H166,$G$1)=1,\"Boat 7\",IF(COUNTIF(Général!I33:I38,$G$1)=1,\"Boat 8\",\"Boat 9\"))))))))","v":"Boat 4"},{"$f":"IF(COUNTIF(Général!B169:B174,$G$1)=1,\"Boat 1\",IF(COUNTIF(Général!C169:C174,$G$1)=1,\"Boat 2\",IF(COUNTIF(Général!D169:D174,$G$1)=1,\"Boat 3\", IF(COUNTIF(Général!E169:E174,$G$1)=1,\"Boat 4\", IF(COUNTIF(Général!F169:F174,$G$1)=1,\"Boat 5\", IF(COUNTIF(Général!G169:G174,$G$1)=1,\"Boat 6\", IF(COUNTIF(Général!H169:H174,$G$1)=1,\"Boat 7\",IF(COUNTIF(Général!I33:I38,$G$1)=1,\"Boat 8\",\"Boat 9\"))))))))","v":"Boat 3"},null,{"$f":"Général!B8","v":"IMT Atlantique Nantes 2"},7]
[null,null,null,null,null,null,null,null,null,null,null,null,null,null,null,null,null,null,null,null,null,{"$f":"Général!B9","v":"Hambourg"},6]
["1er Equipage",null,{"$f":"IF($C$5=\"Course 1\",Général!B33,IF($C$5=\"Course 2\",Général!B35,IF($C$5=\"Course 3\",Général!B37,Général!#REF!)))","v":"Univ. Nantes 1"},{"$f":"IF($D$5=\"Course 1\",Général!B41,IF($D$5=\"Course 2\",Général!B43,IF($D$5=\"Course 3\",Général!B45,Général!#REF!)))","v":"ENSTA Paris"},{"$f":"IF($E$5=\"Course 1\",Général!B49,IF($E$5=\"Course 2\",Général!B51,IF($E$5=\"Course 3\",Général!B53,Général!#REF!)))","v":"Univ.Orléans"},{"$f":"IF($F$5=\"Course 1\",Général!B$57,IF($F$5=\"Course 2\",Général!B$59,IF($F$5=\"Course 3\",Général!B$61,Général!#REF!)))","v":"IMT Atlantique Nantes 2"},{"$f":"IF($G$5=\"Course 1\",Général!B$65,IF($G$5=\"Course 2\",Général!B$67,IF($G$5=\"Course 3\",Général!B$69,Général!#REF!)))","v":"ENSTA Bretagne 2"},{"$f":"IF($H$5=\"Course 1\",Général!B$73,IF($H$5=\"Course 2\",Général!B$75,IF($H$5=\"Course 3\",Général!B$77,Général!#REF!)))","v":"ENSTA Bretagne 1"},{"$f":"IF($I$5=\"Course 1\",Général!B$81,IF($I$5=\"Course 2\",Général!B$83,IF($I$5=\"Course 3\",Général!B$85,Général!#REF!)))","v":"Univ. Nantes 3"},{"$f":"IF($J$5=\"Course 1\",Général!B$89,IF($J$5=\"Course 2\",Général!B$91,IF($J$5=\"Course 3\",Général!B$93,Général!#REF!)))","v":"UNICAEN - ASSUCherbourg"},{"$f":"IF($K$5=\"Course 1\",Général!B$97,IF($K$5=\"Course 2\",Général!B$99,IF($K$5=\"Course 3\",Général!B$101,Général!#REF!)))","v":"AS Paris 1 Panthéon Sorbonne"},{"$f":"IF($L$5=\"Course 1\",Général!B$105,IF($L$5=\"Course 2\",Général!B$107,IF($L$5=\"Course 3\",Général!B$109,Général!#REF!)))","v":"UBO 2"},{"$f":"IF($M$5=\"Course 1\",Général!B$113,IF($M$5=\"Course 2\",Général!B$115,IF($M$5=\"Course 3\",Général!B$117,Général!#REF!)))","v":"Hambourg"},{"$f":"IF($N$5=\"Course 1\",Général!B$121,IF($N$5=\"Course 2\",Général!B$123,IF($N$5=\"Course 3\",Général!B$125,Général!#REF!)))","v":"Karlsruhe"},{"$f":"IF($O$5=\"Course 1\",Général!B$129,IF($O$5=\"Course 2\",Général!B$131,IF($O$5=\"Course 3\",Général!B$133,Général!#REF!)))","v":"Hannovre"},{"$f":"IF($P$5=\"Course 1\",Général!B$137,IF($P$5=\"Course 2\",Général!B$139,IF($P$5=\"Course 3\",Général!B$141,Général!#REF!)))","v":"Southampton"},{"$f":"IF($Q$5=\"Course 1\",Général!B$145,IF($Q$5=\"Course 2\",Général!B$147,IF($Q$5=\"Course 3\",Général!B$149,Général!#REF!)))","v":"EGSI La Rochelle"},{"$f":"IF($R$5=\"Course 1\",Général!B$153,IF($R$5=\"Course 2\",Général!B$155,IF($R$5=\"Course 3\",Général!B$157,Général!#REF!)))","v":"HYDRO Sailing Team Le Havre"},{"$f":"IF($S$5=\"Course 1\",Général!B$161,IF($S$5=\"Course 2\",Général!B$163,IF($S$5=\"Course 3\",Général!B$165,Général!#REF!)))","v":"UBS Lorient 2"},{"$f":"IF($T$5=\"Course 1\",Général!B$169,IF($T$5=\"Course 2\",Général!B$171,IF($T$5=\"Course 3\",Général!B$173,Général!#REF!)))","v":"UBO 2"},null,{"$f":"Général!B10","v":"EGSI La Rochelle"},6]
["2nd Equipage",null,{"$f":"IF($C$5=\"Course 1\",Général!C33,IF($C$5=\"Course 2\",Général!C35,IF($C$5=\"Course 3\",Général!C37,Général!#REF!)))","v":"Hannovre"},{"$f":"IF($D$5=\"Course 1\",Général!C41,IF($D$5=\"Course 2\",Général!C43,IF($D$5=\"Course 3\",Général!C45,Général!#REF!)))","v":"UNICAEN - ASSUCherbourg"},{"$f":"IF($E$5=\"Course 1\",Général!C49,IF($E$5=\"Course 2\",Général!C51,IF($E$5=\"Course 3\",Général!C53,Général!#REF!)))","v":"ENSTA Bretagne 2"},{"$f":"IF($F$5=\"Course 1\",Général!C$57,IF($F$5=\"Course 2\",Général!C$59,IF($F$5=\"Course 3\",Général!C$61,Général!#REF!)))","v":"IMT Atlantique Nantes 1"},{"$f":"IF($G$5=\"Course 1\",Général!C$65,IF($G$5=\"Course 2\",Général!C$67,IF($G$5=\"Course 3\",Général!C$69,Général!#REF!)))","v":"IMT Atlantique Nantes 1"},{"$f":"IF($H$5=\"Course 1\",Général!C$73,IF($H$5=\"Course 2\",Général!C$75,IF($H$5=\"Course 3\",Général!C$77,Général!#REF!)))","v":"UBS Lorient 2"},{"$f":"IF($I$5=\"Course 1\",Général!C$81,IF($I$5=\"Course 2\",Général!C$83,IF($I$5=\"Course 3\",Général!C$85,Général!#REF!)))","v":"Southampton"},{"$f":"IF($J$5=\"Course 1\",Général!C$89,IF($J$5=\"Course 2\",Général!C$91,IF($J$5=\"Course 3\",Général!C$93,Général!#REF!)))","v":"UBO 2"},{"$f":"IF($K$5=\"Course 1\",Général!C$97,IF($K$5=\"Course 2\",Général!C$99,IF($K$5=\"Course 3\",Général!C$101,Général!#REF!)))","v":"ASUL Lannion"},{"$f":"IF($L$5=\"Course 1\",Général!C$105,IF($L$5=\"Course 2\",Général!C$107,IF($L$5=\"Course 3\",Général!C$109,Général!#REF!)))","v":"ENSTA Bretagne 1"},{"$f":"IF($M$5=\"Course 1\",Général!C$113,IF($M$5=\"Course 2\",Général!C$115,IF($M$5=\"Course 3\",Général!C$117,Général!#REF!)))","v":"Univ. Nantes 3"},{"$f":"IF($N$5=\"Course 1\",Général!C$121,IF($N$5=\"Course 2\",Général!C$123,IF($N$5=\"Course 3\",Général!C$125,Général!#REF!)))","v":"HYDRO Sailing Team Le Havre"},{"$f":"IF($O$5=\"Course 1\",Général!C$129,IF($O$5=\"Course 2\",Général!C$131,IF($O$5=\"Course 3\",Général!C$133,Général!#REF!)))","v":"Univ. Nantes 3"},{"$f":"IF($P$5=\"Course 1\",Général!C$137,IF($P$5=\"Course 2\",Général!C$139,IF($P$5=\"Course 3\",Général!C$141,Général!#REF!)))","v":"Centrales Nantes"},{"$f":"IF($Q$5=\"Course 1\",Général!C$145,IF($Q$5=\"Course 2\",Général!C$147,IF($Q$5=\"Course 3\",Général!C$149,Général!#REF!)))","v":"IMT Atlantique Brest"},{"$f":"IF($R$5=\"Course 1\",Général!C$153,IF($R$5=\"Course 2\",Général!C$155,IF($R$5=\"Course 3\",Général!C$157,Général!#REF!)))","v":"Univ. Nantes 3"},{"$f":"IF($S$5=\"Course 1\",Général!C$161,IF($S$5=\"Course 2\",Général!C$163,IF($S$5=\"Course 3\",Général!C$165,Général!#REF!)))","v":"Hambourg"},{"$f":"IF($T$5=\"Course 1\",Général!C$169,IF($T$5=\"Course 2\",Général!C$171,IF($T$5=\"Course 3\",Général!C$173,Général!#REF!)))","v":"Dublin"},null,{"$f":"Général!B11","v":"HYDRO Sailing Team Le Havre"},5]
["3ème Equipage",null,{"$f":"IF($C$5=\"Course 1\",Général!D33,IF($C$5=\"Course 2\",Général!D35,IF($C$5=\"Course 3\",Général!D37,Général!#REF!)))","v":"IMT Atlantique Brest"},{"$f":"IF($D$5=\"Course 1\",Général!D41,IF($D$5=\"Course 2\",Général!D43,IF($D$5=\"Course 3\",Général!D45,Général!#REF!)))","v":"Univ. Nantes 3"},{"$f":"IF($E$5=\"Course 1\",Général!D49,IF($E$5=\"Course 2\",Général!D51,IF($E$5=\"Course 3\",Général!D53,Général!#REF!)))","v":"UBS Lorient 2"},{"$f":"IF($F$5=\"Course 1\",Général!D$57,IF($F$5=\"Course 2\",Général!D$59,IF($F$5=\"Course 3\",Général!D$61,Général!#REF!)))","v":"Univ. Nantes 2"},{"$f":"IF($G$5=\"Course 1\",Général!D$65,IF($G$5=\"Course 2\",Général!D$67,IF($G$5=\"Course 3\",Général!D$69,Général!#REF!)))","v":"Univ. La Rochelle"},{"$f":"IF($H$5=\"Course 1\",Général!D$73,IF($H$5=\"Course 2\",Général!D$75,IF($H$5=\"Course 3\",Général!D$77,Général!#REF!)))","v":"Univ. La Rochelle"},{"$f":"IF($I$5=\"Course 1\",Général!D$81,IF($I$5=\"Course 2\",Général!D$83,IF($I$5=\"Course 3\",Général!D$85,Général!#REF!)))","v":"ASUL Lannion"},{"$f":"IF($J$5=\"Course 1\",Général!D$89,IF($J$5=\"Course 2\",Général!D$91,IF($J$5=\"Course 3\",Général!D$93,Général!#REF!)))","v":"EGSI La Rochelle"},{"$f":"IF($K$5=\"Course 1\",Général!D$97,IF($K$5=\"Course 2\",Général!D$99,IF($K$5=\"Course 3\",Général!D$101,Général!#REF!)))","v":"ENSTA Paris"},{"$f":"IF($L$5=\"Course 1\",Général!D$105,IF($L$5=\"Course 2\",Général!D$107,IF($L$5=\"Course 3\",Général!D$109,Général!#REF!)))","v":"Univ. Nantes 2"},{"$f":"IF($M$5=\"Course 1\",Général!D$113,IF($M$5=\"Course 2\",Général!D$115,IF($M$5=\"Course 3\",Général!D$117,Général!#REF!)))","v":"AS UB St Brieuc"},{"$f":"IF($N$5=\"Course 1\",Général!D$121,IF($N$5=\"Course 2\",Général!D$123,IF($N$5=\"Course 3\",Général!D$125,Général!#REF!)))","v":"AS UB St Brieuc"},{"$f":"IF($O$5=\"Course 1\",Général!D$129,IF($O$5=\"Course 2\",Général!D$131,IF($O$5=\"Course 3\",Général!D$133,Général!#REF!)))","v":"AS Paris 1 Panthéon Sorbonne"},{"$f":"IF($P$5=\"Course 1\",Général!D$137,IF($P$5=\"Course 2\",Général!D$139,IF($P$5=\"Course 3\",Général!D$141,Général!#REF!)))","v":"ENSTA Bretagne 1"},{"$f":"IF($Q$5=\"Course 1\",Général!D$145,IF($Q$5=\"Course 2\",Général!D$147,IF($Q$5=\"Course 3\",Général!D$149,Général!#REF!)))","v":"Hambourg"},{"$f":"IF($R$5=\"Course 1\",Général!D$153,IF($R$5=\"Course 2\",Général!D$155,IF($R$5=\"Course 3\",Général!D$157,Général!#REF!)))","v":"Univ.Orléans"},{"$f":"IF($S$5=\"Course 1\",Général!D$161,IF($S$5=\"Course 2\",Général!D$163,IF($S$5=\"Course 3\",Général!D$165,Général!#REF!)))","v":"UBO 1"},{"$f":"IF($T$5=\"Course 1\",Général!D$169,IF($T$5=\"Course 2\",Général!D$171,IF($T$5=\"Course 3\",Général!D$173,Général!#REF!)))","v":"Univ. Nantes 3"},null,{"$f":"Général!B12","v":"UNICAEN - ASSUCherbourg"},6]
["4ème Equipage",null,{"$f":"IF($C$5=\"Course 1\",Général!E33,IF($C$5=\"Course 2\",Général!E35,IF($C$5=\"Course 3\",Général!E37,Général!#REF!)))","v":"AS UB St Brieuc"},{"$f":"IF($D$5=\"Course 1\",Général!E41,IF($D$5=\"Course 2\",Général!E43,IF($D$5=\"Course 3\",Général!E45,Général!#REF!)))","v":"Dublin"},{"$f":"IF($E$5=\"Course 1\",Général!E49,IF($E$5=\"Course 2\",Général!E51,IF($E$5=\"Course 3\",Général!E53,Général!#REF!)))","v":"Univ. La Rochelle"},{"$f":"IF($F$5=\"Course 1\",Général!E$57,IF($F$5=\"Course 2\",Général!E$59,IF($F$5=\"Course 3\",Général!E$61,Général!#REF!)))","v":"UBS Lorient 1"},{"$f":"IF($G$5=\"Course 1\",Général!E$65,IF($G$5=\"Course 2\",Général!E$67,IF($G$5=\"Course 3\",Général!E$69,Général!#REF!)))","v":"ASUL Lannion"},{"$f":"IF($H$5=\"Course 1\",Général!E$73,IF($H$5=\"Course 2\",Général!E$75,IF($H$5=\"Course 3\",Général!E$77,Général!#REF!)))","v":"HYDRO Sailing Team Le Havre"},{"$f":"IF($I$5=\"Course 1\",Général!E$81,IF($I$5=\"Course 2\",Général!E$83,IF($I$5=\"Course 3\",Général!E$85,Général!#REF!)))","v":"ENSTA Bretagne 1"},{"$f":"IF($J$5=\"Course 1\",Général!E$89,IF($J$5=\"Course 2\",Général!E$91,IF($J$5=\"Course 3\",Général!E$93,Général!#REF!)))","v":"Univ. Nantes 1"},{"$f":"IF($K$5=\"Course 1\",Général!E$97,IF($K$5=\"Course 2\",Général!E$99,IF($K$5=\"Course 3\",Général!E$101,Général!#REF!)))","v":"UBO 1"},{"$f":"IF($L$5=\"Course 1\",Général!E$105,IF($L$5=\"Course 2\",Général!E$107,IF($L$5=\"Course 3\",Général!E$109,Général!#REF!)))","v":"Univ. Nantes 3"},{"$f":"IF($M$5=\"Course 1\",Général!E$113,IF($M$5=\"Course 2\",Général!E$115,IF($M$5=\"Course 3\",Général!E$117,Général!#REF!)))","v":"ENSTA Paris"},{"$f":"IF($N$5=\"Course 1\",Général!E$121,IF($N$5=\"Course 2\",Général!E$123,IF($N$5=\"Course 3\",Général!E$125,Général!#REF!)))","v":"ENSTA Bretagne 2"},{"$f":"IF($O$5=\"Course 1\",Général!E$129,IF($O$5=\"Course 2\",Général!E$131,IF($O$5=\"Course 3\",Général!E$133,Général!#REF!)))","v":"IMT Atlantique Nantes 2"},{"$f":"IF($P$5=\"Course 1\",Général!E$137,IF($P$5=\"Course 2\",Général!E$139,IF($P$5=\"Course 3\",Général!E$141,Général!#REF!)))","v":"Hambourg"},{"$f":"IF($Q$5=\"Course 1\",Général!E$145,IF($Q$5=\"Course 2\",Général!E$147,IF($Q$5=\"Course 3\",Général!E$149,Général!#REF!)))","v":"Centrales Nantes"},{"$f":"IF($R$5=\"Course 1\",Général!E$153,IF($R$5=\"Course 2\",Général!E$155,IF($R$5=\"Course 3\",Général!E$157,Général!#REF!)))","v":"IMT Atlantique Nantes 1"},{"$f":"IF($S$5=\"Course 1\",Général!E$161,IF($S$5=\"Course 2\",Général!E$163,IF($S$5=\"Course 3\",Général!E$165,Général!#REF!)))","v":"Univ. Nantes 3"},{"$f":"IF($T$5=\"Course 1\",Général!E$169,IF($T$5=\"Course 2\",Général!E$171,IF($T$5=\"Course 3\",Général!E$173,Général!#REF!)))","v":"Univ.Orléans"},null,{"$f":"Général!B13","v":"UBO 1"},4]
["5ème Equipage",null,{"$f":"IF($C$5=\"Course 1\",Général!F33,IF($C$5=\"Course 2\",Général!F35,IF($C$5=\"Course 3\",Général!F37,Général!#REF!)))","v":"EGSI La Rochelle"},{"$f":"IF($D$5=\"Course 1\",Général!F41,IF($D$5=\"Course 2\",Général!F43,IF($D$5=\"Course 3\",Général!F45,Général!#REF!)))","v":"ENSTA Bretagne 2"},{"$f":"IF($E$5=\"Course 1\",Général!F49,IF($E$5=\"Course 2\",Général!F51,IF($E$5=\"Course 3\",Général!F53,Général!#REF!)))","v":"AS Paris 1 Panthéon Sorbonne"},{"$f":"IF($F$5=\"Course 1\",Général!F$57,IF($F$5=\"Course 2\",Général!F$59,IF($F$5=\"Course 3\",Général!F$61,Général!#REF!)))","v":"UNICAEN - ASSUCherbourg"},{"$f":"IF($G$5=\"Course 1\",Général!F$65,IF($G$5=\"Course 2\",Général!F$67,IF($G$5=\"Course 3\",Général!F$69,Général!#REF!)))","v":"Univ. Nantes 3"},{"$f":"IF($H$5=\"Course 1\",Général!F$73,IF($H$5=\"Course 2\",Général!F$75,IF($H$5=\"Course 3\",Général!F$77,Général!#REF!)))","v":"Univ. Nantes 3"},{"$f":"IF($I$5=\"Course 1\",Général!F$81,IF($I$5=\"Course 2\",Général!F$83,IF($I$5=\"Course 3\",Général!F$85,Général!#REF!)))","v":"ENSTA Paris"},{"$f":"IF($J$5=\"Course 1\",Général!F$89,IF($J$5=\"Course 2\",Général!F$91,IF($J$5=\"Course 3\",Général!F$93,Général!#REF!)))","v":"Hannovre"},{"$f":"IF($K$5=\"Course 1\",Général!F$97,IF($K$5=\"Course 2\",Général!F$99,IF($K$5=\"Course 3\",Général!F$101,Général!#REF!)))","v":"Dublin"},{"$f":"IF($L$5=\"Course 1\",Général!F$105,IF($L$5=\"Course 2\",Général!$F107,IF($L$5=\"Course 3\",Général!F$109,Général!#REF!)))","v":"HYDRO Sailing Team Le Havre"},{"$f":"IF($M$5=\"Course 1\",Général!F$113,IF($M$5=\"Course 2\",Général!F$115,IF($M$5=\"Course 3\",Général!F$117,Général!#REF!)))","v":"UBS Lorient 1"},{"$f":"IF($N$5=\"Course 1\",Général!F$121,IF($N$5=\"Course 2\",Général!F$123,IF($N$5=\"Course 3\",Général!F$125,Général!#REF!)))","v":"Univ. Nantes 3"},{"$f":"IF($O$5=\"Course 1\",Général!F$129,IF($O$5=\"Course 2\",Général!F$131,IF($O$5=\"Course 3\",Général!F$133,Général!#REF!)))","v":"ASUL Lannion"},{"$f":"IF($P$5=\"Course 1\",Général!F$137,IF($P$5=\"Course 2\",Général!F$139,IF($P$5=\"Course 3\",Général!F$141,Général!#REF!)))","v":"UBO 1"},{"$f":"IF($Q$5=\"Course 1\",Général!F$145,IF($Q$5=\"Course 2\",Général!F$147,IF($Q$5=\"Course 3\",Général!F$149,Général!#REF!)))","v":"Univ. La Rochelle"},{"$f":"IF($R$5=\"Course 1\",Général!F$153,IF($R$5=\"Course 2\",Général!F$155,IF($R$5=\"Course 3\",Général!F$157,Général!#REF!)))","v":"UBS Lorient 2"},{"$f":"IF($S$5=\"Course 1\",Général!F$161,IF($S$5=\"Course 2\",Général!F$163,IF($S$5=\"Course 3\",Général!F$165,Général!#REF!)))","v":"Univ. Nantes 1"},{"$f":"IF($T$5=\"Course 1\",Général!F$169,IF($T$5=\"Course 2\",Général!F$171,IF($T$5=\"Course 3\",Général!F$173,Général!#REF!)))","v":"ENSTA Bretagne 1"},null,{"$f":"Général!B14","v":"ENSTA Bretagne 1"},7]
["6ème Equipage",null,{"$f":"IF($C$5=\"Course 1\",Général!G33,IF($C$5=\"Course 2\",Général!G35,IF($C$5=\"Course 3\",Général!G37,Général!#REF!)))","v":"Karlsruhe"},{"$f":"IF($D$5=\"Course 1\",Général!G41,IF($D$5=\"Course 2\",Général!G43,IF($D$5=\"Course 3\",Général!G45,Général!#REF!)))","v":"Karlsruhe"},{"$f":"IF($E$5=\"Course 1\",Général!G49,IF($E$5=\"Course 2\",Général!G51,IF($E$5=\"Course 3\",Général!G53,Général!#REF!)))","v":"ENSTA Paris"},{"$f":"IF($F$5=\"Course 1\",Général!G$57,IF($F$5=\"Course 2\",Général!G$59,IF($F$5=\"Course 3\",Général!G$61,Général!#REF!)))","v":"AS UB St Brieuc"},{"$f":"IF($G$5=\"Course 1\",Général!G$65,IF($G$5=\"Course 2\",Général!G$67,IF($G$5=\"Course 3\",Général!G$69,Général!#REF!)))","v":"Hambourg"},{"$f":"IF($H$5=\"Course 1\",Général!G$73,IF($H$5=\"Course 2\",Général!G$75,IF($H$5=\"Course 3\",Général!G$77,Général!#REF!)))","v":"AS UB St Brieuc"},{"$f":"IF($I$5=\"Course 1\",Général!G$81,IF($I$5=\"Course 2\",Général!G$83,IF($I$5=\"Course 3\",Général!G$85,Général!#REF!)))","v":"IMT Atlantique Nantes 2"},{"$f":"IF($J$5=\"Course 1\",Général!G$89,IF($J$5=\"Course 2\",Général!G$91,IF($J$5=\"Course 3\",Général!G$93,Général!#REF!)))","v":"Southampton"},{"$f":"IF($K$5=\"Course 1\",Général!G$97,IF($K$5=\"Course 2\",Général!G$99,IF($K$5=\"Course 3\",Général!G$101,Général!#REF!)))","v":"Univ. Nantes 3"},{"$f":"IF($L$5=\"Course 1\",Général!G$105,IF($L$5=\"Course 2\",Général!G$107,IF($L$5=\"Course 3\",Général!G$109,Général!#REF!)))","v":"AS Paris 1 Panthéon Sorbonne"},{"$f":"IF($M$5=\"Course 1\",Général!G$113,IF($M$5=\"Course 2\",Général!G$115,IF($M$5=\"Course 3\",Général!G$117,Général!#REF!)))","v":"Centrales Nantes"},{"$f":"IF($N$5=\"Course 1\",Général!G$121,IF($N$5=\"Course 2\",Général!G$123,IF($N$5=\"Course 3\",Général!G$125,Général!#REF!)))","v":"Univ. Nantes 1"},{"$f":"IF($O$5=\"Course 1\",Général!G$129,IF($O$5=\"Course 2\",Général!G$131,IF($O$5=\"Course 3\",Général!G$133,Général!#REF!)))","v":"IMT Atlantique Nantes 1"},{"$f":"IF($P$5=\"Course 1\",Général!G$137,IF($P$5=\"Course 2\",Général!G$139,IF($P$5=\"Course 3\",Général!G$141,Général!#REF!)))","v":"Univ. Nantes 3"},{"$f":"IF($Q$5=\"Course 1\",Général!G$145,IF($Q$5=\"Course 2\",Général!G$147,IF($Q$5=\"Course 3\",Général!G$149,Général!#REF!)))","v":"Dublin"},{"$f":"IF($R$5=\"Course 1\",Général!G$153,IF($R$5=\"Course 2\",Général!G$155,IF($R$5=\"Course 3\",Général!G$157,Général!#REF!)))","v":"IMT Atlantique Brest"},{"$f":"IF($S$5=\"Course 1\",Général!G$161,IF($S$5=\"Course 2\",Général!G$163,IF($S$5=\"Course 3\",Général!G$165,Général!#REF!)))","v":"UBO 2"},{"$f":"IF($T$5=\"Course 1\",Général!G$169,IF($T$5=\"Course 2\",Général!G$171,IF($T$5=\"Course 3\",Général!G$173,Général!#REF!)))","v":"EGSI La Rochelle"},null,{"$f":"Général!B15","v":"ASUL Lannion"},5]
["7ème Equipage",null,{"$f":"IF($C$5=\"Course 1\",Général!H33,IF($C$5=\"Course 2\",Général!H35,IF($C$5=\"Course 3\",Général!H37,Général!#REF!)))","v":"Univ. La Rochelle"},{"$f":"IF($D$5=\"Course 1\",Général!H41,IF($D$5=\"Course 2\",Général!H43,IF($D$5=\"Course 3\",Général!H45,Général!#REF!)))","v":"UBO 2"},{"$f":"IF($E$5=\"Course 1\",Général!H49,IF($E$5=\"Course 2\",Général!H51,IF($E$5=\"Course 3\",Général!H53,Général!#REF!)))","v":"Univ. Nantes 3"},{"$f":"IF($F$5=\"Course 1\",Général!H$57,IF($F$5=\"Course 2\",Général!H$59,IF($F$5=\"Course 3\",Général!H$61,Général!#REF!)))","v":"Univ. Nantes 3"},{"$f":"IF($G$5=\"Course 1\",Général!H$65,IF($G$5=\"Course 2\",Général!H$67,IF($G$5=\"Course 3\",Général!H$69,Général!#REF!)))","v":"Univ. Nantes 2"},{"$f":"IF($H$5=\"Course 1\",Général!H$73,IF($H$5=\"Course 2\",Général!H$75,IF($H$5=\"Course 3\",Général!H$77,Général!#REF!)))","v":"IMT Atlantique Nantes 2"},{"$f":"IF($I$5=\"Course 1\",Général!H$81,IF($I$5=\"Course 2\",Général!H$83,IF($I$5=\"Course 3\",Général!H$85,Général!#REF!)))","v":"Univ. Nantes 1"},{"$f":"IF($J$5=\"Course 1\",Général!H$89,IF($J$5=\"Course 2\",Général!H$91,IF($J$5=\"Course 3\",Général!H$93,Général!#REF!)))","v":"Centrales Nantes"},{"$f":"IF($K$5=\"Course 1\",Général!H$97,IF($K$5=\"Course 2\",Général!H$99,IF($K$5=\"Course 3\",Général!H$101,Général!#REF!)))","v":"IMT Atlantique Nantes 1"},{"$f":"IF($L$5=\"Course 1\",Général!H$105,IF($L$5=\"Course 2\",Général!H$107,IF($L$5=\"Course 3\",Général!H$109,Général!#REF!)))","v":"Univ.Orléans"},{"$f":"IF($M$5=\"Course 1\",Général!H$113,IF($M$5=\"Course 2\",Général!H$115,IF($M$5=\"Course 3\",Général!H$117,Général!#REF!)))","v":"EGSI La Rochelle"},{"$f":"IF($N$5=\"Course 1\",Général!H$121,IF($N$5=\"Course 2\",Général!H$123,IF($N$5=\"Course 3\",Général!H$125,Général!#REF!)))","v":"Hambourg"},{"$f":"IF($O$5=\"Course 1\",Général!H$129,IF($O$5=\"Course 2\",Général!H$131,IF($O$5=\"Course 3\",Général!H$133,Général!#REF!)))","v":"UBS Lorient 1"},{"$f":"IF($P$5=\"Course 1\",Général!H$137,IF($P$5=\"Course 2\",Général!H$139,IF($P$5=\"Course 3\",Général!H$141,Général!#REF!)))","v":"Univ.Orléans"},{"$f":"IF($Q$5=\"Course 1\",Général!H$145,IF($Q$5=\"Course 2\",Général!H$147,IF($Q$5=\"Course 3\",Général!H$149,Général!#REF!)))","v":"ASUL Lannion"},{"$f":"IF($R$5=\"Course 1\",Général!H$153,IF($R$5=\"Course 2\",Général!H$155,IF($R$5=\"Course 3\",Général!H$157,Général!#REF!)))","v":"ENSTA Bretagne 1"},{"$f":"IF($S$5=\"Course 1\",Général!H$161,IF($S$5=\"Course 2\",Général!H$163,IF($S$5=\"Course 3\",Général!H$165,Général!#REF!)))","v":"UNICAEN - ASSUCherbourg"},{"$f":"IF($T$5=\"Course 1\",Général!H$169,IF($T$5=\"Course 2\",Général!H$171,IF($T$5=\"Course 3\",Général!H$173,Général!#REF!)))","v":"UBS Lorient 1"},null,{"$f":"Général!B16","v":"ENSTA Paris"},5]
["8ème Equipage",null,{"$f":"IF($C$5=\"Course 1\",Général!I33,IF($C$5=\"Course 2\",Général!I35,IF($C$5=\"Course 3\",Général!I37,Général!#REF!)))","v":"Univ. Nantes 3"},{"$f":"IF($D$5=\"Course 1\",Général!I41,IF($D$5=\"Course 2\",Général!I43,IF($D$5=\"Course 3\",Général!I45,Général!#REF!)))","v":"Univ.Orléans"},{"$f":"IF($E$5=\"Course 1\",Général!I49,IF($E$5=\"Course 2\",Général!I51,IF($E$5=\"Course 3\",Général!I53,Général!#REF!)))","v":"Southampton"},{"$f":"IF($F$5=\"Course 1\",Général!I$57,IF($F$5=\"Course 2\",Général!I$59,IF($F$5=\"Course 3\",Général!I$61,Général!#REF!)))","v":"Southampton"},{"$f":"IF($G$5=\"Course 1\",Général!I$65,IF($G$5=\"Course 2\",Général!I$67,IF($G$5=\"Course 3\",Général!I$69,Général!#REF!)))","v":"UNICAEN - ASSUCherbourg"},{"$f":"IF($H$5=\"Course 1\",Général!I$73,IF($H$5=\"Course 2\",Général!I$75,IF($H$5=\"Course 3\",Général!I$77,Général!#REF!)))","v":"UNICAEN - ASSUCherbourg"},{"$f":"IF($I$5=\"Course 1\",Général!I$81,IF($I$5=\"Course 2\",Général!I$83,IF($I$5=\"Course 3\",Général!I$85,Général!#REF!)))","v":"Karlsruhe"},{"$f":"IF($J$5=\"Course 1\",Général!I$89,IF($J$5=\"Course 2\",Général!I$91,IF($J$5=\"Course 3\",Général!I$93,Général!#REF!)))","v":"UBS Lorient 2"},{"$f":"IF($K$5=\"Course 1\",Général!I$97,IF($K$5=\"Course 2\",Général!I$99,IF($K$5=\"Course 3\",Général!I$101,Général!#REF!)))","v":"AS UB St Brieuc"},{"$f":"IF($L$5=\"Course 1\",Général!I$105,IF($L$5=\"Course 2\",Général!I$107,IF($L$5=\"Course 3\",Général!I$109,Général!#REF!)))","v":"EGSI La Rochelle"},{"$f":"IF($M$5=\"Course 1\",Général!I$113,IF($M$5=\"Course 2\",Général!I$115,IF($M$5=\"Course 3\",Général!I$117,Général!#REF!)))","v":"IMT Atlantique Nantes 2"},{"$f":"IF($N$5=\"Course 1\",Général!I$121,IF($N$5=\"Course 2\",Général!I$123,IF($N$5=\"Course 3\",Général!I$125,Général!#REF!)))","v":"Centrales Nantes"},{"$f":"IF($O$5=\"Course 1\",Général!I$129,IF($O$5=\"Course 2\",Général!I$131,IF($O$5=\"Course 3\",Général!I$133,Général!#REF!)))","v":"UBO 2"},{"$f":"IF($P$5=\"Course 1\",Général!I$137,IF($P$5=\"Course 2\",Général!I$139,IF($P$5=\"Course 3\",Général!I$141,Général!#REF!)))","v":"AS Paris 1 Panthéon Sorbonne"},{"$f":"IF($Q$5=\"Course 1\",Général!I$145,IF($Q$5=\"Course 2\",Général!I$147,IF($Q$5=\"Course 3\",Général!I$149,Général!#REF!)))","v":"AS Paris 1 Panthéon Sorbonne"},{"$f":"IF($R$5=\"Course 1\",Général!I$153,IF($R$5=\"Course 2\",Général!I$155,IF($R$5=\"Course 3\",Général!I$157,Général!#REF!)))","v":"AS UB St Brieuc"},{"$f":"IF($S$5=\"Course 1\",Général!I$161,IF($S$5=\"Course 2\",Général!I$163,IF($S$5=\"Course 3\",Général!I$165,Général!#REF!)))","v":"ENSTA Bretagne 1"},{"$f":"IF($T$5=\"Course 1\",Général!I$169,IF($T$5=\"Course 2\",Général!I$171,IF($T$5=\"Course 3\",Général!I$173,Général!#REF!)))","v":"Karlsruhe"},null,{"$f":"Général!B17","v":"IMT Atlantique Brest"},5]
["9ème Equipage",null,{"$f":"IF($C$5=\"Course 1\",Général!J33,IF($C$5=\"Course 2\",Général!J35,IF($C$5=\"Course 3\",Général!J37,Général!#REF!)))","v":"UBO 1"},{"$f":"IF($D$5=\"Course 1\",Général!J41,IF($D$5=\"Course 2\",Général!J43,IF($D$5=\"Course 3\",Général!J45,Général!#REF!)))","v":"Centrales Nantes"},{"$f":"IF($E$5=\"Course 1\",Général!J49,IF($E$5=\"Course 2\",Général!J51,IF($E$5=\"Course 3\",Général!J53,Général!#REF!)))","v":"IMT Atlantique Brest"},{"$f":"IF($F$5=\"Course 1\",Général!J$57,IF($F$5=\"Course 2\",Général!J$59,IF($F$5=\"Course 3\",Général!J$61,Général!#REF!)))","v":"IMT Atlantique Brest"},{"$f":"IF($G$5=\"Course 1\",Général!J$65,IF($G$5=\"Course 2\",Général!J$67,IF($G$5=\"Course 3\",Général!J$69,Général!#REF!)))","v":"Univ. Nantes 1"},{"$f":"IF($H$5=\"Course 1\",Général!J$73,IF($H$5=\"Course 2\",Général!J$75,IF($H$5=\"Course 3\",Général!$J77,Général!#REF!)))","v":"Dublin"},{"$f":"IF($I$5=\"Course 1\",Général!J$81,IF($I$5=\"Course 2\",Général!J$83,IF($I$5=\"Course 3\",Général!J$85,Général!#REF!)))","v":"Univ. Nantes 2"},{"$f":"IF($J$5=\"Course 1\",Général!J$89,IF($J$5=\"Course 2\",Général!J$91,IF($J$5=\"Course 3\",Général!J$93,Général!#REF!)))","v":"Univ. Nantes 3"},{"$f":"IF($K$5=\"Course 1\",Général!J$97,IF($K$5=\"Course 2\",Général!J$99,IF($K$5=\"Course 3\",Général!J$101,Général!#REF!)))","v":"HYDRO Sailing Team Le Havre"},{"$f":"IF($L$5=\"Course 1\",Général!J$105,IF($L$5=\"Course 2\",Général!J$107,IF($L$5=\"Course 3\",Général!J$109,Général!#REF!)))","v":"Hannovre"},{"$f":"IF($M$5=\"Course 1\",Général!J$113,IF($M$5=\"Course 2\",Général!J$115,IF($M$5=\"Course 3\",Général!J$117,Général!#REF!)))","v":"UBS Lorient 2"},{"$f":"IF($N$5=\"Course 1\",Général!J$121,IF($N$5=\"Course 2\",Général!J$123,IF($N$5=\"Course 3\",Général!J$125,Général!#REF!)))","v":"UBS Lorient 1"},{"$f":"IF($O$5=\"Course 1\",Général!J$129,IF($O$5=\"Course 2\",Général!J$131,IF($O$5=\"Course 3\",Général!J$133,Général!#REF!)))","v":"ENSTA Bretagne 2"},{"$f":"IF($P$5=\"Course 1\",Général!J$137,IF($P$5=\"Course 2\",Général!J$139,IF($P$5=\"Course 3\",Général!J$141,Général!#REF!)))","v":"IMT Atlantique Nantes 2"},{"$f":"IF($Q$5=\"Course 1\",Général!J$145,IF($Q$5=\"Course 2\",Général!J$147,IF($Q$5=\"Course 3\",Général!J$149,Général!#REF!)))","v":"Univ. Nantes 3"},{"$f":"IF($R$5=\"Course 1\",Général!J$153,IF($R$5=\"Course 2\",Général!J$155,IF($R$5=\"Course 3\",Général!J$157,Général!#REF!)))","v":"Karlsruhe"},{"$f":"IF($S$5=\"Course 1\",Général!J$161,IF($S$5=\"Course 2\",Général!J$163,IF($S$5=\"Course 3\",Général!J$165,Général!#REF!)))","v":"IMT Atlantique Nantes 2"},{"$f":"IF($T$5=\"Course 1\",Général!J$169,IF($T$5=\"Course 2\",Général!J$171,IF($T$5=\"Course 3\",Général!J$173,Général!#REF!)))","v":"IMT Atlantique Nantes 1"},null,{"$f":"Général!B18","v":"UBO 2"},6]
[null,null,null,null,null,null,null,null,null,null,null,null,null,null,null,null,null,null,null,null,null,{"$f":"Général!B19","v":"Dublin"},5]
[null,null,null,null,null,null,null,null,null,null,null,null,null,null,null,null,null,null,null,null,null,{"$f":"Général!B20","v":"Univ. Nantes 2"},4]
[null,null,null,null,null,null,null,null,null,null,null,null,null,null,null,null,null,null,null,null,null,{"$f":"Général!B21","v":"UBS Lorient 1"},5]
[null,null,null,null,null,null,null,null,null,null,null,null,null,null,null,null,null,null,null,null,null,{"$f":"Général!B22","v":"UBS Lorient 2"},6]
[null,null,null,null,null,null,null,null,null,null,null,null,null,null,null,null,null,null,null,null,null,{"$f":"Général!B23","v":"Univ.Orléans"},6]
[null,null,null,null,null,null,null,null,null,null,null,null,null,null,null,null,null,null,null,null,null,{"$f":"Général!B24","v":"Univ. La Rochelle"},5]
[null,null,null,null,null,null,null,null,null,null,null,null,null,null,null,null,null,null,null,null,null,{"$f":"Général!B25","v":"AS UB St Brieuc"},7]
[null,null,null,null,null,null,null,null,null,null,null,null,null,null,null,null,null,null,null,null,null,{"$f":"Général!B26","v":"Karlsruhe"},6]
[null,null,null,null,null,null,null,null,null,null,null,null,null,null,null,null,null,null,null,null,null,{"$f":"Général!B27","v":"Univ. Nantes 3"},18]
[null,null,null,null,null,null,null,null,null,null,null,null,null,null,null,null,null,null,null,null,null,{"$f":"Général!B28","v":"Centrales Nantes"},6]
[null,null,null,null,null,null,null,null,null,null,null,null,null,null,null,null,null,null,null,null,null,{"$f":"Général!B29","v":"Southampton"},5]
[null,null,null,null,null,null,null,null,null,null,null,null,null,null,null,null,null,null,null,null,null,{"$f":"Général!#REF!","v":{"$error":"#REF!"}},0]
[null,null,null,null,null,null,null,null,null,null,null,null,null,null,null,null,null,null,null,null,null,{"$f":"Général!#REF!","v":{"$error":"#REF!"}},0]
[null,null,null,null,null,null,null,null,null,null,null,null,null,null,null,null,null,null,null,null,null,{"$f":"Général!#REF!","v":{"$error":"#REF!"}},0]
[null,null,null,null,null,null,null,null,null,null,null,null,null,null,null,null,null,null,null,null,null,{"$f":"Général!#REF!","v":{"$error":"#REF!"}},0]
[null,null,null,null,null,null,null,null,null,null,null,null,null,null,null,null,null,null,null,null,null,{"$f":"Général!#REF!","v":{"$error":"#REF!"}},0]

{"sheet":"Eq.26","index":30,"n_rows":32,"n_cols":23,"rows_kept":32,"cut":false,"hidden":false,"merged":[[14,0,14,1],[15,0,15,1],[8,0,8,1],[9,0,9,1],[10,0,10,1],[11,0,11,1],[12,0,12,1],[13,0,13,1],[7,0,7,1],[0,0,1,5],[0,6,1,10],[3,0,3,1],[4,0,4,1],[5,0,5,1]]}
["Equipage ",null,null,null,null,null,{"$f":"Général!B28","v":"Centrales Nantes"},null,null,null,null,null,null,null,null,null,null,null,null,null,null,{"$f":"Général!B3","v":"Univ. Nantes 1"},{"$f":"COUNTIF(C$8:T$16,V1)","v":6}]
[null,null,null,null,null,null,null,null,null,null,null,null,null,null,null,null,null,null,null,null,null,{"$f":"Général!B4","v":"AS Paris 1 Panthéon Sorbonne"},{"$f":"COUNTIF($C$8:$T$16,V2)","v":4}]
[null,null,null,null,null,null,null,null,null,null,null,null,null,null,null,null,null,null,null,null,null,{"$f":"Général!B5","v":"Hannovre"},{"$f":"COUNTIF($C$8:$T$16,V3)","v":6}]
[null,null,"FLIGHT 1","FLIGHT 2","FLIGHT 3","FLIGHT 4","FLIGHT 5","FLIGHT 6","FLIGHT 7","FLIGHT 8","FLIGHT 9","FLIGHT 10","FLIGHT 11","FLIGHT 12","FLIGHT 13","FLIGHT 14","FLIGHT 15","FLIGHT 16","FLIGHT 17","FLIGHT 18",null,{"$f":"Général!B6","v":"IMT Atlantique Nantes 1"},5]
["N° de course",null,{"$f":"IF(COUNTIF(Général!B33:J33,$G$1)=1,\"Course 1\",IF(COUNTIF(Général!B35:J35,$G$1)=1,\"Course 2\",IF(COUNTIF(Général!B37:J37,$G$1)=1,\"Course 3\",\"Course 4\")))","v":"Course 1"},{"$f":"IF(COUNTIF(Général!B41:J41,$G$1)=1,\"Course 1\",IF(COUNTIF(Général!B43:J43,$G$1)=1,\"Course 2\",IF(COUNTIF(Général!B45:J45,$G$1)=1,\"Course 3\",\"Course 4\")))","v":"Course 1"},{"$f":"IF(COUNTIF(Général!B49:J49,$G$1)=1,\"Course 1\",IF(COUNTIF(Général!B51:J51,$G$1)=1,\"Course 2\",IF(COUNTIF(Général!B53:J53,$G$1)=1,\"Course 3\",\"Course 4\")))","v":"Course 1"},{"$f":"IF(COUNTIF(Général!B57:J57,$G$1)=1,\"Course 1\",IF(COUNTIF(Général!B59:J59,$G$1)=1,\"Course 2\",IF(COUNTIF(Général!B61:J61,$G$1)=1,\"Course 3\",\"Course 4\")))","v":"Course 2"},{"$f":"IF(COUNTIF(Général!B65:J65,$G$1)=1,\"Course 1\",IF(COUNTIF(Général!B67:J67,$G$1)=1,\"Course 2\",IF(COUNTIF(Général!B69:J69,$G$1)=1,\"Course 3\",\"Course 4\")))","v":"Course 1"},{"$f":"IF(COUNTIF(Général!B73:J73,$G$1)=1,\"Course 1\",IF(COUNTIF(Général!B75:J75,$G$1)=1,\"Course 2\",IF(COUNTIF(Général!B77:J77,$G$1)=1,\"Course 3\",\"Course 4\")))","v":"Course 2"},{"$f":"IF(COUNTIF(Général!B81:J81,$G$1)=1,\"Course 1\",IF(COUNTIF(Général!B83:J83,$G$1)=1,\"Course 2\",IF(COUNTIF(Général!B85:J85,$G$1)=1,\"Course 3\",\"Course 4\")))","v":"Course 2"},{"$f":"IF(COUNTIF(Général!B89:J89,$G$1)=1,\"Course 1\",IF(COUNTIF(Général!B91:J91,$G$1)=1,\"Course 2\",IF(COUNTIF(Général!B93:J93,$G$1)=1,\"Course 3\",\"Course 4\")))","v":"Course 2"},{"$f":"IF(COUNTIF(Général!B97:J97,$G$1)=1,\"Course 1\",IF(COUNTIF(Général!B99:J99,$G$1)=1,\"Course 2\",IF(COUNTIF(Général!B101:J101,$G$1)=1,\"Course 3\",\"Course 4\")))","v":"Course 2"},{"$f":"IF(COUNTIF(Général!B105:J105,$G$1)=1,\"Course 1\",IF(COUNTIF(Général!B107:J107,$G$1)=1,\"Course 2\",IF(COUNTIF(Général!B109:J109,$G$1)=1,\"Course 3\",\"Course 4\")))","v":"Course 1"},{"$f":"IF(COUNTIF(Général!B113:J113,$G$1)=1,\"Course 1\",IF(COUNTIF(Général!B115:J115,$G$1)=1,\"Course 2\",IF(COUNTIF(Général!B117:J117,$G$1)=1,\"Course 3\",\"Course 4\")))","v":"Course 1"},{"$f":"IF(COUNTIF(Général!B121:J121,$G$1)=1,\"Course 1\",IF(COUNTIF(Général!B123:J123,$G$1)=1,\"Course 2\",IF(COUNTIF(Général!B125:J125,$G$1)=1,\"Course 3\",\"Course 4\")))","v":"Course 1"},{"$f":"IF(COUNTIF(Général!B129:J129,$G$1)=1,\"Course 1\",IF(COUNTIF(Général!B131:J131,$G$1)=1,\"Course 2\",IF(COUNTIF(Général!B133:J133,$G$1)=1,\"Course 3\",\"Course 4\")))","v":"Course 3"},{"$f":"IF(COUNTIF(Général!B137:J137,$G$1)=1,\"Course 1\",IF(COUNTIF(Général!B139:J139,$G$1)=1,\"Course 2\",IF(COUNTIF(Général!B141:J141,$G$1)=1,\"Course 3\",\"Course 4\")))","v":"Course 2"},{"$f":"IF(COUNTIF(Général!B145:J145,$G$1)=1,\"Course 1\",IF(COUNTIF(Général!B147:J147,$G$1)=1,\"Course 2\",IF(COUNTIF(Général!B149:J149,$G$1)=1,\"Course 3\",\"Course 4\")))","v":"Course 2"},{"$f":"IF(COUNTIF(Général!B153:J153,$G$1)=1,\"Course 1\",IF(COUNTIF(Général!B155:J155,$G$1)=1,\"Course 2\",IF(COUNTIF(Général!B157:J157,$G$1)=1,\"Course 3\",\"Course 4\")))","v":"Course 3"},{"$f":"IF(COUNTIF(Général!B161:J161,$G$1)=1,\"Course 1\",IF(COUNTIF(Général!B163:J163,$G$1)=1,\"Course 2\",IF(COUNTIF(Général!B165:J165,$G$1)=1,\"Course 3\",\"Course 4\")))","v":"Course 2"},{"$f":"IF(COUNTIF(Général!B169:J169,$G$1)=1,\"Course 1\",IF(COUNTIF(Général!B171:J171,$G$1)=1,\"Course 2\",IF(COUNTIF(Général!B173:J173,$G$1)=1,\"Course 3\",\"Course 4\")))","v":"Course 3"},null,{"$f":"Général!B7","v":"ENSTA Bretagne 2"},6]
["Bateau",null,{"$f":"IF(COUNTIF(Général!B33:B38,$G$1)=1,\"Boat 1\",IF(COUNTIF(Général!C33:C38,$G$1)=1,\"Boat 2\",IF(COUNTIF(Général!D33:D38,$G$1)=1,\"Boat 3\", IF(COUNTIF(Général!E33:E38,$G$1)=1,\"Boat 4\", IF(COUNTIF(Général!F33:F38,$G$1)=1,\"Boat 5\", IF(COUNTIF(Général!G33:G38,$G$1)=1,\"Boat 6\", IF(COUNTIF(Général!H33:H38,$G$1)=1,\"Boat 7\",IF(COUNTIF(Général!I33:I38,$G$1)=1,\"Boat 8\",\"Boat 9\"))))))))","v":"Boat 7"},{"$f":"IF(COUNTIF(Général!B41:B46,$G$1)=1,\"Boat 1\",IF(COUNTIF(Général!C41:C46,$G$1)=1,\"Boat 2\",IF(COUNTIF(Général!D41:D46,$G$1)=1,\"Boat 3\", IF(COUNTIF(Général!E41:E46,$G$1)=1,\"Boat 4\", IF(COUNTIF(Général!F41:F46,$G$1)=1,\"Boat 5\", IF(COUNTIF(Général!G41:G46,$G$1)=1,\"Boat 6\", IF(COUNTIF(Général!H41:H46,$G$1)=1,\"Boat 7\",IF(COUNTIF(Général!I33:I38,$G$1)=1,\"Boat 8\",\"Boat 9\"))))))))","v":"Boat 9"},{"$f":"IF(COUNTIF(Général!B49:B54,$G$1)=1,\"Boat 1\",IF(COUNTIF(Général!C49:C54,$G$1)=1,\"Boat 2\",IF(COUNTIF(Général!D49:D54,$G$1)=1,\"Boat 3\", IF(COUNTIF(Général!E49:E54,$G$1)=1,\"Boat 4\", IF(COUNTIF(Général!F49:F54,$G$1)=1,\"Boat 5\", IF(COUNTIF(Général!G49:G54,$G$1)=1,\"Boat 6\", IF(COUNTIF(Général!H49:H54,$G$1)=1,\"Boat 7\",IF(COUNTIF(Général!I33:I38,$G$1)=1,\"Boat 8\",\"Boat 9\"))))))))","v":"Boat 4"},{"$f":"IF(COUNTIF(Général!B57:B62,$G$1)=1,\"Boat 1\",IF(COUNTIF(Général!C57:C62,$G$1)=1,\"Boat 2\",IF(COUNTIF(Général!D57:D62,$G$1)=1,\"Boat 3\", IF(COUNTIF(Général!E57:E62,$G$1)=1,\"Boat 4\", IF(COUNTIF(Général!F57:F62,$G$1)=1,\"Boat 5\", IF(COUNTIF(Général!G57:G62,$G$1)=1,\"Boat 6\", IF(COUNTIF(Général!H57:H62,$G$1)=1,\"Boat 7\",IF(COUNTIF(Général!I33:I38,$G$1)=1,\"Boat 8\",\"Boat 9\"))))))))","v":"Boat 5"},{"$f":"IF(COUNTIF(Général!B65:B70,$G$1)=1,\"Boat 1\",IF(COUNTIF(Général!C65:C70,$G$1)=1,\"Boat 2\",IF(COUNTIF(Général!D65:D70,$G$1)=1,\"Boat 3\", IF(COUNTIF(Général!E65:E70,$G$1)=1,\"Boat 4\", IF(COUNTIF(Général!F65:F70,$G$1)=1,\"Boat 5\", IF(COUNTIF(Général!G65:G70,$G$1)=1,\"Boat 6\", IF(COUNTIF(Général!H65:H70,$G$1)=1,\"Boat 7\",IF(COUNTIF(Général!I33:I38,$G$1)=1,\"Boat 8\",\"Boat 9\"))))))))","v":"Boat 9"},{"$f":"IF(COUNTIF(Général!B73:B78,$G$1)=1,\"Boat 1\",IF(COUNTIF(Général!C73:C78,$G$1)=1,\"Boat 2\",IF(COUNTIF(Général!D73:D78,$G$1)=1,\"Boat 3\", IF(COUNTIF(Général!E73:E78,$G$1)=1,\"Boat 4\", IF(COUNTIF(Général!F73:F78,$G$1)=1,\"Boat 5\", IF(COUNTIF(Général!G73:G78,$G$1)=1,\"Boat 6\", IF(COUNTIF(Général!H73:H78,$G$1)=1,\"Boat 7\",IF(COUNTIF(Général!I33:I38,$G$1)=1,\"Boat 8\",\"Boat 9\"))))))))","v":"Boat 3"},{"$f":"IF(COUNTIF(Général!B81:B86,$G$1)=1,\"Boat 1\",IF(COUNTIF(Général!C81:C86,$G$1)=1,\"Boat 2\",IF(COUNTIF(Général!D81:D86,$G$1)=1,\"Boat 3\", IF(COUNTIF(Général!E81:E86,$G$1)=1,\"Boat 4\", IF(COUNTIF(Général!F81:F86,$G$1)=1,\"Boat 5\", IF(COUNTIF(Général!G81:G86,$G$1)=1,\"Boat 6\", IF(COUNTIF(Général!H81:H86,$G$1)=1,\"Boat 7\",IF(COUNTIF(Général!I33:I38,$G$1)=1,\"Boat 8\",\"Boat 9\"))))))))","v":"Boat 2"},{"$f":"IF(COUNTIF(Général!B89:B94,$G$1)=1,\"Boat 1\",IF(COUNTIF(Général!C89:C94,$G$1)=1,\"Boat 2\",IF(COUNTIF(Général!D89:D94,$G$1)=1,\"Boat 3\", IF(COUNTIF(Général!E89:E94,$G$1)=1,\"Boat 4\", IF(COUNTIF(Général!F89:F94,$G$1)=1,\"Boat 5\", IF(COUNTIF(Général!G89:G94,$G$1)=1,\"Boat 6\", IF(COUNTIF(Général!H89:H94,$G$1)=1,\"Boat 7\",IF(COUNTIF(Général!I33:I38,$G$1)=1,\"Boat 8\",\"Boat 9\"))))))))","v":"Boat 7"},{"$f":"IF(COUNTIF(Général!B97:B102,$G$1)=1,\"Boat 1\",IF(COUNTIF(Général!C97:C102,$G$1)=1,\"Boat 2\",IF(COUNTIF(Général!D97:D102,$G$1)=1,\"Boat 3\", IF(COUNTIF(Général!E97:E102,$G$1)=1,\"Boat 4\", IF(COUNTIF(Général!F97:F102,$G$1)=1,\"Boat 5\", IF(COUNTIF(Général!G97:G102,$G$1)=1,\"Boat 6\", IF(COUNTIF(Général!H97:H102,$G$1)=1,\"Boat 7\",IF(COUNTIF(Général!I33:I38,$G$1)=1,\"Boat 8\",\"Boat 9\"))))))))","v":"Boat 5"},{"$f":"IF(COUNTIF(Général!B105:B110,$G$1)=1,\"Boat 1\",IF(COUNTIF(Général!C105:C110,$G$1)=1,\"Boat 2\",IF(COUNTIF(Général!D105:D110,$G$1)=1,\"Boat 3\", IF(COUNTIF(Général!E105:E110,$G$1)=1,\"Boat 4\", IF(COUNTIF(Général!F105:F110,$G$1)=1,\"Boat 5\", IF(COUNTIF(Général!G105:G110,$G$1)=1,\"Boat 6\", IF(COUNTIF(Général!H105:H110,$G$1)=1,\"Boat 7\",IF(COUNTIF(Général!I33:I38,$G$1)=1,\"Boat 8\",\"Boat 9\"))))))))","v":"Boat 1"},{"$f":"IF(COUNTIF(Général!B113:B118,$G$1)=1,\"Boat 1\",IF(COUNTIF(Général!C113:C118,$G$1)=1,\"Boat 2\",IF(COUNTIF(Général!C113:D118,$G$1)=1,\"Boat 3\", IF(COUNTIF(Général!C113:E118,$G$1)=1,\"Boat 4\", IF(COUNTIF(Général!F113:F118,$G$1)=1,\"Boat 5\", IF(COUNTIF(Général!G113:G118,$G$1)=1,\"Boat 6\", IF(COUNTIF(Général!H113:H118,$G$1)=1,\"Boat 7\",IF(COUNTIF(Général!I33:I38,$G$1)=1,\"Boat 8\",\"Boat 9\"))))))))","v":"Boat 6"},{"$f":"IF(COUNTIF(Général!B121:B126,$G$1)=1,\"Boat 1\",IF(COUNTIF(Général!C121:C126,$G$1)=1,\"Boat 2\",IF(COUNTIF(Général!D121:D126,$G$1)=1,\"Boat 3\", IF(COUNTIF(Général!E121:E126,$G$1)=1,\"Boat 4\", IF(COUNTIF(Général!F121:F126,$G$1)=1,\"Boat 5\", IF(COUNTIF(Général!G121:G126,$G$1)=1,\"Boat 6\", IF(COUNTIF(Général!H121:H126,$G$1)=1,\"Boat 7\",IF(COUNTIF(Général!I33:I38,$G$1)=1,\"Boat 8\",\"Boat 9\"))))))))","v":"Boat 9"},{"$f":"IF(COUNTIF(Général!B129:B134,$G$1)=1,\"Boat 1\",IF(COUNTIF(Général!C129:C134,$G$1)=1,\"Boat 2\",IF(COUNTIF(Général!D131:D134,$G$1)=1,\"Boat 3\", IF(COUNTIF(Général!E129:E134,$G$1)=1,\"Boat 4\", IF(COUNTIF(Général!F129:F134,$G$1)=1,\"Boat 5\", IF(COUNTIF(Général!G129:G134,$G$1)=1,\"Boat 6\", IF(COUNTIF(Général!H129:H134,$G$1)=1,\"Boat 7\",IF(COUNTIF(Général!I33:I38,$G$1)=1,\"Boat 8\",\"Boat 9\"))))))))","v":"Boat 6"},{"$f":"IF(COUNTIF(Général!B137:B142,$G$1)=1,\"Boat 1\",IF(COUNTIF(Général!C137:C142,$G$1)=1,\"Boat 2\",IF(COUNTIF(Général!D137:D142,$G$1)=1,\"Boat 3\", IF(COUNTIF(Général!E137:E142,$G$1)=1,\"Boat 4\", IF(COUNTIF(Général!F145:F150,$G$1)=1,\"Boat 5\", IF(COUNTIF(Général!G145:G150,$G$1)=1,\"Boat 6\", IF(COUNTIF(Général!H145:H150,$G$1)=1,\"Boat 7\",IF(COUNTIF(Général!I33:I38,$G$1)=1,\"Boat 8\",\"Boat 9\"))))))))","v":"Boat 2"},{"$f":"IF(COUNTIF(Général!B145:B150,$G$1)=1,\"Boat 1\",IF(COUNTIF(Général!C145:C150,$G$1)=1,\"Boat 2\",IF(COUNTIF(Général!D145:D150,$G$1)=1,\"Boat 3\", IF(COUNTIF(Général!E145:E150,$G$1)=1,\"Boat 4\", IF(COUNTIF(Général!F145:F150,$G$1)=1,\"Boat 5\", IF(COUNTIF(Général!G145:G150,$G$1)=1,\"Boat 6\", IF(COUNTIF(Général!H145:H150,$G$1)=1,\"Boat 7\",IF(COUNTIF(Général!I33:I38,$G$1)=1,\"Boat 8\",\"Boat 9\"))))))))","v":"Boat 4"},{"$f":"IF(COUNTIF(Général!B153:B158,$G$1)=1,\"Boat 1\",IF(COUNTIF(Général!C153:C158,$G$1)=1,\"Boat 2\",IF(COUNTIF(Général!D153:D158,$G$1)=1,\"Boat 3\", IF(COUNTIF(Général!E153:E158,$G$1)=1,\"Boat 4\", IF(COUNTIF(Général!F153:F158,$G$1)=1,\"Boat 5\", IF(COUNTIF(Général!G153:G158,$G$1)=1,\"Boat 6\", IF(COUNTIF(Général!H153:H158,$G$1)=1,\"Boat 7\",IF(COUNTIF(Général!I33:I38,$G$1)=1,\"Boat 8\",\"Boat 9\"))))))))","v":"Boat 3"},{"$f":"IF(COUNTIF(Général!B161:B166,$G$1)=1,\"Boat 1\",IF(COUNTIF(Général!C161:C166,$G$1)=1,\"Boat 2\",IF(COUNTIF(Général!D161:D166,$G$1)=1,\"Boat 3\", IF(COUNTIF(Général!E161:E166,$G$1)=1,\"Boat 4\", IF(COUNTIF(Général!F161:F166,$G$1)=1,\"Boat 5\", IF(COUNTIF(Général!G161:G166,$G$1)=1,\"Boat 6\", IF(COUNTIF(Général!H161:H166,$G$1)=1,\"Boat 7\",IF(COUNTIF(Général!I33:I38,$G$1)=1,\"Boat 8\",\"Boat 9\"))))))))","v":"Boat 4"},{"$f":"IF(COUNTIF(Général!B169:B174,$G$1)=1,\"Boat 1\",IF(COUNTIF(Général!C169:C174,$G$1)=1,\"Boat 2\",IF(COUNTIF(Général!D169:D174,$G$1)=1,\"Boat 3\", IF(COUNTIF(Général!E169:E174,$G$1)=1,\"Boat 4\", IF(COUNTIF(Général!F169:F174,$G$1)=1,\"Boat 5\", IF(COUNTIF(Général!G169:G174,$G$1)=1,\"Boat 6\", IF(COUNTIF(Général!H169:H174,$G$1)=1,\"Boat 7\",IF(COUNTIF(Général!I33:I38,$G$1)=1,\"Boat 8\",\"Boat 9\"))))))))","v":"Boat 5"},null,{"$f":"Général!B8","v":"IMT Atlantique Nantes 2"},6]
[null,null,null,null,null,null,null,null,null,null,null,null,null,null,null,null,null,null,null,null,null,{"$f":"Général!B9","v":"Hambourg"},6]
["1er Equipage",null,{"$f":"IF($C$5=\"Course 1\",Général!B33,IF($C$5=\"Course 2\",Général!B35,IF($C$5=\"Course 3\",Général!B37,Général!#REF!)))","v":"ENSTA Paris"},{"$f":"IF($D$5=\"Course 1\",Général!B41,IF($D$5=\"Course 2\",Général!B43,IF($D$5=\"Course 3\",Général!B45,Général!#REF!)))","v":"ENSTA Paris"},{"$f":"IF($E$5=\"Course 1\",Général!B49,IF($E$5=\"Course 2\",Général!B51,IF($E$5=\"Course 3\",Général!B53,Général!#REF!)))","v":"UBS Lorient 1"},{"$f":"IF($F$5=\"Course 1\",Général!B$57,IF($F$5=\"Course 2\",Général!B$59,IF($F$5=\"Course 3\",Général!B$61,Général!#REF!)))","v":"Univ.Orléans"},{"$f":"IF($G$5=\"Course 1\",Général!B$65,IF($G$5=\"Course 2\",Général!B$67,IF($G$5=\"Course 3\",Général!B$69,Général!#REF!)))","v":"IMT Atlantique Brest"},{"$f":"IF($H$5=\"Course 1\",Général!B$73,IF($H$5=\"Course 2\",Général!B$75,IF($H$5=\"Course 3\",Général!B$77,Général!#REF!)))","v":"IMT Atlantique Brest"},{"$f":"IF($I$5=\"Course 1\",Général!B$81,IF($I$5=\"Course 2\",Général!B$83,IF($I$5=\"Course 3\",Général!B$85,Général!#REF!)))","v":"IMT Atlantique Nantes 1"},{"$f":"IF($J$5=\"Course 1\",Général!B$89,IF($J$5=\"Course 2\",Général!B$91,IF($J$5=\"Course 3\",Général!B$93,Général!#REF!)))","v":"UNICAEN - ASSUCherbourg"},{"$f":"IF($K$5=\"Course 1\",Général!B$97,IF($K$5=\"Course 2\",Général!B$99,IF($K$5=\"Course 3\",Général!B$101,Général!#REF!)))","v":"Univ. La Rochelle"},{"$f":"IF($L$5=\"Course 1\",Général!B$105,IF($L$5=\"Course 2\",Général!B$107,IF($L$5=\"Course 3\",Général!B$109,Général!#REF!)))","v":"Centrales Nantes"},{"$f":"IF($M$5=\"Course 1\",Général!B$113,IF($M$5=\"Course 2\",Général!B$115,IF($M$5=\"Course 3\",Général!B$117,Général!#REF!)))","v":"Hambourg"},{"$f":"IF($N$5=\"Course 1\",Général!B$121,IF($N$5=\"Course 2\",Général!B$123,IF($N$5=\"Course 3\",Général!B$125,Général!#REF!)))","v":"Karlsruhe"},{"$f":"IF($O$5=\"Course 1\",Général!B$129,IF($O$5=\"Course 2\",Général!B$131,IF($O$5=\"Course 3\",Général!B$133,Général!#REF!)))","v":"UBO 1"},{"$f":"IF($P$5=\"Course 1\",Général!B$137,IF($P$5=\"Course 2\",Général!B$139,IF($P$5=\"Course 3\",Général!B$141,Général!#REF!)))","v":"Southampton"},{"$f":"IF($Q$5=\"Course 1\",Général!B$145,IF($Q$5=\"Course 2\",Général!B$147,IF($Q$5=\"Course 3\",Général!B$149,Général!#REF!)))","v":"EGSI La Rochelle"},{"$f":"IF($R$5=\"Course 1\",Général!B$153,IF($R$5=\"Course 2\",Général!B$155,IF($R$5=\"Course 3\",Général!B$157,Général!#REF!)))","v":"ASUL Lannion"},{"$f":"IF($S$5=\"Course 1\",Général!B$161,IF($S$5=\"Course 2\",Général!B$163,IF($S$5=\"Course 3\",Général!B$165,Général!#REF!)))","v":"IMT Atlantique Nantes 1"},{"$f":"IF($T$5=\"Course 1\",Général!B$169,IF($T$5=\"Course 2\",Général!B$171,IF($T$5=\"Course 3\",Général!B$173,Général!#REF!)))","v":"IMT Atlantique Nantes 2"},null,{"$f":"Général!B10","v":"EGSI La Rochelle"},7]
["2nd Equipage",null,{"$f":"IF($C$5=\"Course 1\",Général!C33,IF($C$5=\"Course 2\",Général!C35,IF($C$5=\"Course 3\",Général!C37,Général!#REF!)))","v":"Univ. Nantes 2"},{"$f":"IF($D$5=\"Course 1\",Général!C41,IF($D$5=\"Course 2\",Général!C43,IF($D$5=\"Course 3\",Général!C45,Général!#REF!)))","v":"UNICAEN - ASSUCherbourg"},{"$f":"IF($E$5=\"Course 1\",Général!C49,IF($E$5=\"Course 2\",Général!C51,IF($E$5=\"Course 3\",Général!C53,Général!#REF!)))","v":"UNICAEN - ASSUCherbourg"},{"$f":"IF($F$5=\"Course 1\",Général!C$57,IF($F$5=\"Course 2\",Général!C$59,IF($F$5=\"Course 3\",Général!C$61,Général!#REF!)))","v":"AS Paris 1 Panthéon Sorbonne"},{"$f":"IF($G$5=\"Course 1\",Général!C$65,IF($G$5=\"Course 2\",Général!C$67,IF($G$5=\"Course 3\",Général!C$69,Général!#REF!)))","v":"Dublin"},{"$f":"IF($H$5=\"Course 1\",Général!C$73,IF($H$5=\"Course 2\",Général!C$75,IF($H$5=\"Course 3\",Général!C$77,Général!#REF!)))","v":"ASUL Lannion"},{"$f":"IF($I$5=\"Course 1\",Général!C$81,IF($I$5=\"Course 2\",Général!C$83,IF($I$5=\"Course 3\",Général!C$85,Général!#REF!)))","v":"Centrales Nantes"},{"$f":"IF($J$5=\"Course 1\",Général!C$89,IF($J$5=\"Course 2\",Général!C$91,IF($J$5=\"Course 3\",Général!C$93,Général!#REF!)))","v":"UBO 2"},{"$f":"IF($K$5=\"Course 1\",Général!C$97,IF($K$5=\"Course 2\",Général!C$99,IF($K$5=\"Course 3\",Général!C$101,Général!#REF!)))","v":"UBO 2"},{"$f":"IF($L$5=\"Course 1\",Général!C$105,IF($L$5=\"Course 2\",Général!C$107,IF($L$5=\"Course 3\",Général!C$109,Général!#REF!)))","v":"AS UB St Brieuc"},{"$f":"IF($M$5=\"Course 1\",Général!C$113,IF($M$5=\"Course 2\",Général!C$115,IF($M$5=\"Course 3\",Général!C$117,Général!#REF!)))","v":"Univ. Nantes 3"},{"$f":"IF($N$5=\"Course 1\",Général!C$121,IF($N$5=\"Course 2\",Général!C$123,IF($N$5=\"Course 3\",Général!C$125,Général!#REF!)))","v":"HYDRO Sailing Team Le Havre"},{"$f":"IF($O$5=\"Course 1\",Général!C$129,IF($O$5=\"Course 2\",Général!C$131,IF($O$5=\"Course 3\",Général!C$133,Général!#REF!)))","v":"Univ. La Rochelle"},{"$f":"IF($P$5=\"Course 1\",Général!C$137,IF($P$5=\"Course 2\",Général!C$139,IF($P$5=\"Course 3\",Général!C$141,Général!#REF!)))","v":"Centrales Nantes"},{"$f":"IF($Q$5=\"Course 1\",Général!C$145,IF($Q$5=\"Course 2\",Général!C$147,IF($Q$5=\"Course 3\",Général!C$149,Général!#REF!)))","v":"IMT Atlantique Brest"},{"$f":"IF($R$5=\"Course 1\",Général!C$153,IF($R$5=\"Course 2\",Général!C$155,IF($R$5=\"Course 3\",Général!C$157,Général!#REF!)))","v":"IMT Atlantique Nantes 2"},{"$f":"IF($S$5=\"Course 1\",Général!C$161,IF($S$5=\"Course 2\",Général!C$163,IF($S$5=\"Course 3\",Général!C$165,Général!#REF!)))","v":"Univ.Orléans"},{"$f":"IF($T$5=\"Course 1\",Général!C$169,IF($T$5=\"Course 2\",Général!C$171,IF($T$5=\"Course 3\",Général!C$173,Général!#REF!)))","v":"ENSTA Bretagne 2"},null,{"$f":"Général!B11","v":"HYDRO Sailing Team Le Havre"},4]
["3ème Equipage",null,{"$f":"IF($C$5=\"Course 1\",Général!D33,IF($C$5=\"Course 2\",Général!D35,IF($C$5=\"Course 3\",Général!D37,Général!#REF!)))","v":"IMT Atlantique Nantes 1"},{"$f":"IF($D$5=\"Course 1\",Général!D41,IF($D$5=\"Course 2\",Général!D43,IF($D$5=\"Course 3\",Général!D45,Général!#REF!)))","v":"Univ. Nantes 3"},{"$f":"IF($E$5=\"Course 1\",Général!D49,IF($E$5=\"Course 2\",Général!D51,IF($E$5=\"Course 3\",Général!D53,Général!#REF!)))","v":"HYDRO Sailing Team Le Havre"},{"$f":"IF($F$5=\"Course 1\",Général!D$57,IF($F$5=\"Course 2\",Général!D$59,IF($F$5=\"Course 3\",Général!D$61,Général!#REF!)))","v":"Karlsruhe"},{"$f":"IF($G$5=\"Course 1\",Général!D$65,IF($G$5=\"Course 2\",Général!D$67,IF($G$5=\"Course 3\",Général!D$69,Général!#REF!)))","v":"UBO 1"},{"$f":"IF($H$5=\"Course 1\",Général!D$73,IF($H$5=\"Course 2\",Général!D$75,IF($H$5=\"Course 3\",Général!D$77,Général!#REF!)))","v":"Centrales Nantes"},{"$f":"IF($I$5=\"Course 1\",Général!D$81,IF($I$5=\"Course 2\",Général!D$83,IF($I$5=\"Course 3\",Général!D$85,Général!#REF!)))","v":"UBS Lorient 2"},{"$f":"IF($J$5=\"Course 1\",Général!D$89,IF($J$5=\"Course 2\",Général!D$91,IF($J$5=\"Course 3\",Général!D$93,Général!#REF!)))","v":"EGSI La Rochelle"},{"$f":"IF($K$5=\"Course 1\",Général!D$97,IF($K$5=\"Course 2\",Général!D$99,IF($K$5=\"Course 3\",Général!D$101,Général!#REF!)))","v":"Univ. Nantes 1"},{"$f":"IF($L$5=\"Course 1\",Général!D$105,IF($L$5=\"Course 2\",Général!D$107,IF($L$5=\"Course 3\",Général!D$109,Général!#REF!)))","v":"Southampton"},{"$f":"IF($M$5=\"Course 1\",Général!D$113,IF($M$5=\"Course 2\",Général!D$115,IF($M$5=\"Course 3\",Général!D$117,Général!#REF!)))","v":"AS UB St Brieuc"},{"$f":"IF($N$5=\"Course 1\",Général!D$121,IF($N$5=\"Course 2\",Général!D$123,IF($N$5=\"Course 3\",Général!D$125,Général!#REF!)))","v":"AS UB St Brieuc"},{"$f":"IF($O$5=\"Course 1\",Général!D$129,IF($O$5=\"Course 2\",Général!D$131,IF($O$5=\"Course 3\",Général!D$133,Général!#REF!)))","v":"UBS Lorient 2"},{"$f":"IF($P$5=\"Course 1\",Général!D$137,IF($P$5=\"Course 2\",Général!D$139,IF($P$5=\"Course 3\",Général!D$141,Général!#REF!)))","v":"ENSTA Bretagne 1"},{"$f":"IF($Q$5=\"Course 1\",Général!D$145,IF($Q$5=\"Course 2\",Général!D$147,IF($Q$5=\"Course 3\",Général!D$149,Général!#REF!)))","v":"Hambourg"},{"$f":"IF($R$5=\"Course 1\",Général!D$153,IF($R$5=\"Course 2\",Général!D$155,IF($R$5=\"Course 3\",Général!D$157,Général!#REF!)))","v":"Centrales Nantes"},{"$f":"IF($S$5=\"Course 1\",Général!D$161,IF($S$5=\"Course 2\",Général!D$163,IF($S$5=\"Course 3\",Général!D$165,Général!#REF!)))","v":"HYDRO Sailing Team Le Havre"},{"$f":"IF($T$5=\"Course 1\",Général!D$169,IF($T$5=\"Course 2\",Général!D$171,IF($T$5=\"Course 3\",Général!D$173,Général!#REF!)))","v":"AS UB St Brieuc"},null,{"$f":"Général!B12","v":"UNICAEN - ASSUCherbourg"},7]
["4ème Equipage",null,{"$f":"IF($C$5=\"Course 1\",Général!E33,IF($C$5=\"Course 2\",Général!E35,IF($C$5=\"Course 3\",Général!E37,Général!#REF!)))","v":"AS Paris 1 Panthéon Sorbonne"},{"$f":"IF($D$5=\"Course 1\",Général!E41,IF($D$5=\"Course 2\",Général!E43,IF($D$5=\"Course 3\",Général!E45,Général!#REF!)))","v":"Dublin"},{"$f":"IF($E$5=\"Course 1\",Général!E49,IF($E$5=\"Course 2\",Général!E51,IF($E$5=\"Course 3\",Général!E53,Général!#REF!)))","v":"Centrales Nantes"},{"$f":"IF($F$5=\"Course 1\",Général!E$57,IF($F$5=\"Course 2\",Général!E$59,IF($F$5=\"Course 3\",Général!E$61,Général!#REF!)))","v":"ASUL Lannion"},{"$f":"IF($G$5=\"Course 1\",Général!E$65,IF($G$5=\"Course 2\",Général!E$67,IF($G$5=\"Course 3\",Général!E$69,Général!#REF!)))","v":"UBS Lorient 1"},{"$f":"IF($H$5=\"Course 1\",Général!E$73,IF($H$5=\"Course 2\",Général!E$75,IF($H$5=\"Course 3\",Général!E$77,Général!#REF!)))","v":"Hannovre"},{"$f":"IF($I$5=\"Course 1\",Général!E$81,IF($I$5=\"Course 2\",Général!E$83,IF($I$5=\"Course 3\",Général!E$85,Général!#REF!)))","v":"IMT Atlantique Brest"},{"$f":"IF($J$5=\"Course 1\",Général!E$89,IF($J$5=\"Course 2\",Général!E$91,IF($J$5=\"Course 3\",Général!E$93,Général!#REF!)))","v":"Univ. Nantes 1"},{"$f":"IF($K$5=\"Course 1\",Général!E$97,IF($K$5=\"Course 2\",Général!E$99,IF($K$5=\"Course 3\",Général!E$101,Général!#REF!)))","v":"Univ. Nantes 2"},{"$f":"IF($L$5=\"Course 1\",Général!E$105,IF($L$5=\"Course 2\",Général!E$107,IF($L$5=\"Course 3\",Général!E$109,Général!#REF!)))","v":"Univ. Nantes 1"},{"$f":"IF($M$5=\"Course 1\",Général!E$113,IF($M$5=\"Course 2\",Général!E$115,IF($M$5=\"Course 3\",Général!E$117,Général!#REF!)))","v":"ENSTA Paris"},{"$f":"IF($N$5=\"Course 1\",Général!E$121,IF($N$5=\"Course 2\",Général!E$123,IF($N$5=\"Course 3\",Général!E$125,Général!#REF!)))","v":"ENSTA Bretagne 2"},{"$f":"IF($O$5=\"Course 1\",Général!E$129,IF($O$5=\"Course 2\",Général!E$131,IF($O$5=\"Course 3\",Général!E$133,Général!#REF!)))","v":"AS UB St Brieuc"},{"$f":"IF($P$5=\"Course 1\",Général!E$137,IF($P$5=\"Course 2\",Général!E$139,IF($P$5=\"Course 3\",Général!E$141,Général!#REF!)))","v":"Hambourg"},{"$f":"IF($Q$5=\"Course 1\",Général!E$145,IF($Q$5=\"Course 2\",Général!E$147,IF($Q$5=\"Course 3\",Général!E$149,Général!#REF!)))","v":"Centrales Nantes"},{"$f":"IF($R$5=\"Course 1\",Général!E$153,IF($R$5=\"Course 2\",Général!E$155,IF($R$5=\"Course 3\",Général!E$157,Général!#REF!)))","v":"Univ. Nantes 2"},{"$f":"IF($S$5=\"Course 1\",Général!E$161,IF($S$5=\"Course 2\",Général!E$163,IF($S$5=\"Course 3\",Général!E$165,Général!#REF!)))","v":"Centrales Nantes"},{"$f":"IF($T$5=\"Course 1\",Général!E$169,IF($T$5=\"Course 2\",Général!E$171,IF($T$5=\"Course 3\",Général!E$173,Général!#REF!)))","v":"ASUL Lannion"},null,{"$f":"Général!B13","v":"UBO 1"},4]
["5ème Equipage",null,{"$f":"IF($C$5=\"Course 1\",Général!F33,IF($C$5=\"Course 2\",Général!F35,IF($C$5=\"Course 3\",Général!F37,Général!#REF!)))","v":"Hambourg"},{"$f":"IF($D$5=\"Course 1\",Général!F41,IF($D$5=\"Course 2\",Général!F43,IF($D$5=\"Course 3\",Général!F45,Général!#REF!)))","v":"ENSTA Bretagne 2"},{"$f":"IF($E$5=\"Course 1\",Général!F49,IF($E$5=\"Course 2\",Général!F51,IF($E$5=\"Course 3\",Général!F53,Général!#REF!)))","v":"ENSTA Bretagne 1"},{"$f":"IF($F$5=\"Course 1\",Général!F$57,IF($F$5=\"Course 2\",Général!F$59,IF($F$5=\"Course 3\",Général!F$61,Général!#REF!)))","v":"Centrales Nantes"},{"$f":"IF($G$5=\"Course 1\",Général!F$65,IF($G$5=\"Course 2\",Général!F$67,IF($G$5=\"Course 3\",Général!F$69,Général!#REF!)))","v":"Univ.Orléans"},{"$f":"IF($H$5=\"Course 1\",Général!F$73,IF($H$5=\"Course 2\",Général!F$75,IF($H$5=\"Course 3\",Général!F$77,Général!#REF!)))","v":"UBO 2"},{"$f":"IF($I$5=\"Course 1\",Général!F$81,IF($I$5=\"Course 2\",Général!F$83,IF($I$5=\"Course 3\",Général!F$85,Général!#REF!)))","v":"EGSI La Rochelle"},{"$f":"IF($J$5=\"Course 1\",Général!F$89,IF($J$5=\"Course 2\",Général!F$91,IF($J$5=\"Course 3\",Général!F$93,Général!#REF!)))","v":"Hannovre"},{"$f":"IF($K$5=\"Course 1\",Général!F$97,IF($K$5=\"Course 2\",Général!F$99,IF($K$5=\"Course 3\",Général!F$101,Général!#REF!)))","v":"Centrales Nantes"},{"$f":"IF($L$5=\"Course 1\",Général!F$105,IF($L$5=\"Course 2\",Général!$F107,IF($L$5=\"Course 3\",Général!F$109,Général!#REF!)))","v":"IMT Atlantique Nantes 2"},{"$f":"IF($M$5=\"Course 1\",Général!F$113,IF($M$5=\"Course 2\",Général!F$115,IF($M$5=\"Course 3\",Général!F$117,Général!#REF!)))","v":"UBS Lorient 1"},{"$f":"IF($N$5=\"Course 1\",Général!F$121,IF($N$5=\"Course 2\",Général!F$123,IF($N$5=\"Course 3\",Général!F$125,Général!#REF!)))","v":"Univ. Nantes 3"},{"$f":"IF($O$5=\"Course 1\",Général!F$129,IF($O$5=\"Course 2\",Général!F$131,IF($O$5=\"Course 3\",Général!F$133,Général!#REF!)))","v":"Karlsruhe"},{"$f":"IF($P$5=\"Course 1\",Général!F$137,IF($P$5=\"Course 2\",Général!F$139,IF($P$5=\"Course 3\",Général!F$141,Général!#REF!)))","v":"UBO 1"},{"$f":"IF($Q$5=\"Course 1\",Général!F$145,IF($Q$5=\"Course 2\",Général!F$147,IF($Q$5=\"Course 3\",Général!F$149,Général!#REF!)))","v":"Univ. La Rochelle"},{"$f":"IF($R$5=\"Course 1\",Général!F$153,IF($R$5=\"Course 2\",Général!F$155,IF($R$5=\"Course 3\",Général!F$157,Général!#REF!)))","v":"ENSTA Paris"},{"$f":"IF($S$5=\"Course 1\",Général!F$161,IF($S$5=\"Course 2\",Général!F$163,IF($S$5=\"Course 3\",Général!F$165,Général!#REF!)))","v":"ASUL Lannion"},{"$f":"IF($T$5=\"Course 1\",Général!F$169,IF($T$5=\"Course 2\",Général!F$171,IF($T$5=\"Course 3\",Général!F$173,Général!#REF!)))","v":"Centrales Nantes"},null,{"$f":"Général!B14","v":"ENSTA Bretagne 1"},4]
["6ème Equipage",null,{"$f":"IF($C$5=\"Course 1\",Général!G33,IF($C$5=\"Course 2\",Général!G35,IF($C$5=\"Course 3\",Général!G37,Général!#REF!)))","v":"UNICAEN - ASSUCherbourg"},{"$f":"IF($D$5=\"Course 1\",Général!G41,IF($D$5=\"Course 2\",Général!G43,IF($D$5=\"Course 3\",Général!G45,Général!#REF!)))","v":"Karlsruhe"},{"$f":"IF($E$5=\"Course 1\",Général!G49,IF($E$5=\"Course 2\",Général!G51,IF($E$5=\"Course 3\",Général!G53,Général!#REF!)))","v":"ASUL Lannion"},{"$f":"IF($F$5=\"Course 1\",Général!G$57,IF($F$5=\"Course 2\",Général!G$59,IF($F$5=\"Course 3\",Général!G$61,Général!#REF!)))","v":"Dublin"},{"$f":"IF($G$5=\"Course 1\",Général!G$65,IF($G$5=\"Course 2\",Général!G$67,IF($G$5=\"Course 3\",Général!G$69,Général!#REF!)))","v":"Hannovre"},{"$f":"IF($H$5=\"Course 1\",Général!G$73,IF($H$5=\"Course 2\",Général!G$75,IF($H$5=\"Course 3\",Général!G$77,Général!#REF!)))","v":"Hambourg"},{"$f":"IF($I$5=\"Course 1\",Général!G$81,IF($I$5=\"Course 2\",Général!G$83,IF($I$5=\"Course 3\",Général!G$85,Général!#REF!)))","v":"UNICAEN - ASSUCherbourg"},{"$f":"IF($J$5=\"Course 1\",Général!G$89,IF($J$5=\"Course 2\",Général!G$91,IF($J$5=\"Course 3\",Général!G$93,Général!#REF!)))","v":"Southampton"},{"$f":"IF($K$5=\"Course 1\",Général!G$97,IF($K$5=\"Course 2\",Général!G$99,IF($K$5=\"Course 3\",Général!G$101,Général!#REF!)))","v":"ENSTA Bretagne 1"},{"$f":"IF($L$5=\"Course 1\",Général!G$105,IF($L$5=\"Course 2\",Général!G$107,IF($L$5=\"Course 3\",Général!G$109,Général!#REF!)))","v":"Univ. La Rochelle"},{"$f":"IF($M$5=\"Course 1\",Général!G$113,IF($M$5=\"Course 2\",Général!G$115,IF($M$5=\"Course 3\",Général!G$117,Général!#REF!)))","v":"Centrales Nantes"},{"$f":"IF($N$5=\"Course 1\",Général!G$121,IF($N$5=\"Course 2\",Général!G$123,IF($N$5=\"Course 3\",Général!G$125,Général!#REF!)))","v":"Univ. Nantes 1"},{"$f":"IF($O$5=\"Course 1\",Général!G$129,IF($O$5=\"Course 2\",Général!G$131,IF($O$5=\"Course 3\",Général!G$133,Général!#REF!)))","v":"Centrales Nantes"},{"$f":"IF($P$5=\"Course 1\",Général!G$137,IF($P$5=\"Course 2\",Général!G$139,IF($P$5=\"Course 3\",Général!G$141,Général!#REF!)))","v":"Univ. Nantes 3"},{"$f":"IF($Q$5=\"Course 1\",Général!G$145,IF($Q$5=\"Course 2\",Général!G$147,IF($Q$5=\"Course 3\",Général!G$149,Général!#REF!)))","v":"Dublin"},{"$f":"IF($R$5=\"Course 1\",Général!G$153,IF($R$5=\"Course 2\",Général!G$155,IF($R$5=\"Course 3\",Général!G$157,Général!#REF!)))","v":"Univ. La Rochelle"},{"$f":"IF($S$5=\"Course 1\",Général!G$161,IF($S$5=\"Course 2\",Général!G$163,IF($S$5=\"Course 3\",Général!G$165,Général!#REF!)))","v":"EGSI La Rochelle"},{"$f":"IF($T$5=\"Course 1\",Général!G$169,IF($T$5=\"Course 2\",Général!G$171,IF($T$5=\"Course 3\",Général!G$173,Général!#REF!)))","v":"ENSTA Paris"},null,{"$f":"Général!B15","v":"ASUL Lannion"},7]
["7ème Equipage",null,{"$f":"IF($C$5=\"Course 1\",Général!H33,IF($C$5=\"Course 2\",Général!H35,IF($C$5=\"Course 3\",Général!H37,Général!#REF!)))","v":"Centrales Nantes"},{"$f":"IF($D$5=\"Course 1\",Général!H41,IF($D$5=\"Course 2\",Général!H43,IF($D$5=\"Course 3\",Général!H45,Général!#REF!)))","v":"UBO 2"},{"$f":"IF($E$5=\"Course 1\",Général!H49,IF($E$5=\"Course 2\",Général!H51,IF($E$5=\"Course 3\",Général!H53,Général!#REF!)))","v":"Hannovre"},{"$f":"IF($F$5=\"Course 1\",Général!H$57,IF($F$5=\"Course 2\",Général!H$59,IF($F$5=\"Course 3\",Général!H$61,Général!#REF!)))","v":"UBS Lorient 2"},{"$f":"IF($G$5=\"Course 1\",Général!H$65,IF($G$5=\"Course 2\",Général!H$67,IF($G$5=\"Course 3\",Général!H$69,Général!#REF!)))","v":"IMT Atlantique Nantes 2"},{"$f":"IF($H$5=\"Course 1\",Général!H$73,IF($H$5=\"Course 2\",Général!H$75,IF($H$5=\"Course 3\",Général!H$77,Général!#REF!)))","v":"Southampton"},{"$f":"IF($I$5=\"Course 1\",Général!H$81,IF($I$5=\"Course 2\",Général!H$83,IF($I$5=\"Course 3\",Général!H$85,Général!#REF!)))","v":"HYDRO Sailing Team Le Havre"},{"$f":"IF($J$5=\"Course 1\",Général!H$89,IF($J$5=\"Course 2\",Général!H$91,IF($J$5=\"Course 3\",Général!H$93,Général!#REF!)))","v":"Centrales Nantes"},{"$f":"IF($K$5=\"Course 1\",Général!H$97,IF($K$5=\"Course 2\",Général!H$99,IF($K$5=\"Course 3\",Général!H$101,Général!#REF!)))","v":"IMT Atlantique Brest"},{"$f":"IF($L$5=\"Course 1\",Général!H$105,IF($L$5=\"Course 2\",Général!H$107,IF($L$5=\"Course 3\",Général!H$109,Général!#REF!)))","v":"ENSTA Bretagne 2"},{"$f":"IF($M$5=\"Course 1\",Général!H$113,IF($M$5=\"Course 2\",Général!H$115,IF($M$5=\"Course 3\",Général!H$117,Général!#REF!)))","v":"EGSI La Rochelle"},{"$f":"IF($N$5=\"Course 1\",Général!H$121,IF($N$5=\"Course 2\",Général!H$123,IF($N$5=\"Course 3\",Général!H$125,Général!#REF!)))","v":"Hambourg"},{"$f":"IF($O$5=\"Course 1\",Général!H$129,IF($O$5=\"Course 2\",Général!H$131,IF($O$5=\"Course 3\",Général!H$133,Général!#REF!)))","v":"Univ.Orléans"},{"$f":"IF($P$5=\"Course 1\",Général!H$137,IF($P$5=\"Course 2\",Général!H$139,IF($P$5=\"Course 3\",Général!H$141,Général!#REF!)))","v":"Univ.Orléans"},{"$f":"IF($Q$5=\"Course 1\",Général!H$145,IF($Q$5=\"Course 2\",Général!H$147,IF($Q$5=\"Course 3\",Général!H$149,Général!#REF!)))","v":"ASUL Lannion"},{"$f":"IF($R$5=\"Course 1\",Général!H$153,IF($R$5=\"Course 2\",Général!H$155,IF($R$5=\"Course 3\",Général!H$157,Général!#REF!)))","v":"Hannovre"},{"$f":"IF($S$5=\"Course 1\",Général!H$161,IF($S$5=\"Course 2\",Général!H$163,IF($S$5=\"Course 3\",Général!H$165,Général!#REF!)))","v":"UBS Lorient 1"},{"$f":"IF($T$5=\"Course 1\",Général!H$169,IF($T$5=\"Course 2\",Général!H$171,IF($T$5=\"Course 3\",Général!H$173,Général!#REF!)))","v":"UNICAEN - ASSUCherbourg"},null,{"$f":"Général!B16","v":"ENSTA Paris"},6]
["8ème Equipage",null,{"$f":"IF($C$5=\"Course 1\",Général!I33,IF($C$5=\"Course 2\",Général!I35,IF($C$5=\"Course 3\",Général!I37,Général!#REF!)))","v":"ENSTA Bretagne 1"},{"$f":"IF($D$5=\"Course 1\",Général!I41,IF($D$5=\"Course 2\",Général!I43,IF($D$5=\"Course 3\",Général!I45,Général!#REF!)))","v":"Univ.Orléans"},{"$f":"IF($E$5=\"Course 1\",Général!I49,IF($E$5=\"Course 2\",Général!I51,IF($E$5=\"Course 3\",Général!I53,Général!#REF!)))","v":"Univ. Nantes 1"},{"$f":"IF($F$5=\"Course 1\",Général!I$57,IF($F$5=\"Course 2\",Général!I$59,IF($F$5=\"Course 3\",Général!I$61,Général!#REF!)))","v":"EGSI La Rochelle"},{"$f":"IF($G$5=\"Course 1\",Général!I$65,IF($G$5=\"Course 2\",Général!I$67,IF($G$5=\"Course 3\",Général!I$69,Général!#REF!)))","v":"Centrales Nantes"},{"$f":"IF($H$5=\"Course 1\",Général!I$73,IF($H$5=\"Course 2\",Général!I$75,IF($H$5=\"Course 3\",Général!I$77,Général!#REF!)))","v":"Karlsruhe"},{"$f":"IF($I$5=\"Course 1\",Général!I$81,IF($I$5=\"Course 2\",Général!I$83,IF($I$5=\"Course 3\",Général!I$85,Général!#REF!)))","v":"UBO 1"},{"$f":"IF($J$5=\"Course 1\",Général!I$89,IF($J$5=\"Course 2\",Général!I$91,IF($J$5=\"Course 3\",Général!I$93,Général!#REF!)))","v":"UBS Lorient 2"},{"$f":"IF($K$5=\"Course 1\",Général!I$97,IF($K$5=\"Course 2\",Général!I$99,IF($K$5=\"Course 3\",Général!I$101,Général!#REF!)))","v":"UBS Lorient 1"},{"$f":"IF($L$5=\"Course 1\",Général!I$105,IF($L$5=\"Course 2\",Général!I$107,IF($L$5=\"Course 3\",Général!I$109,Général!#REF!)))","v":"IMT Atlantique Nantes 1"},{"$f":"IF($M$5=\"Course 1\",Général!I$113,IF($M$5=\"Course 2\",Général!I$115,IF($M$5=\"Course 3\",Général!I$117,Général!#REF!)))","v":"IMT Atlantique Nantes 2"},{"$f":"IF($N$5=\"Course 1\",Général!I$121,IF($N$5=\"Course 2\",Général!I$123,IF($N$5=\"Course 3\",Général!I$125,Général!#REF!)))","v":"Centrales Nantes"},{"$f":"IF($O$5=\"Course 1\",Général!I$129,IF($O$5=\"Course 2\",Général!I$131,IF($O$5=\"Course 3\",Général!I$133,Général!#REF!)))","v":"Univ. Nantes 2"},{"$f":"IF($P$5=\"Course 1\",Général!I$137,IF($P$5=\"Course 2\",Général!I$139,IF($P$5=\"Course 3\",Général!I$141,Général!#REF!)))","v":"AS Paris 1 Panthéon Sorbonne"},{"$f":"IF($Q$5=\"Course 1\",Général!I$145,IF($Q$5=\"Course 2\",Général!I$147,IF($Q$5=\"Course 3\",Général!I$149,Général!#REF!)))","v":"AS Paris 1 Panthéon Sorbonne"},{"$f":"IF($R$5=\"Course 1\",Général!I$153,IF($R$5=\"Course 2\",Général!I$155,IF($R$5=\"Course 3\",Général!I$157,Général!#REF!)))","v":"ENSTA Bretagne 2"},{"$f":"IF($S$5=\"Course 1\",Général!I$161,IF($S$5=\"Course 2\",Général!I$163,IF($S$5=\"Course 3\",Général!I$165,Général!#REF!)))","v":"Hannovre"},{"$f":"IF($T$5=\"Course 1\",Général!I$169,IF($T$5=\"Course 2\",Général!I$171,IF($T$5=\"Course 3\",Général!I$173,Général!#REF!)))","v":"UBS Lorient 2"},null,{"$f":"Général!B17","v":"IMT Atlantique Brest"},5]
["9ème Equipage",null,{"$f":"IF($C$5=\"Course 1\",Général!J33,IF($C$5=\"Course 2\",Général!J35,IF($C$5=\"Course 3\",Général!J37,Général!#REF!)))","v":"Univ.Orléans"},{"$f":"IF($D$5=\"Course 1\",Général!J41,IF($D$5=\"Course 2\",Général!J43,IF($D$5=\"Course 3\",Général!J45,Général!#REF!)))","v":"Centrales Nantes"},{"$f":"IF($E$5=\"Course 1\",Général!J49,IF($E$5=\"Course 2\",Général!J51,IF($E$5=\"Course 3\",Général!J53,Général!#REF!)))","v":"AS UB St Brieuc"},{"$f":"IF($F$5=\"Course 1\",Général!J$57,IF($F$5=\"Course 2\",Général!J$59,IF($F$5=\"Course 3\",Général!J$61,Général!#REF!)))","v":"Univ. Nantes 1"},{"$f":"IF($G$5=\"Course 1\",Général!J$65,IF($G$5=\"Course 2\",Général!J$67,IF($G$5=\"Course 3\",Général!J$69,Général!#REF!)))","v":"ENSTA Paris"},{"$f":"IF($H$5=\"Course 1\",Général!J$73,IF($H$5=\"Course 2\",Général!J$75,IF($H$5=\"Course 3\",Général!$J77,Général!#REF!)))","v":"IMT Atlantique Nantes 1"},{"$f":"IF($I$5=\"Course 1\",Général!J$81,IF($I$5=\"Course 2\",Général!J$83,IF($I$5=\"Course 3\",Général!J$85,Général!#REF!)))","v":"ENSTA Bretagne 2"},{"$f":"IF($J$5=\"Course 1\",Général!J$89,IF($J$5=\"Course 2\",Général!J$91,IF($J$5=\"Course 3\",Général!J$93,Général!#REF!)))","v":"Univ. Nantes 3"},{"$f":"IF($K$5=\"Course 1\",Général!J$97,IF($K$5=\"Course 2\",Général!J$99,IF($K$5=\"Course 3\",Général!J$101,Général!#REF!)))","v":"UBS Lorient 2"},{"$f":"IF($L$5=\"Course 1\",Général!J$105,IF($L$5=\"Course 2\",Général!J$107,IF($L$5=\"Course 3\",Général!J$109,Général!#REF!)))","v":"Dublin"},{"$f":"IF($M$5=\"Course 1\",Général!J$113,IF($M$5=\"Course 2\",Général!J$115,IF($M$5=\"Course 3\",Général!J$117,Général!#REF!)))","v":"UBS Lorient 2"},{"$f":"IF($N$5=\"Course 1\",Général!J$121,IF($N$5=\"Course 2\",Général!J$123,IF($N$5=\"Course 3\",Général!J$125,Général!#REF!)))","v":"UBS Lorient 1"},{"$f":"IF($O$5=\"Course 1\",Général!J$129,IF($O$5=\"Course 2\",Général!J$131,IF($O$5=\"Course 3\",Général!J$133,Général!#REF!)))","v":"UNICAEN - ASSUCherbourg"},{"$f":"IF($P$5=\"Course 1\",Général!J$137,IF($P$5=\"Course 2\",Général!J$139,IF($P$5=\"Course 3\",Général!J$141,Général!#REF!)))","v":"IMT Atlantique Nantes 2"},{"$f":"IF($Q$5=\"Course 1\",Général!J$145,IF($Q$5=\"Course 2\",Général!J$147,IF($Q$5=\"Course 3\",Général!J$149,Général!#REF!)))","v":"Univ. Nantes 3"},{"$f":"IF($R$5=\"Course 1\",Général!J$153,IF($R$5=\"Course 2\",Général!J$155,IF($R$5=\"Course 3\",Général!J$157,Général!#REF!)))","v":"EGSI La Rochelle"},{"$f":"IF($S$5=\"Course 1\",Général!J$161,IF($S$5=\"Course 2\",Général!J$163,IF($S$5=\"Course 3\",Général!J$165,Général!#REF!)))","v":"Univ. La Rochelle"},{"$f":"IF($T$5=\"Course 1\",Général!J$169,IF($T$5=\"Course 2\",Général!J$171,IF($T$5=\"Course 3\",Général!J$173,Général!#REF!)))","v":"Univ. La Rochelle"},null,{"$f":"Général!B18","v":"UBO 2"},4]
[null,null,null,null,null,null,null,null,null,null,null,null,null,null,null,null,null,null,null,null,null,{"$f":"Général!B19","v":"Dublin"},5]
[null,null,null,null,null,null,null,null,null,null,null,null,null,null,null,null,null,null,null,null,null,{"$f":"Général!B20","v":"Univ. Nantes 2"},4]
[null,null,null,null,null,null,null,null,null,null,null,null,null,null,null,null,null,null,null,null,null,{"$f":"Général!B21","v":"UBS Lorient 1"},6]
[null,null,null,null,null,null,null,null,null,null,null,null,null,null,null,null,null,null,null,null,null,{"$f":"Général!B22","v":"UBS Lorient 2"},7]
[null,null,null,null,null,null,null,null,null,null,null,null,null,null,null,null,null,null,null,null,null,{"$f":"Général!B23","v":"Univ.Orléans"},7]
[null,null,null,null,null,null,null,null,null,null,null,null,null,null,null,null,null,null,null,null,null,{"$f":"Général!B24","v":"Univ. La Rochelle"},7]
[null,null,null,null,null,null,null,null,null,null,null,null,null,null,null,null,null,null,null,null,null,{"$f":"Général!B25","v":"AS UB St Brieuc"},6]
[null,null,null,null,null,null,null,null,null,null,null,null,null,null,null,null,null,null,null,null,null,{"$f":"Général!B26","v":"Karlsruhe"},5]
[null,null,null,null,null,null,null,null,null,null,null,null,null,null,null,null,null,null,null,null,null,{"$f":"Général!B27","v":"Univ. Nantes 3"},6]
[null,null,null,null,null,null,null,null,null,null,null,null,null,null,null,null,null,null,null,null,null,{"$f":"Général!B28","v":"Centrales Nantes"},18]
[null,null,null,null,null,null,null,null,null,null,null,null,null,null,null,null,null,null,null,null,null,{"$f":"Général!B29","v":"Southampton"},4]
[null,null,null,null,null,null,null,null,null,null,null,null,null,null,null,null,null,null,null,null,null,{"$f":"Général!#REF!","v":{"$error":"#REF!"}},0]
[null,null,null,null,null,null,null,null,null,null,null,null,null,null,null,null,null,null,null,null,null,{"$f":"Général!#REF!","v":{"$error":"#REF!"}},0]
[null,null,null,null,null,null,null,null,null,null,null,null,null,null,null,null,null,null,null,null,null,{"$f":"Général!#REF!","v":{"$error":"#REF!"}},0]
[null,null,null,null,null,null,null,null,null,null,null,null,null,null,null,null,null,null,null,null,null,{"$f":"Général!#REF!","v":{"$error":"#REF!"}},0]
[null,null,null,null,null,null,null,null,null,null,null,null,null,null,null,null,null,null,null,null,null,{"$f":"Général!#REF!","v":{"$error":"#REF!"}},0]

{"sheet":"Eq.27","index":31,"n_rows":32,"n_cols":23,"rows_kept":32,"cut":false,"hidden":false,"merged":[[14,0,14,1],[15,0,15,1],[8,0,8,1],[9,0,9,1],[10,0,10,1],[11,0,11,1],[12,0,12,1],[13,0,13,1],[7,0,7,1],[0,0,1,5],[0,6,1,10],[3,0,3,1],[4,0,4,1],[5,0,5,1]]}
["Equipage ",null,null,null,null,null,{"$f":"Général!B29","v":"Southampton"},null,null,null,null,null,null,null,null,null,null,null,null,null,null,{"$f":"Général!B3","v":"Univ. Nantes 1"},{"$f":"COUNTIF(C$8:T$16,V1)","v":7}]
[null,null,null,null,null,null,null,null,null,null,null,null,null,null,null,null,null,null,null,null,null,{"$f":"Général!B4","v":"AS Paris 1 Panthéon Sorbonne"},{"$f":"COUNTIF($C$8:$T$16,V2)","v":6}]
[null,null,null,null,null,null,null,null,null,null,null,null,null,null,null,null,null,null,null,null,null,{"$f":"Général!B5","v":"Hannovre"},{"$f":"COUNTIF($C$8:$T$16,V3)","v":6}]
[null,null,"FLIGHT 1","FLIGHT 2","FLIGHT 3","FLIGHT 4","FLIGHT 5","FLIGHT 6","FLIGHT 7","FLIGHT 8","FLIGHT 9","FLIGHT 10","FLIGHT 11","FLIGHT 12","FLIGHT 13","FLIGHT 14","FLIGHT 15","FLIGHT 16","FLIGHT 17","FLIGHT 18",null,{"$f":"Général!B6","v":"IMT Atlantique Nantes 1"},5]
["N° de course",null,{"$f":"IF(COUNTIF(Général!B33:J33,$G$1)=1,\"Course 1\",IF(COUNTIF(Général!B35:J35,$G$1)=1,\"Course 2\",IF(COUNTIF(Général!B37:J37,$G$1)=1,\"Course 3\",\"Course 4\")))","v":"Course 3"},{"$f":"IF(COUNTIF(Général!B41:J41,$G$1)=1,\"Course 1\",IF(COUNTIF(Général!B43:J43,$G$1)=1,\"Course 2\",IF(COUNTIF(Général!B45:J45,$G$1)=1,\"Course 3\",\"Course 4\")))","v":"Course 2"},{"$f":"IF(COUNTIF(Général!B49:J49,$G$1)=1,\"Course 1\",IF(COUNTIF(Général!B51:J51,$G$1)=1,\"Course 2\",IF(COUNTIF(Général!B53:J53,$G$1)=1,\"Course 3\",\"Course 4\")))","v":"Course 3"},{"$f":"IF(COUNTIF(Général!B57:J57,$G$1)=1,\"Course 1\",IF(COUNTIF(Général!B59:J59,$G$1)=1,\"Course 2\",IF(COUNTIF(Général!B61:J61,$G$1)=1,\"Course 3\",\"Course 4\")))","v":"Course 1"},{"$f":"IF(COUNTIF(Général!B65:J65,$G$1)=1,\"Course 1\",IF(COUNTIF(Général!B67:J67,$G$1)=1,\"Course 2\",IF(COUNTIF(Général!B69:J69,$G$1)=1,\"Course 3\",\"Course 4\")))","v":"Course 2"},{"$f":"IF(COUNTIF(Général!B73:J73,$G$1)=1,\"Course 1\",IF(COUNTIF(Général!B75:J75,$G$1)=1,\"Course 2\",IF(COUNTIF(Général!B77:J77,$G$1)=1,\"Course 3\",\"Course 4\")))","v":"Course 2"},{"$f":"IF(COUNTIF(Général!B81:J81,$G$1)=1,\"Course 1\",IF(COUNTIF(Général!B83:J83,$G$1)=1,\"Course 2\",IF(COUNTIF(Général!B85:J85,$G$1)=1,\"Course 3\",\"Course 4\")))","v":"Course 3"},{"$f":"IF(COUNTIF(Général!B89:J89,$G$1)=1,\"Course 1\",IF(COUNTIF(Général!B91:J91,$G$1)=1,\"Course 2\",IF(COUNTIF(Général!B93:J93,$G$1)=1,\"Course 3\",\"Course 4\")))","v":"Course 2"},{"$f":"IF(COUNTIF(Général!B97:J97,$G$1)=1,\"Course 1\",IF(COUNTIF(Général!B99:J99,$G$1)=1,\"Course 2\",IF(COUNTIF(Général!B101:J101,$G$1)=1,\"Course 3\",\"Course 4\")))","v":"Course 3"},{"$f":"IF(COUNTIF(Général!B105:J105,$G$1)=1,\"Course 1\",IF(COUNTIF(Général!B107:J107,$G$1)=1,\"Course 2\",IF(COUNTIF(Général!B109:J109,$G$1)=1,\"Course 3\",\"Course 4\")))","v":"Course 1"},{"$f":"IF(COUNTIF(Général!B113:J113,$G$1)=1,\"Course 1\",IF(COUNTIF(Général!B115:J115,$G$1)=1,\"Course 2\",IF(COUNTIF(Général!B117:J117,$G$1)=1,\"Course 3\",\"Course 4\")))","v":"Course 2"},{"$f":"IF(COUNTIF(Général!B121:J121,$G$1)=1,\"Course 1\",IF(COUNTIF(Général!B123:J123,$G$1)=1,\"Course 2\",IF(COUNTIF(Général!B125:J125,$G$1)=1,\"Course 3\",\"Course 4\")))","v":"Course 2"},{"$f":"IF(COUNTIF(Général!B129:J129,$G$1)=1,\"Course 1\",IF(COUNTIF(Général!B131:J131,$G$1)=1,\"Course 2\",IF(COUNTIF(Général!B133:J133,$G$1)=1,\"Course 3\",\"Course 4\")))","v":"Course 2"},{"$f":"IF(COUNTIF(Général!B137:J137,$G$1)=1,\"Course 1\",IF(COUNTIF(Général!B139:J139,$G$1)=1,\"Course 2\",IF(COUNTIF(Général!B141:J141,$G$1)=1,\"Course 3\",\"Course 4\")))","v":"Course 2"},{"$f":"IF(COUNTIF(Général!B145:J145,$G$1)=1,\"Course 1\",IF(COUNTIF(Général!B147:J147,$G$1)=1,\"Course 2\",IF(COUNTIF(Général!B149:J149,$G$1)=1,\"Course 3\",\"Course 4\")))","v":"Course 3"},{"$f":"IF(COUNTIF(Général!B153:J153,$G$1)=1,\"Course 1\",IF(COUNTIF(Général!B155:J155,$G$1)=1,\"Course 2\",IF(COUNTIF(Général!B157:J157,$G$1)=1,\"Course 3\",\"Course 4\")))","v":"Course 2"},{"$f":"IF(COUNTIF(Général!B161:J161,$G$1)=1,\"Course 1\",IF(COUNTIF(Général!B163:J163,$G$1)=1,\"Course 2\",IF(COUNTIF(Général!B165:J165,$G$1)=1,\"Course 3\",\"Course 4\")))","v":"Course 1"},{"$f":"IF(COUNTIF(Général!B169:J169,$G$1)=1,\"Course 1\",IF(COUNTIF(Général!B171:J171,$G$1)=1,\"Course 2\",IF(COUNTIF(Général!B173:J173,$G$1)=1,\"Course 3\",\"Course 4\")))","v":"Course 1"},null,{"$f":"Général!B7","v":"ENSTA Bretagne 2"},6]
["Bateau",null,{"$f":"IF(COUNTIF(Général!B33:B38,$G$1)=1,\"Boat 1\",IF(COUNTIF(Général!C33:C38,$G$1)=1,\"Boat 2\",IF(COUNTIF(Général!D33:D38,$G$1)=1,\"Boat 3\", IF(COUNTIF(Général!E33:E38,$G$1)=1,\"Boat 4\", IF(COUNTIF(Général!F33:F38,$G$1)=1,\"Boat 5\", IF(COUNTIF(Général!G33:G38,$G$1)=1,\"Boat 6\", IF(COUNTIF(Général!H33:H38,$G$1)=1,\"Boat 7\",IF(COUNTIF(Général!I33:I38,$G$1)=1,\"Boat 8\",\"Boat 9\"))))))))","v":"Boat 9"},{"$f":"IF(COUNTIF(Général!B41:B46,$G$1)=1,\"Boat 1\",IF(COUNTIF(Général!C41:C46,$G$1)=1,\"Boat 2\",IF(COUNTIF(Général!D41:D46,$G$1)=1,\"Boat 3\", IF(COUNTIF(Général!E41:E46,$G$1)=1,\"Boat 4\", IF(COUNTIF(Général!F41:F46,$G$1)=1,\"Boat 5\", IF(COUNTIF(Général!G41:G46,$G$1)=1,\"Boat 6\", IF(COUNTIF(Général!H41:H46,$G$1)=1,\"Boat 7\",IF(COUNTIF(Général!I33:I38,$G$1)=1,\"Boat 8\",\"Boat 9\"))))))))","v":"Boat 5"},{"$f":"IF(COUNTIF(Général!B49:B54,$G$1)=1,\"Boat 1\",IF(COUNTIF(Général!C49:C54,$G$1)=1,\"Boat 2\",IF(COUNTIF(Général!D49:D54,$G$1)=1,\"Boat 3\", IF(COUNTIF(Général!E49:E54,$G$1)=1,\"Boat 4\", IF(COUNTIF(Général!F49:F54,$G$1)=1,\"Boat 5\", IF(COUNTIF(Général!G49:G54,$G$1)=1,\"Boat 6\", IF(COUNTIF(Général!H49:H54,$G$1)=1,\"Boat 7\",IF(COUNTIF(Général!I33:I38,$G$1)=1,\"Boat 8\",\"Boat 9\"))))))))","v":"Boat 9"},{"$f":"IF(COUNTIF(Général!B57:B62,$G$1)=1,\"Boat 1\",IF(COUNTIF(Général!C57:C62,$G$1)=1,\"Boat 2\",IF(COUNTIF(Général!D57:D62,$G$1)=1,\"Boat 3\", IF(COUNTIF(Général!E57:E62,$G$1)=1,\"Boat 4\", IF(COUNTIF(Général!F57:F62,$G$1)=1,\"Boat 5\", IF(COUNTIF(Général!G57:G62,$G$1)=1,\"Boat 6\", IF(COUNTIF(Général!H57:H62,$G$1)=1,\"Boat 7\",IF(COUNTIF(Général!I33:I38,$G$1)=1,\"Boat 8\",\"Boat 9\"))))))))","v":"Boat 9"},{"$f":"IF(COUNTIF(Général!B65:B70,$G$1)=1,\"Boat 1\",IF(COUNTIF(Général!C65:C70,$G$1)=1,\"Boat 2\",IF(COUNTIF(Général!D65:D70,$G$1)=1,\"Boat 3\", IF(COUNTIF(Général!E65:E70,$G$1)=1,\"Boat 4\", IF(COUNTIF(Général!F65:F70,$G$1)=1,\"Boat 5\", IF(COUNTIF(Général!G65:G70,$G$1)=1,\"Boat 6\", IF(COUNTIF(Général!H65:H70,$G$1)=1,\"Boat 7\",IF(COUNTIF(Général!I33:I38,$G$1)=1,\"Boat 8\",\"Boat 9\"))))))))","v":"Boat 7"},{"$f":"IF(COUNTIF(Général!B73:B78,$G$1)=1,\"Boat 1\",IF(COUNTIF(Général!C73:C78,$G$1)=1,\"Boat 2\",IF(COUNTIF(Général!D73:D78,$G$1)=1,\"Boat 3\", IF(COUNTIF(Général!E73:E78,$G$1)=1,\"Boat 4\", IF(COUNTIF(Général!F73:F78,$G$1)=1,\"Boat 5\", IF(COUNTIF(Général!G73:G78,$G$1)=1,\"Boat 6\", IF(COUNTIF(Général!H73:H78,$G$1)=1,\"Boat 7\",IF(COUNTIF(Général!I33:I38,$G$1)=1,\"Boat 8\",\"Boat 9\"))))))))","v":"Boat 7"},{"$f":"IF(COUNTIF(Général!B81:B86,$G$1)=1,\"Boat 1\",IF(COUNTIF(Général!C81:C86,$G$1)=1,\"Boat 2\",IF(COUNTIF(Général!D81:D86,$G$1)=1,\"Boat 3\", IF(COUNTIF(Général!E81:E86,$G$1)=1,\"Boat 4\", IF(COUNTIF(Général!F81:F86,$G$1)=1,\"Boat 5\", IF(COUNTIF(Général!G81:G86,$G$1)=1,\"Boat 6\", IF(COUNTIF(Général!H81:H86,$G$1)=1,\"Boat 7\",IF(COUNTIF(Général!I33:I38,$G$1)=1,\"Boat 8\",\"Boat 9\"))))))))","v":"Boat 2"},{"$f":"IF(COUNTIF(Général!B89:B94,$G$1)=1,\"Boat 1\",IF(COUNTIF(Général!C89:C94,$G$1)=1,\"Boat 2\",IF(COUNTIF(Général!D89:D94,$G$1)=1,\"Boat 3\", IF(COUNTIF(Général!E89:E94,$G$1)=1,\"Boat 4\", IF(COUNTIF(Général!F89:F94,$G$1)=1,\"Boat 5\", IF(COUNTIF(Général!G89:G94,$G$1)=1,\"Boat 6\", IF(COUNTIF(Général!H89:H94,$G$1)=1,\"Boat 7\",IF(COUNTIF(Général!I33:I38,$G$1)=1,\"Boat 8\",\"Boat 9\"))))))))","v":"Boat 6"},{"$f":"IF(COUNTIF(Général!B97:B102,$G$1)=1,\"Boat 1\",IF(COUNTIF(Général!C97:C102,$G$1)=1,\"Boat 2\",IF(COUNTIF(Général!D97:D102,$G$1)=1,\"Boat 3\", IF(COUNTIF(Général!E97:E102,$G$1)=1,\"Boat 4\", IF(COUNTIF(Général!F97:F102,$G$1)=1,\"Boat 5\", IF(COUNTIF(Général!G97:G102,$G$1)=1,\"Boat 6\", IF(COUNTIF(Général!H97:H102,$G$1)=1,\"Boat 7\",IF(COUNTIF(Général!I33:I38,$G$1)=1,\"Boat 8\",\"Boat 9\"))))))))","v":"Boat 3"},{"$f":"IF(COUNTIF(Général!B105:B110,$G$1)=1,\"Boat 1\",IF(COUNTIF(Général!C105:C110,$G$1)=1,\"Boat 2\",IF(COUNTIF(Général!D105:D110,$G$1)=1,\"Boat 3\", IF(COUNTIF(Général!E105:E110,$G$1)=1,\"Boat 4\", IF(COUNTIF(Général!F105:F110,$G$1)=1,\"Boat 5\", IF(COUNTIF(Général!G105:G110,$G$1)=1,\"Boat 6\", IF(COUNTIF(Général!H105:H110,$G$1)=1,\"Boat 7\",IF(COUNTIF(Général!I33:I38,$G$1)=1,\"Boat 8\",\"Boat 9\"))))))))","v":"Boat 3"},{"$f":"IF(COUNTIF(Général!B113:B118,$G$1)=1,\"Boat 1\",IF(COUNTIF(Général!C113:C118,$G$1)=1,\"Boat 2\",IF(COUNTIF(Général!C113:D118,$G$1)=1,\"Boat 3\", IF(COUNTIF(Général!C113:E118,$G$1)=1,\"Boat 4\", IF(COUNTIF(Général!F113:F118,$G$1)=1,\"Boat 5\", IF(COUNTIF(Général!G113:G118,$G$1)=1,\"Boat 6\", IF(COUNTIF(Général!H113:H118,$G$1)=1,\"Boat 7\",IF(COUNTIF(Général!I33:I38,$G$1)=1,\"Boat 8\",\"Boat 9\"))))))))","v":"Boat 4"},{"$f":"IF(COUNTIF(Général!B121:B126,$G$1)=1,\"Boat 1\",IF(COUNTIF(Général!C121:C126,$G$1)=1,\"Boat 2\",IF(COUNTIF(Général!D121:D126,$G$1)=1,\"Boat 3\", IF(COUNTIF(Général!E121:E126,$G$1)=1,\"Boat 4\", IF(COUNTIF(Général!F121:F126,$G$1)=1,\"Boat 5\", IF(COUNTIF(Général!G121:G126,$G$1)=1,\"Boat 6\", IF(COUNTIF(Général!H121:H126,$G$1)=1,\"Boat 7\",IF(COUNTIF(Général!I33:I38,$G$1)=1,\"Boat 8\",\"Boat 9\"))))))))","v":"Boat 6"},{"$f":"IF(COUNTIF(Général!B129:B134,$G$1)=1,\"Boat 1\",IF(COUNTIF(Général!C129:C134,$G$1)=1,\"Boat 2\",IF(COUNTIF(Général!D131:D134,$G$1)=1,\"Boat 3\", IF(COUNTIF(Général!E129:E134,$G$1)=1,\"Boat 4\", IF(COUNTIF(Général!F129:F134,$G$1)=1,\"Boat 5\", IF(COUNTIF(Général!G129:G134,$G$1)=1,\"Boat 6\", IF(COUNTIF(Général!H129:H134,$G$1)=1,\"Boat 7\",IF(COUNTIF(Général!I33:I38,$G$1)=1,\"Boat 8\",\"Boat 9\"))))))))","v":"Boat 1"},{"$f":"IF(COUNTIF(Général!B137:B142,$G$1)=1,\"Boat 1\",IF(COUNTIF(Général!C137:C142,$G$1)=1,\"Boat 2\",IF(COUNTIF(Général!D137:D142,$G$1)=1,\"Boat 3\", IF(COUNTIF(Général!E137:E142,$G$1)=1,\"Boat 4\", IF(COUNTIF(Général!F145:F150,$G$1)=1,\"Boat 5\", IF(COUNTIF(Général!G145:G150,$G$1)=1,\"Boat 6\", IF(COUNTIF(Général!H145:H150,$G$1)=1,\"Boat 7\",IF(COUNTIF(Général!I33:I38,$G$1)=1,\"Boat 8\",\"Boat 9\"))))))))","v":"Boat 1"},{"$f":"IF(COUNTIF(Général!B145:B150,$G$1)=1,\"Boat 1\",IF(COUNTIF(Général!C145:C150,$G$1)=1,\"Boat 2\",IF(COUNTIF(Général!D145:D150,$G$1)=1,\"Boat 3\", IF(COUNTIF(Général!E145:E150,$G$1)=1,\"Boat 4\", IF(COUNTIF(Général!F145:F150,$G$1)=1,\"Boat 5\", IF(COUNTIF(Général!G145:G150,$G$1)=1,\"Boat 6\", IF(COUNTIF(Général!H145:H150,$G$1)=1,\"Boat 7\",IF(COUNTIF(Général!I33:I38,$G$1)=1,\"Boat 8\",\"Boat 9\"))))))))","v":"Boat 6"},{"$f":"IF(COUNTIF(Général!B153:B158,$G$1)=1,\"Boat 1\",IF(COUNTIF(Général!C153:C158,$G$1)=1,\"Boat 2\",IF(COUNTIF(Général!D153:D158,$G$1)=1,\"Boat 3\", IF(COUNTIF(Général!E153:E158,$G$1)=1,\"Boat 4\", IF(COUNTIF(Général!F153:F158,$G$1)=1,\"Boat 5\", IF(COUNTIF(Général!G153:G158,$G$1)=1,\"Boat 6\", IF(COUNTIF(Général!H153:H158,$G$1)=1,\"Boat 7\",IF(COUNTIF(Général!I33:I38,$G$1)=1,\"Boat 8\",\"Boat 9\"))))))))","v":"Boat 9"},{"$f":"IF(COUNTIF(Général!B161:B166,$G$1)=1,\"Boat 1\",IF(COUNTIF(Général!C161:C166,$G$1)=1,\"Boat 2\",IF(COUNTIF(Général!D161:D166,$G$1)=1,\"Boat 3\", IF(COUNTIF(Général!E161:E166,$G$1)=1,\"Boat 4\", IF(COUNTIF(Général!F161:F166,$G$1)=1,\"Boat 5\", IF(COUNTIF(Général!G161:G166,$G$1)=1,\"Boat 6\", IF(COUNTIF(Général!H161:H166,$G$1)=1,\"Boat 7\",IF(COUNTIF(Général!I33:I38,$G$1)=1,\"Boat 8\",\"Boat 9\"))))))))","v":"Boat 9"},{"$f":"IF(COUNTIF(Général!B169:B174,$G$1)=1,\"Boat 1\",IF(COUNTIF(Général!C169:C174,$G$1)=1,\"Boat 2\",IF(COUNTIF(Général!D169:D174,$G$1)=1,\"Boat 3\", IF(COUNTIF(Général!E169:E174,$G$1)=1,\"Boat 4\", IF(COUNTIF(Général!F169:F174,$G$1)=1,\"Boat 5\", IF(COUNTIF(Général!G169:G174,$G$1)=1,\"Boat 6\", IF(COUNTIF(Général!H169:H174,$G$1)=1,\"Boat 7\",IF(COUNTIF(Général!I33:I38,$G$1)=1,\"Boat 8\",\"Boat 9\"))))))))","v":"Boat 9"},null,{"$f":"Général!B8","v":"IMT Atlantique Nantes 2"},6]
[null,null,null,null,null,null,null,null,null,null,null,null,null,null,null,null,null,null,null,null,null,{"$f":"Général!B9","v":"Hambourg"},6]
["1er Equipage",null,{"$f":"IF($C$5=\"Course 1\",Général!B33,IF($C$5=\"Course 2\",Général!B35,IF($C$5=\"Course 3\",Général!B37,Général!#REF!)))","v":"UBS Lorient 2"},{"$f":"IF($D$5=\"Course 1\",Général!B41,IF($D$5=\"Course 2\",Général!B43,IF($D$5=\"Course 3\",Général!B45,Général!#REF!)))","v":"ASUL Lannion"},{"$f":"IF($E$5=\"Course 1\",Général!B49,IF($E$5=\"Course 2\",Général!B51,IF($E$5=\"Course 3\",Général!B53,Général!#REF!)))","v":"Univ.Orléans"},{"$f":"IF($F$5=\"Course 1\",Général!B$57,IF($F$5=\"Course 2\",Général!B$59,IF($F$5=\"Course 3\",Général!B$61,Général!#REF!)))","v":"IMT Atlantique Nantes 2"},{"$f":"IF($G$5=\"Course 1\",Général!B$65,IF($G$5=\"Course 2\",Général!B$67,IF($G$5=\"Course 3\",Général!B$69,Général!#REF!)))","v":"AS UB St Brieuc"},{"$f":"IF($H$5=\"Course 1\",Général!B$73,IF($H$5=\"Course 2\",Général!B$75,IF($H$5=\"Course 3\",Général!B$77,Général!#REF!)))","v":"IMT Atlantique Brest"},{"$f":"IF($I$5=\"Course 1\",Général!B$81,IF($I$5=\"Course 2\",Général!B$83,IF($I$5=\"Course 3\",Général!B$85,Général!#REF!)))","v":"Univ. Nantes 3"},{"$f":"IF($J$5=\"Course 1\",Général!B$89,IF($J$5=\"Course 2\",Général!B$91,IF($J$5=\"Course 3\",Général!B$93,Général!#REF!)))","v":"UNICAEN - ASSUCherbourg"},{"$f":"IF($K$5=\"Course 1\",Général!B$97,IF($K$5=\"Course 2\",Général!B$99,IF($K$5=\"Course 3\",Général!B$101,Général!#REF!)))","v":"Hambourg"},{"$f":"IF($L$5=\"Course 1\",Général!B$105,IF($L$5=\"Course 2\",Général!B$107,IF($L$5=\"Course 3\",Général!B$109,Général!#REF!)))","v":"Centrales Nantes"},{"$f":"IF($M$5=\"Course 1\",Général!B$113,IF($M$5=\"Course 2\",Général!B$115,IF($M$5=\"Course 3\",Général!B$117,Général!#REF!)))","v":"UBO 2"},{"$f":"IF($N$5=\"Course 1\",Général!B$121,IF($N$5=\"Course 2\",Général!B$123,IF($N$5=\"Course 3\",Général!B$125,Général!#REF!)))","v":"IMT Atlantique Nantes 1"},{"$f":"IF($O$5=\"Course 1\",Général!B$129,IF($O$5=\"Course 2\",Général!B$131,IF($O$5=\"Course 3\",Général!B$133,Général!#REF!)))","v":"Southampton"},{"$f":"IF($P$5=\"Course 1\",Général!B$137,IF($P$5=\"Course 2\",Général!B$139,IF($P$5=\"Course 3\",Général!B$141,Général!#REF!)))","v":"Southampton"},{"$f":"IF($Q$5=\"Course 1\",Général!B$145,IF($Q$5=\"Course 2\",Général!B$147,IF($Q$5=\"Course 3\",Général!B$149,Général!#REF!)))","v":"Hannovre"},{"$f":"IF($R$5=\"Course 1\",Général!B$153,IF($R$5=\"Course 2\",Général!B$155,IF($R$5=\"Course 3\",Général!B$157,Général!#REF!)))","v":"Dublin"},{"$f":"IF($S$5=\"Course 1\",Général!B$161,IF($S$5=\"Course 2\",Général!B$163,IF($S$5=\"Course 3\",Général!B$165,Général!#REF!)))","v":"AS UB St Brieuc"},{"$f":"IF($T$5=\"Course 1\",Général!B$169,IF($T$5=\"Course 2\",Général!B$171,IF($T$5=\"Course 3\",Général!B$173,Général!#REF!)))","v":"HYDRO Sailing Team Le Havre"},null,{"$f":"Général!B10","v":"EGSI La Rochelle"},5]
["2nd Equipage",null,{"$f":"IF($C$5=\"Course 1\",Général!C33,IF($C$5=\"Course 2\",Général!C35,IF($C$5=\"Course 3\",Général!C37,Général!#REF!)))","v":"IMT Atlantique Nantes 2"},{"$f":"IF($D$5=\"Course 1\",Général!C41,IF($D$5=\"Course 2\",Général!C43,IF($D$5=\"Course 3\",Général!C45,Général!#REF!)))","v":"UBS Lorient 1"},{"$f":"IF($E$5=\"Course 1\",Général!C49,IF($E$5=\"Course 2\",Général!C51,IF($E$5=\"Course 3\",Général!C53,Général!#REF!)))","v":"ENSTA Bretagne 2"},{"$f":"IF($F$5=\"Course 1\",Général!C$57,IF($F$5=\"Course 2\",Général!C$59,IF($F$5=\"Course 3\",Général!C$61,Général!#REF!)))","v":"IMT Atlantique Nantes 1"},{"$f":"IF($G$5=\"Course 1\",Général!C$65,IF($G$5=\"Course 2\",Général!C$67,IF($G$5=\"Course 3\",Général!C$69,Général!#REF!)))","v":"AS Paris 1 Panthéon Sorbonne"},{"$f":"IF($H$5=\"Course 1\",Général!C$73,IF($H$5=\"Course 2\",Général!C$75,IF($H$5=\"Course 3\",Général!C$77,Général!#REF!)))","v":"ASUL Lannion"},{"$f":"IF($I$5=\"Course 1\",Général!C$81,IF($I$5=\"Course 2\",Général!C$83,IF($I$5=\"Course 3\",Général!C$85,Général!#REF!)))","v":"Southampton"},{"$f":"IF($J$5=\"Course 1\",Général!C$89,IF($J$5=\"Course 2\",Général!C$91,IF($J$5=\"Course 3\",Général!C$93,Général!#REF!)))","v":"UBO 2"},{"$f":"IF($K$5=\"Course 1\",Général!C$97,IF($K$5=\"Course 2\",Général!C$99,IF($K$5=\"Course 3\",Général!C$101,Général!#REF!)))","v":"EGSI La Rochelle"},{"$f":"IF($L$5=\"Course 1\",Général!C$105,IF($L$5=\"Course 2\",Général!C$107,IF($L$5=\"Course 3\",Général!C$109,Général!#REF!)))","v":"AS UB St Brieuc"},{"$f":"IF($M$5=\"Course 1\",Général!C$113,IF($M$5=\"Course 2\",Général!C$115,IF($M$5=\"Course 3\",Général!C$117,Général!#REF!)))","v":"Univ. Nantes 1"},{"$f":"IF($N$5=\"Course 1\",Général!C$121,IF($N$5=\"Course 2\",Général!C$123,IF($N$5=\"Course 3\",Général!C$125,Général!#REF!)))","v":"Dublin"},{"$f":"IF($O$5=\"Course 1\",Général!C$129,IF($O$5=\"Course 2\",Général!C$131,IF($O$5=\"Course 3\",Général!C$133,Général!#REF!)))","v":"HYDRO Sailing Team Le Havre"},{"$f":"IF($P$5=\"Course 1\",Général!C$137,IF($P$5=\"Course 2\",Général!C$139,IF($P$5=\"Course 3\",Général!C$141,Général!#REF!)))","v":"Centrales Nantes"},{"$f":"IF($Q$5=\"Course 1\",Général!C$145,IF($Q$5=\"Course 2\",Général!C$147,IF($Q$5=\"Course 3\",Général!C$149,Général!#REF!)))","v":"UBS Lorient 1"},{"$f":"IF($R$5=\"Course 1\",Général!C$153,IF($R$5=\"Course 2\",Général!C$155,IF($R$5=\"Course 3\",Général!C$157,Général!#REF!)))","v":"Univ. Nantes 1"},{"$f":"IF($S$5=\"Course 1\",Général!C$161,IF($S$5=\"Course 2\",Général!C$163,IF($S$5=\"Course 3\",Général!C$165,Général!#REF!)))","v":"AS Paris 1 Panthéon Sorbonne"},{"$f":"IF($T$5=\"Course 1\",Général!C$169,IF($T$5=\"Course 2\",Général!C$171,IF($T$5=\"Course 3\",Général!C$173,Général!#REF!)))","v":"Hambourg"},null,{"$f":"Général!B11","v":"HYDRO Sailing Team Le Havre"},5]
["3ème Equipage",null,{"$f":"IF($C$5=\"Course 1\",Général!D33,IF($C$5=\"Course 2\",Général!D35,IF($C$5=\"Course 3\",Général!D37,Général!#REF!)))","v":"UBS Lorient 1"},{"$f":"IF($D$5=\"Course 1\",Général!D41,IF($D$5=\"Course 2\",Général!D43,IF($D$5=\"Course 3\",Général!D45,Général!#REF!)))","v":"IMT Atlantique Nantes 1"},{"$f":"IF($E$5=\"Course 1\",Général!D49,IF($E$5=\"Course 2\",Général!D51,IF($E$5=\"Course 3\",Général!D53,Général!#REF!)))","v":"UBS Lorient 2"},{"$f":"IF($F$5=\"Course 1\",Général!D$57,IF($F$5=\"Course 2\",Général!D$59,IF($F$5=\"Course 3\",Général!D$61,Général!#REF!)))","v":"Univ. Nantes 2"},{"$f":"IF($G$5=\"Course 1\",Général!D$65,IF($G$5=\"Course 2\",Général!D$67,IF($G$5=\"Course 3\",Général!D$69,Général!#REF!)))","v":"Karlsruhe"},{"$f":"IF($H$5=\"Course 1\",Général!D$73,IF($H$5=\"Course 2\",Général!D$75,IF($H$5=\"Course 3\",Général!D$77,Général!#REF!)))","v":"Centrales Nantes"},{"$f":"IF($I$5=\"Course 1\",Général!D$81,IF($I$5=\"Course 2\",Général!D$83,IF($I$5=\"Course 3\",Général!D$85,Général!#REF!)))","v":"ASUL Lannion"},{"$f":"IF($J$5=\"Course 1\",Général!D$89,IF($J$5=\"Course 2\",Général!D$91,IF($J$5=\"Course 3\",Général!D$93,Général!#REF!)))","v":"EGSI La Rochelle"},{"$f":"IF($K$5=\"Course 1\",Général!D$97,IF($K$5=\"Course 2\",Général!D$99,IF($K$5=\"Course 3\",Général!D$101,Général!#REF!)))","v":"Southampton"},{"$f":"IF($L$5=\"Course 1\",Général!D$105,IF($L$5=\"Course 2\",Général!D$107,IF($L$5=\"Course 3\",Général!D$109,Général!#REF!)))","v":"Southampton"},{"$f":"IF($M$5=\"Course 1\",Général!D$113,IF($M$5=\"Course 2\",Général!D$115,IF($M$5=\"Course 3\",Général!D$117,Général!#REF!)))","v":"Univ. Nantes 2"},{"$f":"IF($N$5=\"Course 1\",Général!D$121,IF($N$5=\"Course 2\",Général!D$123,IF($N$5=\"Course 3\",Général!D$125,Général!#REF!)))","v":"Hannovre"},{"$f":"IF($O$5=\"Course 1\",Général!D$129,IF($O$5=\"Course 2\",Général!D$131,IF($O$5=\"Course 3\",Général!D$133,Général!#REF!)))","v":"EGSI La Rochelle"},{"$f":"IF($P$5=\"Course 1\",Général!D$137,IF($P$5=\"Course 2\",Général!D$139,IF($P$5=\"Course 3\",Général!D$141,Général!#REF!)))","v":"ENSTA Bretagne 1"},{"$f":"IF($Q$5=\"Course 1\",Général!D$145,IF($Q$5=\"Course 2\",Général!D$147,IF($Q$5=\"Course 3\",Général!D$149,Général!#REF!)))","v":"ENSTA Bretagne 2"},{"$f":"IF($R$5=\"Course 1\",Général!D$153,IF($R$5=\"Course 2\",Général!D$155,IF($R$5=\"Course 3\",Général!D$157,Général!#REF!)))","v":"UBO 2"},{"$f":"IF($S$5=\"Course 1\",Général!D$161,IF($S$5=\"Course 2\",Général!D$163,IF($S$5=\"Course 3\",Général!D$165,Général!#REF!)))","v":"Karlsruhe"},{"$f":"IF($T$5=\"Course 1\",Général!D$169,IF($T$5=\"Course 2\",Général!D$171,IF($T$5=\"Course 3\",Général!D$173,Général!#REF!)))","v":"AS Paris 1 Panthéon Sorbonne"},null,{"$f":"Général!B12","v":"UNICAEN - ASSUCherbourg"},4]
["4ème Equipage",null,{"$f":"IF($C$5=\"Course 1\",Général!E33,IF($C$5=\"Course 2\",Général!E35,IF($C$5=\"Course 3\",Général!E37,Général!#REF!)))","v":"Dublin"},{"$f":"IF($D$5=\"Course 1\",Général!E41,IF($D$5=\"Course 2\",Général!E43,IF($D$5=\"Course 3\",Général!E45,Général!#REF!)))","v":"AS UB St Brieuc"},{"$f":"IF($E$5=\"Course 1\",Général!E49,IF($E$5=\"Course 2\",Général!E51,IF($E$5=\"Course 3\",Général!E53,Général!#REF!)))","v":"Univ. La Rochelle"},{"$f":"IF($F$5=\"Course 1\",Général!E$57,IF($F$5=\"Course 2\",Général!E$59,IF($F$5=\"Course 3\",Général!E$61,Général!#REF!)))","v":"UBS Lorient 1"},{"$f":"IF($G$5=\"Course 1\",Général!E$65,IF($G$5=\"Course 2\",Général!E$67,IF($G$5=\"Course 3\",Général!E$69,Général!#REF!)))","v":"EGSI La Rochelle"},{"$f":"IF($H$5=\"Course 1\",Général!E$73,IF($H$5=\"Course 2\",Général!E$75,IF($H$5=\"Course 3\",Général!E$77,Général!#REF!)))","v":"Hannovre"},{"$f":"IF($I$5=\"Course 1\",Général!E$81,IF($I$5=\"Course 2\",Général!E$83,IF($I$5=\"Course 3\",Général!E$85,Général!#REF!)))","v":"ENSTA Bretagne 1"},{"$f":"IF($J$5=\"Course 1\",Général!E$89,IF($J$5=\"Course 2\",Général!E$91,IF($J$5=\"Course 3\",Général!E$93,Général!#REF!)))","v":"Univ. Nantes 1"},{"$f":"IF($K$5=\"Course 1\",Général!E$97,IF($K$5=\"Course 2\",Général!E$99,IF($K$5=\"Course 3\",Général!E$101,Général!#REF!)))","v":"Univ.Orléans"},{"$f":"IF($L$5=\"Course 1\",Général!E$105,IF($L$5=\"Course 2\",Général!E$107,IF($L$5=\"Course 3\",Général!E$109,Général!#REF!)))","v":"Univ. Nantes 1"},{"$f":"IF($M$5=\"Course 1\",Général!E$113,IF($M$5=\"Course 2\",Général!E$115,IF($M$5=\"Course 3\",Général!E$117,Général!#REF!)))","v":"Southampton"},{"$f":"IF($N$5=\"Course 1\",Général!E$121,IF($N$5=\"Course 2\",Général!E$123,IF($N$5=\"Course 3\",Général!E$125,Général!#REF!)))","v":"Univ. La Rochelle"},{"$f":"IF($O$5=\"Course 1\",Général!E$129,IF($O$5=\"Course 2\",Général!E$131,IF($O$5=\"Course 3\",Général!E$133,Général!#REF!)))","v":"Hambourg"},{"$f":"IF($P$5=\"Course 1\",Général!E$137,IF($P$5=\"Course 2\",Général!E$139,IF($P$5=\"Course 3\",Général!E$141,Général!#REF!)))","v":"Hambourg"},{"$f":"IF($Q$5=\"Course 1\",Général!E$145,IF($Q$5=\"Course 2\",Général!E$147,IF($Q$5=\"Course 3\",Général!E$149,Général!#REF!)))","v":"UBO 1"},{"$f":"IF($R$5=\"Course 1\",Général!E$153,IF($R$5=\"Course 2\",Général!E$155,IF($R$5=\"Course 3\",Général!E$157,Général!#REF!)))","v":"UNICAEN - ASSUCherbourg"},{"$f":"IF($S$5=\"Course 1\",Général!E$161,IF($S$5=\"Course 2\",Général!E$163,IF($S$5=\"Course 3\",Général!E$165,Général!#REF!)))","v":"Univ. Nantes 2"},{"$f":"IF($T$5=\"Course 1\",Général!E$169,IF($T$5=\"Course 2\",Général!E$171,IF($T$5=\"Course 3\",Général!E$173,Général!#REF!)))","v":"IMT Atlantique Brest"},null,{"$f":"Général!B13","v":"UBO 1"},6]
["5ème Equipage",null,{"$f":"IF($C$5=\"Course 1\",Général!F33,IF($C$5=\"Course 2\",Général!F35,IF($C$5=\"Course 3\",Général!F37,Général!#REF!)))","v":"ENSTA Bretagne 2"},{"$f":"IF($D$5=\"Course 1\",Général!F41,IF($D$5=\"Course 2\",Général!F43,IF($D$5=\"Course 3\",Général!F45,Général!#REF!)))","v":"Southampton"},{"$f":"IF($E$5=\"Course 1\",Général!F49,IF($E$5=\"Course 2\",Général!F51,IF($E$5=\"Course 3\",Général!F53,Général!#REF!)))","v":"AS Paris 1 Panthéon Sorbonne"},{"$f":"IF($F$5=\"Course 1\",Général!F$57,IF($F$5=\"Course 2\",Général!F$59,IF($F$5=\"Course 3\",Général!F$61,Général!#REF!)))","v":"UNICAEN - ASSUCherbourg"},{"$f":"IF($G$5=\"Course 1\",Général!F$65,IF($G$5=\"Course 2\",Général!F$67,IF($G$5=\"Course 3\",Général!F$69,Général!#REF!)))","v":"UBS Lorient 2"},{"$f":"IF($H$5=\"Course 1\",Général!F$73,IF($H$5=\"Course 2\",Général!F$75,IF($H$5=\"Course 3\",Général!F$77,Général!#REF!)))","v":"UBO 2"},{"$f":"IF($I$5=\"Course 1\",Général!F$81,IF($I$5=\"Course 2\",Général!F$83,IF($I$5=\"Course 3\",Général!F$85,Général!#REF!)))","v":"ENSTA Paris"},{"$f":"IF($J$5=\"Course 1\",Général!F$89,IF($J$5=\"Course 2\",Général!F$91,IF($J$5=\"Course 3\",Général!F$93,Général!#REF!)))","v":"Hannovre"},{"$f":"IF($K$5=\"Course 1\",Général!F$97,IF($K$5=\"Course 2\",Général!F$99,IF($K$5=\"Course 3\",Général!F$101,Général!#REF!)))","v":"IMT Atlantique Nantes 2"},{"$f":"IF($L$5=\"Course 1\",Général!F$105,IF($L$5=\"Course 2\",Général!$F107,IF($L$5=\"Course 3\",Général!F$109,Général!#REF!)))","v":"IMT Atlantique Nantes 2"},{"$f":"IF($M$5=\"Course 1\",Général!F$113,IF($M$5=\"Course 2\",Général!F$115,IF($M$5=\"Course 3\",Général!F$117,Général!#REF!)))","v":"HYDRO Sailing Team Le Havre"},{"$f":"IF($N$5=\"Course 1\",Général!F$121,IF($N$5=\"Course 2\",Général!F$123,IF($N$5=\"Course 3\",Général!F$125,Général!#REF!)))","v":"Univ. Nantes 2"},{"$f":"IF($O$5=\"Course 1\",Général!F$129,IF($O$5=\"Course 2\",Général!F$131,IF($O$5=\"Course 3\",Général!F$133,Général!#REF!)))","v":"Univ. Nantes 1"},{"$f":"IF($P$5=\"Course 1\",Général!F$137,IF($P$5=\"Course 2\",Général!F$139,IF($P$5=\"Course 3\",Général!F$141,Général!#REF!)))","v":"UBO 1"},{"$f":"IF($Q$5=\"Course 1\",Général!F$145,IF($Q$5=\"Course 2\",Général!F$147,IF($Q$5=\"Course 3\",Général!F$149,Général!#REF!)))","v":"UBS Lorient 2"},{"$f":"IF($R$5=\"Course 1\",Général!F$153,IF($R$5=\"Course 2\",Général!F$155,IF($R$5=\"Course 3\",Général!F$157,Général!#REF!)))","v":"UBO 1"},{"$f":"IF($S$5=\"Course 1\",Général!F$161,IF($S$5=\"Course 2\",Général!F$163,IF($S$5=\"Course 3\",Général!F$165,Général!#REF!)))","v":"ENSTA Paris"},{"$f":"IF($T$5=\"Course 1\",Général!F$169,IF($T$5=\"Course 2\",Général!F$171,IF($T$5=\"Course 3\",Général!F$173,Général!#REF!)))","v":"Univ. Nantes 1"},null,{"$f":"Général!B14","v":"ENSTA Bretagne 1"},6]
["6ème Equipage",null,{"$f":"IF($C$5=\"Course 1\",Général!G33,IF($C$5=\"Course 2\",Général!G35,IF($C$5=\"Course 3\",Général!G37,Général!#REF!)))","v":"HYDRO Sailing Team Le Havre"},{"$f":"IF($D$5=\"Course 1\",Général!G41,IF($D$5=\"Course 2\",Général!G43,IF($D$5=\"Course 3\",Général!G45,Général!#REF!)))","v":"UBO 1"},{"$f":"IF($E$5=\"Course 1\",Général!G49,IF($E$5=\"Course 2\",Général!G51,IF($E$5=\"Course 3\",Général!G53,Général!#REF!)))","v":"ENSTA Paris"},{"$f":"IF($F$5=\"Course 1\",Général!G$57,IF($F$5=\"Course 2\",Général!G$59,IF($F$5=\"Course 3\",Général!G$61,Général!#REF!)))","v":"AS UB St Brieuc"},{"$f":"IF($G$5=\"Course 1\",Général!G$65,IF($G$5=\"Course 2\",Général!G$67,IF($G$5=\"Course 3\",Général!G$69,Général!#REF!)))","v":"UBO 2"},{"$f":"IF($H$5=\"Course 1\",Général!G$73,IF($H$5=\"Course 2\",Général!G$75,IF($H$5=\"Course 3\",Général!G$77,Général!#REF!)))","v":"Hambourg"},{"$f":"IF($I$5=\"Course 1\",Général!G$81,IF($I$5=\"Course 2\",Général!G$83,IF($I$5=\"Course 3\",Général!G$85,Général!#REF!)))","v":"IMT Atlantique Nantes 2"},{"$f":"IF($J$5=\"Course 1\",Général!G$89,IF($J$5=\"Course 2\",Général!G$91,IF($J$5=\"Course 3\",Général!G$93,Général!#REF!)))","v":"Southampton"},{"$f":"IF($K$5=\"Course 1\",Général!G$97,IF($K$5=\"Course 2\",Général!G$99,IF($K$5=\"Course 3\",Général!G$101,Général!#REF!)))","v":"Karlsruhe"},{"$f":"IF($L$5=\"Course 1\",Général!G$105,IF($L$5=\"Course 2\",Général!G$107,IF($L$5=\"Course 3\",Général!G$109,Général!#REF!)))","v":"Univ. La Rochelle"},{"$f":"IF($M$5=\"Course 1\",Général!G$113,IF($M$5=\"Course 2\",Général!G$115,IF($M$5=\"Course 3\",Général!G$117,Général!#REF!)))","v":"Univ.Orléans"},{"$f":"IF($N$5=\"Course 1\",Général!G$121,IF($N$5=\"Course 2\",Général!G$123,IF($N$5=\"Course 3\",Général!G$125,Général!#REF!)))","v":"Southampton"},{"$f":"IF($O$5=\"Course 1\",Général!G$129,IF($O$5=\"Course 2\",Général!G$131,IF($O$5=\"Course 3\",Général!G$133,Général!#REF!)))","v":"IMT Atlantique Brest"},{"$f":"IF($P$5=\"Course 1\",Général!G$137,IF($P$5=\"Course 2\",Général!G$139,IF($P$5=\"Course 3\",Général!G$141,Général!#REF!)))","v":"Univ. Nantes 3"},{"$f":"IF($Q$5=\"Course 1\",Général!G$145,IF($Q$5=\"Course 2\",Général!G$147,IF($Q$5=\"Course 3\",Général!G$149,Général!#REF!)))","v":"Southampton"},{"$f":"IF($R$5=\"Course 1\",Général!G$153,IF($R$5=\"Course 2\",Général!G$155,IF($R$5=\"Course 3\",Général!G$157,Général!#REF!)))","v":"UBS Lorient 1"},{"$f":"IF($S$5=\"Course 1\",Général!G$161,IF($S$5=\"Course 2\",Général!G$163,IF($S$5=\"Course 3\",Général!G$165,Général!#REF!)))","v":"Dublin"},{"$f":"IF($T$5=\"Course 1\",Général!G$169,IF($T$5=\"Course 2\",Général!G$171,IF($T$5=\"Course 3\",Général!G$173,Général!#REF!)))","v":"Hannovre"},null,{"$f":"Général!B15","v":"ASUL Lannion"},5]
["7ème Equipage",null,{"$f":"IF($C$5=\"Course 1\",Général!H33,IF($C$5=\"Course 2\",Général!H35,IF($C$5=\"Course 3\",Général!H37,Général!#REF!)))","v":"UBO 2"},{"$f":"IF($D$5=\"Course 1\",Général!H41,IF($D$5=\"Course 2\",Général!H43,IF($D$5=\"Course 3\",Général!H45,Général!#REF!)))","v":"EGSI La Rochelle"},{"$f":"IF($E$5=\"Course 1\",Général!H49,IF($E$5=\"Course 2\",Général!H51,IF($E$5=\"Course 3\",Général!H53,Général!#REF!)))","v":"Univ. Nantes 3"},{"$f":"IF($F$5=\"Course 1\",Général!H$57,IF($F$5=\"Course 2\",Général!H$59,IF($F$5=\"Course 3\",Général!H$61,Général!#REF!)))","v":"Univ. Nantes 3"},{"$f":"IF($G$5=\"Course 1\",Général!H$65,IF($G$5=\"Course 2\",Général!H$67,IF($G$5=\"Course 3\",Général!H$69,Général!#REF!)))","v":"Southampton"},{"$f":"IF($H$5=\"Course 1\",Général!H$73,IF($H$5=\"Course 2\",Général!H$75,IF($H$5=\"Course 3\",Général!H$77,Général!#REF!)))","v":"Southampton"},{"$f":"IF($I$5=\"Course 1\",Général!H$81,IF($I$5=\"Course 2\",Général!H$83,IF($I$5=\"Course 3\",Général!H$85,Général!#REF!)))","v":"Univ. Nantes 1"},{"$f":"IF($J$5=\"Course 1\",Général!H$89,IF($J$5=\"Course 2\",Général!H$91,IF($J$5=\"Course 3\",Général!H$93,Général!#REF!)))","v":"Centrales Nantes"},{"$f":"IF($K$5=\"Course 1\",Général!H$97,IF($K$5=\"Course 2\",Général!H$99,IF($K$5=\"Course 3\",Général!H$101,Général!#REF!)))","v":"ENSTA Bretagne 2"},{"$f":"IF($L$5=\"Course 1\",Général!H$105,IF($L$5=\"Course 2\",Général!H$107,IF($L$5=\"Course 3\",Général!H$109,Général!#REF!)))","v":"ENSTA Bretagne 2"},{"$f":"IF($M$5=\"Course 1\",Général!H$113,IF($M$5=\"Course 2\",Général!H$115,IF($M$5=\"Course 3\",Général!H$117,Général!#REF!)))","v":"UBO 1"},{"$f":"IF($N$5=\"Course 1\",Général!H$121,IF($N$5=\"Course 2\",Général!H$123,IF($N$5=\"Course 3\",Général!H$125,Général!#REF!)))","v":"ENSTA Paris"},{"$f":"IF($O$5=\"Course 1\",Général!H$129,IF($O$5=\"Course 2\",Général!H$131,IF($O$5=\"Course 3\",Général!H$133,Général!#REF!)))","v":"ENSTA Paris"},{"$f":"IF($P$5=\"Course 1\",Général!H$137,IF($P$5=\"Course 2\",Général!H$139,IF($P$5=\"Course 3\",Général!H$141,Général!#REF!)))","v":"Univ.Orléans"},{"$f":"IF($Q$5=\"Course 1\",Général!H$145,IF($Q$5=\"Course 2\",Général!H$147,IF($Q$5=\"Course 3\",Général!H$149,Général!#REF!)))","v":"ENSTA Bretagne 1"},{"$f":"IF($R$5=\"Course 1\",Général!H$153,IF($R$5=\"Course 2\",Général!H$155,IF($R$5=\"Course 3\",Général!H$157,Général!#REF!)))","v":"AS Paris 1 Panthéon Sorbonne"},{"$f":"IF($S$5=\"Course 1\",Général!H$161,IF($S$5=\"Course 2\",Général!H$163,IF($S$5=\"Course 3\",Général!H$165,Général!#REF!)))","v":"IMT Atlantique Brest"},{"$f":"IF($T$5=\"Course 1\",Général!H$169,IF($T$5=\"Course 2\",Général!H$171,IF($T$5=\"Course 3\",Général!H$173,Général!#REF!)))","v":"Univ. Nantes 2"},null,{"$f":"Général!B16","v":"ENSTA Paris"},5]
["8ème Equipage",null,{"$f":"IF($C$5=\"Course 1\",Général!I33,IF($C$5=\"Course 2\",Général!I35,IF($C$5=\"Course 3\",Général!I37,Général!#REF!)))","v":"ASUL Lannion"},{"$f":"IF($D$5=\"Course 1\",Général!I41,IF($D$5=\"Course 2\",Général!I43,IF($D$5=\"Course 3\",Général!I45,Général!#REF!)))","v":"ENSTA Bretagne 1"},{"$f":"IF($E$5=\"Course 1\",Général!I49,IF($E$5=\"Course 2\",Général!I51,IF($E$5=\"Course 3\",Général!I53,Général!#REF!)))","v":"Southampton"},{"$f":"IF($F$5=\"Course 1\",Général!I$57,IF($F$5=\"Course 2\",Général!I$59,IF($F$5=\"Course 3\",Général!I$61,Général!#REF!)))","v":"Southampton"},{"$f":"IF($G$5=\"Course 1\",Général!I$65,IF($G$5=\"Course 2\",Général!I$67,IF($G$5=\"Course 3\",Général!I$69,Général!#REF!)))","v":"HYDRO Sailing Team Le Havre"},{"$f":"IF($H$5=\"Course 1\",Général!I$73,IF($H$5=\"Course 2\",Général!I$75,IF($H$5=\"Course 3\",Général!I$77,Général!#REF!)))","v":"Karlsruhe"},{"$f":"IF($I$5=\"Course 1\",Général!I$81,IF($I$5=\"Course 2\",Général!I$83,IF($I$5=\"Course 3\",Général!I$85,Général!#REF!)))","v":"Karlsruhe"},{"$f":"IF($J$5=\"Course 1\",Général!I$89,IF($J$5=\"Course 2\",Général!I$91,IF($J$5=\"Course 3\",Général!I$93,Général!#REF!)))","v":"UBS Lorient 2"},{"$f":"IF($K$5=\"Course 1\",Général!I$97,IF($K$5=\"Course 2\",Général!I$99,IF($K$5=\"Course 3\",Général!I$101,Général!#REF!)))","v":"Hannovre"},{"$f":"IF($L$5=\"Course 1\",Général!I$105,IF($L$5=\"Course 2\",Général!I$107,IF($L$5=\"Course 3\",Général!I$109,Général!#REF!)))","v":"IMT Atlantique Nantes 1"},{"$f":"IF($M$5=\"Course 1\",Général!I$113,IF($M$5=\"Course 2\",Général!I$115,IF($M$5=\"Course 3\",Général!I$117,Général!#REF!)))","v":"Univ. La Rochelle"},{"$f":"IF($N$5=\"Course 1\",Général!I$121,IF($N$5=\"Course 2\",Général!I$123,IF($N$5=\"Course 3\",Général!I$125,Général!#REF!)))","v":"UBS Lorient 2"},{"$f":"IF($O$5=\"Course 1\",Général!I$129,IF($O$5=\"Course 2\",Général!I$131,IF($O$5=\"Course 3\",Général!I$133,Général!#REF!)))","v":"Dublin"},{"$f":"IF($P$5=\"Course 1\",Général!I$137,IF($P$5=\"Course 2\",Général!I$139,IF($P$5=\"Course 3\",Général!I$141,Général!#REF!)))","v":"AS Paris 1 Panthéon Sorbonne"},{"$f":"IF($Q$5=\"Course 1\",Général!I$145,IF($Q$5=\"Course 2\",Général!I$147,IF($Q$5=\"Course 3\",Général!I$149,Général!#REF!)))","v":"Univ. Nantes 2"},{"$f":"IF($R$5=\"Course 1\",Général!I$153,IF($R$5=\"Course 2\",Général!I$155,IF($R$5=\"Course 3\",Général!I$157,Général!#REF!)))","v":"Southampton"},{"$f":"IF($S$5=\"Course 1\",Général!I$161,IF($S$5=\"Course 2\",Général!I$163,IF($S$5=\"Course 3\",Général!I$165,Général!#REF!)))","v":"ENSTA Bretagne 2"},{"$f":"IF($T$5=\"Course 1\",Général!I$169,IF($T$5=\"Course 2\",Général!I$171,IF($T$5=\"Course 3\",Général!I$173,Général!#REF!)))","v":"UBO 1"},null,{"$f":"Général!B17","v":"IMT Atlantique Brest"},6]
["9ème Equipage",null,{"$f":"IF($C$5=\"Course 1\",Général!J33,IF($C$5=\"Course 2\",Général!J35,IF($C$5=\"Course 3\",Général!J37,Général!#REF!)))","v":"Southampton"},{"$f":"IF($D$5=\"Course 1\",Général!J41,IF($D$5=\"Course 2\",Général!J43,IF($D$5=\"Course 3\",Général!J45,Général!#REF!)))","v":"Univ. La Rochelle"},{"$f":"IF($E$5=\"Course 1\",Général!J49,IF($E$5=\"Course 2\",Général!J51,IF($E$5=\"Course 3\",Général!J53,Général!#REF!)))","v":"IMT Atlantique Brest"},{"$f":"IF($F$5=\"Course 1\",Général!J$57,IF($F$5=\"Course 2\",Général!J$59,IF($F$5=\"Course 3\",Général!J$61,Général!#REF!)))","v":"IMT Atlantique Brest"},{"$f":"IF($G$5=\"Course 1\",Général!J$65,IF($G$5=\"Course 2\",Général!J$67,IF($G$5=\"Course 3\",Général!J$69,Général!#REF!)))","v":"ENSTA Bretagne 1"},{"$f":"IF($H$5=\"Course 1\",Général!J$73,IF($H$5=\"Course 2\",Général!J$75,IF($H$5=\"Course 3\",Général!$J77,Général!#REF!)))","v":"IMT Atlantique Nantes 1"},{"$f":"IF($I$5=\"Course 1\",Général!J$81,IF($I$5=\"Course 2\",Général!J$83,IF($I$5=\"Course 3\",Général!J$85,Général!#REF!)))","v":"Univ. Nantes 2"},{"$f":"IF($J$5=\"Course 1\",Général!J$89,IF($J$5=\"Course 2\",Général!J$91,IF($J$5=\"Course 3\",Général!J$93,Général!#REF!)))","v":"Univ. Nantes 3"},{"$f":"IF($K$5=\"Course 1\",Général!J$97,IF($K$5=\"Course 2\",Général!J$99,IF($K$5=\"Course 3\",Général!J$101,Général!#REF!)))","v":"UNICAEN - ASSUCherbourg"},{"$f":"IF($L$5=\"Course 1\",Général!J$105,IF($L$5=\"Course 2\",Général!J$107,IF($L$5=\"Course 3\",Général!J$109,Général!#REF!)))","v":"Dublin"},{"$f":"IF($M$5=\"Course 1\",Général!J$113,IF($M$5=\"Course 2\",Général!J$115,IF($M$5=\"Course 3\",Général!J$117,Général!#REF!)))","v":"ASUL Lannion"},{"$f":"IF($N$5=\"Course 1\",Général!J$121,IF($N$5=\"Course 2\",Général!J$123,IF($N$5=\"Course 3\",Général!J$125,Général!#REF!)))","v":"Univ.Orléans"},{"$f":"IF($O$5=\"Course 1\",Général!J$129,IF($O$5=\"Course 2\",Général!J$131,IF($O$5=\"Course 3\",Général!J$133,Général!#REF!)))","v":"ENSTA Bretagne 1"},{"$f":"IF($P$5=\"Course 1\",Général!J$137,IF($P$5=\"Course 2\",Général!J$139,IF($P$5=\"Course 3\",Général!J$141,Général!#REF!)))","v":"IMT Atlantique Nantes 2"},{"$f":"IF($Q$5=\"Course 1\",Général!J$145,IF($Q$5=\"Course 2\",Général!J$147,IF($Q$5=\"Course 3\",Général!J$149,Général!#REF!)))","v":"Karlsruhe"},{"$f":"IF($R$5=\"Course 1\",Général!J$153,IF($R$5=\"Course 2\",Général!J$155,IF($R$5=\"Course 3\",Général!J$157,Général!#REF!)))","v":"Hambourg"},{"$f":"IF($S$5=\"Course 1\",Général!J$161,IF($S$5=\"Course 2\",Général!J$163,IF($S$5=\"Course 3\",Général!J$165,Général!#REF!)))","v":"Southampton"},{"$f":"IF($T$5=\"Course 1\",Général!J$169,IF($T$5=\"Course 2\",Général!J$171,IF($T$5=\"Course 3\",Général!J$173,Général!#REF!)))","v":"Southampton"},null,{"$f":"Général!B18","v":"UBO 2"},6]
[null,null,null,null,null,null,null,null,null,null,null,null,null,null,null,null,null,null,null,null,null,{"$f":"Général!B19","v":"Dublin"},6]
[null,null,null,null,null,null,null,null,null,null,null,null,null,null,null,null,null,null,null,null,null,{"$f":"Général!B20","v":"Univ. Nantes 2"},7]
[null,null,null,null,null,null,null,null,null,null,null,null,null,null,null,null,null,null,null,null,null,{"$f":"Général!B21","v":"UBS Lorient 1"},5]
[null,null,null,null,null,null,null,null,null,null,null,null,null,null,null,null,null,null,null,null,null,{"$f":"Général!B22","v":"UBS Lorient 2"},6]
[null,null,null,null,null,null,null,null,null,null,null,null,null,null,null,null,null,null,null,null,null,{"$f":"Général!B23","v":"Univ.Orléans"},5]
[null,null,null,null,null,null,null,null,null,null,null,null,null,null,null,null,null,null,null,null,null,{"$f":"Général!B24","v":"Univ. La Rochelle"},5]
[null,null,null,null,null,null,null,null,null,null,null,null,null,null,null,null,null,null,null,null,null,{"$f":"Général!B25","v":"AS UB St Brieuc"},5]
[null,null,null,null,null,null,null,null,null,null,null,null,null,null,null,null,null,null,null,null,null,{"$f":"Général!B26","v":"Karlsruhe"},6]
[null,null,null,null,null,null,null,null,null,null,null,null,null,null,null,null,null,null,null,null,null,{"$f":"Général!B27","v":"Univ. Nantes 3"},5]
[null,null,null,null,null,null,null,null,null,null,null,null,null,null,null,null,null,null,null,null,null,{"$f":"Général!B28","v":"Centrales Nantes"},4]
[null,null,null,null,null,null,null,null,null,null,null,null,null,null,null,null,null,null,null,null,null,{"$f":"Général!B29","v":"Southampton"},18]
[null,null,null,null,null,null,null,null,null,null,null,null,null,null,null,null,null,null,null,null,null,{"$f":"Général!#REF!","v":{"$error":"#REF!"}},0]
[null,null,null,null,null,null,null,null,null,null,null,null,null,null,null,null,null,null,null,null,null,{"$f":"Général!#REF!","v":{"$error":"#REF!"}},0]
[null,null,null,null,null,null,null,null,null,null,null,null,null,null,null,null,null,null,null,null,null,{"$f":"Général!#REF!","v":{"$error":"#REF!"}},0]
[null,null,null,null,null,null,null,null,null,null,null,null,null,null,null,null,null,null,null,null,null,{"$f":"Général!#REF!","v":{"$error":"#REF!"}},0]
[null,null,null,null,null,null,null,null,null,null,null,null,null,null,null,null,null,null,null,null,null,{"$f":"Général!#REF!","v":{"$error":"#REF!"}},0]